{"text_format":"1","workbook":"xlsx","n_sheets":4,"sheets":["Simulador","Parâmetros","Simulador Bradesco","Base de Dados"],"not_rendered":{"charts":1,"images":3,"macros":1,"external_links":0,"defined_names":4,"comments":0,"pivot_tables":0},"unopened":[],"bounds":{"document_bytes":16777216,"sheet_cells":100000,"rows_first":2000,"rows_last":500,"rows_between":2000,"halvings":0,"cell_chars":16384,"cell_head_chars":4096},"cells_cut":0,"cells_raw":0,"read":"whole","date_system":"1900"}

{"sheet":"Simulador","index":0,"n_rows":453,"n_cols":23,"rows_kept":453,"cut":false,"hidden":true,"merged":[[0,0,3,20],[6,8,6,10],[5,4,5,6],[18,0,18,2],[15,4,15,6],[8,4,8,6],[8,8,8,10],[5,12,5,19]]}
["Simulador de Crédito Imobiliário "]
[]
[]
[]
[null,null,null,null,null,null,null,null,null,null,{"$f":"IF(E6=Parâmetros!D25,'Simulador Bradesco'!O10:P10,IF(E6=Parâmetros!D24,'Simulador Bradesco'!O13:P13,\"\"))","v":""}]
[null,null,"Produto",null,{"$f":"'Simulador Bradesco'!D9","v":"Repasse/Aquisição"},null,null,null,null,null,{"$f":"INT(K5)","v":{"$error":"#VALUE!"}},null,"Resultado*"]
[null,null,null,null,null,null,null,null,"Painel Para Término de Construção"]
["Data da Simulação",null,{"$f":"TODAY()","v":"2026-04-02"},null,null,null,null,null,null,null,null,null,"Carteira",null,{"$f":"IF(AND(C14=Parâmetros!B2,Simulador!C17<2250000,Simulador!O23<12.01%),\"SFH\",IF(AND(C14=Parâmetros!B2,Simulador!C17<2250000),\"CHH FGTS\",IF(Simulador!C14=Parâmetros!B3,\"CHC\",IF(Simulador!C14=Parâmetros!B4,\"LOTE\",IF(AND(Simulador!C10=Parâmetros!C3,Simulador!C14=Parâmetros!B2),Parâmetros!C15,IF(AND(Simulador!C10=Parâmetros!C3,Simulador!C14=Parâmetros!B3),Parâmetros!C16,IF(AND(Simulador!C10=Parâmetros!C3,Simulador!C14=Parâmetros!B4),Parâmetros!B4,\"CHH\")))))))","v":"CHH FGTS"},null,"Idade do Cliente",null,{"$f":"IF(C10=Parâmetros!C3,\"Proponente PJ\",_xlfn.DAYS(TODAY(),G14)/365)","v":36.57260273972603}]
[null,null,null,null,{"$f":"IF(G10=\"NÃO\",\"\",IF(AND(G10=\"SIM\",C10=Parâmetros!C3),\"NÃO PERMITIDO\",IF(Simulador!G11>0.05*Simulador!C17,\"VALOR NÃO PERMITIDO\",\"OK\")))","v":""},null,null,null,{"$f":"IF(K10>O27,'Base de Dados'!AA2,\"\")","v":"SIMULAÇÃO NOK"}]
["Tipo de Pessoa",null,{"$f":"'Simulador Bradesco'!D13","v":"PESSOA FÍSICA"},null,"Custas Cartorárias",null,{"$f":"'Simulador Bradesco'!D17","v":"NÃO"},null,"Prazo de Construção restante",null,{"$f":"IF(E6=Parâmetros!D25,INT(K5),IF(E6=Parâmetros!D24,'Simulador Bradesco'!O13:P13))","v":false},null,"Total Financiamento ($)",null,{"$f":"IF(AND(G10=Parâmetros!E2,Simulador!E9=\"OK\"),Simulador!G11+Simulador!C20,Simulador!C20)","v":1024000},null,"Prazo +Idade",null,{"$f":"IF(C10=Parâmetros!C3,\"\",IF(Simulador!S8+(Simulador!K19/12)>80.5,\"Prazo Superior\",Simulador!S8+(K19/12)))","v":71.572602739726022},null,{"$f":"ROUNDUP(K10,2)","v":0}]
[null,null,null,null,{"$f":"VLOOKUP(Parâmetros!J2,'Base de Dados'!N1:Z102950,13,FALSE)","v":"SIM"},null,{"$f":"'Simulador Bradesco'!I19","v":0},null,null,null,{"$f":"Parâmetros!O2-K10","v":50},null,null,null,{"$f":"IF(OR(C17=0,C17=\"\"),\"\",O10)","v":1024000}]
[]
[null,null,null,null,null,null,null,null,null,null,null,null,"Renda Necessária",null,{"$f":"IFERROR(IF(C10=Parâmetros!C3,\"\",('Simulador Bradesco'!Q10*100)/S13/100),\"\")","v":41479.108573964164},null,"Limite Renda Carteira",null,{"$f":"IF(Parâmetros!K2=\"N/A\",\"\",Parâmetros!K2)","v":0.25}]
["Tipo de Imóvel ",null,{"$f":"'Simulador Bradesco'!D15","v":"RESIDENCIAL"},null,"Ano de Nascimento",null,{"$f":"'Simulador Bradesco'!D21","v":"1989-09-14"},null,"Prazo de Carência",null,{"$f":"IF(VLOOKUP(Parâmetros!J2,'Base de Dados'!N1:V310200303,9,FALSE)=\"\",\"\",VLOOKUP(Parâmetros!J2,'Base de Dados'!N1:V32994003,9,FALSE))","v":{"$error":"#NAME?"}}]
[]
[null,null,null,null,{"$f":"IF(OR(G17>O21,G17<O19),\"VERIFICAR PRAZO\",\"PRAZO ENQUADRADO\")","v":"PRAZO ENQUADRADO"},null,null,null,null,null,null,null,"LTV",null,{"$f":"IF((O10/C17)>Parâmetros!L2,'Base de Dados'!AA3,O10/C17)","v":0.77108433734939763},{"$f":"100%-O16","v":0.22891566265060237},"CET",null,{"$f":"IFERROR(XIRR('Base de Dados'!M2:M422,'Base de Dados'!L2:L422),\"\")","v":0.12918882966041567}]
["Valor do Imóvel",null,{"$f":"'Simulador Bradesco'!I15","v":1328000},null,"Prazo de Pagamento",null,{"$f":"'Simulador Bradesco'!I21","v":420},null,"Evolução de Obra",null,{"$f":"IF(E6=Parâmetros!D25,IF(Parâmetros!O2<>\"\",Simulador!K11/Parâmetros!O2,\"\"),\"\")","v":""},{"$f":"K17-100%","v":{"$error":"#VALUE!"}},"LTV Máximo",null,{"$f":"_xlfn.XLOOKUP(Parâmetros!J2,'Base de Dados'!N:N,'Base de Dados'!P:P,\"\",0,1)","v":0.8}]
[null,null,null,null,null,null,null,null,null,null,null,{"$f":"IF(E6=Parâmetros!D25,Simulador!K17,\"\")","v":""}]
[{"$f":"IF(O16=\"LTV NÃO PERMITIDO\",\"VALOR NÃO PERMITIDO\",\"VALOR ENQUADRADO\")","v":"VALOR ENQUADRADO"},null,null,null,null,null,null,null,"Prazo Total",null,{"$f":"IF(Parâmetros!N3=Parâmetros!E22,SUM(Simulador!G17,Simulador!K10,Simulador!K14),Simulador!G17)","v":420},null,"Prazo Mínimo Carteira",null,{"$f":"VLOOKUP(Parâmetros!J2,'Base de Dados'!N1:S10000,6,FALSE)","v":121},null,"Tem IOF?",null,{"$f":"Parâmetros!P2","v":"NÃO"}]
["Valor de Financiamento",null,{"$f":"'Simulador Bradesco'!I17","v":1024000},null,"Sistema de Amortização",null,{"$f":"'Simulador Bradesco'!D19","v":"PRICE"},null,0.05,null,{"$f":"Parâmetros!L2-Simulador!O16","v":2.8915662650602414E-2}]
[null,null,null,null,null,null,null,null,null,null,{"$f":"IF(I20>K20,K20,I20)","v":2.8915662650602414E-2},null,"Prazo Máximo Carteira",null,{"$f":"VLOOKUP(Parâmetros!J2,'Base de Dados'!N1:T100000,7,FALSE)","v":420},null,"Valor IOF",null,{"$f":"S23*O10","v":0}]
[]
["Valor máximo permitido",null,{"$f":"IFERROR(ROUNDDOWN((C17*O17),2),0)","v":1062400},null,"Financiado",null,{"$f":"IFERROR(O11/C23,\"\")","v":0.96385542168674698},{"$f":"G23-100%","v":-3.6144578313253017E-2},"Despesas máx",null,{"$f":"IF(O17-K24>I20,I20,O17-K24)","v":2.8915662650602414E-2},null,"Tx Efetiva a.a.",null,{"$f":"Parâmetros!T2","v":0.123},null,"Alíquota Aplicada",null,{"$f":"Parâmetros!Q2","v":0}]
[null,null,null,null,null,null,null,null,null,null,{"$f":"C20/C17","v":0.77108433734939763}]
[null,null,null,null,"Depesa Máxima",null,{"$f":"K23*C17","v":38400.000000000007},null,null,null,{"$f":"SUM(K26:K27)","v":80},null,"Tx Efetiva a.m.",null,{"$f":"(1+O23)^(1/12)-1","v":9.7138490912604958E-3},null,"Tarifa de Avaliação",null,{"$f":"VLOOKUP(Parâmetros!J2,'Base de Dados'!N1:R10000,5,FALSE)","v":2114.0300000000002}]
["Segmento",null,{"$f":"IF(C10=Parâmetros!C3,C10,'Simulador Bradesco'!I13)","v":"PRINCIPAL"},null,"Despesa Permitida",null,{"$f":"IF(VLOOKUP(Parâmetros!J2,'Base de Dados'!N1:Z1000000,13,FALSE)=\"SIM\",ROUNDDOWN(K21*C17,2),0)","v":38400},null,{"$f":"IF(VLOOKUP(Parâmetros!J2,'Base de Dados'!N1:Z100003,13,FALSE)=\"SIM\",ROUNDDOWN(K23*C17,2),0)","v":38400},null,{"$f":"396/12","v":33}]
[null,null,null,null,null,null,null,null,null,null,47,null,{"$f":"IF(E6=Parâmetros!D24,\"Prazo Máx Construção\",\"\")","v":""},null,{"$f":"VLOOKUP(Parâmetros!J2,'Base de Dados'!N1:U100000,8,FALSE)","v":0},null,{"$f":"O16*C17","v":1024000},null," ","Máx"]
[]
[]
[]
["DATA DO ENCARGO",null,"N PREST",null,"Tipo de encargo",null,"AMORTIZAÇÃO",null,"JUROS",null,"Tarifas*",null,"MIP*",null,"DFI*",null,"ENCARGO",null,"SALDO DEVEDOR",null,{"$f":"IF(Parâmetros!N3=Parâmetros!E22,\"Liberações\",\"\")","v":""}]
[{"$f":"C8","v":"2026-04-02"},null,null,null,null,null,null,null,null,null,null,null,null,null,null,null,null,null,{"$f":"IFERROR(IF(AND(C14=Parâmetros!B7,Simulador!C20<750000),\"SIMULAÇÃO NOK\",IF(OR(G17>O21,G17<O19),\"SIMULAÇÃO NOK\",IF(S10=\"Prazo Superior\",\"SIMULAÇÃO NOK\",IF(Parâmetros!$N$3=Parâmetros!$E$22,U32*-1,IF(G11>G25,\"SIMULAÇÃO NOK\",IF(Parâmetros!R2<18,\"SIMULAÇÃO NOK\",$O$10)))))),\"\")","v":1024000},null,{"$f":"IF(E6=Parâmetros!D25,Simulador!O10*'Simulador Bradesco'!$N$21*-1,0)","v":0}]
[{"$f":"IF(C33=\"\",\"\",C8)","v":"2026-04-02"},null,{"$f":"IFERROR(IF(O16='Base de Dados'!AA3,\"\",IF(S32='Base de Dados'!AA2,\"\",0)),\"\")","v":0},null,{"$f":"IF(C33=\"\",\"\",\"Seguro\")","v":"Seguro"},null,{"$f":"IF(C33=\"\",\"\",0)","v":0},null,{"$f":"IF(C33=\"\",\"\",0)","v":0},null,{"$f":"IF(C33=\"\",\"\",IF(Simulador!O8=Parâmetros!C8,SUM(Simulador!S25,Simulador!S21,25),SUM(Simulador!S25+Simulador!S21)))","v":2114.0300000000002},null,{"$f":"IFERROR(IF(C33=\"\",\"\",IF($C$10=Parâmetros!$C$3,0,VLOOKUP(A33,'Base de Dados'!$E$2:$G$422,3,FALSE)*Simulador!S32)),\"\")","v":181.86240000000001},null,{"$f":"IF(C33=\"\",\"\",IF(E33=\"Construção\",0,IF(E33=\"Seguro\",$C$17*'Base de Dados'!$C$2,IF($C$14=Parâmetros!$B$4,0,Simulador!$C$17*'Base de Dados'!$C$2))))","v":66.400000000000006},null,{"$f":"IF(C33=\"\",\"\",SUM(G33:O33))","v":2362.2924000000003},null,{"$f":"IF(C33=\"\",\"\",S32)","v":1024000},null,{"$f":"U32","v":0},{"$f":"SUM(O10,U33)","v":1024000},{"$f":"V33/40","v":25600}]
[{"$f":"IF(C34=\"\",\"\",IF(C33>$G$17,0,EDATE(A33,1)))","v":"2026-05-02"},{"$f":"IF(AND(E34=\"Retorno\",E33<>\"Retorno\"),\"Primeira\",IF(AND(E34=\"Retorno\",E33=\"\"),\"Primeira\",\"\"))","v":"Primeira"},{"$f":"IF(OR(C33>=$K$19,C33=\"\"),\"\",C33+1)","v":1},{"$f":"C34","v":"1900-01-01"},{"$f":"IF(C34=\"\",\"\",\"Retorno\")","v":"Retorno"},null,{"$f":"IFERROR(IF(C34=\"\",\"\",IF(E34<>\"Retorno\",0,IF($G$20=Parâmetros!$D$2,Simulador!$O$10/$G$17,IF($G$20=Parâmetros!$D$3,Simulador!Q34-Simulador!O34-Simulador!M34-Simulador!K34-Simulador!I34,\"\")))),\"\")","v":174.56427665582487},null,{"$f":"IFERROR(IF(C34=\"\",\"\",FV($O$25,1,,-S33,0)-S33),\"\")","v":9946.9814694507513},null,{"$f":"IF(C34=\"\",\"\",IF(AND($O$23<12.01%,$C$17<2250000.01),25,0))","v":0},null,{"$f":"IFERROR(IF(C34=\"\",\"\",IF($C$10=Parâmetros!$C$3,0,VLOOKUP(A34,'Base de Dados'!$E$3:$G$422,3,FALSE)*S34)),0)","v":181.83139738446593},null,{"$f":"IF(C34=\"\",\"\",IF(C35=\"\",0,IF(E34=\"Construção\",0,IF(E34=\"Seguro\",$C$17*'Base de Dados'!$C$2,IF($C$14=Parâmetros!$B$4,0,Simulador!$C$17*'Base de Dados'!$C$2)))))","v":66.400000000000006},null,{"$f":"IF(C34=\"\",\"\",IF(E34<>\"Retorno\",(I34+K34+M34),IF($G$20=Parâmetros!$D$2,SUM(G34,I34,K34,M34,O34),PMT($O$25,$G$17,($O$10)*-1)+O34+M34+K34)))","v":10369.777143491041},null,{"$f":"IF(E34=\"Construção\",S33+(U34*-1),IF(E34=\"Carência\",S33,IF(E34=\"Retorno\",S33-G34,\"\")))","v":1023825.4357233442},null,{"$f":"IF(E34=\"Construção\",(($O$10+$U$33)/$K$10)*-1,\"\")","v":""}]
[{"$f":"IF(C35=\"\",\"\",IF(C34>$G$17,0,EDATE(A34,1)))","v":"2026-06-02"},{"$f":"IF(AND(E35=\"Retorno\",E34<>\"Retorno\"),\"Primeira\",IF(AND(E35=\"Retorno\",E34=\"\"),\"Primeira\",\"\"))","v":""},{"$f":"IF(OR(C34>=$K$19,C34=\"\"),\"\",C34+1)","v":2},{"$f":"C35","v":"1900-01-02"},{"$f":"IF(C35=\"\",\"\",\"Retorno\")","v":"Retorno"},null,{"$f":"IF(C35=\"\",\"\",IF(E35<>\"Retorno\",0,IF($G$20=Parâmetros!$D$2,Simulador!$O$10/$G$17,IF($G$20=Parâmetros!$D$3,Simulador!Q35-Simulador!O35-Simulador!M35-Simulador!K35-Simulador!I35,\"\"))))","v":176.25996769595986},null,{"$f":"IFERROR(IF(C35=\"\",\"\",FV($O$25,1,,-S34,0)-S34),\"\")","v":9945.2857784106163},null,{"$f":"IF(C35=\"\",\"\",IF(AND($O$23<12.01%,$C$17<2250000.01),25,0))","v":0},null,{"$f":"IFERROR(IF(C35=\"\",\"\",IF($C$10=Parâmetros!$C$3,0,VLOOKUP(A35,'Base de Dados'!$E$3:$G$422,3,FALSE)*S35)),0)","v":181.80009361420315},null,{"$f":"IF(C35=\"\",\"\",IF(C36=\"\",0,IF(E35=\"Construção\",0,IF(E35=\"Seguro\",$C$17*'Base de Dados'!$C$2,IF($C$14=Parâmetros!$B$4,0,Simulador!$C$17*'Base de Dados'!$C$2)))))","v":66.400000000000006},null,{"$f":"IF(C35=\"\",\"\",IF(E35<>\"Retorno\",(I35+K35+M35),IF($G$20=Parâmetros!$D$2,SUM(G35,I35,K35,M35,O35),PMT($O$25,$G$17,($O$10)*-1)+O35+M35+K35)))","v":10369.745839720779},null,{"$f":"IF(E35=\"Construção\",S34+(U35*-1),IF(E35=\"Carência\",S34,IF(E35=\"Retorno\",S34-G35,\"\")))","v":1023649.1757556483},null,{"$f":"IF(E35=\"Construção\",(($O$10+$U$33)/$K$10)*-1,\"\")","v":""}]
["2026-07-02","",3,"1900-01-03","Retorno",null,{"$f":"IFERROR(IF(C36=\"\",\"\",IF(E36<>\"Retorno\",0,IF($G$20=Parâmetros!$D$2,Simulador!$O$10/$G$17,IF($G$20=Parâmetros!$D$3,Simulador!Q36-Simulador!O36-Simulador!M36-Simulador!K36-Simulador!I36,\"\")))),\"\")","v":177.97213042298426},null,{"$f":"IFERROR(IF(C36=\"\",\"\",FV($O$25,1,,-S35,0)-S35),\"\")","v":9943.5736156835919},null,0,null,{"$f":"IFERROR(IF(C36=\"\",\"\",IF($C$10=Parâmetros!$C$3,0,VLOOKUP(A36,'Base de Dados'!$E$3:$G$422,3,FALSE)*S36)),0)","v":181.76848576384003},null,{"$f":"IF(C36=\"\",\"\",IF(C37=\"\",0,IF(E36=\"Construção\",0,IF(E36=\"Seguro\",$C$17*'Base de Dados'!$C$2,IF($C$14=Parâmetros!$B$4,0,Simulador!$C$17*'Base de Dados'!$C$2)))))","v":66.400000000000006},null,{"$f":"IF(C36=\"\",\"\",IF(E36<>\"Retorno\",(I36+K36+M36),IF($G$20=Parâmetros!$D$2,SUM(G36,I36,K36,M36,O36),PMT($O$25,SUM($G$17),($O$10)*-1)+O36+M36+K36)))","v":10369.714231870415},null,{"$f":"IF(E36=\"Construção\",S35+(U36*-1),IF(E36=\"Carência\",S35,IF(E36=\"Retorno\",S35-G36,\"\")))","v":1023471.2036252253},null,""]
["2026-08-02","",4,"1900-01-04","Retorno",null,{"$f":"IFERROR(IF(C37=\"\",\"\",IF(E37<>\"Retorno\",0,IF($G$20=Parâmetros!$D$2,Simulador!$O$10/$G$17,IF($G$20=Parâmetros!$D$3,Simulador!Q37-Simulador!O37-Simulador!M37-Simulador!K37-Simulador!I37,\"\")))),\"\")","v":179.70092484044471},null,9941.8448212661315,null,0,null,{"$f":"IFERROR(IF(C37=\"\",\"\",IF($C$10=Parâmetros!$C$3,0,VLOOKUP(A37,'Base de Dados'!$E$3:$G$422,3,FALSE)*S37)),0)","v":181.73657087958838},null,{"$f":"IF(C37=\"\",\"\",IF(C38=\"\",0,IF(E37=\"Construção\",0,IF(E37=\"Seguro\",$C$17*'Base de Dados'!$C$2,IF($C$14=Parâmetros!$B$4,0,Simulador!$C$17*'Base de Dados'!$C$2)))))","v":66.400000000000006},null,{"$f":"IF(C37=\"\",\"\",IF(E37<>\"Retorno\",(I37+K37+M37),IF($G$20=Parâmetros!$D$2,SUM(G37,I37,K37,M37,O37),PMT($O$25,SUM($G$17),($O$10)*-1)+O37+M37+K37)))","v":10369.682316986164},null,1023291.5027003849,null,""]
["2026-09-02","",5,"1900-01-05","Retorno",null,{"$f":"IFERROR(IF(C38=\"\",\"\",IF(E38<>\"Retorno\",0,IF($G$20=Parâmetros!$D$2,Simulador!$O$10/$G$17,IF($G$20=Parâmetros!$D$3,Simulador!Q38-Simulador!O38-Simulador!M38-Simulador!K38-Simulador!I38,\"\")))),\"\")","v":181.44651250579955},null,9940.0992336007766,null,0,null,{"$f":"IFERROR(IF(C38=\"\",\"\",IF($C$10=Parâmetros!$C$3,0,VLOOKUP(A38,'Base de Dados'!$E$3:$G$422,3,FALSE)*S38)),0)","v":181.70434597896735},null,{"$f":"IF(C38=\"\",\"\",IF(C39=\"\",0,IF(E38=\"Construção\",0,IF(E38=\"Seguro\",$C$17*'Base de Dados'!$C$2,IF($C$14=Parâmetros!$B$4,0,Simulador!$C$17*'Base de Dados'!$C$2)))))","v":66.400000000000006},null,{"$f":"IF(C38=\"\",\"\",IF(E38<>\"Retorno\",(I38+K38+M38),IF($G$20=Parâmetros!$D$2,SUM(G38,I38,K38,M38,O38),PMT($O$25,SUM($G$17),($O$10)*-1)+O38+M38+K38)))","v":10369.650092085543},null,1023110.0561878792,null,""]
["2026-10-02","",6,"1900-01-06","Retorno",null,{"$f":"IFERROR(IF(C39=\"\",\"\",IF(E39<>\"Retorno\",0,IF($G$20=Parâmetros!$D$2,Simulador!$O$10/$G$17,IF($G$20=Parâmetros!$D$3,Simulador!Q39-Simulador!O39-Simulador!M39-Simulador!K39-Simulador!I39,\"\")))),\"\")","v":183.20905654648413},null,9938.3366895600921,null,0,null,{"$f":"IFERROR(IF(C39=\"\",\"\",IF($C$10=Parâmetros!$C$3,0,VLOOKUP(A39,'Base de Dados'!$E$3:$G$422,3,FALSE)*S39)),0)","v":181.6718080505247},null,{"$f":"IF(C39=\"\",\"\",IF(C40=\"\",0,IF(E39=\"Construção\",0,IF(E39=\"Seguro\",$C$17*'Base de Dados'!$C$2,IF($C$14=Parâmetros!$B$4,0,Simulador!$C$17*'Base de Dados'!$C$2)))))","v":66.400000000000006},null,{"$f":"IF(C39=\"\",\"\",IF(E39<>\"Retorno\",(I39+K39+M39),IF($G$20=Parâmetros!$D$2,SUM(G39,I39,K39,M39,O39),PMT($O$25,SUM($G$17),($O$10)*-1)+O39+M39+K39)))","v":10369.617554157101},null,1022926.8471313327,null,""]
["2026-11-02","",7,"1900-01-07","Retorno",null,{"$f":"IFERROR(IF(C40=\"\",\"\",IF(E40<>\"Retorno\",0,IF($G$20=Parâmetros!$D$2,Simulador!$O$10/$G$17,IF($G$20=Parâmetros!$D$3,Simulador!Q40-Simulador!O40-Simulador!M40-Simulador!K40-Simulador!I40,\"\")))),\"\")","v":184.98872167388072},null,9936.5570244326955,null,0,null,{"$f":"IFERROR(IF(C40=\"\",\"\",IF($C$10=Parâmetros!$C$3,0,VLOOKUP(A40,'Base de Dados'!$E$3:$G$422,3,FALSE)*S40)),0)","v":181.63895405355544},null,{"$f":"IF(C40=\"\",\"\",IF(C41=\"\",0,IF(E40=\"Construção\",0,IF(E40=\"Seguro\",$C$17*'Base de Dados'!$C$2,IF($C$14=Parâmetros!$B$4,0,Simulador!$C$17*'Base de Dados'!$C$2)))))","v":66.400000000000006},null,{"$f":"IF(C40=\"\",\"\",IF(E40<>\"Retorno\",(I40+K40+M40),IF($G$20=Parâmetros!$D$2,SUM(G40,I40,K40,M40,O40),PMT($O$25,SUM($G$17),($O$10)*-1)+O40+M40+K40)))","v":10369.584700160131},null,1022741.8584096589,null,""]
["2026-12-02","",8,"1900-01-08","Retorno",null,{"$f":"IFERROR(IF(C41=\"\",\"\",IF(E41<>\"Retorno\",0,IF($G$20=Parâmetros!$D$2,Simulador!$O$10/$G$17,IF($G$20=Parâmetros!$D$3,Simulador!Q41-Simulador!O41-Simulador!M41-Simulador!K41-Simulador!I41,\"\")))),\"\")","v":186.78567419984938},null,9934.7600719067268,null,0,null,{"$f":"IFERROR(IF(C41=\"\",\"\",IF($C$10=Parâmetros!$C$3,0,VLOOKUP(A41,'Base de Dados'!$E$3:$G$422,3,FALSE)*S41)),0)","v":181.60578091781753},null,{"$f":"IF(C41=\"\",\"\",IF(C42=\"\",0,IF(E41=\"Construção\",0,IF(E41=\"Seguro\",$C$17*'Base de Dados'!$C$2,IF($C$14=Parâmetros!$B$4,0,Simulador!$C$17*'Base de Dados'!$C$2)))))","v":66.400000000000006},null,{"$f":"IF(C41=\"\",\"\",IF(E41<>\"Retorno\",(I41+K41+M41),IF($G$20=Parâmetros!$D$2,SUM(G41,I41,K41,M41,O41),PMT($O$25,SUM($G$17),($O$10)*-1)+O41+M41+K41)))","v":10369.551527024394},null,1022555.0727354591,null,""]
["2027-01-02","",9,"1900-01-09","Retorno",null,{"$f":"IFERROR(IF(C42=\"\",\"\",IF(E42<>\"Retorno\",0,IF($G$20=Parâmetros!$D$2,Simulador!$O$10/$G$17,IF($G$20=Parâmetros!$D$3,Simulador!Q42-Simulador!O42-Simulador!M42-Simulador!K42-Simulador!I42,\"\")))),\"\")","v":188.60008205139638},null,9932.9456640551798,null,0,null,{"$f":"IFERROR(IF(C42=\"\",\"\",IF($C$10=Parâmetros!$C$3,0,VLOOKUP(A42,'Base de Dados'!$E$3:$G$422,3,FALSE)*S42)),0)","v":181.57228554324521},null,{"$f":"IF(C42=\"\",\"\",IF(C43=\"\",0,IF(E42=\"Construção\",0,IF(E42=\"Seguro\",$C$17*'Base de Dados'!$C$2,IF($C$14=Parâmetros!$B$4,0,Simulador!$C$17*'Base de Dados'!$C$2)))))","v":66.400000000000006},null,{"$f":"IF(C42=\"\",\"\",IF(E42<>\"Retorno\",(I42+K42+M42),IF($G$20=Parâmetros!$D$2,SUM(G42,I42,K42,M42,O42),PMT($O$25,SUM($G$17),($O$10)*-1)+O42+M42+K42)))","v":10369.518031649821},null,1022366.4726534077,null,""]
["2027-02-02","",10,"1900-01-10","Retorno",null,{"$f":"IFERROR(IF(C43=\"\",\"\",IF(E43<>\"Retorno\",0,IF($G$20=Parâmetros!$D$2,Simulador!$O$10/$G$17,IF($G$20=Parâmetros!$D$3,Simulador!Q43-Simulador!O43-Simulador!M43-Simulador!K43-Simulador!I43,\"\")))),\"\")","v":190.43211478708872},null,9931.1136313194875,null,0,null,{"$f":"IFERROR(IF(C43=\"\",\"\",IF($C$10=Parâmetros!$C$3,0,VLOOKUP(A43,'Base de Dados'!$E$3:$G$422,3,FALSE)*S43)),0)","v":181.53846479965904},null,{"$f":"IF(C43=\"\",\"\",IF(C44=\"\",0,IF(E43=\"Construção\",0,IF(E43=\"Seguro\",$C$17*'Base de Dados'!$C$2,IF($C$14=Parâmetros!$B$4,0,Simulador!$C$17*'Base de Dados'!$C$2)))))","v":66.400000000000006},null,{"$f":"IF(C43=\"\",\"\",IF(E43<>\"Retorno\",(I43+K43+M43),IF($G$20=Parâmetros!$D$2,SUM(G43,I43,K43,M43,O43),PMT($O$25,SUM($G$17),($O$10)*-1)+O43+M43+K43)))","v":10369.484210906236},null,1022176.0405386207,null,""]
["2027-03-02","",11,"1900-01-11","Retorno",null,{"$f":"IFERROR(IF(C44=\"\",\"\",IF(E44<>\"Retorno\",0,IF($G$20=Parâmetros!$D$2,Simulador!$O$10/$G$17,IF($G$20=Parâmetros!$D$3,Simulador!Q44-Simulador!O44-Simulador!M44-Simulador!K44-Simulador!I44,\"\")))),\"\")","v":192.28194361218812},null,9929.2638024943881,null,0,null,{"$f":"IFERROR(IF(C44=\"\",\"\",IF($C$10=Parâmetros!$C$3,0,VLOOKUP(A44,'Base de Dados'!$E$3:$G$422,3,FALSE)*S44)),0)","v":181.50431552647353},null,{"$f":"IF(C44=\"\",\"\",IF(C45=\"\",0,IF(E44=\"Construção\",0,IF(E44=\"Seguro\",$C$17*'Base de Dados'!$C$2,IF($C$14=Parâmetros!$B$4,0,Simulador!$C$17*'Base de Dados'!$C$2)))))","v":66.400000000000006},null,{"$f":"IF(C44=\"\",\"\",IF(E44<>\"Retorno\",(I44+K44+M44),IF($G$20=Parâmetros!$D$2,SUM(G44,I44,K44,M44,O44),PMT($O$25,SUM($G$17),($O$10)*-1)+O44+M44+K44)))","v":10369.45006163305},null,1021983.7585950085,null,""]
["2027-04-02","",12,"1900-01-12","Retorno",null,{"$f":"IFERROR(IF(C45=\"\",\"\",IF(E45<>\"Retorno\",0,IF($G$20=Parâmetros!$D$2,Simulador!$O$10/$G$17,IF($G$20=Parâmetros!$D$3,Simulador!Q45-Simulador!O45-Simulador!M45-Simulador!K45-Simulador!I45,\"\")))),\"\")","v":194.14974139541482},null,9927.3960047111614,null,0,null,{"$f":"IFERROR(IF(C45=\"\",\"\",IF($C$10=Parâmetros!$C$3,0,VLOOKUP(A45,'Base de Dados'!$E$3:$G$422,3,FALSE)*S45)),0)","v":181.46983453240171},null,{"$f":"IF(C45=\"\",\"\",IF(C46=\"\",0,IF(E45=\"Construção\",0,IF(E45=\"Seguro\",$C$17*'Base de Dados'!$C$2,IF($C$14=Parâmetros!$B$4,0,Simulador!$C$17*'Base de Dados'!$C$2)))))","v":66.400000000000006},null,{"$f":"IF(C45=\"\",\"\",IF(E45<>\"Retorno\",(I45+K45+M45),IF($G$20=Parâmetros!$D$2,SUM(G45,I45,K45,M45,O45),PMT($O$25,SUM($G$17),($O$10)*-1)+O45+M45+K45)))","v":10369.415580638977},null,1021789.6088536131,null,""]
["2027-05-02","",13,"1900-01-13","Retorno",null,{"$f":"IFERROR(IF(C46=\"\",\"\",IF(E46<>\"Retorno\",0,IF($G$20=Parâmetros!$D$2,Simulador!$O$10/$G$17,IF($G$20=Parâmetros!$D$3,Simulador!Q46-Simulador!O46-Simulador!M46-Simulador!K46-Simulador!I46,\"\")))),\"\")","v":196.03568268443087},null,9925.5100634221453,null,0,null,{"$f":"IFERROR(IF(C46=\"\",\"\",IF($C$10=Parâmetros!$C$3,0,VLOOKUP(A46,'Base de Dados'!$E$3:$G$422,3,FALSE)*S46)),0)","v":181.43501859515695},null,{"$f":"IF(C46=\"\",\"\",IF(C47=\"\",0,IF(E46=\"Construção\",0,IF(E46=\"Seguro\",$C$17*'Base de Dados'!$C$2,IF($C$14=Parâmetros!$B$4,0,Simulador!$C$17*'Base de Dados'!$C$2)))))","v":66.400000000000006},null,{"$f":"IF(C46=\"\",\"\",IF(E46<>\"Retorno\",(I46+K46+M46),IF($G$20=Parâmetros!$D$2,SUM(G46,I46,K46,M46,O46),PMT($O$25,SUM($G$17),($O$10)*-1)+O46+M46+K46)))","v":10369.380764701733},null,1021593.5731709288,null,""]
["2027-06-02","",14,"1900-01-14","Retorno",null,{"$f":"IFERROR(IF(C47=\"\",\"\",IF(E47<>\"Retorno\",0,IF($G$20=Parâmetros!$D$2,Simulador!$O$10/$G$17,IF($G$20=Parâmetros!$D$3,Simulador!Q47-Simulador!O47-Simulador!M47-Simulador!K47-Simulador!I47,\"\")))),\"\")","v":197.93994372260386},null,9923.6058023839723,null,0,null,{"$f":"IFERROR(IF(C47=\"\",\"\",IF($C$10=Parâmetros!$C$3,0,VLOOKUP(A47,'Base de Dados'!$E$3:$G$422,3,FALSE)*S47)),0)","v":181.39986446115182},null,{"$f":"IF(C47=\"\",\"\",IF(C48=\"\",0,IF(E47=\"Construção\",0,IF(E47=\"Seguro\",$C$17*'Base de Dados'!$C$2,IF($C$14=Parâmetros!$B$4,0,Simulador!$C$17*'Base de Dados'!$C$2)))))","v":66.400000000000006},null,{"$f":"IF(C47=\"\",\"\",IF(E47<>\"Retorno\",(I47+K47+M47),IF($G$20=Parâmetros!$D$2,SUM(G47,I47,K47,M47,O47),PMT($O$25,SUM($G$17),($O$10)*-1)+O47+M47+K47)))","v":10369.345610567727},null,1021395.6332272062,null,""]
["2027-07-02","",15,"1900-01-15","Retorno",null,{"$f":"IFERROR(IF(C48=\"\",\"\",IF(E48<>\"Retorno\",0,IF($G$20=Parâmetros!$D$2,Simulador!$O$10/$G$17,IF($G$20=Parâmetros!$D$3,Simulador!Q48-Simulador!O48-Simulador!M48-Simulador!K48-Simulador!I48,\"\")))),\"\")","v":199.86270246507229},null,9921.6830436415039,null,0,null,{"$f":"IFERROR(IF(C48=\"\",\"\",IF($C$10=Parâmetros!$C$3,0,VLOOKUP(A48,'Base de Dados'!$E$3:$G$422,3,FALSE)*S48)),0)","v":181.36436884519404},null,{"$f":"IF(C48=\"\",\"\",IF(C49=\"\",0,IF(E48=\"Construção\",0,IF(E48=\"Seguro\",$C$17*'Base de Dados'!$C$2,IF($C$14=Parâmetros!$B$4,0,Simulador!$C$17*'Base de Dados'!$C$2)))))","v":66.400000000000006},null,{"$f":"IF(C48=\"\",\"\",IF(E48<>\"Retorno\",(I48+K48+M48),IF($G$20=Parâmetros!$D$2,SUM(G48,I48,K48,M48,O48),PMT($O$25,SUM($G$17),($O$10)*-1)+O48+M48+K48)))","v":10369.31011495177},null,1021195.7705247412,null,""]
["2027-08-02","",16,"1900-01-16","Retorno",null,{"$f":"IFERROR(IF(C49=\"\",\"\",IF(E49<>\"Retorno\",0,IF($G$20=Parâmetros!$D$2,Simulador!$O$10/$G$17,IF($G$20=Parâmetros!$D$3,Simulador!Q49-Simulador!O49-Simulador!M49-Simulador!K49-Simulador!I49,\"\")))),\"\")","v":201.80413859574219},null,9919.741607510834,null,0,null,{"$f":"IFERROR(IF(C49=\"\",\"\",IF($C$10=Parâmetros!$C$3,0,VLOOKUP(A49,'Base de Dados'!$E$3:$G$422,3,FALSE)*S49)),0)","v":181.32852843017943},null,{"$f":"IF(C49=\"\",\"\",IF(C50=\"\",0,IF(E49=\"Construção\",0,IF(E49=\"Seguro\",$C$17*'Base de Dados'!$C$2,IF($C$14=Parâmetros!$B$4,0,Simulador!$C$17*'Base de Dados'!$C$2)))))","v":66.400000000000006},null,{"$f":"IF(C49=\"\",\"\",IF(E49<>\"Retorno\",(I49+K49+M49),IF($G$20=Parâmetros!$D$2,SUM(G49,I49,K49,M49,O49),PMT($O$25,SUM($G$17),($O$10)*-1)+O49+M49+K49)))","v":10369.274274536756},null,1020993.9663861454,null,""]
["2027-09-02","",17,"1900-01-17","Retorno",null,{"$f":"IFERROR(IF(C50=\"\",\"\",IF(E50<>\"Retorno\",0,IF($G$20=Parâmetros!$D$2,Simulador!$O$10/$G$17,IF($G$20=Parâmetros!$D$3,Simulador!Q50-Simulador!O50-Simulador!M50-Simulador!K50-Simulador!I50,\"\")))),\"\")","v":203.76443354405092},null,9917.7813125625253,null,0,null,{"$f":"IFERROR(IF(C50=\"\",\"\",IF($C$10=Parâmetros!$C$3,0,VLOOKUP(A50,'Base de Dados'!$E$3:$G$422,3,FALSE)*S50)),0)","v":181.29233986678202},null,{"$f":"IF(C50=\"\",\"\",IF(C51=\"\",0,IF(E50=\"Construção\",0,IF(E50=\"Seguro\",$C$17*'Base de Dados'!$C$2,IF($C$14=Parâmetros!$B$4,0,Simulador!$C$17*'Base de Dados'!$C$2)))))","v":66.400000000000006},null,{"$f":"IF(C50=\"\",\"\",IF(E50<>\"Retorno\",(I50+K50+M50),IF($G$20=Parâmetros!$D$2,SUM(G50,I50,K50,M50,O50),PMT($O$25,SUM($G$17),($O$10)*-1)+O50+M50+K50)))","v":10369.238085973358},null,1020790.2019526014,null,""]
["2027-10-02","",18,"1900-01-18","Retorno",null,{"$f":"IFERROR(IF(C51=\"\",\"\",IF(E51<>\"Retorno\",0,IF($G$20=Parâmetros!$D$2,Simulador!$O$10/$G$17,IF($G$20=Parâmetros!$D$3,Simulador!Q51-Simulador!O51-Simulador!M51-Simulador!K51-Simulador!I51,\"\")))),\"\")","v":205.74377050173098},null,9915.8019756048452,null,0,null,{"$f":"IFERROR(IF(C51=\"\",\"\",IF($C$10=Parâmetros!$C$3,0,VLOOKUP(A51,'Base de Dados'!$E$3:$G$422,3,FALSE)*S51)),0)","v":181.25579977314092},null,{"$f":"IF(C51=\"\",\"\",IF(C52=\"\",0,IF(E51=\"Construção\",0,IF(E51=\"Seguro\",$C$17*'Base de Dados'!$C$2,IF($C$14=Parâmetros!$B$4,0,Simulador!$C$17*'Base de Dados'!$C$2)))))","v":66.400000000000006},null,{"$f":"IF(C51=\"\",\"\",IF(E51<>\"Retorno\",(I51+K51+M51),IF($G$20=Parâmetros!$D$2,SUM(G51,I51,K51,M51,O51),PMT($O$25,SUM($G$17),($O$10)*-1)+O51+M51+K51)))","v":10369.201545879716},null,1020584.4581820997,null,""]
["2027-11-02","",19,"1900-01-19","Retorno",null,{"$f":"IFERROR(IF(C52=\"\",\"\",IF(E52<>\"Retorno\",0,IF($G$20=Parâmetros!$D$2,Simulador!$O$10/$G$17,IF($G$20=Parâmetros!$D$3,Simulador!Q52-Simulador!O52-Simulador!M52-Simulador!K52-Simulador!I52,\"\")))),\"\")","v":207.74233443980665},null,9913.8034116667695,null,0,null,{"$f":"IFERROR(IF(C52=\"\",\"\",IF($C$10=Parâmetros!$C$3,0,VLOOKUP(A52,'Base de Dados'!$E$3:$G$422,3,FALSE)*S52)),0)","v":181.21890473454442},null,{"$f":"IF(C52=\"\",\"\",IF(C53=\"\",0,IF(E52=\"Construção\",0,IF(E52=\"Seguro\",$C$17*'Base de Dados'!$C$2,IF($C$14=Parâmetros!$B$4,0,Simulador!$C$17*'Base de Dados'!$C$2)))))","v":66.400000000000006},null,{"$f":"IF(C52=\"\",\"\",IF(E52<>\"Retorno\",(I52+K52+M52),IF($G$20=Parâmetros!$D$2,SUM(G52,I52,K52,M52,O52),PMT($O$25,SUM($G$17),($O$10)*-1)+O52+M52+K52)))","v":10369.16465084112},null,1020376.71584766,null,""]
["2027-12-02","",20,"1900-01-20","Retorno",null,{"$f":"IFERROR(IF(C53=\"\",\"\",IF(E53<>\"Retorno\",0,IF($G$20=Parâmetros!$D$2,Simulador!$O$10/$G$17,IF($G$20=Parâmetros!$D$3,Simulador!Q53-Simulador!O53-Simulador!M53-Simulador!K53-Simulador!I53,\"\")))),\"\")","v":209.76031212640555},null,9911.7854339801706,null,0,null,{"$f":"IFERROR(IF(C53=\"\",\"\",IF($C$10=Parâmetros!$C$3,0,VLOOKUP(A53,'Base de Dados'!$E$3:$G$422,3,FALSE)*S53)),0)","v":181.18165130311078},null,{"$f":"IF(C53=\"\",\"\",IF(C54=\"\",0,IF(E53=\"Construção\",0,IF(E53=\"Seguro\",$C$17*'Base de Dados'!$C$2,IF($C$14=Parâmetros!$B$4,0,Simulador!$C$17*'Base de Dados'!$C$2)))))","v":66.400000000000006},null,{"$f":"IF(C53=\"\",\"\",IF(E53<>\"Retorno\",(I53+K53+M53),IF($G$20=Parâmetros!$D$2,SUM(G53,I53,K53,M53,O53),PMT($O$25,SUM($G$17),($O$10)*-1)+O53+M53+K53)))","v":10369.127397409686},null,1020166.9555355336,null,""]
["2028-01-02","",21,"1900-01-21","Retorno",null,{"$f":"IFERROR(IF(C54=\"\",\"\",IF(E54<>\"Retorno\",0,IF($G$20=Parâmetros!$D$2,Simulador!$O$10/$G$17,IF($G$20=Parâmetros!$D$3,Simulador!Q54-Simulador!O54-Simulador!M54-Simulador!K54-Simulador!I54,\"\")))),\"\")","v":211.79789214375523},null,9909.747853962821,null,0,null,{"$f":"IFERROR(IF(C54=\"\",\"\",IF($C$10=Parâmetros!$C$3,0,VLOOKUP(A54,'Base de Dados'!$E$3:$G$422,3,FALSE)*S54)),0)","v":181.14403599746606},null,{"$f":"IF(C54=\"\",\"\",IF(C55=\"\",0,IF(E54=\"Construção\",0,IF(E54=\"Seguro\",$C$17*'Base de Dados'!$C$2,IF($C$14=Parâmetros!$B$4,0,Simulador!$C$17*'Base de Dados'!$C$2)))))","v":66.400000000000006},null,{"$f":"IF(C54=\"\",\"\",IF(E54<>\"Retorno\",(I54+K54+M54),IF($G$20=Parâmetros!$D$2,SUM(G54,I54,K54,M54,O54),PMT($O$25,SUM($G$17),($O$10)*-1)+O54+M54+K54)))","v":10369.089782104042},null,1019955.1576433899,null,""]
["2028-02-02","",22,"1900-01-22","Retorno",null,{"$f":"IFERROR(IF(C55=\"\",\"\",IF(E55<>\"Retorno\",0,IF($G$20=Parâmetros!$D$2,Simulador!$O$10/$G$17,IF($G$20=Parâmetros!$D$3,Simulador!Q55-Simulador!O55-Simulador!M55-Simulador!K55-Simulador!I55,\"\")))),\"\")","v":213.85526490587836},null,9907.6904812006978,null,0,null,{"$f":"IFERROR(IF(C55=\"\",\"\",IF($C$10=Parâmetros!$C$3,0,VLOOKUP(A55,'Base de Dados'!$E$3:$G$422,3,FALSE)*S55)),0)","v":181.10605530241878},null,{"$f":"IF(C55=\"\",\"\",IF(C56=\"\",0,IF(E55=\"Construção\",0,IF(E55=\"Seguro\",$C$17*'Base de Dados'!$C$2,IF($C$14=Parâmetros!$B$4,0,Simulador!$C$17*'Base de Dados'!$C$2)))))","v":66.400000000000006},null,{"$f":"IF(C55=\"\",\"\",IF(E55<>\"Retorno\",(I55+K55+M55),IF($G$20=Parâmetros!$D$2,SUM(G55,I55,K55,M55,O55),PMT($O$25,SUM($G$17),($O$10)*-1)+O55+M55+K55)))","v":10369.051801408994},null,1019741.302378484,null,""]
["2028-03-02","",23,"1900-01-23","Retorno",null,{"$f":"IFERROR(IF(C56=\"\",\"\",IF(E56<>\"Retorno\",0,IF($G$20=Parâmetros!$D$2,Simulador!$O$10/$G$17,IF($G$20=Parâmetros!$D$3,Simulador!Q56-Simulador!O56-Simulador!M56-Simulador!K56-Simulador!I56,\"\")))),\"\")","v":215.93262267652062},null,9905.6131234300556,null,0,null,{"$f":"IFERROR(IF(C56=\"\",\"\",IF($C$10=Parâmetros!$C$3,0,VLOOKUP(A56,'Base de Dados'!$E$3:$G$422,3,FALSE)*S56)),0)","v":181.06770566863142},null,{"$f":"IF(C56=\"\",\"\",IF(C57=\"\",0,IF(E56=\"Construção\",0,IF(E56=\"Seguro\",$C$17*'Base de Dados'!$C$2,IF($C$14=Parâmetros!$B$4,0,Simulador!$C$17*'Base de Dados'!$C$2)))))","v":66.400000000000006},null,{"$f":"IF(C56=\"\",\"\",IF(E56<>\"Retorno\",(I56+K56+M56),IF($G$20=Parâmetros!$D$2,SUM(G56,I56,K56,M56,O56),PMT($O$25,SUM($G$17),($O$10)*-1)+O56+M56+K56)))","v":10369.013451775207},null,1019525.3697558076,null,""]
["2028-04-02","",24,"1900-01-24","Retorno",null,{"$f":"IFERROR(IF(C57=\"\",\"\",IF(E57<>\"Retorno\",0,IF($G$20=Parâmetros!$D$2,Simulador!$O$10/$G$17,IF($G$20=Parâmetros!$D$3,Simulador!Q57-Simulador!O57-Simulador!M57-Simulador!K57-Simulador!I57,\"\")))),\"\")","v":218.03015958707874},null,9903.5155865194974,null,0,null,{"$f":"IFERROR(IF(C57=\"\",\"\",IF($C$10=Parâmetros!$C$3,0,VLOOKUP(A57,'Base de Dados'!$E$3:$G$422,3,FALSE)*S57)),0)","v":181.02898351228876},null,{"$f":"IF(C57=\"\",\"\",IF(C58=\"\",0,IF(E57=\"Construção\",0,IF(E57=\"Seguro\",$C$17*'Base de Dados'!$C$2,IF($C$14=Parâmetros!$B$4,0,Simulador!$C$17*'Base de Dados'!$C$2)))))","v":66.400000000000006},null,{"$f":"IF(C57=\"\",\"\",IF(E57<>\"Retorno\",(I57+K57+M57),IF($G$20=Parâmetros!$D$2,SUM(G57,I57,K57,M57,O57),PMT($O$25,SUM($G$17),($O$10)*-1)+O57+M57+K57)))","v":10368.974729618865},null,1019307.3395962205,null,""]
["2028-05-02","",25,"1900-01-25","Retorno",null,{"$f":"IFERROR(IF(C58=\"\",\"\",IF(E58<>\"Retorno\",0,IF($G$20=Parâmetros!$D$2,Simulador!$O$10/$G$17,IF($G$20=Parâmetros!$D$3,Simulador!Q58-Simulador!O58-Simulador!M58-Simulador!K58-Simulador!I58,\"\")))),\"\")","v":220.14807165464481},null,9901.3976744519314,null,0,null,{"$f":"IFERROR(IF(C58=\"\",\"\",IF($C$10=Parâmetros!$C$3,0,VLOOKUP(A58,'Base de Dados'!$E$3:$G$422,3,FALSE)*S58)),0)","v":180.98988521476292},null,{"$f":"IF(C58=\"\",\"\",IF(C59=\"\",0,IF(E58=\"Construção\",0,IF(E58=\"Seguro\",$C$17*'Base de Dados'!$C$2,IF($C$14=Parâmetros!$B$4,0,Simulador!$C$17*'Base de Dados'!$C$2)))))","v":66.400000000000006},null,{"$f":"IF(C58=\"\",\"\",IF(E58<>\"Retorno\",(I58+K58+M58),IF($G$20=Parâmetros!$D$2,SUM(G58,I58,K58,M58,O58),PMT($O$25,SUM($G$17),($O$10)*-1)+O58+M58+K58)))","v":10368.935631321339},null,1019087.1915245659,null,""]
["2028-06-02","",26,"1900-01-26","Retorno",null,{"$f":"IFERROR(IF(C59=\"\",\"\",IF(E59<>\"Retorno\",0,IF($G$20=Parâmetros!$D$2,Simulador!$O$10/$G$17,IF($G$20=Parâmetros!$D$3,Simulador!Q59-Simulador!O59-Simulador!M59-Simulador!K59-Simulador!I59,\"\")))),\"\")","v":222.28655680051634},null,9899.2591893060599,null,0,null,{"$f":"IFERROR(IF(C59=\"\",\"\",IF($C$10=Parâmetros!$C$3,0,VLOOKUP(A59,'Base de Dados'!$E$3:$G$422,3,FALSE)*S59)),0)","v":180.95040712227515},null,{"$f":"IF(C59=\"\",\"\",IF(C60=\"\",0,IF(E59=\"Construção\",0,IF(E59=\"Seguro\",$C$17*'Base de Dados'!$C$2,IF($C$14=Parâmetros!$B$4,0,Simulador!$C$17*'Base de Dados'!$C$2)))))","v":66.400000000000006},null,{"$f":"IF(C59=\"\",\"\",IF(E59<>\"Retorno\",(I59+K59+M59),IF($G$20=Parâmetros!$D$2,SUM(G59,I59,K59,M59,O59),PMT($O$25,SUM($G$17),($O$10)*-1)+O59+M59+K59)))","v":10368.89615322885},null,1018864.9049677654,null,""]
["2028-07-02","",27,"1900-01-27","Retorno",null,{"$f":"IFERROR(IF(C60=\"\",\"\",IF(E60<>\"Retorno\",0,IF($G$20=Parâmetros!$D$2,Simulador!$O$10/$G$17,IF($G$20=Parâmetros!$D$3,Simulador!Q60-Simulador!O60-Simulador!M60-Simulador!K60-Simulador!I60,\"\")))),\"\")","v":224.44581486824063},null,9897.0999312383356,null,0,null,{"$f":"IFERROR(IF(C60=\"\",\"\",IF($C$10=Parâmetros!$C$3,0,VLOOKUP(A60,'Base de Dados'!$E$3:$G$422,3,FALSE)*S60)),0)","v":180.91054554555456},null,{"$f":"IF(C60=\"\",\"\",IF(C61=\"\",0,IF(E60=\"Construção\",0,IF(E60=\"Seguro\",$C$17*'Base de Dados'!$C$2,IF($C$14=Parâmetros!$B$4,0,Simulador!$C$17*'Base de Dados'!$C$2)))))","v":66.400000000000006},null,{"$f":"IF(C60=\"\",\"\",IF(E60<>\"Retorno\",(I60+K60+M60),IF($G$20=Parâmetros!$D$2,SUM(G60,I60,K60,M60,O60),PMT($O$25,SUM($G$17),($O$10)*-1)+O60+M60+K60)))","v":10368.85629165213},null,1018640.4591528972,null,""]
["2028-08-02","",28,"1900-01-28","Retorno",null,{"$f":"IFERROR(IF(C61=\"\",\"\",IF(E61<>\"Retorno\",0,IF($G$20=Parâmetros!$D$2,Simulador!$O$10/$G$17,IF($G$20=Parâmetros!$D$3,Simulador!Q61-Simulador!O61-Simulador!M61-Simulador!K61-Simulador!I61,\"\")))),\"\")","v":226.62604764305615},null,9894.91969846352,null,0,null,{"$f":"IFERROR(IF(C61=\"\",\"\",IF($C$10=Parâmetros!$C$3,0,VLOOKUP(A61,'Base de Dados'!$E$3:$G$422,3,FALSE)*S61)),0)","v":180.87029675949316},null,{"$f":"IF(C61=\"\",\"\",IF(C62=\"\",0,IF(E61=\"Construção\",0,IF(E61=\"Seguro\",$C$17*'Base de Dados'!$C$2,IF($C$14=Parâmetros!$B$4,0,Simulador!$C$17*'Base de Dados'!$C$2)))))","v":66.400000000000006},null,{"$f":"IF(C61=\"\",\"\",IF(E61<>\"Retorno\",(I61+K61+M61),IF($G$20=Parâmetros!$D$2,SUM(G61,I61,K61,M61,O61),PMT($O$25,SUM($G$17),($O$10)*-1)+O61+M61+K61)))","v":10368.816042866069},null,1018413.8331052542,null,""]
["2028-09-02","",29,"1900-01-29","Retorno",null,{"$f":"IFERROR(IF(C62=\"\",\"\",IF(E62<>\"Retorno\",0,IF($G$20=Parâmetros!$D$2,Simulador!$O$10/$G$17,IF($G$20=Parâmetros!$D$3,Simulador!Q62-Simulador!O62-Simulador!M62-Simulador!K62-Simulador!I62,\"\")))),\"\")","v":228.82745886993689},null,9892.7182872366393,null,0,null,{"$f":"IFERROR(IF(C62=\"\",\"\",IF($C$10=Parâmetros!$C$3,0,VLOOKUP(A62,'Base de Dados'!$E$3:$G$422,3,FALSE)*S62)),0)","v":180.82965700279786},null,{"$f":"IF(C62=\"\",\"\",IF(C63=\"\",0,IF(E62=\"Construção\",0,IF(E62=\"Seguro\",$C$17*'Base de Dados'!$C$2,IF($C$14=Parâmetros!$B$4,0,Simulador!$C$17*'Base de Dados'!$C$2)))))","v":66.400000000000006},null,{"$f":"IF(C62=\"\",\"\",IF(E62<>\"Retorno\",(I62+K62+M62),IF($G$20=Parâmetros!$D$2,SUM(G62,I62,K62,M62,O62),PMT($O$25,SUM($G$17),($O$10)*-1)+O62+M62+K62)))","v":10368.775403109374},null,1018185.0056463843,null,""]
["2028-10-02","",30,"1900-01-30","Retorno",null,{"$f":"IFERROR(IF(C63=\"\",\"\",IF(E63<>\"Retorno\",0,IF($G$20=Parâmetros!$D$2,Simulador!$O$10/$G$17,IF($G$20=Parâmetros!$D$3,Simulador!Q63-Simulador!O63-Simulador!M63-Simulador!K63-Simulador!I63,\"\")))),\"\")","v":231.05025427338296},null,9890.4954918331932,null,0,null,{"$f":"IFERROR(IF(C63=\"\",\"\",IF($C$10=Parâmetros!$C$3,0,VLOOKUP(A63,'Base de Dados'!$E$3:$G$422,3,FALSE)*S63)),0)","v":222.8301208353331},null,{"$f":"IF(C63=\"\",\"\",IF(C64=\"\",0,IF(E63=\"Construção\",0,IF(E63=\"Seguro\",$C$17*'Base de Dados'!$C$2,IF($C$14=Parâmetros!$B$4,0,Simulador!$C$17*'Base de Dados'!$C$2)))))","v":66.400000000000006},null,{"$f":"IF(C63=\"\",\"\",IF(E63<>\"Retorno\",(I63+K63+M63),IF($G$20=Parâmetros!$D$2,SUM(G63,I63,K63,M63,O63),PMT($O$25,SUM($G$17),($O$10)*-1)+O63+M63+K63)))","v":10410.775866941909},null,1017953.955392111,null,""]
["2028-11-02","",31,"1900-01-31","Retorno",null,{"$f":"IFERROR(IF(C64=\"\",\"\",IF(E64<>\"Retorno\",0,IF($G$20=Parâmetros!$D$2,Simulador!$O$10/$G$17,IF($G$20=Parâmetros!$D$3,Simulador!Q64-Simulador!O64-Simulador!M64-Simulador!K64-Simulador!I64,\"\")))),\"\")","v":233.29464157593065},null,9888.2511045306455,null,0,null,{"$f":"IFERROR(IF(C64=\"\",\"\",IF($C$10=Parâmetros!$C$3,0,VLOOKUP(A64,'Base de Dados'!$E$3:$G$422,3,FALSE)*S64)),0)","v":222.77905263829214},null,{"$f":"IF(C64=\"\",\"\",IF(C65=\"\",0,IF(E64=\"Construção\",0,IF(E64=\"Seguro\",$C$17*'Base de Dados'!$C$2,IF($C$14=Parâmetros!$B$4,0,Simulador!$C$17*'Base de Dados'!$C$2)))))","v":66.400000000000006},null,{"$f":"IF(C64=\"\",\"\",IF(E64<>\"Retorno\",(I64+K64+M64),IF($G$20=Parâmetros!$D$2,SUM(G64,I64,K64,M64,O64),PMT($O$25,SUM($G$17),($O$10)*-1)+O64+M64+K64)))","v":10410.724798744868},null,1017720.6607505351,null,""]
["2028-12-02","",32,"1900-02-01","Retorno",null,{"$f":"IFERROR(IF(C65=\"\",\"\",IF(E65<>\"Retorno\",0,IF($G$20=Parâmetros!$D$2,Simulador!$O$10/$G$17,IF($G$20=Parâmetros!$D$3,Simulador!Q65-Simulador!O65-Simulador!M65-Simulador!K65-Simulador!I65,\"\")))),\"\")","v":235.56083051794303},null,9885.9849155886332,null,0,null,{"$f":"IFERROR(IF(C65=\"\",\"\",IF($C$10=Parâmetros!$C$3,0,VLOOKUP(A65,'Base de Dados'!$E$3:$G$422,3,FALSE)*S65)),0)","v":222.72748837249176},null,{"$f":"IF(C65=\"\",\"\",IF(C66=\"\",0,IF(E65=\"Construção\",0,IF(E65=\"Seguro\",$C$17*'Base de Dados'!$C$2,IF($C$14=Parâmetros!$B$4,0,Simulador!$C$17*'Base de Dados'!$C$2)))))","v":66.400000000000006},null,{"$f":"IF(C65=\"\",\"\",IF(E65<>\"Retorno\",(I65+K65+M65),IF($G$20=Parâmetros!$D$2,SUM(G65,I65,K65,M65,O65),PMT($O$25,SUM($G$17),($O$10)*-1)+O65+M65+K65)))","v":10410.673234479067},null,1017485.0999200172,null,""]
["2029-01-02","",33,"1900-02-02","Retorno",null,{"$f":"IFERROR(IF(C66=\"\",\"\",IF(E66<>\"Retorno\",0,IF($G$20=Parâmetros!$D$2,Simulador!$O$10/$G$17,IF($G$20=Parâmetros!$D$3,Simulador!Q66-Simulador!O66-Simulador!M66-Simulador!K66-Simulador!I66,\"\")))),\"\")","v":237.84903287740053},null,9883.6967132291757,null,0,null,{"$f":"IFERROR(IF(C66=\"\",\"\",IF($C$10=Parâmetros!$C$3,0,VLOOKUP(A66,'Base de Dados'!$E$3:$G$422,3,FALSE)*S66)),0)","v":222.67542321919493},null,{"$f":"IF(C66=\"\",\"\",IF(C67=\"\",0,IF(E66=\"Construção\",0,IF(E66=\"Seguro\",$C$17*'Base de Dados'!$C$2,IF($C$14=Parâmetros!$B$4,0,Simulador!$C$17*'Base de Dados'!$C$2)))))","v":66.400000000000006},null,{"$f":"IF(C66=\"\",\"\",IF(E66<>\"Retorno\",(I66+K66+M66),IF($G$20=Parâmetros!$D$2,SUM(G66,I66,K66,M66,O66),PMT($O$25,SUM($G$17),($O$10)*-1)+O66+M66+K66)))","v":10410.62116932577},null,1017247.2508871398,null,""]
["2029-02-02","",34,"1900-02-03","Retorno",null,{"$f":"IFERROR(IF(C67=\"\",\"\",IF(E67<>\"Retorno\",0,IF($G$20=Parâmetros!$D$2,Simulador!$O$10/$G$17,IF($G$20=Parâmetros!$D$3,Simulador!Q67-Simulador!O67-Simulador!M67-Simulador!K67-Simulador!I67,\"\")))),\"\")","v":240.15946248934233},null,9881.3862836172339,null,0,null,{"$f":"IFERROR(IF(C67=\"\",\"\",IF($C$10=Parâmetros!$C$3,0,VLOOKUP(A67,'Base de Dados'!$E$3:$G$422,3,FALSE)*S67)),0)","v":222.622852312856},null,{"$f":"IF(C67=\"\",\"\",IF(C68=\"\",0,IF(E67=\"Construção\",0,IF(E67=\"Seguro\",$C$17*'Base de Dados'!$C$2,IF($C$14=Parâmetros!$B$4,0,Simulador!$C$17*'Base de Dados'!$C$2)))))","v":66.400000000000006},null,{"$f":"IF(C67=\"\",\"\",IF(E67<>\"Retorno\",(I67+K67+M67),IF($G$20=Parâmetros!$D$2,SUM(G67,I67,K67,M67,O67),PMT($O$25,SUM($G$17),($O$10)*-1)+O67+M67+K67)))","v":10410.568598419432},null,1017007.0914246505,null,""]
["2029-03-02","",35,"1900-02-04","Retorno",null,{"$f":"IFERROR(IF(C68=\"\",\"\",IF(E68<>\"Retorno\",0,IF($G$20=Parâmetros!$D$2,Simulador!$O$10/$G$17,IF($G$20=Parâmetros!$D$3,Simulador!Q68-Simulador!O68-Simulador!M68-Simulador!K68-Simulador!I68,\"\")))),\"\")","v":242.49233526577336},null,9879.0534108408028,null,0,null,{"$f":"IFERROR(IF(C68=\"\",\"\",IF($C$10=Parâmetros!$C$3,0,VLOOKUP(A68,'Base de Dados'!$E$3:$G$422,3,FALSE)*S68)),0)","v":222.56977074066634},null,{"$f":"IF(C68=\"\",\"\",IF(C69=\"\",0,IF(E68=\"Construção\",0,IF(E68=\"Seguro\",$C$17*'Base de Dados'!$C$2,IF($C$14=Parâmetros!$B$4,0,Simulador!$C$17*'Base de Dados'!$C$2)))))","v":66.400000000000006},null,{"$f":"IF(C68=\"\",\"\",IF(E68<>\"Retorno\",(I68+K68+M68),IF($G$20=Parâmetros!$D$2,SUM(G68,I68,K68,M68,O68),PMT($O$25,SUM($G$17),($O$10)*-1)+O68+M68+K68)))","v":10410.515516847243},null,1016764.5990893848,null,""]
["2029-04-02","",36,"1900-02-05","Retorno",null,{"$f":"IFERROR(IF(C69=\"\",\"\",IF(E69<>\"Retorno\",0,IF($G$20=Parâmetros!$D$2,Simulador!$O$10/$G$17,IF($G$20=Parâmetros!$D$3,Simulador!Q69-Simulador!O69-Simulador!M69-Simulador!K69-Simulador!I69,\"\")))),\"\")","v":244.84786921626983},null,9876.6978768903064,null,0,null,{"$f":"IFERROR(IF(C69=\"\",\"\",IF($C$10=Parâmetros!$C$3,0,VLOOKUP(A69,'Base de Dados'!$E$3:$G$422,3,FALSE)*S69)),0)","v":222.51617354209489},null,{"$f":"IF(C69=\"\",\"\",IF(C70=\"\",0,IF(E69=\"Construção\",0,IF(E69=\"Seguro\",$C$17*'Base de Dados'!$C$2,IF($C$14=Parâmetros!$B$4,0,Simulador!$C$17*'Base de Dados'!$C$2)))))","v":66.400000000000006},null,{"$f":"IF(C69=\"\",\"\",IF(E69<>\"Retorno\",(I69+K69+M69),IF($G$20=Parâmetros!$D$2,SUM(G69,I69,K69,M69,O69),PMT($O$25,SUM($G$17),($O$10)*-1)+O69+M69+K69)))","v":10410.461919648671},null,1016519.7512201685,null,""]
["2029-05-02","",37,"1900-02-06","Retorno",null,{"$f":"IFERROR(IF(C70=\"\",\"\",IF(E70<>\"Retorno\",0,IF($G$20=Parâmetros!$D$2,Simulador!$O$10/$G$17,IF($G$20=Parâmetros!$D$3,Simulador!Q70-Simulador!O70-Simulador!M70-Simulador!K70-Simulador!I70,\"\")))),\"\")","v":247.22628446823546},null,9874.3194616383407,null,0,null,{"$f":"IFERROR(IF(C70=\"\",\"\",IF($C$10=Parâmetros!$C$3,0,VLOOKUP(A70,'Base de Dados'!$E$3:$G$422,3,FALSE)*S70)),0)","v":222.46205570842483},null,{"$f":"IF(C70=\"\",\"\",IF(C71=\"\",0,IF(E70=\"Construção\",0,IF(E70=\"Seguro\",$C$17*'Base de Dados'!$C$2,IF($C$14=Parâmetros!$B$4,0,Simulador!$C$17*'Base de Dados'!$C$2)))))","v":66.400000000000006},null,{"$f":"IF(C70=\"\",\"\",IF(E70<>\"Retorno\",(I70+K70+M70),IF($G$20=Parâmetros!$D$2,SUM(G70,I70,K70,M70,O70),PMT($O$25,SUM($G$17),($O$10)*-1)+O70+M70+K70)))","v":10410.407801815001},null,1016272.5249357003,null,""]
["2029-06-02","",38,"1900-02-07","Retorno",null,{"$f":"IFERROR(IF(C71=\"\",\"\",IF(E71<>\"Retorno\",0,IF($G$20=Parâmetros!$D$2,Simulador!$O$10/$G$17,IF($G$20=Parâmetros!$D$3,Simulador!Q71-Simulador!O71-Simulador!M71-Simulador!K71-Simulador!I71,\"\")))),\"\")","v":249.62780328692497},null,9871.9179428196512,null,0,null,{"$f":"IFERROR(IF(C71=\"\",\"\",IF($C$10=Parâmetros!$C$3,0,VLOOKUP(A71,'Base de Dados'!$E$3:$G$422,3,FALSE)*S71)),0)","v":222.40741218228533},null,{"$f":"IF(C71=\"\",\"\",IF(C72=\"\",0,IF(E71=\"Construção\",0,IF(E71=\"Seguro\",$C$17*'Base de Dados'!$C$2,IF($C$14=Parâmetros!$B$4,0,Simulador!$C$17*'Base de Dados'!$C$2)))))","v":66.400000000000006},null,{"$f":"IF(C71=\"\",\"\",IF(E71<>\"Retorno\",(I71+K71+M71),IF($G$20=Parâmetros!$D$2,SUM(G71,I71,K71,M71,O71),PMT($O$25,SUM($G$17),($O$10)*-1)+O71+M71+K71)))","v":10410.353158288861},null,1016022.8971324135,null,""]
["2029-07-02","",39,"1900-02-08","Retorno",null,{"$f":"IFERROR(IF(C72=\"\",\"\",IF(E72<>\"Retorno\",0,IF($G$20=Parâmetros!$D$2,Simulador!$O$10/$G$17,IF($G$20=Parâmetros!$D$3,Simulador!Q72-Simulador!O72-Simulador!M72-Simulador!K72-Simulador!I72,\"\")))),\"\")","v":252.05265009698087},null,9869.4930960095953,null,0,null,{"$f":"IFERROR(IF(C72=\"\",\"\",IF($C$10=Parâmetros!$C$3,0,VLOOKUP(A72,'Base de Dados'!$E$3:$G$422,3,FALSE)*S72)),0)","v":222.35223785717909},null,{"$f":"IF(C72=\"\",\"\",IF(C73=\"\",0,IF(E72=\"Construção\",0,IF(E72=\"Seguro\",$C$17*'Base de Dados'!$C$2,IF($C$14=Parâmetros!$B$4,0,Simulador!$C$17*'Base de Dados'!$C$2)))))","v":66.400000000000006},null,{"$f":"IF(C72=\"\",\"\",IF(E72<>\"Retorno\",(I72+K72+M72),IF($G$20=Parâmetros!$D$2,SUM(G72,I72,K72,M72,O72),PMT($O$25,SUM($G$17),($O$10)*-1)+O72+M72+K72)))","v":10410.297983963756},null,1015770.8444823165,null,""]
["2029-08-02","",40,"1900-02-09","Retorno",null,{"$f":"IFERROR(IF(C73=\"\",\"\",IF(E73<>\"Retorno\",0,IF($G$20=Parâmetros!$D$2,Simulador!$O$10/$G$17,IF($G$20=Parâmetros!$D$3,Simulador!Q73-Simulador!O73-Simulador!M73-Simulador!K73-Simulador!I73,\"\")))),\"\")","v":254.5010515031554},null,9867.0446946034208,null,0,null,{"$f":"IFERROR(IF(C73=\"\",\"\",IF($C$10=Parâmetros!$C$3,0,VLOOKUP(A73,'Base de Dados'!$E$3:$G$422,3,FALSE)*S73)),0)","v":222.29652757700507},null,{"$f":"IF(C73=\"\",\"\",IF(C74=\"\",0,IF(E73=\"Construção\",0,IF(E73=\"Seguro\",$C$17*'Base de Dados'!$C$2,IF($C$14=Parâmetros!$B$4,0,Simulador!$C$17*'Base de Dados'!$C$2)))))","v":66.400000000000006},null,{"$f":"IF(C73=\"\",\"\",IF(E73<>\"Retorno\",(I73+K73+M73),IF($G$20=Parâmetros!$D$2,SUM(G73,I73,K73,M73,O73),PMT($O$25,SUM($G$17),($O$10)*-1)+O73+M73+K73)))","v":10410.242273683582},null,1015516.3434308134,null,""]
["2029-09-02","",41,"1900-02-10","Retorno",null,{"$f":"IFERROR(IF(C74=\"\",\"\",IF(E74<>\"Retorno\",0,IF($G$20=Parâmetros!$D$2,Simulador!$O$10/$G$17,IF($G$20=Parâmetros!$D$3,Simulador!Q74-Simulador!O74-Simulador!M74-Simulador!K74-Simulador!I74,\"\")))),\"\")","v":256.97323631103245},null,{"$f":"IFERROR(IF(C74=\"\",\"\",FV($O$25,1,,-S73,0)-S73),\"\")","v":9864.5725097955437},null,0,null,{"$f":"IFERROR(IF(C74=\"\",\"\",IF($C$10=Parâmetros!$C$3,0,VLOOKUP(A74,'Base de Dados'!$E$3:$G$422,3,FALSE)*S74)),0)","v":222.24027613557658},null,{"$f":"IF(C74=\"\",\"\",IF(C75=\"\",0,IF(E74=\"Construção\",0,IF(E74=\"Seguro\",$C$17*'Base de Dados'!$C$2,IF($C$14=Parâmetros!$B$4,0,Simulador!$C$17*'Base de Dados'!$C$2)))))","v":66.400000000000006},null,{"$f":"IF(C74=\"\",\"\",IF(E74<>\"Retorno\",(I74+K74+M74),IF($G$20=Parâmetros!$D$2,SUM(G74,I74,K74,M74,O74),PMT($O$25,SUM($G$17),($O$10)*-1)+O74+M74+K74)))","v":10410.186022242153},null,1015259.3701945024,null,""]
["2029-10-02","",42,"1900-02-11","Retorno",null,{"$f":"IFERROR(IF(C75=\"\",\"\",IF(E75<>\"Retorno\",0,IF($G$20=Parâmetros!$D$2,Simulador!$O$10/$G$17,IF($G$20=Parâmetros!$D$3,Simulador!Q75-Simulador!O75-Simulador!M75-Simulador!K75-Simulador!I75,\"\")))),\"\")","v":259.46943554903009},null,9862.0763105575461,null,0,null,{"$f":"IFERROR(IF(C75=\"\",\"\",IF($C$10=Parâmetros!$C$3,0,VLOOKUP(A75,'Base de Dados'!$E$3:$G$422,3,FALSE)*S75)),0)","v":222.18347827613491},null,{"$f":"IF(C75=\"\",\"\",IF(C76=\"\",0,IF(E75=\"Construção\",0,IF(E75=\"Seguro\",$C$17*'Base de Dados'!$C$2,IF($C$14=Parâmetros!$B$4,0,Simulador!$C$17*'Base de Dados'!$C$2)))))","v":66.400000000000006},null,{"$f":"IF(C75=\"\",\"\",IF(E75<>\"Retorno\",(I75+K75+M75),IF($G$20=Parâmetros!$D$2,SUM(G75,I75,K75,M75,O75),PMT($O$25,SUM($G$17),($O$10)*-1)+O75+M75+K75)))","v":10410.12922438271},null,1014999.9007589534,null,""]
["2029-11-02","",43,"1900-02-12","Retorno",null,{"$f":"IFERROR(IF(C76=\"\",\"\",IF(E76<>\"Retorno\",0,IF($G$20=Parâmetros!$D$2,Simulador!$O$10/$G$17,IF($G$20=Parâmetros!$D$3,Simulador!Q76-Simulador!O76-Simulador!M76-Simulador!K76-Simulador!I76,\"\")))),\"\")","v":261.98988248970454},null,9859.5558636168716,null,0,null,{"$f":"IFERROR(IF(C76=\"\",\"\",IF($C$10=Parâmetros!$C$3,0,VLOOKUP(A76,'Base de Dados'!$E$3:$G$422,3,FALSE)*S76)),0)","v":222.12612869085791},null,{"$f":"IF(C76=\"\",\"\",IF(C77=\"\",0,IF(E76=\"Construção\",0,IF(E76=\"Seguro\",$C$17*'Base de Dados'!$C$2,IF($C$14=Parâmetros!$B$4,0,Simulador!$C$17*'Base de Dados'!$C$2)))))","v":66.400000000000006},null,{"$f":"IF(C76=\"\",\"\",IF(E76<>\"Retorno\",(I76+K76+M76),IF($G$20=Parâmetros!$D$2,SUM(G76,I76,K76,M76,O76),PMT($O$25,SUM($G$17),($O$10)*-1)+O76+M76+K76)))","v":10410.071874797433},null,1014737.9108764637,null,""]
["2029-12-02","",44,"1900-02-13","Retorno",null,{"$f":"IFERROR(IF(C77=\"\",\"\",IF(E77<>\"Retorno\",0,IF($G$20=Parâmetros!$D$2,Simulador!$O$10/$G$17,IF($G$20=Parâmetros!$D$3,Simulador!Q77-Simulador!O77-Simulador!M77-Simulador!K77-Simulador!I77,\"\")))),\"\")","v":264.53481267163625},null,9857.0109334349399,null,0,null,{"$f":"IFERROR(IF(C77=\"\",\"\",IF($C$10=Parâmetros!$C$3,0,VLOOKUP(A77,'Base de Dados'!$E$3:$G$422,3,FALSE)*S77)),0)","v":222.06822202036412},null,{"$f":"IF(C77=\"\",\"\",IF(C78=\"\",0,IF(E77=\"Construção\",0,IF(E77=\"Seguro\",$C$17*'Base de Dados'!$C$2,IF($C$14=Parâmetros!$B$4,0,Simulador!$C$17*'Base de Dados'!$C$2)))))","v":66.400000000000006},null,{"$f":"IF(C77=\"\",\"\",IF(E77<>\"Retorno\",(I77+K77+M77),IF($G$20=Parâmetros!$D$2,SUM(G77,I77,K77,M77,O77),PMT($O$25,SUM($G$17),($O$10)*-1)+O77+M77+K77)))","v":10410.013968126939},null,1014473.3760637922,null,""]
["2030-01-02","",45,"1900-02-14","Retorno",null,{"$f":"IFERROR(IF(C78=\"\",\"\",IF(E78<>\"Retorno\",0,IF($G$20=Parâmetros!$D$2,Simulador!$O$10/$G$17,IF($G$20=Parâmetros!$D$3,Simulador!Q78-Simulador!O78-Simulador!M78-Simulador!K78-Simulador!I78,\"\")))),\"\")","v":267.10446392131598},null,9854.4412821852602,null,0,null,{"$f":"IFERROR(IF(C78=\"\",\"\",IF($C$10=Parâmetros!$C$3,0,VLOOKUP(A78,'Base de Dados'!$E$3:$G$422,3,FALSE)*S78)),0)","v":222.00975285321175},null,{"$f":"IF(C78=\"\",\"\",IF(C79=\"\",0,IF(E78=\"Construção\",0,IF(E78=\"Seguro\",$C$17*'Base de Dados'!$C$2,IF($C$14=Parâmetros!$B$4,0,Simulador!$C$17*'Base de Dados'!$C$2)))))","v":66.400000000000006},null,{"$f":"IF(C78=\"\",\"\",IF(E78<>\"Retorno\",(I78+K78+M78),IF($G$20=Parâmetros!$D$2,SUM(G78,I78,K78,M78,O78),PMT($O$25,SUM($G$17),($O$10)*-1)+O78+M78+K78)))","v":10409.955498959787},null,1014206.2715998709,null,""]
["2030-02-02","",46,"1900-02-15","Retorno",null,{"$f":"IFERROR(IF(C79=\"\",\"\",IF(E79<>\"Retorno\",0,IF($G$20=Parâmetros!$D$2,Simulador!$O$10/$G$17,IF($G$20=Parâmetros!$D$3,Simulador!Q79-Simulador!O79-Simulador!M79-Simulador!K79-Simulador!I79,\"\")))),\"\")","v":269.69907637549659},null,9851.8466697310796,null,0,null,{"$f":"IFERROR(IF(C79=\"\",\"\",IF($C$10=Parâmetros!$C$3,0,VLOOKUP(A79,'Base de Dados'!$E$3:$G$422,3,FALSE)*S79)),0)","v":221.95071572539317},null,{"$f":"IF(C79=\"\",\"\",IF(C80=\"\",0,IF(E79=\"Construção\",0,IF(E79=\"Seguro\",$C$17*'Base de Dados'!$C$2,IF($C$14=Parâmetros!$B$4,0,Simulador!$C$17*'Base de Dados'!$C$2)))))","v":66.400000000000006},null,{"$f":"IF(C79=\"\",\"\",IF(E79<>\"Retorno\",(I79+K79+M79),IF($G$20=Parâmetros!$D$2,SUM(G79,I79,K79,M79,O79),PMT($O$25,SUM($G$17),($O$10)*-1)+O79+M79+K79)))","v":10409.89646183197},null,1013936.5725234954,null,""]
["2030-03-02","",47,"1900-02-16","Retorno",null,{"$f":"IFERROR(IF(C80=\"\",\"\",IF(E80<>\"Retorno\",0,IF($G$20=Parâmetros!$D$2,Simulador!$O$10/$G$17,IF($G$20=Parâmetros!$D$3,Simulador!Q80-Simulador!O80-Simulador!M80-Simulador!K80-Simulador!I80,\"\")))),\"\")","v":272.31889250342829},null,9849.2268536031479,null,0,null,{"$f":"IFERROR(IF(C80=\"\",\"\",IF($C$10=Parâmetros!$C$3,0,VLOOKUP(A80,'Base de Dados'!$E$3:$G$422,3,FALSE)*S80)),0)","v":221.89110511982418},null,{"$f":"IF(C80=\"\",\"\",IF(C81=\"\",0,IF(E80=\"Construção\",0,IF(E80=\"Seguro\",$C$17*'Base de Dados'!$C$2,IF($C$14=Parâmetros!$B$4,0,Simulador!$C$17*'Base de Dados'!$C$2)))))","v":66.400000000000006},null,{"$f":"IF(C80=\"\",\"\",IF(E80<>\"Retorno\",(I80+K80+M80),IF($G$20=Parâmetros!$D$2,SUM(G80,I80,K80,M80,O80),PMT($O$25,$G$17,($O$10)*-1)+O80+M80+K80)))","v":10409.836851226401},null,1013664.253630992,null,""]
["2030-04-02","",48,"1900-02-17","Retorno",null,{"$f":"IFERROR(IF(C81=\"\",\"\",IF(E81<>\"Retorno\",0,IF($G$20=Parâmetros!$D$2,Simulador!$O$10/$G$17,IF($G$20=Parâmetros!$D$3,Simulador!Q81-Simulador!O81-Simulador!M81-Simulador!K81-Simulador!I81,\"\")))),\"\")","v":274.96415712990893},null,9846.5815889766673,null,0,null,{"$f":"IFERROR(IF(C81=\"\",\"\",IF($C$10=Parâmetros!$C$3,0,VLOOKUP(A81,'Base de Dados'!$E$3:$G$422,3,FALSE)*S81)),0)","v":221.83091546582844},null,{"$f":"IF(C81=\"\",\"\",IF(C82=\"\",0,IF(E81=\"Construção\",0,IF(E81=\"Seguro\",$C$17*'Base de Dados'!$C$2,IF($C$14=Parâmetros!$B$4,0,Simulador!$C$17*'Base de Dados'!$C$2)))))","v":66.400000000000006},null,{"$f":"IF(C81=\"\",\"\",IF(E81<>\"Retorno\",(I81+K81+M81),IF($G$20=Parâmetros!$D$2,SUM(G81,I81,K81,M81,O81),PMT($O$25,SUM($G$17),($O$10)*-1)+O81+M81+K81)))","v":10409.776661572405},null,1013389.2894738622,null,""]
["2030-05-02","",49,"1900-02-18","Retorno",null,{"$f":"IFERROR(IF(C82=\"\",\"\",IF(E82<>\"Retorno\",0,IF($G$20=Parâmetros!$D$2,Simulador!$O$10/$G$17,IF($G$20=Parâmetros!$D$3,Simulador!Q82-Simulador!O82-Simulador!M82-Simulador!K82-Simulador!I82,\"\")))),\"\")","v":277.63511745775213},null,9843.9106286488241,null,0,null,{"$f":"IFERROR(IF(C82=\"\",\"\",IF($C$10=Parâmetros!$C$3,0,VLOOKUP(A82,'Base de Dados'!$E$3:$G$422,3,FALSE)*S82)),0)","v":221.77014113861694},null,{"$f":"IF(C82=\"\",\"\",IF(C83=\"\",0,IF(E82=\"Construção\",0,IF(E82=\"Seguro\",$C$17*'Base de Dados'!$C$2,IF($C$14=Parâmetros!$B$4,0,Simulador!$C$17*'Base de Dados'!$C$2)))))","v":66.400000000000006},null,{"$f":"IF(C82=\"\",\"\",IF(E82<>\"Retorno\",(I82+K82+M82),IF($G$20=Parâmetros!$D$2,SUM(G82,I82,K82,M82,O82),PMT($O$25,SUM($G$17),($O$10)*-1)+O82+M82+K82)))","v":10409.715887245193},null,1013111.6543564044,null,""]
["2030-06-02","",50,"1900-02-19","Retorno",null,{"$f":"IFERROR(IF(C83=\"\",\"\",IF(E83<>\"Retorno\",0,IF($G$20=Parâmetros!$D$2,Simulador!$O$10/$G$17,IF($G$20=Parâmetros!$D$3,Simulador!Q83-Simulador!O83-Simulador!M83-Simulador!K83-Simulador!I83,\"\")))),\"\")","v":280.33202309118678},null,9841.2137230153894,null,0,null,{"$f":"IFERROR(IF(C83=\"\",\"\",IF($C$10=Parâmetros!$C$3,0,VLOOKUP(A83,'Base de Dados'!$E$3:$G$422,3,FALSE)*S83)),0)","v":221.70877645876229},null,{"$f":"IF(C83=\"\",\"\",IF(C84=\"\",0,IF(E83=\"Construção\",0,IF(E83=\"Seguro\",$C$17*'Base de Dados'!$C$2,IF($C$14=Parâmetros!$B$4,0,Simulador!$C$17*'Base de Dados'!$C$2)))))","v":66.400000000000006},null,{"$f":"IF(C83=\"\",\"\",IF(E83<>\"Retorno\",(I83+K83+M83),IF($G$20=Parâmetros!$D$2,SUM(G83,I83,K83,M83,O83),PMT($O$25,SUM($G$17),($O$10)*-1)+O83+M83+K83)))","v":10409.654522565339},null,1012831.3223333133,null,""]
["2030-07-02","",51,"1900-02-20","Retorno",null,{"$f":"IFERROR(IF(C84=\"\",\"\",IF(E84<>\"Retorno\",0,IF($G$20=Parâmetros!$D$2,Simulador!$O$10/$G$17,IF($G$20=Parâmetros!$D$3,Simulador!Q84-Simulador!O84-Simulador!M84-Simulador!K84-Simulador!I84,\"\")))),\"\")","v":283.05512605890726},null,9838.4906200476689,null,0,null,{"$f":"IFERROR(IF(C84=\"\",\"\",IF($C$10=Parâmetros!$C$3,0,VLOOKUP(A84,'Base de Dados'!$E$3:$G$422,3,FALSE)*S84)),0)","v":221.646815691668},null,{"$f":"IF(C84=\"\",\"\",IF(C85=\"\",0,IF(E84=\"Construção\",0,IF(E84=\"Seguro\",$C$17*'Base de Dados'!$C$2,IF($C$14=Parâmetros!$B$4,0,Simulador!$C$17*'Base de Dados'!$C$2)))))","v":66.400000000000006},null,{"$f":"IF(C84=\"\",\"\",IF(E84<>\"Retorno\",(I84+K84+M84),IF($G$20=Parâmetros!$D$2,SUM(G84,I84,K84,M84,O84),PMT($O$25,SUM($G$17),($O$10)*-1)+O84+M84+K84)))","v":10409.592561798243},null,1012548.2672072544,null,""]
["2030-08-02","",52,"1900-02-21","Retorno",null,{"$f":"IFERROR(IF(C85=\"\",\"\",IF(E85<>\"Retorno\",0,IF($G$20=Parâmetros!$D$2,Simulador!$O$10/$G$17,IF($G$20=Parâmetros!$D$3,Simulador!Q85-Simulador!O85-Simulador!M85-Simulador!K85-Simulador!I85,\"\")))),\"\")","v":285.80468083805499},null,9835.7410652685212,null,0,null,{"$f":"IFERROR(IF(C85=\"\",\"\",IF($C$10=Parâmetros!$C$3,0,VLOOKUP(A85,'Base de Dados'!$E$3:$G$422,3,FALSE)*S85)),0)","v":221.58425304703255},null,{"$f":"IF(C85=\"\",\"\",IF(C86=\"\",0,IF(E85=\"Construção\",0,IF(E85=\"Seguro\",$C$17*'Base de Dados'!$C$2,IF($C$14=Parâmetros!$B$4,0,Simulador!$C$17*'Base de Dados'!$C$2)))))","v":66.400000000000006},null,{"$f":"IF(C85=\"\",\"\",IF(E85<>\"Retorno\",(I85+K85+M85),IF($G$20=Parâmetros!$D$2,SUM(G85,I85,K85,M85,O85),PMT($O$25,SUM($G$17),($O$10)*-1)+O85+M85+K85)))","v":10409.529999153609},null,1012262.4625264164,null,""]
["2030-09-02","",53,"1900-02-22","Retorno",null,{"$f":"IFERROR(IF(C86=\"\",\"\",IF(E86<>\"Retorno\",0,IF($G$20=Parâmetros!$D$2,Simulador!$O$10/$G$17,IF($G$20=Parâmetros!$D$3,Simulador!Q86-Simulador!O86-Simulador!M86-Simulador!K86-Simulador!I86,\"\")))),\"\")","v":288.58094437726868},null,9832.9648017293075,null,0,null,{"$f":"IFERROR(IF(C86=\"\",\"\",IF($C$10=Parâmetros!$C$3,0,VLOOKUP(A86,'Base de Dados'!$E$3:$G$422,3,FALSE)*S86)),0)","v":221.52108267830837},null,{"$f":"IF(C86=\"\",\"\",IF(C87=\"\",0,IF(E86=\"Construção\",0,IF(E86=\"Seguro\",$C$17*'Base de Dados'!$C$2,IF($C$14=Parâmetros!$B$4,0,Simulador!$C$17*'Base de Dados'!$C$2)))))","v":66.400000000000006},null,{"$f":"IF(C86=\"\",\"\",IF(E86<>\"Retorno\",(I86+K86+M86),IF($G$20=Parâmetros!$D$2,SUM(G86,I86,K86,M86,O86),PMT($O$25,SUM($G$17),($O$10)*-1)+O86+M86+K86)))","v":10409.466828784884},null,1011973.8815820392,null,""]
["2030-10-02","",54,"1900-02-23","Retorno",null,{"$f":"IFERROR(IF(C87=\"\",\"\",IF(E87<>\"Retorno\",0,IF($G$20=Parâmetros!$D$2,Simulador!$O$10/$G$17,IF($G$20=Parâmetros!$D$3,Simulador!Q87-Simulador!O87-Simulador!M87-Simulador!K87-Simulador!I87,\"\")))),\"\")","v":291.38417612148078},null,9830.1615699850954,null,0,null,{"$f":"IFERROR(IF(C87=\"\",\"\",IF($C$10=Parâmetros!$C$3,0,VLOOKUP(A87,'Base de Dados'!$E$3:$G$422,3,FALSE)*S87)),0)","v":221.4572986821554},null,{"$f":"IF(C87=\"\",\"\",IF(C88=\"\",0,IF(E87=\"Construção\",0,IF(E87=\"Seguro\",$C$17*'Base de Dados'!$C$2,IF($C$14=Parâmetros!$B$4,0,Simulador!$C$17*'Base de Dados'!$C$2)))))","v":66.400000000000006},null,{"$f":"IF(C87=\"\",\"\",IF(E87<>\"Retorno\",(I87+K87+M87),IF($G$20=Parâmetros!$D$2,SUM(G87,I87,K87,M87,O87),PMT($O$25,SUM($G$17),($O$10)*-1)+O87+M87+K87)))","v":10409.403044788731},null,1011682.4974059177,null,""]
["2030-11-02","",55,"1900-02-24","Retorno",null,{"$f":"IFERROR(IF(C88=\"\",\"\",IF(E88<>\"Retorno\",0,IF($G$20=Parâmetros!$D$2,Simulador!$O$10/$G$17,IF($G$20=Parâmetros!$D$3,Simulador!Q88-Simulador!O88-Simulador!M88-Simulador!K88-Simulador!I88,\"\")))),\"\")","v":294.21463803589904},null,9827.3311080706771,null,0,null,{"$f":"IFERROR(IF(C88=\"\",\"\",IF($C$10=Parâmetros!$C$3,0,VLOOKUP(A88,'Base de Dados'!$E$3:$G$422,3,FALSE)*S88)),0)","v":221.39289509788935},null,{"$f":"IF(C88=\"\",\"\",IF(C89=\"\",0,IF(E88=\"Construção\",0,IF(E88=\"Seguro\",$C$17*'Base de Dados'!$C$2,IF($C$14=Parâmetros!$B$4,0,Simulador!$C$17*'Base de Dados'!$C$2)))))","v":66.400000000000006},null,{"$f":"IF(C88=\"\",\"\",IF(E88<>\"Retorno\",(I88+K88+M88),IF($G$20=Parâmetros!$D$2,SUM(G88,I88,K88,M88,O88),PMT($O$25,SUM($G$17),($O$10)*-1)+O88+M88+K88)))","v":10409.338641204466},null,1011388.2827678819,null,""]
["2030-12-02","",56,"1900-02-25","Retorno",null,{"$f":"IFERROR(IF(C89=\"\",\"\",IF(E89<>\"Retorno\",0,IF($G$20=Parâmetros!$D$2,Simulador!$O$10/$G$17,IF($G$20=Parâmetros!$D$3,Simulador!Q89-Simulador!O89-Simulador!M89-Simulador!K89-Simulador!I89,\"\")))),\"\")","v":297.07259463022092},null,9824.4731514763553,null,0,null,{"$f":"IFERROR(IF(C89=\"\",\"\",IF($C$10=Parâmetros!$C$3,0,VLOOKUP(A89,'Base de Dados'!$E$3:$G$422,3,FALSE)*S89)),0)","v":221.32786590692481},null,{"$f":"IF(C89=\"\",\"\",IF(C90=\"\",0,IF(E89=\"Construção\",0,IF(E89=\"Seguro\",$C$17*'Base de Dados'!$C$2,IF($C$14=Parâmetros!$B$4,0,Simulador!$C$17*'Base de Dados'!$C$2)))))","v":66.400000000000006},null,{"$f":"IF(C89=\"\",\"\",IF(E89<>\"Retorno\",(I89+K89+M89),IF($G$20=Parâmetros!$D$2,SUM(G89,I89,K89,M89,O89),PMT($O$25,SUM($G$17),($O$10)*-1)+O89+M89+K89)))","v":10409.273612013501},null,1011091.2101732517,null,""]
["2031-01-02","",57,"1900-02-26","Retorno",null,{"$f":"IFERROR(IF(C90=\"\",\"\",IF(E90<>\"Retorno\",0,IF($G$20=Parâmetros!$D$2,Simulador!$O$10/$G$17,IF($G$20=Parâmetros!$D$3,Simulador!Q90-Simulador!O90-Simulador!M90-Simulador!K90-Simulador!I90,\"\")))),\"\")","v":299.95831298366284},null,9821.5874331229134,null,0,null,{"$f":"IFERROR(IF(C90=\"\",\"\",IF($C$10=Parâmetros!$C$3,0,VLOOKUP(A90,'Base de Dados'!$E$3:$G$422,3,FALSE)*S90)),0)","v":221.26220503221268},null,{"$f":"IF(C90=\"\",\"\",IF(C91=\"\",0,IF(E90=\"Construção\",0,IF(E90=\"Seguro\",$C$17*'Base de Dados'!$C$2,IF($C$14=Parâmetros!$B$4,0,Simulador!$C$17*'Base de Dados'!$C$2)))))","v":66.400000000000006},null,{"$f":"IF(C90=\"\",\"\",IF(E90<>\"Retorno\",(I90+K90+M90),IF($G$20=Parâmetros!$D$2,SUM(G90,I90,K90,M90,O90),PMT($O$25,SUM($G$17),($O$10)*-1)+O90+M90+K90)))","v":10409.207951138789},null,1010791.2518602681,null,""]
["2031-02-02","",58,"1900-02-27","Retorno",null,{"$f":"IFERROR(IF(C91=\"\",\"\",IF(E91<>\"Retorno\",0,IF($G$20=Parâmetros!$D$2,Simulador!$O$10/$G$17,IF($G$20=Parâmetros!$D$3,Simulador!Q91-Simulador!O91-Simulador!M91-Simulador!K91-Simulador!I91,\"\")))),\"\")","v":302.87206276964025},null,9818.6736833369359,null,0,null,{"$f":"IFERROR(IF(C91=\"\",\"\",IF($C$10=Parâmetros!$C$3,0,VLOOKUP(A91,'Base de Dados'!$E$3:$G$422,3,FALSE)*S91)),0)","v":221.19590633767243},null,{"$f":"IF(C91=\"\",\"\",IF(C92=\"\",0,IF(E91=\"Construção\",0,IF(E91=\"Seguro\",$C$17*'Base de Dados'!$C$2,IF($C$14=Parâmetros!$B$4,0,Simulador!$C$17*'Base de Dados'!$C$2)))))","v":66.400000000000006},null,{"$f":"IF(C91=\"\",\"\",IF(E91<>\"Retorno\",(I91+K91+M91),IF($G$20=Parâmetros!$D$2,SUM(G91,I91,K91,M91,O91),PMT($O$25,SUM($G$17),($O$10)*-1)+O91+M91+K91)))","v":10409.141652444248},null,1010488.3797974985,null,""]
["2031-03-02","",59,"1900-02-28","Retorno",null,{"$f":"IFERROR(IF(C92=\"\",\"\",IF(E92<>\"Retorno\",0,IF($G$20=Parâmetros!$D$2,Simulador!$O$10/$G$17,IF($G$20=Parâmetros!$D$3,Simulador!Q92-Simulador!O92-Simulador!M92-Simulador!K92-Simulador!I92,\"\")))),\"\")","v":305.81411628137903},null,9815.7316298251972,null,0,null,{"$f":"IFERROR(IF(C92=\"\",\"\",IF($C$10=Parâmetros!$C$3,0,VLOOKUP(A92,'Base de Dados'!$E$3:$G$422,3,FALSE)*S92)),0)","v":221.12896362761845},null,{"$f":"IF(C92=\"\",\"\",IF(C93=\"\",0,IF(E92=\"Construção\",0,IF(E92=\"Seguro\",$C$17*'Base de Dados'!$C$2,IF($C$14=Parâmetros!$B$4,0,Simulador!$C$17*'Base de Dados'!$C$2)))))","v":66.400000000000006},null,{"$f":"IF(C92=\"\",\"\",IF(E92<>\"Retorno\",(I92+K92+M92),IF($G$20=Parâmetros!$D$2,SUM(G92,I92,K92,M92,O92),PMT($O$25,SUM($G$17),($O$10)*-1)+O92+M92+K92)))","v":10409.074709734194},null,1010182.5656812171,null,""]
["2031-04-02","",60,60,"Retorno",null,{"$f":"IFERROR(IF(C93=\"\",\"\",IF(E93<>\"Retorno\",0,IF($G$20=Parâmetros!$D$2,Simulador!$O$10/$G$17,IF($G$20=Parâmetros!$D$3,Simulador!Q93-Simulador!O93-Simulador!M93-Simulador!K93-Simulador!I93,\"\")))),\"\")","v":308.78474845694473},null,9812.7609976496315,null,0,null,{"$f":"IFERROR(IF(C93=\"\",\"\",IF($C$10=Parâmetros!$C$3,0,VLOOKUP(A93,'Base de Dados'!$E$3:$G$422,3,FALSE)*S93)),0)","v":221.06137064618122},null,{"$f":"IF(C93=\"\",\"\",IF(C94=\"\",0,IF(E93=\"Construção\",0,IF(E93=\"Seguro\",$C$17*'Base de Dados'!$C$2,IF($C$14=Parâmetros!$B$4,0,Simulador!$C$17*'Base de Dados'!$C$2)))))","v":66.400000000000006},null,{"$f":"IF(C93=\"\",\"\",IF(E93<>\"Retorno\",(I93+K93+M93),IF($G$20=Parâmetros!$D$2,SUM(G93,I93,K93,M93,O93),PMT($O$25,SUM($G$17),($O$10)*-1)+O93+M93+K93)))","v":10409.007116752757},null,1009873.7809327602,null,""]
["2031-05-02","",61,"1900-03-01","Retorno",null,{"$f":"IFERROR(IF(C94=\"\",\"\",IF(E94<>\"Retorno\",0,IF($G$20=Parâmetros!$D$2,Simulador!$O$10/$G$17,IF($G$20=Parâmetros!$D$3,Simulador!Q94-Simulador!O94-Simulador!M94-Simulador!K94-Simulador!I94,\"\")))),\"\")","v":311.7842369050868},null,9809.7615092014894,null,0,null,{"$f":"IFERROR(IF(C94=\"\",\"\",IF($C$10=Parâmetros!$C$3,0,VLOOKUP(A94,'Base de Dados'!$E$3:$G$422,3,FALSE)*S94)),0)","v":220.9931210767227},null,{"$f":"IF(C94=\"\",\"\",IF(C95=\"\",0,IF(E94=\"Construção\",0,IF(E94=\"Seguro\",$C$17*'Base de Dados'!$C$2,IF($C$14=Parâmetros!$B$4,0,Simulador!$C$17*'Base de Dados'!$C$2)))))","v":66.400000000000006},null,{"$f":"IF(C94=\"\",\"\",IF(E94<>\"Retorno\",(I94+K94+M94),IF($G$20=Parâmetros!$D$2,SUM(G94,I94,K94,M94,O94),PMT($O$25,SUM($G$17),($O$10)*-1)+O94+M94+K94)))","v":10408.938867183298},null,1009561.9966958552,null,""]
["2031-06-02","",62,"1900-03-02","Retorno",null,{"$f":"IFERROR(IF(C95=\"\",\"\",IF(E95<>\"Retorno\",0,IF($G$20=Parâmetros!$D$2,Simulador!$O$10/$G$17,IF($G$20=Parâmetros!$D$3,Simulador!Q95-Simulador!O95-Simulador!M95-Simulador!K95-Simulador!I95,\"\")))),\"\")","v":314.81286193143205},null,9806.7328841751441,null,0,null,{"$f":"IFERROR(IF(C95=\"\",\"\",IF($C$10=Parâmetros!$C$3,0,VLOOKUP(A95,'Base de Dados'!$E$3:$G$422,3,FALSE)*S95)),0)","v":220.92420854124592},null,{"$f":"IF(C95=\"\",\"\",IF(C96=\"\",0,IF(E95=\"Construção\",0,IF(E95=\"Seguro\",$C$17*'Base de Dados'!$C$2,IF($C$14=Parâmetros!$B$4,0,Simulador!$C$17*'Base de Dados'!$C$2)))))","v":66.400000000000006},null,{"$f":"IF(C95=\"\",\"\",IF(E95<>\"Retorno\",(I95+K95+M95),IF($G$20=Parâmetros!$D$2,SUM(G95,I95,K95,M95,O95),PMT($O$25,SUM($G$17),($O$10)*-1)+O95+M95+K95)))","v":10408.869954647822},null,1009247.1838339238,null,""]
["2031-07-02","",63,"1900-03-03","Retorno",null,{"$f":"IFERROR(IF(C96=\"\",\"\",IF(E96<>\"Retorno\",0,IF($G$20=Parâmetros!$D$2,Simulador!$O$10/$G$17,IF($G$20=Parâmetros!$D$3,Simulador!Q96-Simulador!O96-Simulador!M96-Simulador!K96-Simulador!I96,\"\")))),\"\")","v":317.87090656421242},null,9803.6748395423638,null,0,null,{"$f":"IFERROR(IF(C96=\"\",\"\",IF($C$10=Parâmetros!$C$3,0,VLOOKUP(A96,'Base de Dados'!$E$3:$G$422,3,FALSE)*S96)),0)","v":220.85462659979902},null,{"$f":"IF(C96=\"\",\"\",IF(C97=\"\",0,IF(E96=\"Construção\",0,IF(E96=\"Seguro\",$C$17*'Base de Dados'!$C$2,IF($C$14=Parâmetros!$B$4,0,Simulador!$C$17*'Base de Dados'!$C$2)))))","v":66.400000000000006},null,{"$f":"IF(C96=\"\",\"\",IF(E96<>\"Retorno\",(I96+K96+M96),IF($G$20=Parâmetros!$D$2,SUM(G96,I96,K96,M96,O96),PMT($O$25,SUM($G$17),($O$10)*-1)+O96+M96+K96)))","v":10408.800372706375},null,1008929.3129273596,null,""]
["2031-08-02","",64,"1900-03-04","Retorno",null,{"$f":"IFERROR(IF(C97=\"\",\"\",IF(E97<>\"Retorno\",0,IF($G$20=Parâmetros!$D$2,Simulador!$O$10/$G$17,IF($G$20=Parâmetros!$D$3,Simulador!Q97-Simulador!O97-Simulador!M97-Simulador!K97-Simulador!I97,\"\")))),\"\")","v":320.95865658104049},null,9800.5870895255357,null,0,null,{"$f":"IFERROR(IF(C97=\"\",\"\",IF($C$10=Parâmetros!$C$3,0,VLOOKUP(A97,'Base de Dados'!$E$3:$G$422,3,FALSE)*S97)),0)","v":220.78436874987344},null,{"$f":"IF(C97=\"\",\"\",IF(C98=\"\",0,IF(E97=\"Construção\",0,IF(E97=\"Seguro\",$C$17*'Base de Dados'!$C$2,IF($C$14=Parâmetros!$B$4,0,Simulador!$C$17*'Base de Dados'!$C$2)))))","v":66.400000000000006},null,{"$f":"IF(C97=\"\",\"\",IF(E97<>\"Retorno\",(I97+K97+M97),IF($G$20=Parâmetros!$D$2,SUM(G97,I97,K97,M97,O97),PMT($O$25,SUM($G$17),($O$10)*-1)+O97+M97+K97)))","v":10408.730114856449},null,1008608.3542707786,null,""]
["2031-09-02","",65,"1900-03-05","Retorno",null,{"$f":"IFERROR(IF(C98=\"\",\"\",IF(E98<>\"Retorno\",0,IF($G$20=Parâmetros!$D$2,Simulador!$O$10/$G$17,IF($G$20=Parâmetros!$D$3,Simulador!Q98-Simulador!O98-Simulador!M98-Simulador!K98-Simulador!I98,\"\")))),\"\")","v":324.07640053568502},null,{"$f":"IFERROR(IF(C98=\"\",\"\",FV($O$25,1,,-S97,0)-S97),\"\")","v":9797.4693455708912},null,0,null,{"$f":"IFERROR(IF(C98=\"\",\"\",IF($C$10=Parâmetros!$C$3,0,VLOOKUP(A98,'Base de Dados'!$E$3:$G$422,3,FALSE)*S98)),0)","v":220.7134284257962},null,{"$f":"IF(C98=\"\",\"\",IF(C99=\"\",0,IF(E98=\"Construção\",0,IF(E98=\"Seguro\",$C$17*'Base de Dados'!$C$2,IF($C$14=Parâmetros!$B$4,0,Simulador!$C$17*'Base de Dados'!$C$2)))))","v":66.400000000000006},null,{"$f":"IF(C98=\"\",\"\",IF(E98<>\"Retorno\",(I98+K98+M98),IF($G$20=Parâmetros!$D$2,SUM(G98,I98,K98,M98,O98),PMT($O$25,SUM($G$17),($O$10)*-1)+O98+M98+K98)))","v":10408.659174532371},null,1008284.2778702429,null,""]
[{"$f":"IF(C99=\"\",\"\",IF(C98>$G$17,0,EDATE(A98,1)))","v":"2031-10-02"},{"$f":"IF(AND(E99=\"Retorno\",E98<>\"Retorno\"),\"Primeira\",IF(AND(E99=\"Retorno\",E98=\"\"),\"Primeira\",\"\"))","v":""},{"$f":"IF(OR(C98>=$K$19,C98=\"\"),\"\",C98+1)","v":66},{"$f":"C99","v":"1900-03-06"},{"$f":"IF(C99=\"\",\"\",\"Retorno\")","v":"Retorno"},null,{"$f":"IFERROR(IF(C99=\"\",\"\",IF(E99<>\"Retorno\",0,IF($G$20=Parâmetros!$D$2,Simulador!$O$10/$G$17,IF($G$20=Parâmetros!$D$3,Simulador!Q99-Simulador!O99-Simulador!M99-Simulador!K99-Simulador!I99,\"\")))),\"\")","v":327.22442978449726},null,9794.3213163220789,null,{"$f":"IF(C99=\"\",\"\",IF(AND($O$23<12.01%,$C$17<2250000.01),25,0))","v":0},null,{"$f":"IFERROR(IF(C99=\"\",\"\",IF($C$10=Parâmetros!$C$3,0,VLOOKUP(A99,'Base de Dados'!$E$3:$G$422,3,FALSE)*S99)),0)","v":312.8698693879183},null,{"$f":"IF(C99=\"\",\"\",IF(C100=\"\",0,IF(E99=\"Construção\",0,IF(E99=\"Seguro\",$C$17*'Base de Dados'!$C$2,IF($C$14=Parâmetros!$B$4,0,Simulador!$C$17*'Base de Dados'!$C$2)))))","v":66.400000000000006},null,{"$f":"IF(C99=\"\",\"\",IF(E99<>\"Retorno\",(I99+K99+M99),IF($G$20=Parâmetros!$D$2,SUM(G99,I99,K99,M99,O99),PMT($O$25,SUM($G$17),($O$10)*-1)+O99+M99+K99)))","v":10500.815615494494},null,{"$f":"IF(E99=\"Construção\",S98+(U99*-1),IF(E99=\"Carência\",S98,IF(E99=\"Retorno\",S98-G99,\"\")))","v":1007957.0534404585},null,{"$f":"IF(E99=\"Construção\",(($O$10+$U$33)/$K$10)*-1,\"\")","v":""}]
["2031-11-02","",67,"1900-03-07","Retorno",null,{"$f":"IFERROR(IF(C100=\"\",\"\",IF(E100<>\"Retorno\",0,IF($G$20=Parâmetros!$D$2,Simulador!$O$10/$G$17,IF($G$20=Parâmetros!$D$3,Simulador!Q100-Simulador!O100-Simulador!M100-Simulador!K100-Simulador!I100,\"\")))),\"\")","v":330.40303851435056},null,9791.1427075922256,null,0,null,{"$f":"IFERROR(IF(C100=\"\",\"\",IF($C$10=Parâmetros!$C$3,0,VLOOKUP(A100,'Base de Dados'!$E$3:$G$422,3,FALSE)*S100)),0)","v":312.76731228476348},null,{"$f":"IF(C100=\"\",\"\",IF(C101=\"\",0,IF(E100=\"Construção\",0,IF(E100=\"Seguro\",$C$17*'Base de Dados'!$C$2,IF($C$14=Parâmetros!$B$4,0,Simulador!$C$17*'Base de Dados'!$C$2)))))","v":66.400000000000006},null,{"$f":"IF(C100=\"\",\"\",IF(E100<>\"Retorno\",(I100+K100+M100),IF($G$20=Parâmetros!$D$2,SUM(G100,I100,K100,M100,O100),PMT($O$25,SUM($G$17),($O$10)*-1)+O100+M100+K100)))","v":10500.713058391339},null,1007626.6504019442,null,""]
["2031-12-02","",68,"1900-03-08","Retorno",null,{"$f":"IFERROR(IF(C101=\"\",\"\",IF(E101<>\"Retorno\",0,IF($G$20=Parâmetros!$D$2,Simulador!$O$10/$G$17,IF($G$20=Parâmetros!$D$3,Simulador!Q101-Simulador!O101-Simulador!M101-Simulador!K101-Simulador!I101,\"\")))),\"\")","v":333.61252376976518},null,9787.933222336811,null,0,null,{"$f":"IFERROR(IF(C101=\"\",\"\",IF($C$10=Parâmetros!$C$3,0,VLOOKUP(A101,'Base de Dados'!$E$3:$G$422,3,FALSE)*S101)),0)","v":312.66375895738537},null,{"$f":"IF(C101=\"\",\"\",IF(C102=\"\",0,IF(E101=\"Construção\",0,IF(E101=\"Seguro\",$C$17*'Base de Dados'!$C$2,IF($C$14=Parâmetros!$B$4,0,Simulador!$C$17*'Base de Dados'!$C$2)))))","v":66.400000000000006},null,{"$f":"IF(C101=\"\",\"\",IF(E101<>\"Retorno\",(I101+K101+M101),IF($G$20=Parâmetros!$D$2,SUM(G101,I101,K101,M101,O101),PMT($O$25,SUM($G$17),($O$10)*-1)+O101+M101+K101)))","v":10500.609505063961},null,1007293.0378781745,null,""]
["2032-01-02","",69,"1900-03-09","Retorno",null,{"$f":"IFERROR(IF(C102=\"\",\"\",IF(E102<>\"Retorno\",0,IF($G$20=Parâmetros!$D$2,Simulador!$O$10/$G$17,IF($G$20=Parâmetros!$D$3,Simulador!Q102-Simulador!O102-Simulador!M102-Simulador!K102-Simulador!I102,\"\")))),\"\")","v":336.85318548061514},null,9784.6925606259611,null,0,null,{"$f":"IFERROR(IF(C102=\"\",\"\",IF($C$10=Parâmetros!$C$3,0,VLOOKUP(A102,'Base de Dados'!$E$3:$G$422,3,FALSE)*S102)),0)","v":312.55919972861221},null,{"$f":"IF(C102=\"\",\"\",IF(C103=\"\",0,IF(E102=\"Construção\",0,IF(E102=\"Seguro\",$C$17*'Base de Dados'!$C$2,IF($C$14=Parâmetros!$B$4,0,Simulador!$C$17*'Base de Dados'!$C$2)))))","v":66.400000000000006},null,{"$f":"IF(C102=\"\",\"\",IF(E102<>\"Retorno\",(I102+K102+M102),IF($G$20=Parâmetros!$D$2,SUM(G102,I102,K102,M102,O102),PMT($O$25,SUM($G$17),($O$10)*-1)+O102+M102+K102)))","v":10500.504945835188},null,1006956.1846926939,null,""]
["2032-02-02","",70,"1900-03-10","Retorno",null,{"$f":"IFERROR(IF(C103=\"\",\"\",IF(E103<>\"Retorno\",0,IF($G$20=Parâmetros!$D$2,Simulador!$O$10/$G$17,IF($G$20=Parâmetros!$D$3,Simulador!Q103-Simulador!O103-Simulador!M103-Simulador!K103-Simulador!I103,\"\")))),\"\")","v":340.12532649030072},null,9781.4204196162755,null,0,null,{"$f":"IFERROR(IF(C103=\"\",\"\",IF($C$10=Parâmetros!$C$3,0,VLOOKUP(A103,'Base de Dados'!$E$3:$G$422,3,FALSE)*S103)),0)","v":312.45362482726961},null,{"$f":"IF(C103=\"\",\"\",IF(C104=\"\",0,IF(E103=\"Construção\",0,IF(E103=\"Seguro\",$C$17*'Base de Dados'!$C$2,IF($C$14=Parâmetros!$B$4,0,Simulador!$C$17*'Base de Dados'!$C$2)))))","v":66.400000000000006},null,{"$f":"IF(C103=\"\",\"\",IF(E103<>\"Retorno\",(I103+K103+M103),IF($G$20=Parâmetros!$D$2,SUM(G103,I103,K103,M103,O103),PMT($O$25,SUM($G$17),($O$10)*-1)+O103+M103+K103)))","v":10500.399370933845},null,1006616.0593662036,null,""]
["2032-03-02","",71,"1900-03-11","Retorno",null,{"$f":"IFERROR(IF(C104=\"\",\"\",IF(E104<>\"Retorno\",0,IF($G$20=Parâmetros!$D$2,Simulador!$O$10/$G$17,IF($G$20=Parâmetros!$D$3,Simulador!Q104-Simulador!O104-Simulador!M104-Simulador!K104-Simulador!I104,\"\")))),\"\")","v":343.42925258392097},null,9778.1164935226552,null,0,null,{"$f":"IFERROR(IF(C104=\"\",\"\",IF($C$10=Parâmetros!$C$3,0,VLOOKUP(A104,'Base de Dados'!$E$3:$G$422,3,FALSE)*S104)),0)","v":312.3470243872676},null,{"$f":"IF(C104=\"\",\"\",IF(C105=\"\",0,IF(E104=\"Construção\",0,IF(E104=\"Seguro\",$C$17*'Base de Dados'!$C$2,IF($C$14=Parâmetros!$B$4,0,Simulador!$C$17*'Base de Dados'!$C$2)))))","v":66.400000000000006},null,{"$f":"IF(C104=\"\",\"\",IF(E104<>\"Retorno\",(I104+K104+M104),IF($G$20=Parâmetros!$D$2,SUM(G104,I104,K104,M104,O104),PMT($O$25,SUM($G$17),($O$10)*-1)+O104+M104+K104)))","v":10500.292770493843},null,1006272.6301136197,null,""]
["2032-04-02","",72,"1900-03-12","Retorno",null,{"$f":"IFERROR(IF(C105=\"\",\"\",IF(E105<>\"Retorno\",0,IF($G$20=Parâmetros!$D$2,Simulador!$O$10/$G$17,IF($G$20=Parâmetros!$D$3,Simulador!Q105-Simulador!O105-Simulador!M105-Simulador!K105-Simulador!I105,\"\")))),\"\")","v":346.76527251702828},null,9774.7804735895479,null,0,null,{"$f":"IFERROR(IF(C105=\"\",\"\",IF($C$10=Parâmetros!$C$3,0,VLOOKUP(A105,'Base de Dados'!$E$3:$G$422,3,FALSE)*S105)),0)","v":312.23938844667828},null,{"$f":"IF(C105=\"\",\"\",IF(C106=\"\",0,IF(E105=\"Construção\",0,IF(E105=\"Seguro\",$C$17*'Base de Dados'!$C$2,IF($C$14=Parâmetros!$B$4,0,Simulador!$C$17*'Base de Dados'!$C$2)))))","v":66.400000000000006},null,{"$f":"IF(C105=\"\",\"\",IF(E105<>\"Retorno\",(I105+K105+M105),IF($G$20=Parâmetros!$D$2,SUM(G105,I105,K105,M105,O105),PMT($O$25,SUM($G$17),($O$10)*-1)+O105+M105+K105)))","v":10500.185134553254},null,1005925.8648411027,null,""]
["2032-05-02","",73,"1900-03-13","Retorno",null,{"$f":"IFERROR(IF(C106=\"\",\"\",IF(E106<>\"Retorno\",0,IF($G$20=Parâmetros!$D$2,Simulador!$O$10/$G$17,IF($G$20=Parâmetros!$D$3,Simulador!Q106-Simulador!O106-Simulador!M106-Simulador!K106-Simulador!I106,\"\")))),\"\")","v":350.13369804438298},null,9771.4120480621932,null,0,null,{"$f":"IFERROR(IF(C106=\"\",\"\",IF($C$10=Parâmetros!$C$3,0,VLOOKUP(A106,'Base de Dados'!$E$3:$G$422,3,FALSE)*S106)),0)","v":312.13070694680533},null,{"$f":"IF(C106=\"\",\"\",IF(C107=\"\",0,IF(E106=\"Construção\",0,IF(E106=\"Seguro\",$C$17*'Base de Dados'!$C$2,IF($C$14=Parâmetros!$B$4,0,Simulador!$C$17*'Base de Dados'!$C$2)))))","v":66.400000000000006},null,{"$f":"IF(C106=\"\",\"\",IF(E106<>\"Retorno\",(I106+K106+M106),IF($G$20=Parâmetros!$D$2,SUM(G106,I106,K106,M106,O106),PMT($O$25,SUM($G$17),($O$10)*-1)+O106+M106+K106)))","v":10500.076453053382},null,1005575.7311430584,null,""]
["2032-06-02","",74,"1900-03-14","Retorno",null,{"$f":"IFERROR(IF(C107=\"\",\"\",IF(E107<>\"Retorno\",0,IF($G$20=Parâmetros!$D$2,Simulador!$O$10/$G$17,IF($G$20=Parâmetros!$D$3,Simulador!Q107-Simulador!O107-Simulador!M107-Simulador!K107-Simulador!I107,\"\")))),\"\")","v":353.53484394894076},null,9768.0109021576354,null,0,null,{"$f":"IFERROR(IF(C107=\"\",\"\",IF($C$10=Parâmetros!$C$3,0,VLOOKUP(A107,'Base de Dados'!$E$3:$G$422,3,FALSE)*S107)),0)","v":312.02096973124361},null,{"$f":"IF(C107=\"\",\"\",IF(C108=\"\",0,IF(E107=\"Construção\",0,IF(E107=\"Seguro\",$C$17*'Base de Dados'!$C$2,IF($C$14=Parâmetros!$B$4,0,Simulador!$C$17*'Base de Dados'!$C$2)))))","v":66.400000000000006},null,{"$f":"IF(C107=\"\",\"\",IF(E107<>\"Retorno\",(I107+K107+M107),IF($G$20=Parâmetros!$D$2,SUM(G107,I107,K107,M107,O107),PMT($O$25,SUM($G$17),($O$10)*-1)+O107+M107+K107)))","v":10499.96671583782},null,1005222.1962991095,null,""]
["2032-07-02","",75,"1900-03-15","Retorno",null,{"$f":"IFERROR(IF(C108=\"\",\"\",IF(E108<>\"Retorno\",0,IF($G$20=Parâmetros!$D$2,Simulador!$O$10/$G$17,IF($G$20=Parâmetros!$D$3,Simulador!Q108-Simulador!O108-Simulador!M108-Simulador!K108-Simulador!I108,\"\")))),\"\")","v":356.96902807153856},null,9764.5767180350376,null,0,null,{"$f":"IFERROR(IF(C108=\"\",\"\",IF($C$10=Parâmetros!$C$3,0,VLOOKUP(A108,'Base de Dados'!$E$3:$G$422,3,FALSE)*S108)),0)","v":311.91016654493018},null,{"$f":"IF(C108=\"\",\"\",IF(C109=\"\",0,IF(E108=\"Construção\",0,IF(E108=\"Seguro\",$C$17*'Base de Dados'!$C$2,IF($C$14=Parâmetros!$B$4,0,Simulador!$C$17*'Base de Dados'!$C$2)))))","v":66.400000000000006},null,{"$f":"IF(C108=\"\",\"\",IF(E108<>\"Retorno\",(I108+K108+M108),IF($G$20=Parâmetros!$D$2,SUM(G108,I108,K108,M108,O108),PMT($O$25,SUM($G$17),($O$10)*-1)+O108+M108+K108)))","v":10499.855912651507},null,1004865.227271038,null,""]
["2032-08-02","",76,"1900-03-16","Retorno",null,{"$f":"IFERROR(IF(C109=\"\",\"\",IF(E109<>\"Retorno\",0,IF($G$20=Parâmetros!$D$2,Simulador!$O$10/$G$17,IF($G$20=Parâmetros!$D$3,Simulador!Q109-Simulador!O109-Simulador!M109-Simulador!K109-Simulador!I109,\"\")))),\"\")","v":360.43657134058049},null,9761.1091747659957,null,0,null,{"$f":"IFERROR(IF(C109=\"\",\"\",IF($C$10=Parâmetros!$C$3,0,VLOOKUP(A109,'Base de Dados'!$E$3:$G$422,3,FALSE)*S109)),0)","v":311.79828703318611},null,{"$f":"IF(C109=\"\",\"\",IF(C110=\"\",0,IF(E109=\"Construção\",0,IF(E109=\"Seguro\",$C$17*'Base de Dados'!$C$2,IF($C$14=Parâmetros!$B$4,0,Simulador!$C$17*'Base de Dados'!$C$2)))))","v":66.400000000000006},null,{"$f":"IF(C109=\"\",\"\",IF(E109<>\"Retorno\",(I109+K109+M109),IF($G$20=Parâmetros!$D$2,SUM(G109,I109,K109,M109,O109),PMT($O$25,SUM($G$17),($O$10)*-1)+O109+M109+K109)))","v":10499.744033139761},null,1004504.7906996974,null,""]
["2032-09-02","",77,"1900-03-17","Retorno",null,{"$f":"IFERROR(IF(C110=\"\",\"\",IF(E110<>\"Retorno\",0,IF($G$20=Parâmetros!$D$2,Simulador!$O$10/$G$17,IF($G$20=Parâmetros!$D$3,Simulador!Q110-Simulador!O110-Simulador!M110-Simulador!K110-Simulador!I110,\"\")))),\"\")","v":363.93779780149089},null,9757.6079483050853,null,0,null,{"$f":"IFERROR(IF(C110=\"\",\"\",IF($C$10=Parâmetros!$C$3,0,VLOOKUP(A110,'Base de Dados'!$E$3:$G$422,3,FALSE)*S110)),0)","v":311.68532074074852},null,{"$f":"IF(C110=\"\",\"\",IF(C111=\"\",0,IF(E110=\"Construção\",0,IF(E110=\"Seguro\",$C$17*'Base de Dados'!$C$2,IF($C$14=Parâmetros!$B$4,0,Simulador!$C$17*'Base de Dados'!$C$2)))))","v":66.400000000000006},null,{"$f":"IF(C110=\"\",\"\",IF(E110<>\"Retorno\",(I110+K110+M110),IF($G$20=Parâmetros!$D$2,SUM(G110,I110,K110,M110,O110),PMT($O$25,SUM($G$17),($O$10)*-1)+O110+M110+K110)))","v":10499.631066847325},null,1004140.852901896,null,""]
["2032-10-02","",78,"1900-03-18","Retorno",null,{"$f":"IFERROR(IF(C111=\"\",\"\",IF(E111<>\"Retorno\",0,IF($G$20=Parâmetros!$D$2,Simulador!$O$10/$G$17,IF($G$20=Parâmetros!$D$3,Simulador!Q111-Simulador!O111-Simulador!M111-Simulador!K111-Simulador!I111,\"\")))),\"\")","v":367.47303464791366},null,9754.0727114586625,null,0,null,{"$f":"IFERROR(IF(C111=\"\",\"\",IF($C$10=Parâmetros!$C$3,0,VLOOKUP(A111,'Base de Dados'!$E$3:$G$422,3,FALSE)*S111)),0)","v":311.57125711079385},null,{"$f":"IF(C111=\"\",\"\",IF(C112=\"\",0,IF(E111=\"Construção\",0,IF(E111=\"Seguro\",$C$17*'Base de Dados'!$C$2,IF($C$14=Parâmetros!$B$4,0,Simulador!$C$17*'Base de Dados'!$C$2)))))","v":66.400000000000006},null,{"$f":"IF(C111=\"\",\"\",IF(E111<>\"Retorno\",(I111+K111+M111),IF($G$20=Parâmetros!$D$2,SUM(G111,I111,K111,M111,O111),PMT($O$25,SUM($G$17),($O$10)*-1)+O111+M111+K111)))","v":10499.51700321737},null,1003773.3798672481,null,""]
["2032-11-02","",79,"1900-03-19","Retorno",null,{"$f":"IFERROR(IF(C112=\"\",\"\",IF(E112<>\"Retorno\",0,IF($G$20=Parâmetros!$D$2,Simulador!$O$10/$G$17,IF($G$20=Parâmetros!$D$3,Simulador!Q112-Simulador!O112-Simulador!M112-Simulador!K112-Simulador!I112,\"\")))),\"\")","v":371.042612251631},null,9750.5031338549452,null,0,null,{"$f":"IFERROR(IF(C112=\"\",\"\",IF($C$10=Parâmetros!$C$3,0,VLOOKUP(A112,'Base de Dados'!$E$3:$G$422,3,FALSE)*S112)),0)","v":311.45608548395091},null,{"$f":"IF(C112=\"\",\"\",IF(C113=\"\",0,IF(E112=\"Construção\",0,IF(E112=\"Seguro\",$C$17*'Base de Dados'!$C$2,IF($C$14=Parâmetros!$B$4,0,Simulador!$C$17*'Base de Dados'!$C$2)))))","v":66.400000000000006},null,{"$f":"IF(C112=\"\",\"\",IF(E112<>\"Retorno\",(I112+K112+M112),IF($G$20=Parâmetros!$D$2,SUM(G112,I112,K112,M112,O112),PMT($O$25,SUM($G$17),($O$10)*-1)+O112+M112+K112)))","v":10499.401831590527},null,1003402.3372549965,null,""]
["2032-12-02","",80,"1900-03-20","Retorno",null,{"$f":"IFERROR(IF(C113=\"\",\"\",IF(E113<>\"Retorno\",0,IF($G$20=Parâmetros!$D$2,Simulador!$O$10/$G$17,IF($G$20=Parâmetros!$D$3,Simulador!Q113-Simulador!O113-Simulador!M113-Simulador!K113-Simulador!I113,\"\")))),\"\")","v":374.64686419341342},null,9746.8988819131628,null,0,null,{"$f":"IFERROR(IF(C113=\"\",\"\",IF($C$10=Parâmetros!$C$3,0,VLOOKUP(A113,'Base de Dados'!$E$3:$G$422,3,FALSE)*S113)),0)","v":311.33979509730528},null,{"$f":"IF(C113=\"\",\"\",IF(C114=\"\",0,IF(E113=\"Construção\",0,IF(E113=\"Seguro\",$C$17*'Base de Dados'!$C$2,IF($C$14=Parâmetros!$B$4,0,Simulador!$C$17*'Base de Dados'!$C$2)))))","v":66.400000000000006},null,{"$f":"IF(C113=\"\",\"\",IF(E113<>\"Retorno\",(I113+K113+M113),IF($G$20=Parâmetros!$D$2,SUM(G113,I113,K113,M113,O113),PMT($O$25,SUM($G$17),($O$10)*-1)+O113+M113+K113)))","v":10499.285541203881},null,1003027.6903908032,null,""]
["2033-01-02","",81,"1900-03-21","Retorno",null,{"$f":"IFERROR(IF(C114=\"\",\"\",IF(E114<>\"Retorno\",0,IF($G$20=Parâmetros!$D$2,Simulador!$O$10/$G$17,IF($G$20=Parâmetros!$D$3,Simulador!Q114-Simulador!O114-Simulador!M114-Simulador!K114-Simulador!I114,\"\")))),\"\")","v":378.28612729480119},null,9743.259618811775,null,0,null,{"$f":"IFERROR(IF(C114=\"\",\"\",IF($C$10=Parâmetros!$C$3,0,VLOOKUP(A114,'Base de Dados'!$E$3:$G$422,3,FALSE)*S114)),0)","v":311.22237508339299},null,{"$f":"IF(C114=\"\",\"\",IF(C115=\"\",0,IF(E114=\"Construção\",0,IF(E114=\"Seguro\",$C$17*'Base de Dados'!$C$2,IF($C$14=Parâmetros!$B$4,0,Simulador!$C$17*'Base de Dados'!$C$2)))))","v":66.400000000000006},null,{"$f":"IF(C114=\"\",\"\",IF(E114<>\"Retorno\",(I114+K114+M114),IF($G$20=Parâmetros!$D$2,SUM(G114,I114,K114,M114,O114),PMT($O$25,SUM($G$17),($O$10)*-1)+O114+M114+K114)))","v":10499.168121189969},null,1002649.4042635084,null,""]
["2033-02-02","",82,"1900-03-22","Retorno",null,{"$f":"IFERROR(IF(C115=\"\",\"\",IF(E115<>\"Retorno\",0,IF($G$20=Parâmetros!$D$2,Simulador!$O$10/$G$17,IF($G$20=Parâmetros!$D$3,Simulador!Q115-Simulador!O115-Simulador!M115-Simulador!K115-Simulador!I115,\"\")))),\"\")","v":381.96074164860511},null,9739.5850044579711,null,0,null,{"$f":"IFERROR(IF(C115=\"\",\"\",IF($C$10=Parâmetros!$C$3,0,VLOOKUP(A115,'Base de Dados'!$E$3:$G$422,3,FALSE)*S115)),0)","v":311.10381446918529},null,{"$f":"IF(C115=\"\",\"\",IF(C116=\"\",0,IF(E115=\"Construção\",0,IF(E115=\"Seguro\",$C$17*'Base de Dados'!$C$2,IF($C$14=Parâmetros!$B$4,0,Simulador!$C$17*'Base de Dados'!$C$2)))))","v":66.400000000000006},null,{"$f":"IF(C115=\"\",\"\",IF(E115<>\"Retorno\",(I115+K115+M115),IF($G$20=Parâmetros!$D$2,SUM(G115,I115,K115,M115,O115),PMT($O$25,SUM($G$17),($O$10)*-1)+O115+M115+K115)))","v":10499.049560575761},null,1002267.4435218598,null,""]
["2033-03-02","",83,"1900-03-23","Retorno",null,{"$f":"IFERROR(IF(C116=\"\",\"\",IF(E116<>\"Retorno\",0,IF($G$20=Parâmetros!$D$2,Simulador!$O$10/$G$17,IF($G$20=Parâmetros!$D$3,Simulador!Q116-Simulador!O116-Simulador!M116-Simulador!K116-Simulador!I116,\"\")))),\"\")","v":385.67105065173564},null,9735.8746954548405,null,0,null,{"$f":"IFERROR(IF(C116=\"\",\"\",IF($C$10=Parâmetros!$C$3,0,VLOOKUP(A116,'Base de Dados'!$E$3:$G$422,3,FALSE)*S116)),0)","v":310.98410217506301},null,{"$f":"IF(C116=\"\",\"\",IF(C117=\"\",0,IF(E116=\"Construção\",0,IF(E116=\"Seguro\",$C$17*'Base de Dados'!$C$2,IF($C$14=Parâmetros!$B$4,0,Simulador!$C$17*'Base de Dados'!$C$2)))))","v":66.400000000000006},null,{"$f":"IF(C116=\"\",\"\",IF(E116<>\"Retorno\",(I116+K116+M116),IF($G$20=Parâmetros!$D$2,SUM(G116,I116,K116,M116,O116),PMT($O$25,SUM($G$17),($O$10)*-1)+O116+M116+K116)))","v":10498.929848281639},null,1001881.7724712081,null,""]
["2033-04-02","",84,"1900-03-24","Retorno",null,{"$f":"IFERROR(IF(C117=\"\",\"\",IF(E117<>\"Retorno\",0,IF($G$20=Parâmetros!$D$2,Simulador!$O$10/$G$17,IF($G$20=Parâmetros!$D$3,Simulador!Q117-Simulador!O117-Simulador!M117-Simulador!K117-Simulador!I117,\"\")))),\"\")","v":389.41740103663506},null,9732.1283450699411,null,0,null,{"$f":"IFERROR(IF(C117=\"\",\"\",IF($C$10=Parâmetros!$C$3,0,VLOOKUP(A117,'Base de Dados'!$E$3:$G$422,3,FALSE)*S117)),0)","v":310.86322701378123},null,{"$f":"IF(C117=\"\",\"\",IF(C118=\"\",0,IF(E117=\"Construção\",0,IF(E117=\"Seguro\",$C$17*'Base de Dados'!$C$2,IF($C$14=Parâmetros!$B$4,0,Simulador!$C$17*'Base de Dados'!$C$2)))))","v":66.400000000000006},null,{"$f":"IF(C117=\"\",\"\",IF(E117<>\"Retorno\",(I117+K117+M117),IF($G$20=Parâmetros!$D$2,SUM(G117,I117,K117,M117,O117),PMT($O$25,SUM($G$17),($O$10)*-1)+O117+M117+K117)))","v":10498.808973120356},null,1001492.3550701715,null,""]
["2033-05-02","",85,"1900-03-25","Retorno",null,{"$f":"IFERROR(IF(C118=\"\",\"\",IF(E118<>\"Retorno\",0,IF($G$20=Parâmetros!$D$2,Simulador!$O$10/$G$17,IF($G$20=Parâmetros!$D$3,Simulador!Q118-Simulador!O118-Simulador!M118-Simulador!K118-Simulador!I118,\"\")))),\"\")","v":393.20014290387371},null,9728.3456032027025,null,0,null,{"$f":"IFERROR(IF(C118=\"\",\"\",IF($C$10=Parâmetros!$C$3,0,VLOOKUP(A118,'Base de Dados'!$E$3:$G$422,3,FALSE)*S118)),0)","v":310.74117768942392},null,{"$f":"IF(C118=\"\",\"\",IF(C119=\"\",0,IF(E118=\"Construção\",0,IF(E118=\"Seguro\",$C$17*'Base de Dados'!$C$2,IF($C$14=Parâmetros!$B$4,0,Simulador!$C$17*'Base de Dados'!$C$2)))))","v":66.400000000000006},null,{"$f":"IF(C118=\"\",\"\",IF(E118<>\"Retorno\",(I118+K118+M118),IF($G$20=Parâmetros!$D$2,SUM(G118,I118,K118,M118,O118),PMT($O$25,SUM($G$17),($O$10)*-1)+O118+M118+K118)))","v":10498.686923796},null,1001099.1549272677,null,""]
["2033-06-02","",86,"1900-03-26","Retorno",null,{"$f":"IFERROR(IF(C119=\"\",\"\",IF(E119<>\"Retorno\",0,IF($G$20=Parâmetros!$D$2,Simulador!$O$10/$G$17,IF($G$20=Parâmetros!$D$3,Simulador!Q119-Simulador!O119-Simulador!M119-Simulador!K119-Simulador!I119,\"\")))),\"\")","v":397.01962975462993},null,9724.5261163519463,null,0,null,{"$f":"IFERROR(IF(C119=\"\",\"\",IF($C$10=Parâmetros!$C$3,0,VLOOKUP(A119,'Base de Dados'!$E$3:$G$422,3,FALSE)*S119)),0)","v":310.61794279634807},null,{"$f":"IF(C119=\"\",\"\",IF(C120=\"\",0,IF(E119=\"Construção\",0,IF(E119=\"Seguro\",$C$17*'Base de Dados'!$C$2,IF($C$14=Parâmetros!$B$4,0,Simulador!$C$17*'Base de Dados'!$C$2)))))","v":66.400000000000006},null,{"$f":"IF(C119=\"\",\"\",IF(E119<>\"Retorno\",(I119+K119+M119),IF($G$20=Parâmetros!$D$2,SUM(G119,I119,K119,M119,O119),PMT($O$25,SUM($G$17),($O$10)*-1)+O119+M119+K119)))","v":10498.563688902925},null,1000702.1352975131,null,""]
["2033-07-02","",87,"1900-03-27","Retorno",null,{"$f":"IFERROR(IF(C120=\"\",\"\",IF(E120<>\"Retorno\",0,IF($G$20=Parâmetros!$D$2,Simulador!$O$10/$G$17,IF($G$20=Parâmetros!$D$3,Simulador!Q120-Simulador!O120-Simulador!M120-Simulador!K120-Simulador!I120,\"\")))),\"\")","v":400.87621852433404},null,9720.6695275822422,null,0,null,{"$f":"IFERROR(IF(C120=\"\",\"\",IF($C$10=Parâmetros!$C$3,0,VLOOKUP(A120,'Base de Dados'!$E$3:$G$422,3,FALSE)*S120)),0)","v":310.49351081811812},null,{"$f":"IF(C120=\"\",\"\",IF(C121=\"\",0,IF(E120=\"Construção\",0,IF(E120=\"Seguro\",$C$17*'Base de Dados'!$C$2,IF($C$14=Parâmetros!$B$4,0,Simulador!$C$17*'Base de Dados'!$C$2)))))","v":66.400000000000006},null,{"$f":"IF(C120=\"\",\"\",IF(E120<>\"Retorno\",(I120+K120+M120),IF($G$20=Parâmetros!$D$2,SUM(G120,I120,K120,M120,O120),PMT($O$25,SUM($G$17),($O$10)*-1)+O120+M120+K120)))","v":10498.439256924694},null,1000301.2590789888,null,""]
["2033-08-02","",88,"1900-03-28","Retorno",null,{"$f":"IFERROR(IF(C121=\"\",\"\",IF(E121<>\"Retorno\",0,IF($G$20=Parâmetros!$D$2,Simulador!$O$10/$G$17,IF($G$20=Parâmetros!$D$3,Simulador!Q121-Simulador!O121-Simulador!M121-Simulador!K121-Simulador!I121,\"\")))),\"\")","v":404.77026961538104},null,9716.7754764911951,null,0,null,{"$f":"IFERROR(IF(C121=\"\",\"\",IF($C$10=Parâmetros!$C$3,0,VLOOKUP(A121,'Base de Dados'!$E$3:$G$422,3,FALSE)*S121)),0)","v":310.36787012642952},null,{"$f":"IF(C121=\"\",\"\",IF(C122=\"\",0,IF(E121=\"Construção\",0,IF(E121=\"Seguro\",$C$17*'Base de Dados'!$C$2,IF($C$14=Parâmetros!$B$4,0,Simulador!$C$17*'Base de Dados'!$C$2)))))","v":66.400000000000006},null,{"$f":"IF(C121=\"\",\"\",IF(E121<>\"Retorno\",(I121+K121+M121),IF($G$20=Parâmetros!$D$2,SUM(G121,I121,K121,M121,O121),PMT($O$25,SUM($G$17),($O$10)*-1)+O121+M121+K121)))","v":10498.313616233005},null,999896.48880937346,null,""]
["2033-09-02","",89,"1900-03-29","Retorno",null,{"$f":"IFERROR(IF(C122=\"\",\"\",IF(E122<>\"Retorno\",0,IF($G$20=Parâmetros!$D$2,Simulador!$O$10/$G$17,IF($G$20=Parâmetros!$D$3,Simulador!Q122-Simulador!O122-Simulador!M122-Simulador!K122-Simulador!I122,\"\")))),\"\")","v":408.70214693112393},null,9712.8435991754523,null,0,null,{"$f":"IFERROR(IF(C122=\"\",\"\",IF($C$10=Parâmetros!$C$3,0,VLOOKUP(A122,'Base de Dados'!$E$3:$G$422,3,FALSE)*S122)),0)","v":310.24100898002212},null,{"$f":"IF(C122=\"\",\"\",IF(C123=\"\",0,IF(E122=\"Construção\",0,IF(E122=\"Seguro\",$C$17*'Base de Dados'!$C$2,IF($C$14=Parâmetros!$B$4,0,Simulador!$C$17*'Base de Dados'!$C$2)))))","v":66.400000000000006},null,{"$f":"IF(C122=\"\",\"\",IF(E122<>\"Retorno\",(I122+K122+M122),IF($G$20=Parâmetros!$D$2,SUM(G122,I122,K122,M122,O122),PMT($O$25,SUM($G$17),($O$10)*-1)+O122+M122+K122)))","v":10498.186755086597},null,999487.78666244238,null,""]
["2033-10-02","",90,"1900-03-30","Retorno",null,{"$f":"IFERROR(IF(C123=\"\",\"\",IF(E123<>\"Retorno\",0,IF($G$20=Parâmetros!$D$2,Simulador!$O$10/$G$17,IF($G$20=Parâmetros!$D$3,Simulador!Q123-Simulador!O123-Simulador!M123-Simulador!K123-Simulador!I123,\"\")))),\"\")","v":412.67221790963413},null,9708.8735281969421,null,0,null,{"$f":"IFERROR(IF(C123=\"\",\"\",IF($C$10=Parâmetros!$C$3,0,VLOOKUP(A123,'Base de Dados'!$E$3:$G$422,3,FALSE)*S123)),0)","v":310.11291552358301},null,{"$f":"IF(C123=\"\",\"\",IF(C124=\"\",0,IF(E123=\"Construção\",0,IF(E123=\"Seguro\",$C$17*'Base de Dados'!$C$2,IF($C$14=Parâmetros!$B$4,0,Simulador!$C$17*'Base de Dados'!$C$2)))))","v":66.400000000000006},null,{"$f":"IF(C123=\"\",\"\",IF(E123<>\"Retorno\",(I123+K123+M123),IF($G$20=Parâmetros!$D$2,SUM(G123,I123,K123,M123,O123),PMT($O$25,SUM($G$17),($O$10)*-1)+O123+M123+K123)))","v":10498.058661630159},null,999075.11444453278,null,""]
["2033-11-02","",91,"1900-03-31","Retorno",null,{"$f":"IFERROR(IF(C124=\"\",\"\",IF(E124<>\"Retorno\",0,IF($G$20=Parâmetros!$D$2,Simulador!$O$10/$G$17,IF($G$20=Parâmetros!$D$3,Simulador!Q124-Simulador!O124-Simulador!M124-Simulador!K124-Simulador!I124,\"\")))),\"\")","v":416.68085355862604},null,9704.8648925479501,null,0,null,{"$f":"IFERROR(IF(C124=\"\",\"\",IF($C$10=Parâmetros!$C$3,0,VLOOKUP(A124,'Base de Dados'!$E$3:$G$422,3,FALSE)*S124)),0)","v":309.98357778663842},null,{"$f":"IF(C124=\"\",\"\",IF(C125=\"\",0,IF(E124=\"Construção\",0,IF(E124=\"Seguro\",$C$17*'Base de Dados'!$C$2,IF($C$14=Parâmetros!$B$4,0,Simulador!$C$17*'Base de Dados'!$C$2)))))","v":66.400000000000006},null,{"$f":"IF(C124=\"\",\"\",IF(E124<>\"Retorno\",(I124+K124+M124),IF($G$20=Parâmetros!$D$2,SUM(G124,I124,K124,M124,O124),PMT($O$25,SUM($G$17),($O$10)*-1)+O124+M124+K124)))","v":10497.929323893215},null,998658.43359097419,null,""]
["2033-12-02","",92,"1900-04-01","Retorno",null,{"$f":"IFERROR(IF(C125=\"\",\"\",IF(E125<>\"Retorno\",0,IF($G$20=Parâmetros!$D$2,Simulador!$O$10/$G$17,IF($G$20=Parâmetros!$D$3,Simulador!Q125-Simulador!O125-Simulador!M125-Simulador!K125-Simulador!I125,\"\")))),\"\")","v":420.72842848921755},null,9700.8173176173586,null,0,null,{"$f":"IFERROR(IF(C125=\"\",\"\",IF($C$10=Parâmetros!$C$3,0,VLOOKUP(A125,'Base de Dados'!$E$3:$G$422,3,FALSE)*S125)),0)","v":309.85298368243537},null,{"$f":"IF(C125=\"\",\"\",IF(C126=\"\",0,IF(E125=\"Construção\",0,IF(E125=\"Seguro\",$C$17*'Base de Dados'!$C$2,IF($C$14=Parâmetros!$B$4,0,Simulador!$C$17*'Base de Dados'!$C$2)))))","v":66.400000000000006},null,{"$f":"IF(C125=\"\",\"\",IF(E125<>\"Retorno\",(I125+K125+M125),IF($G$20=Parâmetros!$D$2,SUM(G125,I125,K125,M125,O125),PMT($O$25,SUM($G$17),($O$10)*-1)+O125+M125+K125)))","v":10497.79872978901},null,998237.70516248501,null,""]
["2034-01-02","",93,"1900-04-02","Retorno",null,{"$f":"IFERROR(IF(C126=\"\",\"\",IF(E126<>\"Retorno\",0,IF($G$20=Parâmetros!$D$2,Simulador!$O$10/$G$17,IF($G$20=Parâmetros!$D$3,Simulador!Q126-Simulador!O126-Simulador!M126-Simulador!K126-Simulador!I126,\"\")))),\"\")","v":424.81532095201874},null,9696.7304251545575,null,0,null,{"$f":"IFERROR(IF(C126=\"\",\"\",IF($C$10=Parâmetros!$C$3,0,VLOOKUP(A126,'Base de Dados'!$E$3:$G$422,3,FALSE)*S126)),0)","v":309.72112100681187},null,{"$f":"IF(C126=\"\",\"\",IF(C127=\"\",0,IF(E126=\"Construção\",0,IF(E126=\"Seguro\",$C$17*'Base de Dados'!$C$2,IF($C$14=Parâmetros!$B$4,0,Simulador!$C$17*'Base de Dados'!$C$2)))))","v":66.400000000000006},null,{"$f":"IF(C126=\"\",\"\",IF(E126<>\"Retorno\",(I126+K126+M126),IF($G$20=Parâmetros!$D$2,SUM(G126,I126,K126,M126,O126),PMT($O$25,SUM($G$17),($O$10)*-1)+O126+M126+K126)))","v":10497.666867113388},null,997812.88984153303,null,""]
["2034-02-02","",94,"1900-04-03","Retorno",null,{"$f":"IFERROR(IF(C127=\"\",\"\",IF(E127<>\"Retorno\",0,IF($G$20=Parâmetros!$D$2,Simulador!$O$10/$G$17,IF($G$20=Parâmetros!$D$3,Simulador!Q127-Simulador!O127-Simulador!M127-Simulador!K127-Simulador!I127,\"\")))),\"\")","v":428.941912871358},null,9692.6038332352182,null,0,null,{"$f":"IFERROR(IF(C127=\"\",\"\",IF($C$10=Parâmetros!$C$3,0,VLOOKUP(A127,'Base de Dados'!$E$3:$G$422,3,FALSE)*S127)),0)","v":309.58797743705662},null,{"$f":"IF(C127=\"\",\"\",IF(C128=\"\",0,IF(E127=\"Construção\",0,IF(E127=\"Seguro\",$C$17*'Base de Dados'!$C$2,IF($C$14=Parâmetros!$B$4,0,Simulador!$C$17*'Base de Dados'!$C$2)))))","v":66.400000000000006},null,{"$f":"IF(C127=\"\",\"\",IF(E127<>\"Retorno\",(I127+K127+M127),IF($G$20=Parâmetros!$D$2,SUM(G127,I127,K127,M127,O127),PMT($O$25,SUM($G$17),($O$10)*-1)+O127+M127+K127)))","v":10497.533723543633},null,997383.94792866171,null,""]
["2034-03-02","",95,"1900-04-04","Retorno",null,{"$f":"IFERROR(IF(C128=\"\",\"\",IF(E128<>\"Retorno\",0,IF($G$20=Parâmetros!$D$2,Simulador!$O$10/$G$17,IF($G$20=Parâmetros!$D$3,Simulador!Q128-Simulador!O128-Simulador!M128-Simulador!K128-Simulador!I128,\"\")))),\"\")","v":433.10858988195287},null,9688.4371562246233,null,0,null,{"$f":"IFERROR(IF(C128=\"\",\"\",IF($C$10=Parâmetros!$C$3,0,VLOOKUP(A128,'Base de Dados'!$E$3:$G$422,3,FALSE)*S128)),0)","v":309.45354053075727},null,{"$f":"IF(C128=\"\",\"\",IF(C129=\"\",0,IF(E128=\"Construção\",0,IF(E128=\"Seguro\",$C$17*'Base de Dados'!$C$2,IF($C$14=Parâmetros!$B$4,0,Simulador!$C$17*'Base de Dados'!$C$2)))))","v":66.400000000000006},null,{"$f":"IF(C128=\"\",\"\",IF(E128<>\"Retorno\",(I128+K128+M128),IF($G$20=Parâmetros!$D$2,SUM(G128,I128,K128,M128,O128),PMT($O$25,SUM($G$17),($O$10)*-1)+O128+M128+K128)))","v":10497.399286637334},null,996950.8393387798,null,""]
["2034-04-02","",96,"1900-04-05","Retorno",null,{"$f":"IFERROR(IF(C129=\"\",\"\",IF(E129<>\"Retorno\",0,IF($G$20=Parâmetros!$D$2,Simulador!$O$10/$G$17,IF($G$20=Parâmetros!$D$3,Simulador!Q129-Simulador!O129-Simulador!M129-Simulador!K129-Simulador!I129,\"\")))),\"\")","v":437.31574136418385},null,9684.2300047423923,null,0,null,{"$f":"IFERROR(IF(C129=\"\",\"\",IF($C$10=Parâmetros!$C$3,0,VLOOKUP(A129,'Base de Dados'!$E$3:$G$422,3,FALSE)*S129)),0)","v":309.31779772463784},null,{"$f":"IF(C129=\"\",\"\",IF(C130=\"\",0,IF(E129=\"Construção\",0,IF(E129=\"Seguro\",$C$17*'Base de Dados'!$C$2,IF($C$14=Parâmetros!$B$4,0,Simulador!$C$17*'Base de Dados'!$C$2)))))","v":66.400000000000006},null,{"$f":"IF(C129=\"\",\"\",IF(E129<>\"Retorno\",(I129+K129+M129),IF($G$20=Parâmetros!$D$2,SUM(G129,I129,K129,M129,O129),PMT($O$25,SUM($G$17),($O$10)*-1)+O129+M129+K129)))","v":10497.263543831214},null,996513.52359741565,null,""]
["2034-05-02","",97,"1900-04-06","Retorno",null,{"$f":"IFERROR(IF(C130=\"\",\"\",IF(E130<>\"Retorno\",0,IF($G$20=Parâmetros!$D$2,Simulador!$O$10/$G$17,IF($G$20=Parâmetros!$D$3,Simulador!Q130-Simulador!O130-Simulador!M130-Simulador!K130-Simulador!I130,\"\")))),\"\")","v":441.5637604809981},null,9679.9819856255781,null,0,null,{"$f":"IFERROR(IF(C130=\"\",\"\",IF($C$10=Parâmetros!$C$3,0,VLOOKUP(A130,'Base de Dados'!$E$3:$G$422,3,FALSE)*S130)),0)","v":309.18073633338452},null,{"$f":"IF(C130=\"\",\"\",IF(C131=\"\",0,IF(E130=\"Construção\",0,IF(E130=\"Seguro\",$C$17*'Base de Dados'!$C$2,IF($C$14=Parâmetros!$B$4,0,Simulador!$C$17*'Base de Dados'!$C$2)))))","v":66.400000000000006},null,{"$f":"IF(C130=\"\",\"\",IF(E130<>\"Retorno\",(I130+K130+M130),IF($G$20=Parâmetros!$D$2,SUM(G130,I130,K130,M130,O130),PMT($O$25,SUM($G$17),($O$10)*-1)+O130+M130+K130)))","v":10497.12648243996},null,996071.95983693469,null,""]
["2034-06-02","",98,"1900-04-07","Retorno",null,{"$f":"IFERROR(IF(C131=\"\",\"\",IF(E131<>\"Retorno\",0,IF($G$20=Parâmetros!$D$2,Simulador!$O$10/$G$17,IF($G$20=Parâmetros!$D$3,Simulador!Q131-Simulador!O131-Simulador!M131-Simulador!K131-Simulador!I131,\"\")))),\"\")","v":445.85304421446381},null,9675.6927018921124,null,0,null,{"$f":"IFERROR(IF(C131=\"\",\"\",IF($C$10=Parâmetros!$C$3,0,VLOOKUP(A131,'Base de Dados'!$E$3:$G$422,3,FALSE)*S131)),0)","v":309.04234354846039},null,{"$f":"IF(C131=\"\",\"\",IF(C132=\"\",0,IF(E131=\"Construção\",0,IF(E131=\"Seguro\",$C$17*'Base de Dados'!$C$2,IF($C$14=Parâmetros!$B$4,0,Simulador!$C$17*'Base de Dados'!$C$2)))))","v":66.400000000000006},null,{"$f":"IF(C131=\"\",\"\",IF(E131<>\"Retorno\",(I131+K131+M131),IF($G$20=Parâmetros!$D$2,SUM(G131,I131,K131,M131,O131),PMT($O$25,SUM($G$17),($O$10)*-1)+O131+M131+K131)))","v":10496.988089655037},null,995626.10679272027,null,""]
["2034-07-02","",99,"1900-04-08","Retorno",null,{"$f":"IFERROR(IF(C132=\"\",\"\",IF(E132<>\"Retorno\",0,IF($G$20=Parâmetros!$D$2,Simulador!$O$10/$G$17,IF($G$20=Parâmetros!$D$3,Simulador!Q132-Simulador!O132-Simulador!M132-Simulador!K132-Simulador!I132,\"\")))),\"\")","v":450.18399340290671},null,9671.3617527036695,null,0,null,{"$f":"IFERROR(IF(C132=\"\",\"\",IF($C$10=Parâmetros!$C$3,0,VLOOKUP(A132,'Base de Dados'!$E$3:$G$422,3,FALSE)*S132)),0)","v":308.90260643690812},null,{"$f":"IF(C132=\"\",\"\",IF(C133=\"\",0,IF(E132=\"Construção\",0,IF(E132=\"Seguro\",$C$17*'Base de Dados'!$C$2,IF($C$14=Parâmetros!$B$4,0,Simulador!$C$17*'Base de Dados'!$C$2)))))","v":66.400000000000006},null,{"$f":"IF(C132=\"\",\"\",IF(E132<>\"Retorno\",(I132+K132+M132),IF($G$20=Parâmetros!$D$2,SUM(G132,I132,K132,M132,O132),PMT($O$25,SUM($G$17),($O$10)*-1)+O132+M132+K132)))","v":10496.848352543484},null,995175.9227993174,null,""]
["2034-08-02","",100,"1900-04-09","Retorno",null,{"$f":"IFERROR(IF(C133=\"\",\"\",IF(E133<>\"Retorno\",0,IF($G$20=Parâmetros!$D$2,Simulador!$O$10/$G$17,IF($G$20=Parâmetros!$D$3,Simulador!Q133-Simulador!O133-Simulador!M133-Simulador!K133-Simulador!I133,\"\")))),\"\")","v":454.55701277804656},null,9666.9887333285296,null,0,null,{"$f":"IFERROR(IF(C133=\"\",\"\",IF($C$10=Parâmetros!$C$3,0,VLOOKUP(A133,'Base de Dados'!$E$3:$G$422,3,FALSE)*S133)),0)","v":308.76151194014182},null,{"$f":"IF(C133=\"\",\"\",IF(C134=\"\",0,IF(E133=\"Construção\",0,IF(E133=\"Seguro\",$C$17*'Base de Dados'!$C$2,IF($C$14=Parâmetros!$B$4,0,Simulador!$C$17*'Base de Dados'!$C$2)))))","v":66.400000000000006},null,{"$f":"IF(C133=\"\",\"\",IF(E133<>\"Retorno\",(I133+K133+M133),IF($G$20=Parâmetros!$D$2,SUM(G133,I133,K133,M133,O133),PMT($O$25,SUM($G$17),($O$10)*-1)+O133+M133+K133)))","v":10496.707258046717},null,994721.36578653939,null,""]
["2034-09-02","",101,"1900-04-10","Retorno",null,{"$f":"IFERROR(IF(C134=\"\",\"\",IF(E134<>\"Retorno\",0,IF($G$20=Parâmetros!$D$2,Simulador!$O$10/$G$17,IF($G$20=Parâmetros!$D$3,Simulador!Q134-Simulador!O134-Simulador!M134-Simulador!K134-Simulador!I134,\"\")))),\"\")","v":458.97251100364701},null,9662.5732351029292,null,0,null,{"$f":"IFERROR(IF(C134=\"\",\"\",IF($C$10=Parâmetros!$C$3,0,VLOOKUP(A134,'Base de Dados'!$E$3:$G$422,3,FALSE)*S134)),0)","v":308.6190468727263},null,{"$f":"IF(C134=\"\",\"\",IF(C135=\"\",0,IF(E134=\"Construção\",0,IF(E134=\"Seguro\",$C$17*'Base de Dados'!$C$2,IF($C$14=Parâmetros!$B$4,0,Simulador!$C$17*'Base de Dados'!$C$2)))))","v":66.400000000000006},null,{"$f":"IF(C134=\"\",\"\",IF(E134<>\"Retorno\",(I134+K134+M134),IF($G$20=Parâmetros!$D$2,SUM(G134,I134,K134,M134,O134),PMT($O$25,SUM($G$17),($O$10)*-1)+O134+M134+K134)))","v":10496.564792979301},null,994262.39327553578,null,""]
["2034-10-02","",102,"1900-04-11","Retorno",null,{"$f":"IFERROR(IF(C135=\"\",\"\",IF(E135<>\"Retorno\",0,IF($G$20=Parâmetros!$D$2,Simulador!$O$10/$G$17,IF($G$20=Parâmetros!$D$3,Simulador!Q135-Simulador!O135-Simulador!M135-Simulador!K135-Simulador!I135,\"\")))),\"\")","v":463.43090071253573},null,9658.1148453940405,null,0,null,{"$f":"IFERROR(IF(C135=\"\",\"\",IF($C$10=Parâmetros!$C$3,0,VLOOKUP(A135,'Base de Dados'!$E$3:$G$422,3,FALSE)*S135)),0)","v":423.55711776414967},null,{"$f":"IF(C135=\"\",\"\",IF(C136=\"\",0,IF(E135=\"Construção\",0,IF(E135=\"Seguro\",$C$17*'Base de Dados'!$C$2,IF($C$14=Parâmetros!$B$4,0,Simulador!$C$17*'Base de Dados'!$C$2)))))","v":66.400000000000006},null,{"$f":"IF(C135=\"\",\"\",IF(E135<>\"Retorno\",(I135+K135+M135),IF($G$20=Parâmetros!$D$2,SUM(G135,I135,K135,M135,O135),PMT($O$25,SUM($G$17),($O$10)*-1)+O135+M135+K135)))","v":10611.502863870726},null,993798.96237482328,null,""]
["2034-11-02","",103,"1900-04-12","Retorno",null,{"$f":"IFERROR(IF(C136=\"\",\"\",IF(E136<>\"Retorno\",0,IF($G$20=Parâmetros!$D$2,Simulador!$O$10/$G$17,IF($G$20=Parâmetros!$D$3,Simulador!Q136-Simulador!O136-Simulador!M136-Simulador!K136-Simulador!I136,\"\")))),\"\")","v":467.93259854630196},null,9653.6131475602742,null,0,null,{"$f":"IFERROR(IF(C136=\"\",\"\",IF($C$10=Parâmetros!$C$3,0,VLOOKUP(A136,'Base de Dados'!$E$3:$G$422,3,FALSE)*S136)),0)","v":423.3576848906493},null,{"$f":"IF(C136=\"\",\"\",IF(C137=\"\",0,IF(E136=\"Construção\",0,IF(E136=\"Seguro\",$C$17*'Base de Dados'!$C$2,IF($C$14=Parâmetros!$B$4,0,Simulador!$C$17*'Base de Dados'!$C$2)))))","v":66.400000000000006},null,{"$f":"IF(C136=\"\",\"\",IF(E136<>\"Retorno\",(I136+K136+M136),IF($G$20=Parâmetros!$D$2,SUM(G136,I136,K136,M136,O136),PMT($O$25,SUM($G$17),($O$10)*-1)+O136+M136+K136)))","v":10611.303430997224},null,993331.02977627702,null,""]
["2034-12-02","",104,"1900-04-13","Retorno",null,{"$f":"IFERROR(IF(C137=\"\",\"\",IF(E137<>\"Retorno\",0,IF($G$20=Parâmetros!$D$2,Simulador!$O$10/$G$17,IF($G$20=Parâmetros!$D$3,Simulador!Q137-Simulador!O137-Simulador!M137-Simulador!K137-Simulador!I137,\"\")))),\"\")","v":472.47802519348079},null,9649.0677209130954,null,0,null,{"$f":"IFERROR(IF(C137=\"\",\"\",IF($C$10=Parâmetros!$C$3,0,VLOOKUP(A137,'Base de Dados'!$E$3:$G$422,3,FALSE)*S137)),0)","v":423.15631475631182},null,{"$f":"IF(C137=\"\",\"\",IF(C138=\"\",0,IF(E137=\"Construção\",0,IF(E137=\"Seguro\",$C$17*'Base de Dados'!$C$2,IF($C$14=Parâmetros!$B$4,0,Simulador!$C$17*'Base de Dados'!$C$2)))))","v":66.400000000000006},null,{"$f":"IF(C137=\"\",\"\",IF(E137<>\"Retorno\",(I137+K137+M137),IF($G$20=Parâmetros!$D$2,SUM(G137,I137,K137,M137,O137),PMT($O$25,SUM($G$17),($O$10)*-1)+O137+M137+K137)))","v":10611.102060862888},null,992858.55175108358,null,""]
["2035-01-02","",105,"1900-04-14","Retorno",null,{"$f":"IFERROR(IF(C138=\"\",\"\",IF(E138<>\"Retorno\",0,IF($G$20=Parâmetros!$D$2,Simulador!$O$10/$G$17,IF($G$20=Parâmetros!$D$3,Simulador!Q138-Simulador!O138-Simulador!M138-Simulador!K138-Simulador!I138,\"\")))),\"\")","v":477.06760542913435},null,9644.4781406774418,null,0,null,{"$f":"IFERROR(IF(C138=\"\",\"\",IF($C$10=Parâmetros!$C$3,0,VLOOKUP(A138,'Base de Dados'!$E$3:$G$422,3,FALSE)*S138)),0)","v":422.95298854287796},null,{"$f":"IF(C138=\"\",\"\",IF(C139=\"\",0,IF(E138=\"Construção\",0,IF(E138=\"Seguro\",$C$17*'Base de Dados'!$C$2,IF($C$14=Parâmetros!$B$4,0,Simulador!$C$17*'Base de Dados'!$C$2)))))","v":66.400000000000006},null,{"$f":"IF(C138=\"\",\"\",IF(E138<>\"Retorno\",(I138+K138+M138),IF($G$20=Parâmetros!$D$2,SUM(G138,I138,K138,M138,O138),PMT($O$25,SUM($G$17),($O$10)*-1)+O138+M138+K138)))","v":10610.898734649454},null,992381.48414565448,null,""]
["2035-02-02","",106,"1900-04-15","Retorno",null,{"$f":"IFERROR(IF(C139=\"\",\"\",IF(E139<>\"Retorno\",0,IF($G$20=Parâmetros!$D$2,Simulador!$O$10/$G$17,IF($G$20=Parâmetros!$D$3,Simulador!Q139-Simulador!O139-Simulador!M139-Simulador!K139-Simulador!I139,\"\")))),\"\")","v":481.70176815454943},null,9639.8439779520268,null,0,null,{"$f":"IFERROR(IF(C139=\"\",\"\",IF($C$10=Parâmetros!$C$3,0,VLOOKUP(A139,'Base de Dados'!$E$3:$G$422,3,FALSE)*S139)),0)","v":422.74768724929049},null,{"$f":"IF(C139=\"\",\"\",IF(C140=\"\",0,IF(E139=\"Construção\",0,IF(E139=\"Seguro\",$C$17*'Base de Dados'!$C$2,IF($C$14=Parâmetros!$B$4,0,Simulador!$C$17*'Base de Dados'!$C$2)))))","v":66.400000000000006},null,{"$f":"IF(C139=\"\",\"\",IF(E139<>\"Retorno\",(I139+K139+M139),IF($G$20=Parâmetros!$D$2,SUM(G139,I139,K139,M139,O139),PMT($O$25,SUM($G$17),($O$10)*-1)+O139+M139+K139)))","v":10610.693433355866},null,991899.78237749997,null,""]
["2035-03-02","",107,"1900-04-16","Retorno",null,{"$f":"IFERROR(IF(C140=\"\",\"\",IF(E140<>\"Retorno\",0,IF($G$20=Parâmetros!$D$2,Simulador!$O$10/$G$17,IF($G$20=Parâmetros!$D$3,Simulador!Q140-Simulador!O140-Simulador!M140-Simulador!K140-Simulador!I140,\"\")))),\"\")","v":486.38094643740078},null,9635.1647996691754,null,0,null,{"$f":"IFERROR(IF(C140=\"\",\"\",IF($C$10=Parâmetros!$C$3,0,VLOOKUP(A140,'Base de Dados'!$E$3:$G$422,3,FALSE)*S140)),0)","v":422.54039168991886},null,{"$f":"IF(C140=\"\",\"\",IF(C141=\"\",0,IF(E140=\"Construção\",0,IF(E140=\"Seguro\",$C$17*'Base de Dados'!$C$2,IF($C$14=Parâmetros!$B$4,0,Simulador!$C$17*'Base de Dados'!$C$2)))))","v":66.400000000000006},null,{"$f":"IF(C140=\"\",\"\",IF(E140<>\"Retorno\",(I140+K140+M140),IF($G$20=Parâmetros!$D$2,SUM(G140,I140,K140,M140,O140),PMT($O$25,SUM($G$17),($O$10)*-1)+O140+M140+K140)))","v":10610.486137796495},null,991413.40143106261,null,""]
["2035-04-02","",108,"1900-04-17","Retorno",null,{"$f":"IFERROR(IF(C141=\"\",\"\",IF(E141<>\"Retorno\",0,IF($G$20=Parâmetros!$D$2,Simulador!$O$10/$G$17,IF($G$20=Parâmetros!$D$3,Simulador!Q141-Simulador!O141-Simulador!M141-Simulador!K141-Simulador!I141,\"\")))),\"\")","v":491.10557755191439},null,9630.4401685546618,null,0,null,{"$f":"IFERROR(IF(C141=\"\",\"\",IF($C$10=Parâmetros!$C$3,0,VLOOKUP(A141,'Base de Dados'!$E$3:$G$422,3,FALSE)*S141)),0)","v":422.33108249276626},null,{"$f":"IF(C141=\"\",\"\",IF(C142=\"\",0,IF(E141=\"Construção\",0,IF(E141=\"Seguro\",$C$17*'Base de Dados'!$C$2,IF($C$14=Parâmetros!$B$4,0,Simulador!$C$17*'Base de Dados'!$C$2)))))","v":66.400000000000006},null,{"$f":"IF(C141=\"\",\"\",IF(E141<>\"Retorno\",(I141+K141+M141),IF($G$20=Parâmetros!$D$2,SUM(G141,I141,K141,M141,O141),PMT($O$25,SUM($G$17),($O$10)*-1)+O141+M141+K141)))","v":10610.276828599342},null,990922.29585351073,null,""]
["2035-05-02","",109,"1900-04-18","Retorno",null,{"$f":"IFERROR(IF(C142=\"\",\"\",IF(E142<>\"Retorno\",0,IF($G$20=Parâmetros!$D$2,Simulador!$O$10/$G$17,IF($G$20=Parâmetros!$D$3,Simulador!Q142-Simulador!O142-Simulador!M142-Simulador!K142-Simulador!I142,\"\")))),\"\")","v":495.87610302019493},null,9625.6696430863813,null,0,null,{"$f":"IFERROR(IF(C142=\"\",\"\",IF($C$10=Parâmetros!$C$3,0,VLOOKUP(A142,'Base de Dados'!$E$3:$G$422,3,FALSE)*S142)),0)","v":422.11974009765908},null,{"$f":"IF(C142=\"\",\"\",IF(C143=\"\",0,IF(E142=\"Construção\",0,IF(E142=\"Seguro\",$C$17*'Base de Dados'!$C$2,IF($C$14=Parâmetros!$B$4,0,Simulador!$C$17*'Base de Dados'!$C$2)))))","v":66.400000000000006},null,{"$f":"IF(C142=\"\",\"\",IF(E142<>\"Retorno\",(I142+K142+M142),IF($G$20=Parâmetros!$D$2,SUM(G142,I142,K142,M142,O142),PMT($O$25,SUM($G$17),($O$10)*-1)+O142+M142+K142)))","v":10610.065486204236},null,990426.41975049058,null,""]
["2035-06-02","",110,"1900-04-19","Retorno",null,{"$f":"IFERROR(IF(C143=\"\",\"\",IF(E143<>\"Retorno\",0,IF($G$20=Parâmetros!$D$2,Simulador!$O$10/$G$17,IF($G$20=Parâmetros!$D$3,Simulador!Q143-Simulador!O143-Simulador!M143-Simulador!K143-Simulador!I143,\"\")))),\"\")","v":500.69296865285469},null,9620.8527774537215,null,0,null,{"$f":"IFERROR(IF(C143=\"\",\"\",IF($C$10=Parâmetros!$C$3,0,VLOOKUP(A143,'Base de Dados'!$E$3:$G$422,3,FALSE)*S143)),0)","v":421.90634475441925},null,{"$f":"IF(C143=\"\",\"\",IF(C144=\"\",0,IF(E143=\"Construção\",0,IF(E143=\"Seguro\",$C$17*'Base de Dados'!$C$2,IF($C$14=Parâmetros!$B$4,0,Simulador!$C$17*'Base de Dados'!$C$2)))))","v":66.400000000000006},null,{"$f":"IF(C143=\"\",\"\",IF(E143<>\"Retorno\",(I143+K143+M143),IF($G$20=Parâmetros!$D$2,SUM(G143,I143,K143,M143,O143),PMT($O$25,SUM($G$17),($O$10)*-1)+O143+M143+K143)))","v":10609.852090860995},null,989925.72678183776,null,""]
["2035-07-02","",111,"1900-04-20","Retorno",null,{"$f":"IFERROR(IF(C144=\"\",\"\",IF(E144<>\"Retorno\",0,IF($G$20=Parâmetros!$D$2,Simulador!$O$10/$G$17,IF($G$20=Parâmetros!$D$3,Simulador!Q144-Simulador!O144-Simulador!M144-Simulador!K144-Simulador!I144,\"\")))),\"\")","v":505.55662459138875},null,9615.9891215151874,null,0,null,{"$f":"IFERROR(IF(C144=\"\",\"\",IF($C$10=Parâmetros!$C$3,0,VLOOKUP(A144,'Base de Dados'!$E$3:$G$422,3,FALSE)*S144)),0)","v":421.69087652101842},null,{"$f":"IF(C144=\"\",\"\",IF(C145=\"\",0,IF(E144=\"Construção\",0,IF(E144=\"Seguro\",$C$17*'Base de Dados'!$C$2,IF($C$14=Parâmetros!$B$4,0,Simulador!$C$17*'Base de Dados'!$C$2)))))","v":66.400000000000006},null,{"$f":"IF(C144=\"\",\"\",IF(E144<>\"Retorno\",(I144+K144+M144),IF($G$20=Parâmetros!$D$2,SUM(G144,I144,K144,M144,O144),PMT($O$25,SUM($G$17),($O$10)*-1)+O144+M144+K144)))","v":10609.636622627595},null,989420.17015724641,null,""]
["2035-08-02","",112,"1900-04-21","Retorno",null,{"$f":"IFERROR(IF(C145=\"\",\"\",IF(E145<>\"Retorno\",0,IF($G$20=Parâmetros!$D$2,Simulador!$O$10/$G$17,IF($G$20=Parâmetros!$D$3,Simulador!Q145-Simulador!O145-Simulador!M145-Simulador!K145-Simulador!I145,\"\")))),\"\")","v":510.46752534985171},null,9611.0782207567245,null,0,null,{"$f":"IFERROR(IF(C145=\"\",\"\",IF($C$10=Parâmetros!$C$3,0,VLOOKUP(A145,'Base de Dados'!$E$3:$G$422,3,FALSE)*S145)),0)","v":421.47331526171433},null,{"$f":"IF(C145=\"\",\"\",IF(C146=\"\",0,IF(E145=\"Construção\",0,IF(E145=\"Seguro\",$C$17*'Base de Dados'!$C$2,IF($C$14=Parâmetros!$B$4,0,Simulador!$C$17*'Base de Dados'!$C$2)))))","v":66.400000000000006},null,{"$f":"IF(C145=\"\",\"\",IF(E145<>\"Retorno\",(I145+K145+M145),IF($G$20=Parâmetros!$D$2,SUM(G145,I145,K145,M145,O145),PMT($O$25,SUM($G$17),($O$10)*-1)+O145+M145+K145)))","v":10609.419061368289},null,988909.70263189659,null,""]
["2035-09-02","",113,"1900-04-22","Retorno",null,{"$f":"IFERROR(IF(C146=\"\",\"\",IF(E146<>\"Retorno\",0,IF($G$20=Parâmetros!$D$2,Simulador!$O$10/$G$17,IF($G$20=Parâmetros!$D$3,Simulador!Q146-Simulador!O146-Simulador!M146-Simulador!K146-Simulador!I146,\"\")))),\"\")","v":515.42612985699998},null,9606.1196162495762,null,0,null,{"$f":"IFERROR(IF(C146=\"\",\"\",IF($C$10=Parâmetros!$C$3,0,VLOOKUP(A146,'Base de Dados'!$E$3:$G$422,3,FALSE)*S146)),0)","v":421.2536406451693},null,{"$f":"IF(C146=\"\",\"\",IF(C147=\"\",0,IF(E146=\"Construção\",0,IF(E146=\"Seguro\",$C$17*'Base de Dados'!$C$2,IF($C$14=Parâmetros!$B$4,0,Simulador!$C$17*'Base de Dados'!$C$2)))))","v":66.400000000000006},null,{"$f":"IF(C146=\"\",\"\",IF(E146<>\"Retorno\",(I146+K146+M146),IF($G$20=Parâmetros!$D$2,SUM(G146,I146,K146,M146,O146),PMT($O$25,SUM($G$17),($O$10)*-1)+O146+M146+K146)))","v":10609.199386751745},null,988394.27650203963,null,""]
["2035-10-02","",114,"1900-04-23","Retorno",null,{"$f":"IFERROR(IF(C147=\"\",\"\",IF(E147<>\"Retorno\",0,IF($G$20=Parâmetros!$D$2,Simulador!$O$10/$G$17,IF($G$20=Parâmetros!$D$3,Simulador!Q147-Simulador!O147-Simulador!M147-Simulador!K147-Simulador!I147,\"\")))),\"\")","v":520.43290150018038},null,9601.1128446063958,null,0,null,{"$f":"IFERROR(IF(C147=\"\",\"\",IF($C$10=Parâmetros!$C$3,0,VLOOKUP(A147,'Base de Dados'!$E$3:$G$422,3,FALSE)*S147)),0)","v":421.03183214254994},null,{"$f":"IF(C147=\"\",\"\",IF(C148=\"\",0,IF(E147=\"Construção\",0,IF(E147=\"Seguro\",$C$17*'Base de Dados'!$C$2,IF($C$14=Parâmetros!$B$4,0,Simulador!$C$17*'Base de Dados'!$C$2)))))","v":66.400000000000006},null,{"$f":"IF(C147=\"\",\"\",IF(E147<>\"Retorno\",(I147+K147+M147),IF($G$20=Parâmetros!$D$2,SUM(G147,I147,K147,M147,O147),PMT($O$25,SUM($G$17),($O$10)*-1)+O147+M147+K147)))","v":10608.977578249125},null,987873.84360053949,null,""]
["2035-11-02","",115,"1900-04-24","Retorno",null,{"$f":"IFERROR(IF(C148=\"\",\"\",IF(E148<>\"Retorno\",0,IF($G$20=Parâmetros!$D$2,Simulador!$O$10/$G$17,IF($G$20=Parâmetros!$D$3,Simulador!Q148-Simulador!O148-Simulador!M148-Simulador!K148-Simulador!I148,\"\")))),\"\")","v":525.4883081674725},null,9596.0574379391037,null,0,null,{"$f":"IFERROR(IF(C148=\"\",\"\",IF($C$10=Parâmetros!$C$3,0,VLOOKUP(A148,'Base de Dados'!$E$3:$G$422,3,FALSE)*S148)),0)","v":420.80786902560897},null,{"$f":"IF(C148=\"\",\"\",IF(C149=\"\",0,IF(E148=\"Construção\",0,IF(E148=\"Seguro\",$C$17*'Base de Dados'!$C$2,IF($C$14=Parâmetros!$B$4,0,Simulador!$C$17*'Base de Dados'!$C$2)))))","v":66.400000000000006},null,{"$f":"IF(C148=\"\",\"\",IF(E148<>\"Retorno\",(I148+K148+M148),IF($G$20=Parâmetros!$D$2,SUM(G148,I148,K148,M148,O148),PMT($O$25,SUM($G$17),($O$10)*-1)+O148+M148+K148)))","v":10608.753615132186},null,987348.35529237206,null,""]
["2035-12-02","",116,"1900-04-25","Retorno",null,{"$f":"IFERROR(IF(C149=\"\",\"\",IF(E149<>\"Retorno\",0,IF($G$20=Parâmetros!$D$2,Simulador!$O$10/$G$17,IF($G$20=Parâmetros!$D$3,Simulador!Q149-Simulador!O149-Simulador!M149-Simulador!K149-Simulador!I149,\"\")))),\"\")","v":530.59282229227574},null,9590.9529238143004,null,0,null,{"$f":"IFERROR(IF(C149=\"\",\"\",IF($C$10=Parâmetros!$C$3,0,VLOOKUP(A149,'Base de Dados'!$E$3:$G$422,3,FALSE)*S149)),0)","v":420.58173036474801},null,{"$f":"IF(C149=\"\",\"\",IF(C150=\"\",0,IF(E149=\"Construção\",0,IF(E149=\"Seguro\",$C$17*'Base de Dados'!$C$2,IF($C$14=Parâmetros!$B$4,0,Simulador!$C$17*'Base de Dados'!$C$2)))))","v":66.400000000000006},null,{"$f":"IF(C149=\"\",\"\",IF(E149<>\"Retorno\",(I149+K149+M149),IF($G$20=Parâmetros!$D$2,SUM(G149,I149,K149,M149,O149),PMT($O$25,SUM($G$17),($O$10)*-1)+O149+M149+K149)))","v":10608.527476471323},null,986817.76247007982,null,""]
["2036-01-02","",117,"1900-04-26","Retorno",null,{"$f":"IFERROR(IF(C150=\"\",\"\",IF(E150<>\"Retorno\",0,IF($G$20=Parâmetros!$D$2,Simulador!$O$10/$G$17,IF($G$20=Parâmetros!$D$3,Simulador!Q150-Simulador!O150-Simulador!M150-Simulador!K150-Simulador!I150,\"\")))),\"\")","v":535.74692089684868},null,9585.7988252097275,null,0,null,{"$f":"IFERROR(IF(C150=\"\",\"\",IF($C$10=Parâmetros!$C$3,0,VLOOKUP(A150,'Base de Dados'!$E$3:$G$422,3,FALSE)*S150)),0)","v":420.35339502706182},null,{"$f":"IF(C150=\"\",\"\",IF(C151=\"\",0,IF(E150=\"Construção\",0,IF(E150=\"Seguro\",$C$17*'Base de Dados'!$C$2,IF($C$14=Parâmetros!$B$4,0,Simulador!$C$17*'Base de Dados'!$C$2)))))","v":66.400000000000006},null,{"$f":"IF(C150=\"\",\"\",IF(E150<>\"Retorno\",(I150+K150+M150),IF($G$20=Parâmetros!$D$2,SUM(G150,I150,K150,M150,O150),PMT($O$25,SUM($G$17),($O$10)*-1)+O150+M150+K150)))","v":10608.299141133637},null,986282.01554918301,null,""]
["2036-02-02","",118,"1900-04-27","Retorno",null,{"$f":"IFERROR(IF(C151=\"\",\"\",IF(E151<>\"Retorno\",0,IF($G$20=Parâmetros!$D$2,Simulador!$O$10/$G$17,IF($G$20=Parâmetros!$D$3,Simulador!Q151-Simulador!O151-Simulador!M151-Simulador!K151-Simulador!I151,\"\")))),\"\")","v":540.95108563759459},null,9580.5946604689816,null,0,null,{"$f":"IFERROR(IF(C151=\"\",\"\",IF($C$10=Parâmetros!$C$3,0,VLOOKUP(A151,'Base de Dados'!$E$3:$G$422,3,FALSE)*S151)),0)","v":420.12284167436309},null,{"$f":"IF(C151=\"\",\"\",IF(C152=\"\",0,IF(E151=\"Construção\",0,IF(E151=\"Seguro\",$C$17*'Base de Dados'!$C$2,IF($C$14=Parâmetros!$B$4,0,Simulador!$C$17*'Base de Dados'!$C$2)))))","v":66.400000000000006},null,{"$f":"IF(C151=\"\",\"\",IF(E151<>\"Retorno\",(I151+K151+M151),IF($G$20=Parâmetros!$D$2,SUM(G151,I151,K151,M151,O151),PMT($O$25,SUM($G$17),($O$10)*-1)+O151+M151+K151)))","v":10608.068587780939},null,985741.06446354545,null,""]
["2036-03-02","",119,"1900-04-28","Retorno",null,{"$f":"IFERROR(IF(C152=\"\",\"\",IF(E152<>\"Retorno\",0,IF($G$20=Parâmetros!$D$2,Simulador!$O$10/$G$17,IF($G$20=Parâmetros!$D$3,Simulador!Q152-Simulador!O152-Simulador!M152-Simulador!K152-Simulador!I152,\"\")))),\"\")","v":546.20580284918287},null,9575.3399432573933,null,0,null,{"$f":"IFERROR(IF(C152=\"\",\"\",IF($C$10=Parâmetros!$C$3,0,VLOOKUP(A152,'Base de Dados'!$E$3:$G$422,3,FALSE)*S152)),0)","v":419.89004876118878},null,{"$f":"IF(C152=\"\",\"\",IF(C153=\"\",0,IF(E152=\"Construção\",0,IF(E152=\"Seguro\",$C$17*'Base de Dados'!$C$2,IF($C$14=Parâmetros!$B$4,0,Simulador!$C$17*'Base de Dados'!$C$2)))))","v":66.400000000000006},null,{"$f":"IF(C152=\"\",\"\",IF(E152<>\"Retorno\",(I152+K152+M152),IF($G$20=Parâmetros!$D$2,SUM(G152,I152,K152,M152,O152),PMT($O$25,SUM($G$17),($O$10)*-1)+O152+M152+K152)))","v":10607.835794867764},null,985194.85866069631,null,""]
["2036-04-02","",120,"1900-04-29","Retorno",null,{"$f":"IFERROR(IF(C153=\"\",\"\",IF(E153<>\"Retorno\",0,IF($G$20=Parâmetros!$D$2,Simulador!$O$10/$G$17,IF($G$20=Parâmetros!$D$3,Simulador!Q153-Simulador!O153-Simulador!M153-Simulador!K153-Simulador!I153,\"\")))),\"\")","v":551.51156359088236},null,9570.0341825156938,null,0,null,{"$f":"IFERROR(IF(C153=\"\",\"\",IF($C$10=Parâmetros!$C$3,0,VLOOKUP(A153,'Base de Dados'!$E$3:$G$422,3,FALSE)*S153)),0)","v":419.65499453278636},null,{"$f":"IF(C153=\"\",\"\",IF(C154=\"\",0,IF(E153=\"Construção\",0,IF(E153=\"Seguro\",$C$17*'Base de Dados'!$C$2,IF($C$14=Parâmetros!$B$4,0,Simulador!$C$17*'Base de Dados'!$C$2)))))","v":66.400000000000006},null,{"$f":"IF(C153=\"\",\"\",IF(E153<>\"Retorno\",(I153+K153+M153),IF($G$20=Parâmetros!$D$2,SUM(G153,I153,K153,M153,O153),PMT($O$25,SUM($G$17),($O$10)*-1)+O153+M153+K153)))","v":10607.600740639362},null,984643.34709710546,null,""]
["2036-05-02","",121,"1900-04-30","Retorno",null,{"$f":"IFERROR(IF(C154=\"\",\"\",IF(E154<>\"Retorno\",0,IF($G$20=Parâmetros!$D$2,Simulador!$O$10/$G$17,IF($G$20=Parâmetros!$D$3,Simulador!Q154-Simulador!O154-Simulador!M154-Simulador!K154-Simulador!I154,\"\")))),\"\")","v":556.86886369161402},null,9564.6768824149622,null,0,null,{"$f":"IFERROR(IF(C154=\"\",\"\",IF($C$10=Parâmetros!$C$3,0,VLOOKUP(A154,'Base de Dados'!$E$3:$G$422,3,FALSE)*S154)),0)","v":419.41765702308101},null,{"$f":"IF(C154=\"\",\"\",IF(C155=\"\",0,IF(E154=\"Construção\",0,IF(E154=\"Seguro\",$C$17*'Base de Dados'!$C$2,IF($C$14=Parâmetros!$B$4,0,Simulador!$C$17*'Base de Dados'!$C$2)))))","v":66.400000000000006},null,{"$f":"IF(C154=\"\",\"\",IF(E154<>\"Retorno\",(I154+K154+M154),IF($G$20=Parâmetros!$D$2,SUM(G154,I154,K154,M154,O154),PMT($O$25,SUM($G$17),($O$10)*-1)+O154+M154+K154)))","v":10607.363403129657},null,984086.47823341389,null,""]
["2036-06-02","",122,"1900-05-01","Retorno",null,{"$f":"IFERROR(IF(C155=\"\",\"\",IF(E155<>\"Retorno\",0,IF($G$20=Parâmetros!$D$2,Simulador!$O$10/$G$17,IF($G$20=Parâmetros!$D$3,Simulador!Q155-Simulador!O155-Simulador!M155-Simulador!K155-Simulador!I155,\"\")))),\"\")","v":562.27820379721561},null,9559.2675423093606,null,0,null,{"$f":"IFERROR(IF(C155=\"\",\"\",IF($C$10=Parâmetros!$C$3,0,VLOOKUP(A155,'Base de Dados'!$E$3:$G$422,3,FALSE)*S155)),0)","v":419.17801405262264},null,{"$f":"IF(C155=\"\",\"\",IF(C156=\"\",0,IF(E155=\"Construção\",0,IF(E155=\"Seguro\",$C$17*'Base de Dados'!$C$2,IF($C$14=Parâmetros!$B$4,0,Simulador!$C$17*'Base de Dados'!$C$2)))))","v":66.400000000000006},null,{"$f":"IF(C155=\"\",\"\",IF(E155<>\"Retorno\",(I155+K155+M155),IF($G$20=Parâmetros!$D$2,SUM(G155,I155,K155,M155,O155),PMT($O$25,SUM($G$17),($O$10)*-1)+O155+M155+K155)))","v":10607.123760159198},null,983524.20002961671,null,""]
["2036-07-02","",123,"1900-05-02","Retorno",null,{"$f":"IFERROR(IF(C156=\"\",\"\",IF(E156<>\"Retorno\",0,IF($G$20=Parâmetros!$D$2,Simulador!$O$10/$G$17,IF($G$20=Parâmetros!$D$3,Simulador!Q156-Simulador!O156-Simulador!M156-Simulador!K156-Simulador!I156,\"\")))),\"\")","v":567.74008941619286},null,9553.8056566903833,null,0,null,{"$f":"IFERROR(IF(C156=\"\",\"\",IF($C$10=Parâmetros!$C$3,0,VLOOKUP(A156,'Base de Dados'!$E$3:$G$422,3,FALSE)*S156)),0)","v":418.9360432265135},null,{"$f":"IF(C156=\"\",\"\",IF(C157=\"\",0,IF(E156=\"Construção\",0,IF(E156=\"Seguro\",$C$17*'Base de Dados'!$C$2,IF($C$14=Parâmetros!$B$4,0,Simulador!$C$17*'Base de Dados'!$C$2)))))","v":66.400000000000006},null,{"$f":"IF(C156=\"\",\"\",IF(E156<>\"Retorno\",(I156+K156+M156),IF($G$20=Parâmetros!$D$2,SUM(G156,I156,K156,M156,O156),PMT($O$25,SUM($G$17),($O$10)*-1)+O156+M156+K156)))","v":10606.881789333089},null,982956.45994020056,null,""]
["2036-08-02","",124,"1900-05-03","Retorno",null,{"$f":"IFERROR(IF(C157=\"\",\"\",IF(E157<>\"Retorno\",0,IF($G$20=Parâmetros!$D$2,Simulador!$O$10/$G$17,IF($G$20=Parâmetros!$D$3,Simulador!Q157-Simulador!O157-Simulador!M157-Simulador!K157-Simulador!I157,\"\")))),\"\")","v":573.25503096779903},null,9548.2907151387772,null,0,null,{"$f":"IFERROR(IF(C157=\"\",\"\",IF($C$10=Parâmetros!$C$3,0,VLOOKUP(A157,'Base de Dados'!$E$3:$G$422,3,FALSE)*S157)),0)","v":418.69172193231503},null,{"$f":"IF(C157=\"\",\"\",IF(C158=\"\",0,IF(E157=\"Construção\",0,IF(E157=\"Seguro\",$C$17*'Base de Dados'!$C$2,IF($C$14=Parâmetros!$B$4,0,Simulador!$C$17*'Base de Dados'!$C$2)))))","v":66.400000000000006},null,{"$f":"IF(C157=\"\",\"\",IF(E157<>\"Retorno\",(I157+K157+M157),IF($G$20=Parâmetros!$D$2,SUM(G157,I157,K157,M157,O157),PMT($O$25,SUM($G$17),($O$10)*-1)+O157+M157+K157)))","v":10606.637468038891},null,982383.20490923279,null,""]
["2036-09-02","",125,"1900-05-04","Retorno",null,{"$f":"IFERROR(IF(C158=\"\",\"\",IF(E158<>\"Retorno\",0,IF($G$20=Parâmetros!$D$2,Simulador!$O$10/$G$17,IF($G$20=Parâmetros!$D$3,Simulador!Q158-Simulador!O158-Simulador!M158-Simulador!K158-Simulador!I158,\"\")))),\"\")","v":578.82354382941594},null,9542.7222022771602,null,0,null,{"$f":"IFERROR(IF(C158=\"\",\"\",IF($C$10=Parâmetros!$C$3,0,VLOOKUP(A158,'Base de Dados'!$E$3:$G$422,3,FALSE)*S158)),0)","v":418.44502733793496},null,{"$f":"IF(C158=\"\",\"\",IF(C159=\"\",0,IF(E158=\"Construção\",0,IF(E158=\"Seguro\",$C$17*'Base de Dados'!$C$2,IF($C$14=Parâmetros!$B$4,0,Simulador!$C$17*'Base de Dados'!$C$2)))))","v":66.400000000000006},null,{"$f":"IF(C158=\"\",\"\",IF(E158<>\"Retorno\",(I158+K158+M158),IF($G$20=Parâmetros!$D$2,SUM(G158,I158,K158,M158,O158),PMT($O$25,SUM($G$17),($O$10)*-1)+O158+M158+K158)))","v":10606.390773444511},null,981804.38136540342,null,""]
["2036-10-02","",126,"1900-05-05","Retorno",null,{"$f":"IFERROR(IF(C159=\"\",\"\",IF(E159<>\"Retorno\",0,IF($G$20=Parâmetros!$D$2,Simulador!$O$10/$G$17,IF($G$20=Parâmetros!$D$3,Simulador!Q159-Simulador!O159-Simulador!M159-Simulador!K159-Simulador!I159,\"\")))),\"\")","v":584.44614838463349},null,9537.0995977219427,null,0,null,{"$f":"IFERROR(IF(C159=\"\",\"\",IF($C$10=Parâmetros!$C$3,0,VLOOKUP(A159,'Base de Dados'!$E$3:$G$422,3,FALSE)*S159)),0)","v":418.19593638949345},null,{"$f":"IF(C159=\"\",\"\",IF(C160=\"\",0,IF(E159=\"Construção\",0,IF(E159=\"Seguro\",$C$17*'Base de Dados'!$C$2,IF($C$14=Parâmetros!$B$4,0,Simulador!$C$17*'Base de Dados'!$C$2)))))","v":66.400000000000006},null,{"$f":"IF(C159=\"\",\"\",IF(E159<>\"Retorno\",(I159+K159+M159),IF($G$20=Parâmetros!$D$2,SUM(G159,I159,K159,M159,O159),PMT($O$25,SUM($G$17),($O$10)*-1)+O159+M159+K159)))","v":10606.141682496069},null,981219.93521701882,null,""]
["2036-11-02","",127,"1900-05-06","Retorno",null,{"$f":"IFERROR(IF(C160=\"\",\"\",IF(E160<>\"Retorno\",0,IF($G$20=Parâmetros!$D$2,Simulador!$O$10/$G$17,IF($G$20=Parâmetros!$D$3,Simulador!Q160-Simulador!O160-Simulador!M160-Simulador!K160-Simulador!I160,\"\")))),\"\")","v":590.12337007202768},null,9531.4223760345485,null,0,null,{"$f":"IFERROR(IF(C160=\"\",\"\",IF($C$10=Parâmetros!$C$3,0,VLOOKUP(A160,'Base de Dados'!$E$3:$G$422,3,FALSE)*S160)),0)","v":417.94442580916876},null,{"$f":"IF(C160=\"\",\"\",IF(C161=\"\",0,IF(E160=\"Construção\",0,IF(E160=\"Seguro\",$C$17*'Base de Dados'!$C$2,IF($C$14=Parâmetros!$B$4,0,Simulador!$C$17*'Base de Dados'!$C$2)))))","v":66.400000000000006},null,{"$f":"IF(C160=\"\",\"\",IF(E160<>\"Retorno\",(I160+K160+M160),IF($G$20=Parâmetros!$D$2,SUM(G160,I160,K160,M160,O160),PMT($O$25,SUM($G$17),($O$10)*-1)+O160+M160+K160)))","v":10605.890171915744},null,980629.81184694683,null,""]
["2036-12-02","",128,"1900-05-07","Retorno",null,{"$f":"IFERROR(IF(C161=\"\",\"\",IF(E161<>\"Retorno\",0,IF($G$20=Parâmetros!$D$2,Simulador!$O$10/$G$17,IF($G$20=Parâmetros!$D$3,Simulador!Q161-Simulador!O161-Simulador!M161-Simulador!K161-Simulador!I161,\"\")))),\"\")","v":595.85573943417148},null,9525.6900066724047,null,0,null,{"$f":"IFERROR(IF(C161=\"\",\"\",IF($C$10=Parâmetros!$C$3,0,VLOOKUP(A161,'Base de Dados'!$E$3:$G$422,3,FALSE)*S161)),0)","v":417.69047209302192},null,{"$f":"IF(C161=\"\",\"\",IF(C162=\"\",0,IF(E161=\"Construção\",0,IF(E161=\"Seguro\",$C$17*'Base de Dados'!$C$2,IF($C$14=Parâmetros!$B$4,0,Simulador!$C$17*'Base de Dados'!$C$2)))))","v":66.400000000000006},null,{"$f":"IF(C161=\"\",\"\",IF(E161<>\"Retorno\",(I161+K161+M161),IF($G$20=Parâmetros!$D$2,SUM(G161,I161,K161,M161,O161),PMT($O$25,SUM($G$17),($O$10)*-1)+O161+M161+K161)))","v":10605.636218199597},null,980033.9561075127,null,""]
["2037-01-02","",129,"1900-05-08","Retorno",null,{"$f":"IFERROR(IF(C162=\"\",\"\",IF(E162<>\"Retorno\",0,IF($G$20=Parâmetros!$D$2,Simulador!$O$10/$G$17,IF($G$20=Parâmetros!$D$3,Simulador!Q162-Simulador!O162-Simulador!M162-Simulador!K162-Simulador!I162,\"\")))),\"\")","v":601.64379216722773},null,{"$f":"IFERROR(IF(C162=\"\",\"\",FV($O$25,1,,-S161,0)-S161),\"\")","v":9519.9019539393485},null,0,null,{"$f":"IFERROR(IF(C162=\"\",\"\",IF($C$10=Parâmetros!$C$3,0,VLOOKUP(A162,'Base de Dados'!$E$3:$G$422,3,FALSE)*S162)),0)","v":417.43405150880028},null,{"$f":"IF(C162=\"\",\"\",IF(C163=\"\",0,IF(E162=\"Construção\",0,IF(E162=\"Seguro\",$C$17*'Base de Dados'!$C$2,IF($C$14=Parâmetros!$B$4,0,Simulador!$C$17*'Base de Dados'!$C$2)))))","v":66.400000000000006},null,{"$f":"IF(C162=\"\",\"\",IF(E162<>\"Retorno\",(I162+K162+M162),IF($G$20=Parâmetros!$D$2,SUM(G162,I162,K162,M162,O162),PMT($O$25,SUM($G$17),($O$10)*-1)+O162+M162+K162)))","v":10605.379797615376},null,979432.31231534551,null,""]
[{"$f":"IF(C163=\"\",\"\",IF(C162>$G$17,0,EDATE(A162,1)))","v":"2037-02-02"},{"$f":"IF(AND(E163=\"Retorno\",E162<>\"Retorno\"),\"Primeira\",IF(AND(E163=\"Retorno\",E162=\"\"),\"Primeira\",\"\"))","v":""},{"$f":"IF(OR(C162>=$K$19,C162=\"\"),\"\",C162+1)","v":130},{"$f":"C163","v":"1900-05-09"},{"$f":"IF(C163=\"\",\"\",\"Retorno\")","v":"Retorno"},null,{"$f":"IFERROR(IF(C163=\"\",\"\",IF(E163<>\"Retorno\",0,IF($G$20=Parâmetros!$D$2,Simulador!$O$10/$G$17,IF($G$20=Parâmetros!$D$3,Simulador!Q163-Simulador!O163-Simulador!M163-Simulador!K163-Simulador!I163,\"\")))),\"\")","v":607.48806917100774},null,9514.0576769355685,null,{"$f":"IF(C163=\"\",\"\",IF(AND($O$23<12.01%,$C$17<2250000.01),25,0))","v":0},null,{"$f":"IFERROR(IF(C163=\"\",\"\",IF($C$10=Parâmetros!$C$3,0,VLOOKUP(A163,'Base de Dados'!$E$3:$G$422,3,FALSE)*S163)),0)","v":417.17514009371962},null,{"$f":"IF(C163=\"\",\"\",IF(C164=\"\",0,IF(E163=\"Construção\",0,IF(E163=\"Seguro\",$C$17*'Base de Dados'!$C$2,IF($C$14=Parâmetros!$B$4,0,Simulador!$C$17*'Base de Dados'!$C$2)))))","v":66.400000000000006},null,{"$f":"IF(C163=\"\",\"\",IF(E163<>\"Retorno\",(I163+K163+M163),IF($G$20=Parâmetros!$D$2,SUM(G163,I163,K163,M163,O163),PMT($O$25,SUM($G$17),($O$10)*-1)+O163+M163+K163)))","v":10605.120886200295},null,{"$f":"IF(E163=\"Construção\",S162+(U163*-1),IF(E163=\"Carência\",S162,IF(E163=\"Retorno\",S162-G163,\"\")))","v":978824.82424617454},null,{"$f":"IF(E163=\"Construção\",(($O$10+$U$33)/$K$10)*-1,\"\")","v":""}]
["2037-03-02","",131,"1900-05-10","Retorno",null,{"$f":"IFERROR(IF(C164=\"\",\"\",IF(E164<>\"Retorno\",0,IF($G$20=Parâmetros!$D$2,Simulador!$O$10/$G$17,IF($G$20=Parâmetros!$D$3,Simulador!Q164-Simulador!O164-Simulador!M164-Simulador!K164-Simulador!I164,\"\")))),\"\")","v":613.38911659961195},null,9508.1566295069642,null,0,null,{"$f":"IFERROR(IF(C164=\"\",\"\",IF($C$10=Parâmetros!$C$3,0,VLOOKUP(A164,'Base de Dados'!$E$3:$G$422,3,FALSE)*S164)),0)","v":416.91371365222483},null,{"$f":"IF(C164=\"\",\"\",IF(C165=\"\",0,IF(E164=\"Construção\",0,IF(E164=\"Seguro\",$C$17*'Base de Dados'!$C$2,IF($C$14=Parâmetros!$B$4,0,Simulador!$C$17*'Base de Dados'!$C$2)))))","v":66.400000000000006},null,{"$f":"IF(C164=\"\",\"\",IF(E164<>\"Retorno\",(I164+K164+M164),IF($G$20=Parâmetros!$D$2,SUM(G164,I164,K164,M164,O164),PMT($O$25,SUM($G$17),($O$10)*-1)+O164+M164+K164)))","v":10604.8594597588},null,978211.43512957497,null,""]
["2037-04-02","",132,"1900-05-11","Retorno",null,{"$f":"IFERROR(IF(C165=\"\",\"\",IF(E165<>\"Retorno\",0,IF($G$20=Parâmetros!$D$2,Simulador!$O$10/$G$17,IF($G$20=Parâmetros!$D$3,Simulador!Q165-Simulador!O165-Simulador!M165-Simulador!K165-Simulador!I165,\"\")))),\"\")","v":619.34748591253629},null,9502.1982601940399,null,0,null,{"$f":"IFERROR(IF(C165=\"\",\"\",IF($C$10=Parâmetros!$C$3,0,VLOOKUP(A165,'Base de Dados'!$E$3:$G$422,3,FALSE)*S165)),0)","v":416.64974775372895},null,{"$f":"IF(C165=\"\",\"\",IF(C166=\"\",0,IF(E165=\"Construção\",0,IF(E165=\"Seguro\",$C$17*'Base de Dados'!$C$2,IF($C$14=Parâmetros!$B$4,0,Simulador!$C$17*'Base de Dados'!$C$2)))))","v":66.400000000000006},null,{"$f":"IF(C165=\"\",\"\",IF(E165<>\"Retorno\",(I165+K165+M165),IF($G$20=Parâmetros!$D$2,SUM(G165,I165,K165,M165,O165),PMT($O$25,SUM($G$17),($O$10)*-1)+O165+M165+K165)))","v":10604.595493860304},null,977592.08764366247,null,""]
["2037-05-02","",133,"1900-05-12","Retorno",null,{"$f":"IFERROR(IF(C166=\"\",\"\",IF(E166<>\"Retorno\",0,IF($G$20=Parâmetros!$D$2,Simulador!$O$10/$G$17,IF($G$20=Parâmetros!$D$3,Simulador!Q166-Simulador!O166-Simulador!M166-Simulador!K166-Simulador!I166,\"\")))),\"\")","v":625.36373392577843},null,9496.1820121807978,null,0,null,{"$f":"IFERROR(IF(C166=\"\",\"\",IF($C$10=Parâmetros!$C$3,0,VLOOKUP(A166,'Base de Dados'!$E$3:$G$422,3,FALSE)*S166)),0)","v":416.38321773032982},null,{"$f":"IF(C166=\"\",\"\",IF(C167=\"\",0,IF(E166=\"Construção\",0,IF(E166=\"Seguro\",$C$17*'Base de Dados'!$C$2,IF($C$14=Parâmetros!$B$4,0,Simulador!$C$17*'Base de Dados'!$C$2)))))","v":66.400000000000006},null,{"$f":"IF(C166=\"\",\"\",IF(E166<>\"Retorno\",(I166+K166+M166),IF($G$20=Parâmetros!$D$2,SUM(G166,I166,K166,M166,O166),PMT($O$25,SUM($G$17),($O$10)*-1)+O166+M166+K166)))","v":10604.328963836906},null,976966.72390973673,null,""]
["2037-06-02","",134,"1900-05-13","Retorno",null,{"$f":"IFERROR(IF(C167=\"\",\"\",IF(E167<>\"Retorno\",0,IF($G$20=Parâmetros!$D$2,Simulador!$O$10/$G$17,IF($G$20=Parâmetros!$D$3,Simulador!Q167-Simulador!O167-Simulador!M167-Simulador!K167-Simulador!I167,\"\")))),\"\")","v":631.43842286422478},null,9490.1073232423514,null,0,null,{"$f":"IFERROR(IF(C167=\"\",\"\",IF($C$10=Parâmetros!$C$3,0,VLOOKUP(A167,'Base de Dados'!$E$3:$G$422,3,FALSE)*S167)),0)","v":416.1140986745051},null,{"$f":"IF(C167=\"\",\"\",IF(C168=\"\",0,IF(E167=\"Construção\",0,IF(E167=\"Seguro\",$C$17*'Base de Dados'!$C$2,IF($C$14=Parâmetros!$B$4,0,Simulador!$C$17*'Base de Dados'!$C$2)))))","v":66.400000000000006},null,{"$f":"IF(C167=\"\",\"\",IF(E167<>\"Retorno\",(I167+K167+M167),IF($G$20=Parâmetros!$D$2,SUM(G167,I167,K167,M167,O167),PMT($O$25,SUM($G$17),($O$10)*-1)+O167+M167+K167)))","v":10604.059844781081},null,976335.28548687254,null,""]
["2037-07-02","",135,"1900-05-14","Retorno",null,{"$f":"IFERROR(IF(C168=\"\",\"\",IF(E168<>\"Retorno\",0,IF($G$20=Parâmetros!$D$2,Simulador!$O$10/$G$17,IF($G$20=Parâmetros!$D$3,Simulador!Q168-Simulador!O168-Simulador!M168-Simulador!K168-Simulador!I168,\"\")))),\"\")","v":637.57212041438652},null,9483.9736256921897,null,0,null,{"$f":"IFERROR(IF(C168=\"\",\"\",IF($C$10=Parâmetros!$C$3,0,VLOOKUP(A168,'Base de Dados'!$E$3:$G$422,3,FALSE)*S168)),0)","v":415.84236543678446},null,{"$f":"IF(C168=\"\",\"\",IF(C169=\"\",0,IF(E168=\"Construção\",0,IF(E168=\"Seguro\",$C$17*'Base de Dados'!$C$2,IF($C$14=Parâmetros!$B$4,0,Simulador!$C$17*'Base de Dados'!$C$2)))))","v":66.400000000000006},null,{"$f":"IF(C168=\"\",\"\",IF(E168<>\"Retorno\",(I168+K168+M168),IF($G$20=Parâmetros!$D$2,SUM(G168,I168,K168,M168,O168),PMT($O$25,SUM($G$17),($O$10)*-1)+O168+M168+K168)))","v":10603.788111543361},null,975697.71336645819,null,""]
["2037-08-02","",136,"1900-05-15","Retorno",null,{"$f":"IFERROR(IF(C169=\"\",\"\",IF(E169<>\"Retorno\",0,IF($G$20=Parâmetros!$D$2,Simulador!$O$10/$G$17,IF($G$20=Parâmetros!$D$3,Simulador!Q169-Simulador!O169-Simulador!M169-Simulador!K169-Simulador!I169,\"\")))),\"\")","v":643.765399776903},null,9477.7803463296732,null,0,null,{"$f":"IFERROR(IF(C169=\"\",\"\",IF($C$10=Parâmetros!$C$3,0,VLOOKUP(A169,'Base de Dados'!$E$3:$G$422,3,FALSE)*S169)),0)","v":415.56799262339956},null,{"$f":"IF(C169=\"\",\"\",IF(C170=\"\",0,IF(E169=\"Construção\",0,IF(E169=\"Seguro\",$C$17*'Base de Dados'!$C$2,IF($C$14=Parâmetros!$B$4,0,Simulador!$C$17*'Base de Dados'!$C$2)))))","v":66.400000000000006},null,{"$f":"IF(C169=\"\",\"\",IF(E169<>\"Retorno\",(I169+K169+M169),IF($G$20=Parâmetros!$D$2,SUM(G169,I169,K169,M169,O169),PMT($O$25,SUM($G$17),($O$10)*-1)+O169+M169+K169)))","v":10603.513738729975},null,975053.94796668133,null,""]
["2037-09-02","",137,"1900-05-16","Retorno",null,{"$f":"IFERROR(IF(C170=\"\",\"\",IF(E170<>\"Retorno\",0,IF($G$20=Parâmetros!$D$2,Simulador!$O$10/$G$17,IF($G$20=Parâmetros!$D$3,Simulador!Q170-Simulador!O170-Simulador!M170-Simulador!K170-Simulador!I170,\"\")))),\"\")","v":650.01883972044197},null,9471.5269063861342,null,0,null,{"$f":"IFERROR(IF(C170=\"\",\"\",IF($C$10=Parâmetros!$C$3,0,VLOOKUP(A170,'Base de Dados'!$E$3:$G$422,3,FALSE)*S170)),0)","v":560.37969964091531},null,{"$f":"IF(C170=\"\",\"\",IF(C171=\"\",0,IF(E170=\"Construção\",0,IF(E170=\"Seguro\",$C$17*'Base de Dados'!$C$2,IF($C$14=Parâmetros!$B$4,0,Simulador!$C$17*'Base de Dados'!$C$2)))))","v":66.400000000000006},null,{"$f":"IF(C170=\"\",\"\",IF(E170<>\"Retorno\",(I170+K170+M170),IF($G$20=Parâmetros!$D$2,SUM(G170,I170,K170,M170,O170),PMT($O$25,SUM($G$17),($O$10)*-1)+O170+M170+K170)))","v":10748.32544574749},null,974403.92912696092,null,""]
["2037-10-02","",138,"1900-05-17","Retorno",null,{"$f":"IFERROR(IF(C171=\"\",\"\",IF(E171<>\"Retorno\",0,IF($G$20=Parâmetros!$D$2,Simulador!$O$10/$G$17,IF($G$20=Parâmetros!$D$3,Simulador!Q171-Simulador!O171-Simulador!M171-Simulador!K171-Simulador!I171,\"\")))),\"\")","v":656.33302463594919},null,9465.212721470627,null,0,null,{"$f":"IFERROR(IF(C171=\"\",\"\",IF($C$10=Parâmetros!$C$3,0,VLOOKUP(A171,'Base de Dados'!$E$3:$G$422,3,FALSE)*S171)),0)","v":560.00224251844713},null,{"$f":"IF(C171=\"\",\"\",IF(C172=\"\",0,IF(E171=\"Construção\",0,IF(E171=\"Seguro\",$C$17*'Base de Dados'!$C$2,IF($C$14=Parâmetros!$B$4,0,Simulador!$C$17*'Base de Dados'!$C$2)))))","v":66.400000000000006},null,{"$f":"IF(C171=\"\",\"\",IF(E171<>\"Retorno\",(I171+K171+M171),IF($G$20=Parâmetros!$D$2,SUM(G171,I171,K171,M171,O171),PMT($O$25,SUM($G$17),($O$10)*-1)+O171+M171+K171)))","v":10747.947988625023},null,973747.59610232501,null,""]
["2037-11-02","",139,"1900-05-18","Retorno",null,{"$f":"IFERROR(IF(C172=\"\",\"\",IF(E172<>\"Retorno\",0,IF($G$20=Parâmetros!$D$2,Simulador!$O$10/$G$17,IF($G$20=Parâmetros!$D$3,Simulador!Q172-Simulador!O172-Simulador!M172-Simulador!K172-Simulador!I172,\"\")))),\"\")","v":662.70854459089787},null,9458.8372015156783,null,0,null,{"$f":"IFERROR(IF(C172=\"\",\"\",IF($C$10=Parâmetros!$C$3,0,VLOOKUP(A172,'Base de Dados'!$E$3:$G$422,3,FALSE)*S172)),0)","v":559.621118834453},null,{"$f":"IF(C172=\"\",\"\",IF(C173=\"\",0,IF(E172=\"Construção\",0,IF(E172=\"Seguro\",$C$17*'Base de Dados'!$C$2,IF($C$14=Parâmetros!$B$4,0,Simulador!$C$17*'Base de Dados'!$C$2)))))","v":66.400000000000006},null,{"$f":"IF(C172=\"\",\"\",IF(E172<>\"Retorno\",(I172+K172+M172),IF($G$20=Parâmetros!$D$2,SUM(G172,I172,K172,M172,O172),PMT($O$25,SUM($G$17),($O$10)*-1)+O172+M172+K172)))","v":10747.566864941029},null,973084.88755773415,null,""]
["2037-12-02","",140,"1900-05-19","Retorno",null,{"$f":"IFERROR(IF(C173=\"\",\"\",IF(E173<>\"Retorno\",0,IF($G$20=Parâmetros!$D$2,Simulador!$O$10/$G$17,IF($G$20=Parâmetros!$D$3,Simulador!Q173-Simulador!O173-Simulador!M173-Simulador!K173-Simulador!I173,\"\")))),\"\")","v":669.14599538458606},null,9452.3997507219901,null,0,null,{"$f":"IFERROR(IF(C173=\"\",\"\",IF($C$10=Parâmetros!$C$3,0,VLOOKUP(A173,'Base de Dados'!$E$3:$G$422,3,FALSE)*S173)),0)","v":559.23629297250727},null,{"$f":"IF(C173=\"\",\"\",IF(C174=\"\",0,IF(E173=\"Construção\",0,IF(E173=\"Seguro\",$C$17*'Base de Dados'!$C$2,IF($C$14=Parâmetros!$B$4,0,Simulador!$C$17*'Base de Dados'!$C$2)))))","v":66.400000000000006},null,{"$f":"IF(C173=\"\",\"\",IF(E173<>\"Retorno\",(I173+K173+M173),IF($G$20=Parâmetros!$D$2,SUM(G173,I173,K173,M173,O173),PMT($O$25,SUM($G$17),($O$10)*-1)+O173+M173+K173)))","v":10747.182039079084},null,972415.74156234961,null,""]
["2038-01-02","",141,"1900-05-20","Retorno",null,{"$f":"IFERROR(IF(C174=\"\",\"\",IF(E174<>\"Retorno\",0,IF($G$20=Parâmetros!$D$2,Simulador!$O$10/$G$17,IF($G$20=Parâmetros!$D$3,Simulador!Q174-Simulador!O174-Simulador!M174-Simulador!K174-Simulador!I174,\"\")))),\"\")","v":675.6459786037849},null,9445.8997675027931,null,0,null,{"$f":"IFERROR(IF(C174=\"\",\"\",IF($C$10=Parâmetros!$C$3,0,VLOOKUP(A174,'Base de Dados'!$E$3:$G$422,3,FALSE)*S174)),0)","v":558.8477289702123},null,{"$f":"IF(C174=\"\",\"\",IF(C175=\"\",0,IF(E174=\"Construção\",0,IF(E174=\"Seguro\",$C$17*'Base de Dados'!$C$2,IF($C$14=Parâmetros!$B$4,0,Simulador!$C$17*'Base de Dados'!$C$2)))))","v":66.400000000000006},null,{"$f":"IF(C174=\"\",\"\",IF(E174<>\"Retorno\",(I174+K174+M174),IF($G$20=Parâmetros!$D$2,SUM(G174,I174,K174,M174,O174),PMT($O$25,SUM($G$17),($O$10)*-1)+O174+M174+K174)))","v":10746.793475076789},null,971740.09558374586,null,""]
["2038-02-02","",142,"1900-05-21","Retorno",null,{"$f":"IFERROR(IF(C175=\"\",\"\",IF(E175<>\"Retorno\",0,IF($G$20=Parâmetros!$D$2,Simulador!$O$10/$G$17,IF($G$20=Parâmetros!$D$3,Simulador!Q175-Simulador!O175-Simulador!M175-Simulador!K175-Simulador!I175,\"\")))),\"\")","v":682.20910167907459},null,9439.3366444275016,null,0,null,{"$f":"IFERROR(IF(C175=\"\",\"\",IF($C$10=Parâmetros!$C$3,0,VLOOKUP(A175,'Base de Dados'!$E$3:$G$422,3,FALSE)*S175)),0)","v":558.45539051583671},null,{"$f":"IF(C175=\"\",\"\",IF(C176=\"\",0,IF(E175=\"Construção\",0,IF(E175=\"Seguro\",$C$17*'Base de Dados'!$C$2,IF($C$14=Parâmetros!$B$4,0,Simulador!$C$17*'Base de Dados'!$C$2)))))","v":66.400000000000006},null,{"$f":"IF(C175=\"\",\"\",IF(E175<>\"Retorno\",(I175+K175+M175),IF($G$20=Parâmetros!$D$2,SUM(G175,I175,K175,M175,O175),PMT($O$25,SUM($G$17),($O$10)*-1)+O175+M175+K175)))","v":10746.401136622413},null,971057.88648206682,null,""]
["2038-03-02","",143,"1900-05-22","Retorno",null,{"$f":"IFERROR(IF(C176=\"\",\"\",IF(E176<>\"Retorno\",0,IF($G$20=Parâmetros!$D$2,Simulador!$O$10/$G$17,IF($G$20=Parâmetros!$D$3,Simulador!Q176-Simulador!O176-Simulador!M176-Simulador!K176-Simulador!I176,\"\")))),\"\")","v":688.83597794144043},null,9432.7097681651358,null,0,null,{"$f":"IFERROR(IF(C176=\"\",\"\",IF($C$10=Parâmetros!$C$3,0,VLOOKUP(A176,'Base de Dados'!$E$3:$G$422,3,FALSE)*S176)),0)","v":558.05924094492252},null,{"$f":"IF(C176=\"\",\"\",IF(C177=\"\",0,IF(E176=\"Construção\",0,IF(E176=\"Seguro\",$C$17*'Base de Dados'!$C$2,IF($C$14=Parâmetros!$B$4,0,Simulador!$C$17*'Base de Dados'!$C$2)))))","v":66.400000000000006},null,{"$f":"IF(C176=\"\",\"\",IF(E176<>\"Retorno\",(I176+K176+M176),IF($G$20=Parâmetros!$D$2,SUM(G176,I176,K176,M176,O176),PMT($O$25,SUM($G$17),($O$10)*-1)+O176+M176+K176)))","v":10746.004987051498},null,970369.05050412542,null,""]
["2038-04-02","",144,"1900-05-23","Retorno",null,{"$f":"IFERROR(IF(C177=\"\",\"\",IF(E177<>\"Retorno\",0,IF($G$20=Parâmetros!$D$2,Simulador!$O$10/$G$17,IF($G$20=Parâmetros!$D$3,Simulador!Q177-Simulador!O177-Simulador!M177-Simulador!K177-Simulador!I177,\"\")))),\"\")","v":695.52722667976377},null,9426.0185194268124,null,0,null,{"$f":"IFERROR(IF(C177=\"\",\"\",IF($C$10=Parâmetros!$C$3,0,VLOOKUP(A177,'Base de Dados'!$E$3:$G$422,3,FALSE)*S177)),0)","v":557.65924323685908},null,{"$f":"IF(C177=\"\",\"\",IF(C178=\"\",0,IF(E177=\"Construção\",0,IF(E177=\"Seguro\",$C$17*'Base de Dados'!$C$2,IF($C$14=Parâmetros!$B$4,0,Simulador!$C$17*'Base de Dados'!$C$2)))))","v":66.400000000000006},null,{"$f":"IF(C177=\"\",\"\",IF(E177<>\"Retorno\",(I177+K177+M177),IF($G$20=Parâmetros!$D$2,SUM(G177,I177,K177,M177,O177),PMT($O$25,SUM($G$17),($O$10)*-1)+O177+M177+K177)))","v":10745.604989343436},null,969673.5232774457,null,""]
["2038-05-02","",145,"1900-05-24","Retorno",null,{"$f":"IFERROR(IF(C178=\"\",\"\",IF(E178<>\"Retorno\",0,IF($G$20=Parâmetros!$D$2,Simulador!$O$10/$G$17,IF($G$20=Parâmetros!$D$3,Simulador!Q178-Simulador!O178-Simulador!M178-Simulador!K178-Simulador!I178,\"\")))),\"\")","v":702.28347319857312},null,9419.2622729080031,null,0,null,{"$f":"IFERROR(IF(C178=\"\",\"\",IF($C$10=Parâmetros!$C$3,0,VLOOKUP(A178,'Base de Dados'!$E$3:$G$422,3,FALSE)*S178)),0)","v":557.25536001142257},null,{"$f":"IF(C178=\"\",\"\",IF(C179=\"\",0,IF(E178=\"Construção\",0,IF(E178=\"Seguro\",$C$17*'Base de Dados'!$C$2,IF($C$14=Parâmetros!$B$4,0,Simulador!$C$17*'Base de Dados'!$C$2)))))","v":66.400000000000006},null,{"$f":"IF(C178=\"\",\"\",IF(E178<>\"Retorno\",(I178+K178+M178),IF($G$20=Parâmetros!$D$2,SUM(G178,I178,K178,M178,O178),PMT($O$25,SUM($G$17),($O$10)*-1)+O178+M178+K178)))","v":10745.201106117998},null,968971.23980424716,null,""]
["2038-06-02","",146,"1900-05-25","Retorno",null,{"$f":"IFERROR(IF(C179=\"\",\"\",IF(E179<>\"Retorno\",0,IF($G$20=Parâmetros!$D$2,Simulador!$O$10/$G$17,IF($G$20=Parâmetros!$D$3,Simulador!Q179-Simulador!O179-Simulador!M179-Simulador!K179-Simulador!I179,\"\")))),\"\")","v":709.10534887648282},null,9412.4403972300934,null,0,null,{"$f":"IFERROR(IF(C179=\"\",\"\",IF($C$10=Parâmetros!$C$3,0,VLOOKUP(A179,'Base de Dados'!$E$3:$G$422,3,FALSE)*S179)),0)","v":556.84755352528373},null,{"$f":"IF(C179=\"\",\"\",IF(C180=\"\",0,IF(E179=\"Construção\",0,IF(E179=\"Seguro\",$C$17*'Base de Dados'!$C$2,IF($C$14=Parâmetros!$B$4,0,Simulador!$C$17*'Base de Dados'!$C$2)))))","v":66.400000000000006},null,{"$f":"IF(C179=\"\",\"\",IF(E179<>\"Retorno\",(I179+K179+M179),IF($G$20=Parâmetros!$D$2,SUM(G179,I179,K179,M179,O179),PMT($O$25,SUM($G$17),($O$10)*-1)+O179+M179+K179)))","v":10744.79329963186},null,968262.13445537072,null,""]
["2038-07-02","",147,"1900-05-26","Retorno",null,{"$f":"IFERROR(IF(C180=\"\",\"\",IF(E180<>\"Retorno\",0,IF($G$20=Parâmetros!$D$2,Simulador!$O$10/$G$17,IF($G$20=Parâmetros!$D$3,Simulador!Q180-Simulador!O180-Simulador!M180-Simulador!K180-Simulador!I180,\"\")))),\"\")","v":715.99349122533204},null,9405.5522548812442,null,0,null,{"$f":"IFERROR(IF(C180=\"\",\"\",IF($C$10=Parâmetros!$C$3,0,VLOOKUP(A180,'Base de Dados'!$E$3:$G$422,3,FALSE)*S180)),0)","v":556.43578566848009},null,{"$f":"IF(C180=\"\",\"\",IF(C181=\"\",0,IF(E180=\"Construção\",0,IF(E180=\"Seguro\",$C$17*'Base de Dados'!$C$2,IF($C$14=Parâmetros!$B$4,0,Simulador!$C$17*'Base de Dados'!$C$2)))))","v":66.400000000000006},null,{"$f":"IF(C180=\"\",\"\",IF(E180<>\"Retorno\",(I180+K180+M180),IF($G$20=Parâmetros!$D$2,SUM(G180,I180,K180,M180,O180),PMT($O$25,SUM($G$17),($O$10)*-1)+O180+M180+K180)))","v":10744.381531775056},null,967546.14096414542,null,""]
["2038-08-02","",148,"1900-05-27","Retorno",null,{"$f":"IFERROR(IF(C181=\"\",\"\",IF(E181<>\"Retorno\",0,IF($G$20=Parâmetros!$D$2,Simulador!$O$10/$G$17,IF($G$20=Parâmetros!$D$3,Simulador!Q181-Simulador!O181-Simulador!M181-Simulador!K181-Simulador!I181,\"\")))),\"\")","v":722.94854394944014},null,9398.5972021571361,null,0,null,{"$f":"IFERROR(IF(C181=\"\",\"\",IF($C$10=Parâmetros!$C$3,0,VLOOKUP(A181,'Base de Dados'!$E$3:$G$422,3,FALSE)*S181)),0)","v":556.02001796085483},null,{"$f":"IF(C181=\"\",\"\",IF(C182=\"\",0,IF(E181=\"Construção\",0,IF(E181=\"Seguro\",$C$17*'Base de Dados'!$C$2,IF($C$14=Parâmetros!$B$4,0,Simulador!$C$17*'Base de Dados'!$C$2)))))","v":66.400000000000006},null,{"$f":"IF(C181=\"\",\"\",IF(E181<>\"Retorno\",(I181+K181+M181),IF($G$20=Parâmetros!$D$2,SUM(G181,I181,K181,M181,O181),PMT($O$25,SUM($G$17),($O$10)*-1)+O181+M181+K181)))","v":10743.96576406743},null,966823.19242019602,null,""]
["2038-09-02","",149,"1900-05-28","Retorno",null,{"$f":"IFERROR(IF(C182=\"\",\"\",IF(E182<>\"Retorno\",0,IF($G$20=Parâmetros!$D$2,Simulador!$O$10/$G$17,IF($G$20=Parâmetros!$D$3,Simulador!Q182-Simulador!O182-Simulador!M182-Simulador!K182-Simulador!I182,\"\")))),\"\")","v":729.97115700602626},null,9391.5745891005499,null,0,null,{"$f":"IFERROR(IF(C182=\"\",\"\",IF($C$10=Parâmetros!$C$3,0,VLOOKUP(A182,'Base de Dados'!$E$3:$G$422,3,FALSE)*S182)),0)","v":555.60021154846061},null,{"$f":"IF(C182=\"\",\"\",IF(C183=\"\",0,IF(E182=\"Construção\",0,IF(E182=\"Seguro\",$C$17*'Base de Dados'!$C$2,IF($C$14=Parâmetros!$B$4,0,Simulador!$C$17*'Base de Dados'!$C$2)))))","v":66.400000000000006},null,{"$f":"IF(C182=\"\",\"\",IF(E182<>\"Retorno\",(I182+K182+M182),IF($G$20=Parâmetros!$D$2,SUM(G182,I182,K182,M182,O182),PMT($O$25,SUM($G$17),($O$10)*-1)+O182+M182+K182)))","v":10743.545957655037},null,966093.22126319003,null,""]
["2038-10-02","",150,"1900-05-29","Retorno",null,{"$f":"IFERROR(IF(C183=\"\",\"\",IF(E183<>\"Retorno\",0,IF($G$20=Parâmetros!$D$2,Simulador!$O$10/$G$17,IF($G$20=Parâmetros!$D$3,Simulador!Q183-Simulador!O183-Simulador!M183-Simulador!K183-Simulador!I183,\"\")))),\"\")","v":737.06198666621276},null,9384.4837594403652,null,0,null,{"$f":"IFERROR(IF(C183=\"\",\"\",IF($C$10=Parâmetros!$C$3,0,VLOOKUP(A183,'Base de Dados'!$E$3:$G$422,3,FALSE)*S183)),0)","v":555.17632719992889},null,{"$f":"IF(C183=\"\",\"\",IF(C184=\"\",0,IF(E183=\"Construção\",0,IF(E183=\"Seguro\",$C$17*'Base de Dados'!$C$2,IF($C$14=Parâmetros!$B$4,0,Simulador!$C$17*'Base de Dados'!$C$2)))))","v":66.400000000000006},null,{"$f":"IF(C183=\"\",\"\",IF(E183<>\"Retorno\",(I183+K183+M183),IF($G$20=Parâmetros!$D$2,SUM(G183,I183,K183,M183,O183),PMT($O$25,SUM($G$17),($O$10)*-1)+O183+M183+K183)))","v":10743.122073306506},null,965356.15927652386,null,""]
["2038-11-02","",151,"1900-05-30","Retorno",null,{"$f":"IFERROR(IF(C184=\"\",\"\",IF(E184<>\"Retorno\",0,IF($G$20=Parâmetros!$D$2,Simulador!$O$10/$G$17,IF($G$20=Parâmetros!$D$3,Simulador!Q184-Simulador!O184-Simulador!M184-Simulador!K184-Simulador!I184,\"\")))),\"\")","v":744.22169557555208},null,9377.3240505310241,null,0,null,{"$f":"IFERROR(IF(C184=\"\",\"\",IF($C$10=Parâmetros!$C$3,0,VLOOKUP(A184,'Base de Dados'!$E$3:$G$422,3,FALSE)*S184)),0)","v":554.74832530280344},null,{"$f":"IF(C184=\"\",\"\",IF(C185=\"\",0,IF(E184=\"Construção\",0,IF(E184=\"Seguro\",$C$17*'Base de Dados'!$C$2,IF($C$14=Parâmetros!$B$4,0,Simulador!$C$17*'Base de Dados'!$C$2)))))","v":66.400000000000006},null,{"$f":"IF(C184=\"\",\"\",IF(E184<>\"Retorno\",(I184+K184+M184),IF($G$20=Parâmetros!$D$2,SUM(G184,I184,K184,M184,O184),PMT($O$25,SUM($G$17),($O$10)*-1)+O184+M184+K184)))","v":10742.69407140938},null,964611.93758094835,null,""]
["2038-12-02","",152,"1900-05-31","Retorno",null,{"$f":"IFERROR(IF(C185=\"\",\"\",IF(E185<>\"Retorno\",0,IF($G$20=Parâmetros!$D$2,Simulador!$O$10/$G$17,IF($G$20=Parâmetros!$D$3,Simulador!Q185-Simulador!O185-Simulador!M185-Simulador!K185-Simulador!I185,\"\")))),\"\")","v":751.45095281690919},null,9370.094793289667,null,0,null,{"$f":"IFERROR(IF(C185=\"\",\"\",IF($C$10=Parâmetros!$C$3,0,VLOOKUP(A185,'Base de Dados'!$E$3:$G$422,3,FALSE)*S185)),0)","v":554.31616585983841},null,{"$f":"IF(C185=\"\",\"\",IF(C186=\"\",0,IF(E185=\"Construção\",0,IF(E185=\"Seguro\",$C$17*'Base de Dados'!$C$2,IF($C$14=Parâmetros!$B$4,0,Simulador!$C$17*'Base de Dados'!$C$2)))))","v":66.400000000000006},null,{"$f":"IF(C185=\"\",\"\",IF(E185<>\"Retorno\",(I185+K185+M185),IF($G$20=Parâmetros!$D$2,SUM(G185,I185,K185,M185,O185),PMT($O$25,SUM($G$17),($O$10)*-1)+O185+M185+K185)))","v":10742.261911966414},null,963860.48662813148,null,""]
["2039-01-02","",153,"1900-06-01","Retorno",null,{"$f":"IFERROR(IF(C186=\"\",\"\",IF(E186<>\"Retorno\",0,IF($G$20=Parâmetros!$D$2,Simulador!$O$10/$G$17,IF($G$20=Parâmetros!$D$3,Simulador!Q186-Simulador!O186-Simulador!M186-Simulador!K186-Simulador!I186,\"\")))),\"\")","v":758.75043397202717},null,9362.795312134549,null,0,null,{"$f":"IFERROR(IF(C186=\"\",\"\",IF($C$10=Parâmetros!$C$3,0,VLOOKUP(A186,'Base de Dados'!$E$3:$G$422,3,FALSE)*S186)),0)","v":553.87980848526115},null,{"$f":"IF(C186=\"\",\"\",IF(C187=\"\",0,IF(E186=\"Construção\",0,IF(E186=\"Seguro\",$C$17*'Base de Dados'!$C$2,IF($C$14=Parâmetros!$B$4,0,Simulador!$C$17*'Base de Dados'!$C$2)))))","v":66.400000000000006},null,{"$f":"IF(C186=\"\",\"\",IF(E186<>\"Retorno\",(I186+K186+M186),IF($G$20=Parâmetros!$D$2,SUM(G186,I186,K186,M186,O186),PMT($O$25,SUM($G$17),($O$10)*-1)+O186+M186+K186)))","v":10741.825554591836},null,963101.73619415949,null,""]
["2039-02-02","",154,"1900-06-02","Retorno",null,{"$f":"IFERROR(IF(C187=\"\",\"\",IF(E187<>\"Retorno\",0,IF($G$20=Parâmetros!$D$2,Simulador!$O$10/$G$17,IF($G$20=Parâmetros!$D$3,Simulador!Q187-Simulador!O187-Simulador!M187-Simulador!K187-Simulador!I187,\"\")))),\"\")","v":766.12082118556464},null,9355.4249249210116,null,0,null,{"$f":"IFERROR(IF(C187=\"\",\"\",IF($C$10=Parâmetros!$C$3,0,VLOOKUP(A187,'Base de Dados'!$E$3:$G$422,3,FALSE)*S187)),0)","v":553.43921240099735},null,{"$f":"IF(C187=\"\",\"\",IF(C188=\"\",0,IF(E187=\"Construção\",0,IF(E187=\"Seguro\",$C$17*'Base de Dados'!$C$2,IF($C$14=Parâmetros!$B$4,0,Simulador!$C$17*'Base de Dados'!$C$2)))))","v":66.400000000000006},null,{"$f":"IF(C187=\"\",\"\",IF(E187<>\"Retorno\",(I187+K187+M187),IF($G$20=Parâmetros!$D$2,SUM(G187,I187,K187,M187,O187),PMT($O$25,SUM($G$17),($O$10)*-1)+O187+M187+K187)))","v":10741.384958507573},null,962335.61537297396,null,""]
["2039-03-02","",155,"1900-06-03","Retorno",null,{"$f":"IFERROR(IF(C188=\"\",\"\",IF(E188<>\"Retorno\",0,IF($G$20=Parâmetros!$D$2,Simulador!$O$10/$G$17,IF($G$20=Parâmetros!$D$3,Simulador!Q188-Simulador!O188-Simulador!M188-Simulador!K188-Simulador!I188,\"\")))),\"\")","v":773.56280322819111},null,9347.9829428783851,null,0,null,{"$f":"IFERROR(IF(C188=\"\",\"\",IF($C$10=Parâmetros!$C$3,0,VLOOKUP(A188,'Base de Dados'!$E$3:$G$422,3,FALSE)*S188)),0)","v":552.99433643286091},null,{"$f":"IF(C188=\"\",\"\",IF(C189=\"\",0,IF(E188=\"Construção\",0,IF(E188=\"Seguro\",$C$17*'Base de Dados'!$C$2,IF($C$14=Parâmetros!$B$4,0,Simulador!$C$17*'Base de Dados'!$C$2)))))","v":66.400000000000006},null,{"$f":"IF(C188=\"\",\"\",IF(E188<>\"Retorno\",(I188+K188+M188),IF($G$20=Parâmetros!$D$2,SUM(G188,I188,K188,M188,O188),PMT($O$25,SUM($G$17),($O$10)*-1)+O188+M188+K188)))","v":10740.940082539437},null,961562.05256974581,null,""]
["2039-04-02","",156,"1900-06-04","Retorno",null,{"$f":"IFERROR(IF(C189=\"\",\"\",IF(E189<>\"Retorno\",0,IF($G$20=Parâmetros!$D$2,Simulador!$O$10/$G$17,IF($G$20=Parâmetros!$D$3,Simulador!Q189-Simulador!O189-Simulador!M189-Simulador!K189-Simulador!I189,\"\")))),\"\")","v":781.07707556143214},null,9340.4686705451459,null,0,null,{"$f":"IFERROR(IF(C189=\"\",\"\",IF($C$10=Parâmetros!$C$3,0,VLOOKUP(A189,'Base de Dados'!$E$3:$G$422,3,FALSE)*S189)),0)","v":552.54513900670554},null,{"$f":"IF(C189=\"\",\"\",IF(C190=\"\",0,IF(E189=\"Construção\",0,IF(E189=\"Seguro\",$C$17*'Base de Dados'!$C$2,IF($C$14=Parâmetros!$B$4,0,Simulador!$C$17*'Base de Dados'!$C$2)))))","v":66.400000000000006},null,{"$f":"IF(C189=\"\",\"\",IF(E189<>\"Retorno\",(I189+K189+M189),IF($G$20=Parâmetros!$D$2,SUM(G189,I189,K189,M189,O189),PMT($O$25,SUM($G$17),($O$10)*-1)+O189+M189+K189)))","v":10740.490885113282},null,960780.97549418441,null,""]
["2039-05-02","",157,"1900-06-05","Retorno",null,{"$f":"IFERROR(IF(C190=\"\",\"\",IF(E190<>\"Retorno\",0,IF($G$20=Parâmetros!$D$2,Simulador!$O$10/$G$17,IF($G$20=Parâmetros!$D$3,Simulador!Q190-Simulador!O190-Simulador!M190-Simulador!K190-Simulador!I190,\"\")))),\"\")","v":788.66434040203785},null,9332.8814057045383,null,0,null,{"$f":"IFERROR(IF(C190=\"\",\"\",IF($C$10=Parâmetros!$C$3,0,VLOOKUP(A190,'Base de Dados'!$E$3:$G$422,3,FALSE)*S190)),0)","v":552.09157814454034},null,{"$f":"IF(C190=\"\",\"\",IF(C191=\"\",0,IF(E190=\"Construção\",0,IF(E190=\"Seguro\",$C$17*'Base de Dados'!$C$2,IF($C$14=Parâmetros!$B$4,0,Simulador!$C$17*'Base de Dados'!$C$2)))))","v":66.400000000000006},null,{"$f":"IF(C190=\"\",\"\",IF(E190<>\"Retorno\",(I190+K190+M190),IF($G$20=Parâmetros!$D$2,SUM(G190,I190,K190,M190,O190),PMT($O$25,SUM($G$17),($O$10)*-1)+O190+M190+K190)))","v":10740.037324251116},null,959992.31115378242,null,""]
["2039-06-02","",158,"1900-06-06","Retorno",null,{"$f":"IFERROR(IF(C191=\"\",\"\",IF(E191<>\"Retorno\",0,IF($G$20=Parâmetros!$D$2,Simulador!$O$10/$G$17,IF($G$20=Parâmetros!$D$3,Simulador!Q191-Simulador!O191-Simulador!M191-Simulador!K191-Simulador!I191,\"\")))),\"\")","v":796.32530678835792},null,9325.2204393182183,null,0,null,{"$f":"IFERROR(IF(C191=\"\",\"\",IF($C$10=Parâmetros!$C$3,0,VLOOKUP(A191,'Base de Dados'!$E$3:$G$422,3,FALSE)*S191)),0)","v":551.6336114606064},null,{"$f":"IF(C191=\"\",\"\",IF(C192=\"\",0,IF(E191=\"Construção\",0,IF(E191=\"Seguro\",$C$17*'Base de Dados'!$C$2,IF($C$14=Parâmetros!$B$4,0,Simulador!$C$17*'Base de Dados'!$C$2)))))","v":66.400000000000006},null,{"$f":"IF(C191=\"\",\"\",IF(E191<>\"Retorno\",(I191+K191+M191),IF($G$20=Parâmetros!$D$2,SUM(G191,I191,K191,M191,O191),PMT($O$25,SUM($G$17),($O$10)*-1)+O191+M191+K191)))","v":10739.579357567181},null,959195.9858469941,null,""]
["2039-07-02","",159,"1900-06-07","Retorno",null,{"$f":"IFERROR(IF(C192=\"\",\"\",IF(E192<>\"Retorno\",0,IF($G$20=Parâmetros!$D$2,Simulador!$O$10/$G$17,IF($G$20=Parâmetros!$D$3,Simulador!Q192-Simulador!O192-Simulador!M192-Simulador!K192-Simulador!I192,\"\")))),\"\")","v":804.06069064598159},null,9317.4850554605946,null,0,null,{"$f":"IFERROR(IF(C192=\"\",\"\",IF($C$10=Parâmetros!$C$3,0,VLOOKUP(A192,'Base de Dados'!$E$3:$G$422,3,FALSE)*S192)),0)","v":551.17119615741592},null,{"$f":"IF(C192=\"\",\"\",IF(C193=\"\",0,IF(E192=\"Construção\",0,IF(E192=\"Seguro\",$C$17*'Base de Dados'!$C$2,IF($C$14=Parâmetros!$B$4,0,Simulador!$C$17*'Base de Dados'!$C$2)))))","v":66.400000000000006},null,{"$f":"IF(C192=\"\",\"\",IF(E192<>\"Retorno\",(I192+K192+M192),IF($G$20=Parâmetros!$D$2,SUM(G192,I192,K192,M192,O192),PMT($O$25,SUM($G$17),($O$10)*-1)+O192+M192+K192)))","v":10739.116942263992},null,958391.92515634815,null,""]
["2039-08-02","",160,"1900-06-08","Retorno",null,{"$f":"IFERROR(IF(C193=\"\",\"\",IF(E193<>\"Retorno\",0,IF($G$20=Parâmetros!$D$2,Simulador!$O$10/$G$17,IF($G$20=Parâmetros!$D$3,Simulador!Q193-Simulador!O193-Simulador!M193-Simulador!K193-Simulador!I193,\"\")))),\"\")","v":811.87121485515127},null,9309.6745312514249,null,0,null,{"$f":"IFERROR(IF(C193=\"\",\"\",IF($C$10=Parâmetros!$C$3,0,VLOOKUP(A193,'Base de Dados'!$E$3:$G$422,3,FALSE)*S193)),0)","v":550.70428902175274},null,{"$f":"IF(C193=\"\",\"\",IF(C194=\"\",0,IF(E193=\"Construção\",0,IF(E193=\"Seguro\",$C$17*'Base de Dados'!$C$2,IF($C$14=Parâmetros!$B$4,0,Simulador!$C$17*'Base de Dados'!$C$2)))))","v":66.400000000000006},null,{"$f":"IF(C193=\"\",\"\",IF(E193<>\"Retorno\",(I193+K193+M193),IF($G$20=Parâmetros!$D$2,SUM(G193,I193,K193,M193,O193),PMT($O$25,SUM($G$17),($O$10)*-1)+O193+M193+K193)))","v":10738.650035128328},null,957580.05394149304,null,""]
["2039-09-02","",161,"1900-06-09","Retorno",null,{"$f":"IFERROR(IF(C194=\"\",\"\",IF(E194<>\"Retorno\",0,IF($G$20=Parâmetros!$D$2,Simulador!$O$10/$G$17,IF($G$20=Parâmetros!$D$3,Simulador!Q194-Simulador!O194-Simulador!M194-Simulador!K194-Simulador!I194,\"\")))),\"\")","v":819.75760931781588},null,9301.7881367887603,null,0,null,{"$f":"IFERROR(IF(C194=\"\",\"\",IF($C$10=Parâmetros!$C$3,0,VLOOKUP(A194,'Base de Dados'!$E$3:$G$422,3,FALSE)*S194)),0)","v":550.23284642063402},null,{"$f":"IF(C194=\"\",\"\",IF(C195=\"\",0,IF(E194=\"Construção\",0,IF(E194=\"Seguro\",$C$17*'Base de Dados'!$C$2,IF($C$14=Parâmetros!$B$4,0,Simulador!$C$17*'Base de Dados'!$C$2)))))","v":66.400000000000006},null,{"$f":"IF(C194=\"\",\"\",IF(E194<>\"Retorno\",(I194+K194+M194),IF($G$20=Parâmetros!$D$2,SUM(G194,I194,K194,M194,O194),PMT($O$25,SUM($G$17),($O$10)*-1)+O194+M194+K194)))","v":10738.178592527211},null,956760.29633217526,null,""]
["2039-10-02","",162,"1900-06-10","Retorno",null,{"$f":"IFERROR(IF(C195=\"\",\"\",IF(E195<>\"Retorno\",0,IF($G$20=Parâmetros!$D$2,Simulador!$O$10/$G$17,IF($G$20=Parâmetros!$D$3,Simulador!Q195-Simulador!O195-Simulador!M195-Simulador!K195-Simulador!I195,\"\")))),\"\")","v":827.72061102620137},null,9293.8251350803766,null,0,null,{"$f":"IFERROR(IF(C195=\"\",\"\",IF($C$10=Parâmetros!$C$3,0,VLOOKUP(A195,'Base de Dados'!$E$3:$G$422,3,FALSE)*S195)),0)","v":549.75682429723292},null,{"$f":"IF(C195=\"\",\"\",IF(C196=\"\",0,IF(E195=\"Construção\",0,IF(E195=\"Seguro\",$C$17*'Base de Dados'!$C$2,IF($C$14=Parâmetros!$B$4,0,Simulador!$C$17*'Base de Dados'!$C$2)))))","v":66.400000000000006},null,{"$f":"IF(C195=\"\",\"\",IF(E195<>\"Retorno\",(I195+K195+M195),IF($G$20=Parâmetros!$D$2,SUM(G195,I195,K195,M195,O195),PMT($O$25,SUM($G$17),($O$10)*-1)+O195+M195+K195)))","v":10737.70257040381},null,955932.5757211491,null,""]
["2039-11-02","",163,"1900-06-11","Retorno",null,{"$f":"IFERROR(IF(C196=\"\",\"\",IF(E196<>\"Retorno\",0,IF($G$20=Parâmetros!$D$2,Simulador!$O$10/$G$17,IF($G$20=Parâmetros!$D$3,Simulador!Q196-Simulador!O196-Simulador!M196-Simulador!K196-Simulador!I196,\"\")))),\"\")","v":835.7609641313702},null,9285.784781975206,null,0,null,{"$f":"IFERROR(IF(C196=\"\",\"\",IF($C$10=Parâmetros!$C$3,0,VLOOKUP(A196,'Base de Dados'!$E$3:$G$422,3,FALSE)*S196)),0)","v":549.27617816676093},null,{"$f":"IF(C196=\"\",\"\",IF(C197=\"\",0,IF(E196=\"Construção\",0,IF(E196=\"Seguro\",$C$17*'Base de Dados'!$C$2,IF($C$14=Parâmetros!$B$4,0,Simulador!$C$17*'Base de Dados'!$C$2)))))","v":66.400000000000006},null,{"$f":"IF(C196=\"\",\"\",IF(E196<>\"Retorno\",(I196+K196+M196),IF($G$20=Parâmetros!$D$2,SUM(G196,I196,K196,M196,O196),PMT($O$25,SUM($G$17),($O$10)*-1)+O196+M196+K196)))","v":10737.221924273337},null,955096.81475701777,null,""]
["2039-12-02","",164,"1900-06-12","Retorno",null,{"$f":"IFERROR(IF(C197=\"\",\"\",IF(E197<>\"Retorno\",0,IF($G$20=Parâmetros!$D$2,Simulador!$O$10/$G$17,IF($G$20=Parâmetros!$D$3,Simulador!Q197-Simulador!O197-Simulador!M197-Simulador!K197-Simulador!I197,\"\")))),\"\")","v":843.87942001332158},null,9277.6663260932546,null,0,null,{"$f":"IFERROR(IF(C197=\"\",\"\",IF($C$10=Parâmetros!$C$3,0,VLOOKUP(A197,'Base de Dados'!$E$3:$G$422,3,FALSE)*S197)),0)","v":548.79086311231129},null,{"$f":"IF(C197=\"\",\"\",IF(C198=\"\",0,IF(E197=\"Construção\",0,IF(E197=\"Seguro\",$C$17*'Base de Dados'!$C$2,IF($C$14=Parâmetros!$B$4,0,Simulador!$C$17*'Base de Dados'!$C$2)))))","v":66.400000000000006},null,{"$f":"IF(C197=\"\",\"\",IF(E197<>\"Retorno\",(I197+K197+M197),IF($G$20=Parâmetros!$D$2,SUM(G197,I197,K197,M197,O197),PMT($O$25,SUM($G$17),($O$10)*-1)+O197+M197+K197)))","v":10736.736609218888},null,954252.93533700448,null,""]
["2040-01-02","",165,"1900-06-13","Retorno",null,{"$f":"IFERROR(IF(C198=\"\",\"\",IF(E198<>\"Retorno\",0,IF($G$20=Parâmetros!$D$2,Simulador!$O$10/$G$17,IF($G$20=Parâmetros!$D$3,Simulador!Q198-Simulador!O198-Simulador!M198-Simulador!K198-Simulador!I198,\"\")))),\"\")","v":852.07673735058961},null,9269.4690087559866,null,0,null,{"$f":"IFERROR(IF(C198=\"\",\"\",IF($C$10=Parâmetros!$C$3,0,VLOOKUP(A198,'Base de Dados'!$E$3:$G$422,3,FALSE)*S198)),0)","v":548.30083378066104},null,{"$f":"IF(C198=\"\",\"\",IF(C199=\"\",0,IF(E198=\"Construção\",0,IF(E198=\"Seguro\",$C$17*'Base de Dados'!$C$2,IF($C$14=Parâmetros!$B$4,0,Simulador!$C$17*'Base de Dados'!$C$2)))))","v":66.400000000000006},null,{"$f":"IF(C198=\"\",\"\",IF(E198<>\"Retorno\",(I198+K198+M198),IF($G$20=Parâmetros!$D$2,SUM(G198,I198,K198,M198,O198),PMT($O$25,SUM($G$17),($O$10)*-1)+O198+M198+K198)))","v":10736.246579887236},null,953400.85859965393,null,""]
["2040-02-02","",166,"1900-06-14","Retorno",null,{"$f":"IFERROR(IF(C199=\"\",\"\",IF(E199<>\"Retorno\",0,IF($G$20=Parâmetros!$D$2,Simulador!$O$10/$G$17,IF($G$20=Parâmetros!$D$3,Simulador!Q199-Simulador!O199-Simulador!M199-Simulador!K199-Simulador!I199,\"\")))),\"\")","v":860.35368219138218},null,9261.192063915194,null,0,null,{"$f":"IFERROR(IF(C199=\"\",\"\",IF($C$10=Parâmetros!$C$3,0,VLOOKUP(A199,'Base de Dados'!$E$3:$G$422,3,FALSE)*S199)),0)","v":547.80604437803277},null,{"$f":"IF(C199=\"\",\"\",IF(C200=\"\",0,IF(E199=\"Construção\",0,IF(E199=\"Seguro\",$C$17*'Base de Dados'!$C$2,IF($C$14=Parâmetros!$B$4,0,Simulador!$C$17*'Base de Dados'!$C$2)))))","v":66.400000000000006},null,{"$f":"IF(C199=\"\",\"\",IF(E199<>\"Retorno\",(I199+K199+M199),IF($G$20=Parâmetros!$D$2,SUM(G199,I199,K199,M199,O199),PMT($O$25,SUM($G$17),($O$10)*-1)+O199+M199+K199)))","v":10735.751790484608},null,952540.50491746259,null,""]
["2040-03-02","",167,"1900-06-15","Retorno",null,{"$f":"IFERROR(IF(C200=\"\",\"\",IF(E200<>\"Retorno\",0,IF($G$20=Parâmetros!$D$2,Simulador!$O$10/$G$17,IF($G$20=Parâmetros!$D$3,Simulador!Q200-Simulador!O200-Simulador!M200-Simulador!K200-Simulador!I200,\"\")))),\"\")","v":868.71102802529094},null,9252.8347180812852,null,0,null,{"$f":"IFERROR(IF(C200=\"\",\"\",IF($C$10=Parâmetros!$C$3,0,VLOOKUP(A200,'Base de Dados'!$E$3:$G$422,3,FALSE)*S200)),0)","v":547.30644866581542},null,{"$f":"IF(C200=\"\",\"\",IF(C201=\"\",0,IF(E200=\"Construção\",0,IF(E200=\"Seguro\",$C$17*'Base de Dados'!$C$2,IF($C$14=Parâmetros!$B$4,0,Simulador!$C$17*'Base de Dados'!$C$2)))))","v":66.400000000000006},null,{"$f":"IF(C200=\"\",\"\",IF(E200<>\"Retorno\",(I200+K200+M200),IF($G$20=Parâmetros!$D$2,SUM(G200,I200,K200,M200,O200),PMT($O$25,SUM($G$17),($O$10)*-1)+O200+M200+K200)))","v":10735.252194772391},null,951671.79388943734,null,""]
["2040-04-02","",168,"1900-06-16","Retorno",null,{"$f":"IFERROR(IF(C201=\"\",\"\",IF(E201<>\"Retorno\",0,IF($G$20=Parâmetros!$D$2,Simulador!$O$10/$G$17,IF($G$20=Parâmetros!$D$3,Simulador!Q201-Simulador!O201-Simulador!M201-Simulador!K201-Simulador!I201,\"\")))),\"\")","v":877.14955585546704},null,9244.3961902511073,null,0,null,{"$f":"IFERROR(IF(C201=\"\",\"\",IF($C$10=Parâmetros!$C$3,0,VLOOKUP(A201,'Base de Dados'!$E$3:$G$422,3,FALSE)*S201)),0)","v":546.80199995624298},null,{"$f":"IF(C201=\"\",\"\",IF(C202=\"\",0,IF(E201=\"Construção\",0,IF(E201=\"Seguro\",$C$17*'Base de Dados'!$C$2,IF($C$14=Parâmetros!$B$4,0,Simulador!$C$17*'Base de Dados'!$C$2)))))","v":66.400000000000006},null,{"$f":"IF(C201=\"\",\"\",IF(E201<>\"Retorno\",(I201+K201+M201),IF($G$20=Parâmetros!$D$2,SUM(G201,I201,K201,M201,O201),PMT($O$25,SUM($G$17),($O$10)*-1)+O201+M201+K201)))","v":10734.747746062818},null,950794.64433358191,null,""]
["2040-05-02","",169,"1900-06-17","Retorno",null,{"$f":"IFERROR(IF(C202=\"\",\"\",IF(E202<>\"Retorno\",0,IF($G$20=Parâmetros!$D$2,Simulador!$O$10/$G$17,IF($G$20=Parâmetros!$D$3,Simulador!Q202-Simulador!O202-Simulador!M202-Simulador!K202-Simulador!I202,\"\")))),\"\")","v":885.67005427150616},null,9235.87569183507,null,0,null,{"$f":"IFERROR(IF(C202=\"\",\"\",IF($C$10=Parâmetros!$C$3,0,VLOOKUP(A202,'Base de Dados'!$E$3:$G$422,3,FALSE)*S202)),0)","v":546.29265110803146},null,{"$f":"IF(C202=\"\",\"\",IF(C203=\"\",0,IF(E202=\"Construção\",0,IF(E202=\"Seguro\",$C$17*'Base de Dados'!$C$2,IF($C$14=Parâmetros!$B$4,0,Simulador!$C$17*'Base de Dados'!$C$2)))))","v":66.400000000000006},null,{"$f":"IF(C202=\"\",\"\",IF(E202<>\"Retorno\",(I202+K202+M202),IF($G$20=Parâmetros!$D$2,SUM(G202,I202,K202,M202,O202),PMT($O$25,SUM($G$17),($O$10)*-1)+O202+M202+K202)))","v":10734.238397214607},null,949908.97427931044,null,""]
["2040-06-02","",170,"1900-06-18","Retorno",null,{"$f":"IFERROR(IF(C203=\"\",\"\",IF(E203<>\"Retorno\",0,IF($G$20=Parâmetros!$D$2,Simulador!$O$10/$G$17,IF($G$20=Parâmetros!$D$3,Simulador!Q203-Simulador!O203-Simulador!M203-Simulador!K203-Simulador!I203,\"\")))),\"\")","v":894.27331952335408},null,9227.2724265832221,null,0,null,{"$f":"IFERROR(IF(C203=\"\",\"\",IF($C$10=Parâmetros!$C$3,0,VLOOKUP(A203,'Base de Dados'!$E$3:$G$422,3,FALSE)*S203)),0)","v":545.7783545219736},null,{"$f":"IF(C203=\"\",\"\",IF(C204=\"\",0,IF(E203=\"Construção\",0,IF(E203=\"Seguro\",$C$17*'Base de Dados'!$C$2,IF($C$14=Parâmetros!$B$4,0,Simulador!$C$17*'Base de Dados'!$C$2)))))","v":66.400000000000006},null,{"$f":"IF(C203=\"\",\"\",IF(E203<>\"Retorno\",(I203+K203+M203),IF($G$20=Parâmetros!$D$2,SUM(G203,I203,K203,M203,O203),PMT($O$25,SUM($G$17),($O$10)*-1)+O203+M203+K203)))","v":10733.724100628549},null,949014.70095978712,null,""]
["2040-07-02","",171,"1900-06-19","Retorno",null,{"$f":"IFERROR(IF(C204=\"\",\"\",IF(E204<>\"Retorno\",0,IF($G$20=Parâmetros!$D$2,Simulador!$O$10/$G$17,IF($G$20=Parâmetros!$D$3,Simulador!Q204-Simulador!O204-Simulador!M204-Simulador!K204-Simulador!I204,\"\")))),\"\")","v":902.96015559548141},null,9218.5855905110948,null,0,null,{"$f":"IFERROR(IF(C204=\"\",\"\",IF($C$10=Parâmetros!$C$3,0,VLOOKUP(A204,'Base de Dados'!$E$3:$G$422,3,FALSE)*S204)),0)","v":545.25906213649068},null,{"$f":"IF(C204=\"\",\"\",IF(C205=\"\",0,IF(E204=\"Construção\",0,IF(E204=\"Seguro\",$C$17*'Base de Dados'!$C$2,IF($C$14=Parâmetros!$B$4,0,Simulador!$C$17*'Base de Dados'!$C$2)))))","v":66.400000000000006},null,{"$f":"IF(C204=\"\",\"\",IF(E204<>\"Retorno\",(I204+K204+M204),IF($G$20=Parâmetros!$D$2,SUM(G204,I204,K204,M204,O204),PMT($O$25,SUM($G$17),($O$10)*-1)+O204+M204+K204)))","v":10733.204808243067},null,948111.74080419168,null,""]
["2040-08-02","",172,"1900-06-20","Retorno",null,{"$f":"IFERROR(IF(C205=\"\",\"\",IF(E205<>\"Retorno\",0,IF($G$20=Parâmetros!$D$2,Simulador!$O$10/$G$17,IF($G$20=Parâmetros!$D$3,Simulador!Q205-Simulador!O205-Simulador!M205-Simulador!K205-Simulador!I205,\"\")))),\"\")","v":911.73137428242808},null,9209.8143718241481,null,0,null,{"$f":"IFERROR(IF(C205=\"\",\"\",IF($C$10=Parâmetros!$C$3,0,VLOOKUP(A205,'Base de Dados'!$E$3:$G$422,3,FALSE)*S205)),0)","v":544.73472542314084},null,{"$f":"IF(C205=\"\",\"\",IF(C206=\"\",0,IF(E205=\"Construção\",0,IF(E205=\"Seguro\",$C$17*'Base de Dados'!$C$2,IF($C$14=Parâmetros!$B$4,0,Simulador!$C$17*'Base de Dados'!$C$2)))))","v":66.400000000000006},null,{"$f":"IF(C205=\"\",\"\",IF(E205<>\"Retorno\",(I205+K205+M205),IF($G$20=Parâmetros!$D$2,SUM(G205,I205,K205,M205,O205),PMT($O$25,SUM($G$17),($O$10)*-1)+O205+M205+K205)))","v":10732.680471529717},null,947200.00942990929,null,""]
["2040-09-02","",173,"1900-06-21","Retorno",null,{"$f":"IFERROR(IF(C206=\"\",\"\",IF(E206<>\"Retorno\",0,IF($G$20=Parâmetros!$D$2,Simulador!$O$10/$G$17,IF($G$20=Parâmetros!$D$3,Simulador!Q206-Simulador!O206-Simulador!M206-Simulador!K206-Simulador!I206,\"\")))),\"\")","v":920.58779526389299},null,9200.9579508426832,null,0,null,{"$f":"IFERROR(IF(C206=\"\",\"\",IF($C$10=Parâmetros!$C$3,0,VLOOKUP(A206,'Base de Dados'!$E$3:$G$422,3,FALSE)*S206)),0)","v":697.21867786040673},null,{"$f":"IF(C206=\"\",\"\",IF(C207=\"\",0,IF(E206=\"Construção\",0,IF(E206=\"Seguro\",$C$17*'Base de Dados'!$C$2,IF($C$14=Parâmetros!$B$4,0,Simulador!$C$17*'Base de Dados'!$C$2)))))","v":66.400000000000006},null,{"$f":"IF(C206=\"\",\"\",IF(E206<>\"Retorno\",(I206+K206+M206),IF($G$20=Parâmetros!$D$2,SUM(G206,I206,K206,M206,O206),PMT($O$25,SUM($G$17),($O$10)*-1)+O206+M206+K206)))","v":10885.164423966982},null,946279.42163464543,null,""]
["2040-10-02","",174,"1900-06-22","Retorno",null,{"$f":"IFERROR(IF(C207=\"\",\"\",IF(E207<>\"Retorno\",0,IF($G$20=Parâmetros!$D$2,Simulador!$O$10/$G$17,IF($G$20=Parâmetros!$D$3,Simulador!Q207-Simulador!O207-Simulador!M207-Simulador!K207-Simulador!I207,\"\")))),\"\")","v":929.53024618238305},null,9192.0154999241931,null,0,null,{"$f":"IFERROR(IF(C207=\"\",\"\",IF($C$10=Parâmetros!$C$3,0,VLOOKUP(A207,'Base de Dados'!$E$3:$G$422,3,FALSE)*S207)),0)","v":696.53379997501963},null,{"$f":"IF(C207=\"\",\"\",IF(C208=\"\",0,IF(E207=\"Construção\",0,IF(E207=\"Seguro\",$C$17*'Base de Dados'!$C$2,IF($C$14=Parâmetros!$B$4,0,Simulador!$C$17*'Base de Dados'!$C$2)))))","v":66.400000000000006},null,{"$f":"IF(C207=\"\",\"\",IF(E207<>\"Retorno\",(I207+K207+M207),IF($G$20=Parâmetros!$D$2,SUM(G207,I207,K207,M207,O207),PMT($O$25,SUM($G$17),($O$10)*-1)+O207+M207+K207)))","v":10884.479546081595},null,945349.89138846309,null,""]
["2040-11-02","",175,"1900-06-23","Retorno",null,{"$f":"IFERROR(IF(C208=\"\",\"\",IF(E208<>\"Retorno\",0,IF($G$20=Parâmetros!$D$2,Simulador!$O$10/$G$17,IF($G$20=Parâmetros!$D$3,Simulador!Q208-Simulador!O208-Simulador!M208-Simulador!K208-Simulador!I208,\"\")))),\"\")","v":938.55956271958166},null,9182.9861833869945,null,0,null,{"$f":"IFERROR(IF(C208=\"\",\"\",IF($C$10=Parâmetros!$C$3,0,VLOOKUP(A208,'Base de Dados'!$E$3:$G$422,3,FALSE)*S208)),0)","v":695.84226928920782},null,{"$f":"IF(C208=\"\",\"\",IF(C209=\"\",0,IF(E208=\"Construção\",0,IF(E208=\"Seguro\",$C$17*'Base de Dados'!$C$2,IF($C$14=Parâmetros!$B$4,0,Simulador!$C$17*'Base de Dados'!$C$2)))))","v":66.400000000000006},null,{"$f":"IF(C208=\"\",\"\",IF(E208<>\"Retorno\",(I208+K208+M208),IF($G$20=Parâmetros!$D$2,SUM(G208,I208,K208,M208,O208),PMT($O$25,SUM($G$17),($O$10)*-1)+O208+M208+K208)))","v":10883.788015395783},null,944411.33182574355,null,""]
["2040-12-02","",176,"1900-06-24","Retorno",null,{"$f":"IFERROR(IF(C209=\"\",\"\",IF(E209<>\"Retorno\",0,IF($G$20=Parâmetros!$D$2,Simulador!$O$10/$G$17,IF($G$20=Parâmetros!$D$3,Simulador!Q209-Simulador!O209-Simulador!M209-Simulador!K209-Simulador!I209,\"\")))),\"\")","v":947.67658867492901},null,9173.8691574316472,null,0,null,{"$f":"IFERROR(IF(C209=\"\",\"\",IF($C$10=Parâmetros!$C$3,0,VLOOKUP(A209,'Base de Dados'!$E$3:$G$422,3,FALSE)*S209)),0)","v":695.14402117867223},null,{"$f":"IF(C209=\"\",\"\",IF(C210=\"\",0,IF(E209=\"Construção\",0,IF(E209=\"Seguro\",$C$17*'Base de Dados'!$C$2,IF($C$14=Parâmetros!$B$4,0,Simulador!$C$17*'Base de Dados'!$C$2)))))","v":66.400000000000006},null,{"$f":"IF(C209=\"\",\"\",IF(E209<>\"Retorno\",(I209+K209+M209),IF($G$20=Parâmetros!$D$2,SUM(G209,I209,K209,M209,O209),PMT($O$25,SUM($G$17),($O$10)*-1)+O209+M209+K209)))","v":10883.089767285248},null,943463.65523706865,null,""]
["2041-01-02","",177,"1900-06-25","Retorno",null,{"$f":"IFERROR(IF(C210=\"\",\"\",IF(E210<>\"Retorno\",0,IF($G$20=Parâmetros!$D$2,Simulador!$O$10/$G$17,IF($G$20=Parâmetros!$D$3,Simulador!Q210-Simulador!O210-Simulador!M210-Simulador!K210-Simulador!I210,\"\")))),\"\")","v":956.88217604466627},null,9164.6635700619081,null,0,null,{"$f":"IFERROR(IF(C210=\"\",\"\",IF($C$10=Parâmetros!$C$3,0,VLOOKUP(A210,'Base de Dados'!$E$3:$G$422,3,FALSE)*S210)),0)","v":694.43899039136249},null,{"$f":"IF(C210=\"\",\"\",IF(C211=\"\",0,IF(E210=\"Construção\",0,IF(E210=\"Seguro\",$C$17*'Base de Dados'!$C$2,IF($C$14=Parâmetros!$B$4,0,Simulador!$C$17*'Base de Dados'!$C$2)))))","v":66.400000000000006},null,{"$f":"IF(C210=\"\",\"\",IF(E210<>\"Retorno\",(I210+K210+M210),IF($G$20=Parâmetros!$D$2,SUM(G210,I210,K210,M210,O210),PMT($O$25,SUM($G$17),($O$10)*-1)+O210+M210+K210)))","v":10882.384736497937},null,942506.77306102403,null,""]
["2041-02-02","",178,"1900-06-26","Retorno",null,{"$f":"IFERROR(IF(C211=\"\",\"\",IF(E211<>\"Retorno\",0,IF($G$20=Parâmetros!$D$2,Simulador!$O$10/$G$17,IF($G$20=Parâmetros!$D$3,Simulador!Q211-Simulador!O211-Simulador!M211-Simulador!K211-Simulador!I211,\"\")))),\"\")","v":966.17718510089071},null,9155.3685610056855,null,0,null,{"$f":"IFERROR(IF(C211=\"\",\"\",IF($C$10=Parâmetros!$C$3,0,VLOOKUP(A211,'Base de Dados'!$E$3:$G$422,3,FALSE)*S211)),0)","v":693.72711104138023},null,{"$f":"IF(C211=\"\",\"\",IF(C212=\"\",0,IF(E211=\"Construção\",0,IF(E211=\"Seguro\",$C$17*'Base de Dados'!$C$2,IF($C$14=Parâmetros!$B$4,0,Simulador!$C$17*'Base de Dados'!$C$2)))))","v":66.400000000000006},null,{"$f":"IF(C211=\"\",\"\",IF(E211<>\"Retorno\",(I211+K211+M211),IF($G$20=Parâmetros!$D$2,SUM(G211,I211,K211,M211,O211),PMT($O$25,SUM($G$17),($O$10)*-1)+O211+M211+K211)))","v":10881.672857147956},null,941540.59587592317,null,""]
["2041-03-02","",179,"1900-06-27","Retorno",null,{"$f":"IFERROR(IF(C212=\"\",\"\",IF(E212<>\"Retorno\",0,IF($G$20=Parâmetros!$D$2,Simulador!$O$10/$G$17,IF($G$20=Parâmetros!$D$3,Simulador!Q212-Simulador!O212-Simulador!M212-Simulador!K212-Simulador!I212,\"\")))),\"\")","v":975.56248447232974},null,9145.9832616342464,null,0,null,{"$f":"IFERROR(IF(C212=\"\",\"\",IF($C$10=Parâmetros!$C$3,0,VLOOKUP(A212,'Base de Dados'!$E$3:$G$422,3,FALSE)*S212)),0)","v":693.00831660282108},null,{"$f":"IF(C212=\"\",\"\",IF(C213=\"\",0,IF(E212=\"Construção\",0,IF(E212=\"Seguro\",$C$17*'Base de Dados'!$C$2,IF($C$14=Parâmetros!$B$4,0,Simulador!$C$17*'Base de Dados'!$C$2)))))","v":66.400000000000006},null,{"$f":"IF(C212=\"\",\"\",IF(E212<>\"Retorno\",(I212+K212+M212),IF($G$20=Parâmetros!$D$2,SUM(G212,I212,K212,M212,O212),PMT($O$25,SUM($G$17),($O$10)*-1)+O212+M212+K212)))","v":10880.954062709397},null,940565.03339145088,null,""]
["2041-04-02","",180,"1900-06-28","Retorno",null,{"$f":"IFERROR(IF(C213=\"\",\"\",IF(E213<>\"Retorno\",0,IF($G$20=Parâmetros!$D$2,Simulador!$O$10/$G$17,IF($G$20=Parâmetros!$D$3,Simulador!Q213-Simulador!O213-Simulador!M213-Simulador!K213-Simulador!I213,\"\")))),\"\")","v":985.03895122561698},null,9136.5067948809592,null,0,null,{"$f":"IFERROR(IF(C213=\"\",\"\",IF($C$10=Parâmetros!$C$3,0,VLOOKUP(A213,'Base de Dados'!$E$3:$G$422,3,FALSE)*S213)),0)","v":692.28253990355802},null,{"$f":"IF(C213=\"\",\"\",IF(C214=\"\",0,IF(E213=\"Construção\",0,IF(E213=\"Seguro\",$C$17*'Base de Dados'!$C$2,IF($C$14=Parâmetros!$B$4,0,Simulador!$C$17*'Base de Dados'!$C$2)))))","v":66.400000000000006},null,{"$f":"IF(C213=\"\",\"\",IF(E213<>\"Retorno\",(I213+K213+M213),IF($G$20=Parâmetros!$D$2,SUM(G213,I213,K213,M213,O213),PMT($O$25,SUM($G$17),($O$10)*-1)+O213+M213+K213)))","v":10880.228286010133},null,939579.9944402253,null,""]
["2041-05-02","",181,"1900-06-29","Retorno",null,{"$f":"IFERROR(IF(C214=\"\",\"\",IF(E214<>\"Retorno\",0,IF($G$20=Parâmetros!$D$2,Simulador!$O$10/$G$17,IF($G$20=Parâmetros!$D$3,Simulador!Q214-Simulador!O214-Simulador!M214-Simulador!K214-Simulador!I214,\"\")))),\"\")","v":994.60747094689032},null,9126.9382751596859,null,0,null,{"$f":"IFERROR(IF(C214=\"\",\"\",IF($C$10=Parâmetros!$C$3,0,VLOOKUP(A214,'Base de Dados'!$E$3:$G$422,3,FALSE)*S214)),0)","v":691.54971311896441},null,{"$f":"IF(C214=\"\",\"\",IF(C215=\"\",0,IF(E214=\"Construção\",0,IF(E214=\"Seguro\",$C$17*'Base de Dados'!$C$2,IF($C$14=Parâmetros!$B$4,0,Simulador!$C$17*'Base de Dados'!$C$2)))))","v":66.400000000000006},null,{"$f":"IF(C214=\"\",\"\",IF(E214<>\"Retorno\",(I214+K214+M214),IF($G$20=Parâmetros!$D$2,SUM(G214,I214,K214,M214,O214),PMT($O$25,SUM($G$17),($O$10)*-1)+O214+M214+K214)))","v":10879.49545922554},null,938585.38696927845,null,""]
["2041-06-02","",182,"1900-06-30","Retorno",null,{"$f":"IFERROR(IF(C215=\"\",\"\",IF(E215<>\"Retorno\",0,IF($G$20=Parâmetros!$D$2,Simulador!$O$10/$G$17,IF($G$20=Parâmetros!$D$3,Simulador!Q215-Simulador!O215-Simulador!M215-Simulador!K215-Simulador!I215,\"\")))),\"\")","v":1004.2689378246814},null,9117.2768082818948,null,0,null,{"$f":"IFERROR(IF(C215=\"\",\"\",IF($C$10=Parâmetros!$C$3,0,VLOOKUP(A215,'Base de Dados'!$E$3:$G$422,3,FALSE)*S215)),0)","v":690.8097677655752},null,{"$f":"IF(C215=\"\",\"\",IF(C216=\"\",0,IF(E215=\"Construção\",0,IF(E215=\"Seguro\",$C$17*'Base de Dados'!$C$2,IF($C$14=Parâmetros!$B$4,0,Simulador!$C$17*'Base de Dados'!$C$2)))))","v":66.400000000000006},null,{"$f":"IF(C215=\"\",\"\",IF(E215<>\"Retorno\",(I215+K215+M215),IF($G$20=Parâmetros!$D$2,SUM(G215,I215,K215,M215,O215),PMT($O$25,SUM($G$17),($O$10)*-1)+O215+M215+K215)))","v":10878.755513872151},null,937581.11803145381,null,""]
["2041-07-02","",183,"1900-07-01","Retorno",null,{"$f":"IFERROR(IF(C216=\"\",\"\",IF(E216<>\"Retorno\",0,IF($G$20=Parâmetros!$D$2,Simulador!$O$10/$G$17,IF($G$20=Parâmetros!$D$3,Simulador!Q216-Simulador!O216-Simulador!M216-Simulador!K216-Simulador!I216,\"\")))),\"\")","v":1014.0242547337366},null,9107.5214913728414,null,0,null,{"$f":"IFERROR(IF(C216=\"\",\"\",IF($C$10=Parâmetros!$C$3,0,VLOOKUP(A216,'Base de Dados'!$E$3:$G$422,3,FALSE)*S216)),0)","v":690.0626346946874},null,{"$f":"IF(C216=\"\",\"\",IF(C217=\"\",0,IF(E216=\"Construção\",0,IF(E216=\"Seguro\",$C$17*'Base de Dados'!$C$2,IF($C$14=Parâmetros!$B$4,0,Simulador!$C$17*'Base de Dados'!$C$2)))))","v":66.400000000000006},null,{"$f":"IF(C216=\"\",\"\",IF(E216<>\"Retorno\",(I216+K216+M216),IF($G$20=Parâmetros!$D$2,SUM(G216,I216,K216,M216,O216),PMT($O$25,SUM($G$17),($O$10)*-1)+O216+M216+K216)))","v":10878.008380801264},null,936567.09377672011,null,""]
["2041-08-02","",184,"1900-07-02","Retorno",null,{"$f":"IFERROR(IF(C217=\"\",\"\",IF(E217<>\"Retorno\",0,IF($G$20=Parâmetros!$D$2,Simulador!$O$10/$G$17,IF($G$20=Parâmetros!$D$3,Simulador!Q217-Simulador!O217-Simulador!M217-Simulador!K217-Simulador!I217,\"\")))),\"\")","v":1023.8743333190596},null,9097.6714127875166,null,0,null,{"$f":"IFERROR(IF(C217=\"\",\"\",IF($C$10=Parâmetros!$C$3,0,VLOOKUP(A217,'Base de Dados'!$E$3:$G$422,3,FALSE)*S217)),0)","v":689.30824408589797},null,{"$f":"IF(C217=\"\",\"\",IF(C218=\"\",0,IF(E217=\"Construção\",0,IF(E217=\"Seguro\",$C$17*'Base de Dados'!$C$2,IF($C$14=Parâmetros!$B$4,0,Simulador!$C$17*'Base de Dados'!$C$2)))))","v":66.400000000000006},null,{"$f":"IF(C217=\"\",\"\",IF(E217<>\"Retorno\",(I217+K217+M217),IF($G$20=Parâmetros!$D$2,SUM(G217,I217,K217,M217,O217),PMT($O$25,SUM($G$17),($O$10)*-1)+O217+M217+K217)))","v":10877.253990192474},null,935543.21944340109,null,""]
["2041-09-02","",185,"1900-07-03","Retorno",null,{"$f":"IFERROR(IF(C218=\"\",\"\",IF(E218<>\"Retorno\",0,IF($G$20=Parâmetros!$D$2,Simulador!$O$10/$G$17,IF($G$20=Parâmetros!$D$3,Simulador!Q218-Simulador!O218-Simulador!M218-Simulador!K218-Simulador!I218,\"\")))),\"\")","v":1033.8200940813786},null,9087.7256520251976,null,0,null,{"$f":"IFERROR(IF(C218=\"\",\"\",IF($C$10=Parâmetros!$C$3,0,VLOOKUP(A218,'Base de Dados'!$E$3:$G$422,3,FALSE)*S218)),0)","v":688.54652544057876},null,{"$f":"IF(C218=\"\",\"\",IF(C219=\"\",0,IF(E218=\"Construção\",0,IF(E218=\"Seguro\",$C$17*'Base de Dados'!$C$2,IF($C$14=Parâmetros!$B$4,0,Simulador!$C$17*'Base de Dados'!$C$2)))))","v":66.400000000000006},null,{"$f":"IF(C218=\"\",\"\",IF(E218<>\"Retorno\",(I218+K218+M218),IF($G$20=Parâmetros!$D$2,SUM(G218,I218,K218,M218,O218),PMT($O$25,SUM($G$17),($O$10)*-1)+O218+M218+K218)))","v":10876.492271547155},null,934509.39934931975,null,""]
["2041-10-02","",186,"1900-07-04","Retorno",null,{"$f":"IFERROR(IF(C219=\"\",\"\",IF(E219<>\"Retorno\",0,IF($G$20=Parâmetros!$D$2,Simulador!$O$10/$G$17,IF($G$20=Parâmetros!$D$3,Simulador!Q219-Simulador!O219-Simulador!M219-Simulador!K219-Simulador!I219,\"\")))),\"\")","v":1043.8624664628096},null,9077.6832796437666,null,0,null,{"$f":"IFERROR(IF(C219=\"\",\"\",IF($C$10=Parâmetros!$C$3,0,VLOOKUP(A219,'Base de Dados'!$E$3:$G$422,3,FALSE)*S219)),0)","v":687.77740757528909},null,{"$f":"IF(C219=\"\",\"\",IF(C220=\"\",0,IF(E219=\"Construção\",0,IF(E219=\"Seguro\",$C$17*'Base de Dados'!$C$2,IF($C$14=Parâmetros!$B$4,0,Simulador!$C$17*'Base de Dados'!$C$2)))))","v":66.400000000000006},null,{"$f":"IF(C219=\"\",\"\",IF(E219<>\"Retorno\",(I219+K219+M219),IF($G$20=Parâmetros!$D$2,SUM(G219,I219,K219,M219,O219),PMT($O$25,SUM($G$17),($O$10)*-1)+O219+M219+K219)))","v":10875.723153681865},null,933465.53688285698,null,""]
["2041-11-02","",187,"1900-07-05","Retorno",null,{"$f":"IFERROR(IF(C220=\"\",\"\",IF(E220<>\"Retorno\",0,IF($G$20=Parâmetros!$D$2,Simulador!$O$10/$G$17,IF($G$20=Parâmetros!$D$3,Simulador!Q220-Simulador!O220-Simulador!M220-Simulador!K220-Simulador!I220,\"\")))),\"\")","v":1054.0023889340609},null,9067.5433571725152,null,0,null,{"$f":"IFERROR(IF(C220=\"\",\"\",IF($C$10=Parâmetros!$C$3,0,VLOOKUP(A220,'Base de Dados'!$E$3:$G$422,3,FALSE)*S220)),0)","v":687.0008186151224},null,{"$f":"IF(C220=\"\",\"\",IF(C221=\"\",0,IF(E220=\"Construção\",0,IF(E220=\"Seguro\",$C$17*'Base de Dados'!$C$2,IF($C$14=Parâmetros!$B$4,0,Simulador!$C$17*'Base de Dados'!$C$2)))))","v":66.400000000000006},null,{"$f":"IF(C220=\"\",\"\",IF(E220<>\"Retorno\",(I220+K220+M220),IF($G$20=Parâmetros!$D$2,SUM(G220,I220,K220,M220,O220),PMT($O$25,SUM($G$17),($O$10)*-1)+O220+M220+K220)))","v":10874.946564721698},null,932411.53449392295,null,""]
["2041-12-02","",188,"1900-07-06","Retorno",null,{"$f":"IFERROR(IF(C221=\"\",\"\",IF(E221<>\"Retorno\",0,IF($G$20=Parâmetros!$D$2,Simulador!$O$10/$G$17,IF($G$20=Parâmetros!$D$3,Simulador!Q221-Simulador!O221-Simulador!M221-Simulador!K221-Simulador!I221,\"\")))),\"\")","v":1064.2408090819754},null,9057.3049370246008,null,0,null,{"$f":"IFERROR(IF(C221=\"\",\"\",IF($C$10=Parâmetros!$C$3,0,VLOOKUP(A221,'Base de Dados'!$E$3:$G$422,3,FALSE)*S221)),0)","v":686.21668598699091},null,{"$f":"IF(C221=\"\",\"\",IF(C222=\"\",0,IF(E221=\"Construção\",0,IF(E221=\"Seguro\",$C$17*'Base de Dados'!$C$2,IF($C$14=Parâmetros!$B$4,0,Simulador!$C$17*'Base de Dados'!$C$2)))))","v":66.400000000000006},null,{"$f":"IF(C221=\"\",\"\",IF(E221<>\"Retorno\",(I221+K221+M221),IF($G$20=Parâmetros!$D$2,SUM(G221,I221,K221,M221,O221),PMT($O$25,SUM($G$17),($O$10)*-1)+O221+M221+K221)))","v":10874.162432093566},null,931347.29368484102,null,""]
["2042-01-02","",189,"1900-07-07","Retorno",null,{"$f":"IFERROR(IF(C222=\"\",\"\",IF(E222<>\"Retorno\",0,IF($G$20=Parâmetros!$D$2,Simulador!$O$10/$G$17,IF($G$20=Parâmetros!$D$3,Simulador!Q222-Simulador!O222-Simulador!M222-Simulador!K222-Simulador!I222,\"\")))),\"\")","v":1074.5786836981224},null,9046.9670624084538,null,0,null,{"$f":"IFERROR(IF(C222=\"\",\"\",IF($C$10=Parâmetros!$C$3,0,VLOOKUP(A222,'Base de Dados'!$E$3:$G$422,3,FALSE)*S222)),0)","v":685.42493641284216},null,{"$f":"IF(C222=\"\",\"\",IF(C223=\"\",0,IF(E222=\"Construção\",0,IF(E222=\"Seguro\",$C$17*'Base de Dados'!$C$2,IF($C$14=Parâmetros!$B$4,0,Simulador!$C$17*'Base de Dados'!$C$2)))))","v":66.400000000000006},null,{"$f":"IF(C222=\"\",\"\",IF(E222<>\"Retorno\",(I222+K222+M222),IF($G$20=Parâmetros!$D$2,SUM(G222,I222,K222,M222,O222),PMT($O$25,SUM($G$17),($O$10)*-1)+O222+M222+K222)))","v":10873.370682519419},null,930272.71500114293,null,""]
["2042-02-02","",190,"1900-07-08","Retorno",null,{"$f":"IFERROR(IF(C223=\"\",\"\",IF(E223<>\"Retorno\",0,IF($G$20=Parâmetros!$D$2,Simulador!$O$10/$G$17,IF($G$20=Parâmetros!$D$3,Simulador!Q223-Simulador!O223-Simulador!M223-Simulador!K223-Simulador!I223,\"\")))),\"\")","v":1085.0169788683215},null,9036.5287672382547,null,0,null,{"$f":"IFERROR(IF(C223=\"\",\"\",IF($C$10=Parâmetros!$C$3,0,VLOOKUP(A223,'Base de Dados'!$E$3:$G$422,3,FALSE)*S223)),0)","v":684.62549590281196},null,{"$f":"IF(C223=\"\",\"\",IF(C224=\"\",0,IF(E223=\"Construção\",0,IF(E223=\"Seguro\",$C$17*'Base de Dados'!$C$2,IF($C$14=Parâmetros!$B$4,0,Simulador!$C$17*'Base de Dados'!$C$2)))))","v":66.400000000000006},null,{"$f":"IF(C223=\"\",\"\",IF(E223<>\"Retorno\",(I223+K223+M223),IF($G$20=Parâmetros!$D$2,SUM(G223,I223,K223,M223,O223),PMT($O$25,SUM($G$17),($O$10)*-1)+O223+M223+K223)))","v":10872.571242009388},null,929187.69802227465,null,""]
["2042-03-02","",191,"1900-07-09","Retorno",null,{"$f":"IFERROR(IF(C224=\"\",\"\",IF(E224<>\"Retorno\",0,IF($G$20=Parâmetros!$D$2,Simulador!$O$10/$G$17,IF($G$20=Parâmetros!$D$3,Simulador!Q224-Simulador!O224-Simulador!M224-Simulador!K224-Simulador!I224,\"\")))),\"\")","v":1095.556670062515},null,9025.9890760440612,null,0,null,{"$f":"IFERROR(IF(C224=\"\",\"\",IF($C$10=Parâmetros!$C$3,0,VLOOKUP(A224,'Base de Dados'!$E$3:$G$422,3,FALSE)*S224)),0)","v":683.81828974830989},null,{"$f":"IF(C224=\"\",\"\",IF(C225=\"\",0,IF(E224=\"Construção\",0,IF(E224=\"Seguro\",$C$17*'Base de Dados'!$C$2,IF($C$14=Parâmetros!$B$4,0,Simulador!$C$17*'Base de Dados'!$C$2)))))","v":66.400000000000006},null,{"$f":"IF(C224=\"\",\"\",IF(E224<>\"Retorno\",(I224+K224+M224),IF($G$20=Parâmetros!$D$2,SUM(G224,I224,K224,M224,O224),PMT($O$25,SUM($G$17),($O$10)*-1)+O224+M224+K224)))","v":10871.764035854885},null,928092.14135221217,null,""]
["2042-04-02","",192,"1900-07-10","Retorno",null,{"$f":"IFERROR(IF(C225=\"\",\"\",IF(E225<>\"Retorno\",0,IF($G$20=Parâmetros!$D$2,Simulador!$O$10/$G$17,IF($G$20=Parâmetros!$D$3,Simulador!Q225-Simulador!O225-Simulador!M225-Simulador!K225-Simulador!I225,\"\")))),\"\")","v":1106.1987422263883},null,9015.3470038801897,null,0,null,{"$f":"IFERROR(IF(C225=\"\",\"\",IF($C$10=Parâmetros!$C$3,0,VLOOKUP(A225,'Base de Dados'!$E$3:$G$422,3,FALSE)*S225)),0)","v":683.00324251503753},null,{"$f":"IF(C225=\"\",\"\",IF(C226=\"\",0,IF(E225=\"Construção\",0,IF(E225=\"Seguro\",$C$17*'Base de Dados'!$C$2,IF($C$14=Parâmetros!$B$4,0,Simulador!$C$17*'Base de Dados'!$C$2)))))","v":66.400000000000006},null,{"$f":"IF(C225=\"\",\"\",IF(E225<>\"Retorno\",(I225+K225+M225),IF($G$20=Parâmetros!$D$2,SUM(G225,I225,K225,M225,O225),PMT($O$25,SUM($G$17),($O$10)*-1)+O225+M225+K225)))","v":10870.948988621614},null,926985.94260998582,null,""]
["2042-05-02","",193,"1900-07-11","Retorno",null,{"$f":"IFERROR(IF(C226=\"\",\"\",IF(E226<>\"Retorno\",0,IF($G$20=Parâmetros!$D$2,Simulador!$O$10/$G$17,IF($G$20=Parâmetros!$D$3,Simulador!Q226-Simulador!O226-Simulador!M226-Simulador!K226-Simulador!I226,\"\")))),\"\")","v":1116.9441898733294},null,{"$f":"IFERROR(IF(C226=\"\",\"\",FV($O$25,1,,-S225,0)-S225),\"\")","v":9004.6015562332468},null,0,null,{"$f":"IFERROR(IF(C226=\"\",\"\",IF($C$10=Parâmetros!$C$3,0,VLOOKUP(A226,'Base de Dados'!$E$3:$G$422,3,FALSE)*S226)),0)","v":682.18027803593895},null,{"$f":"IF(C226=\"\",\"\",IF(C227=\"\",0,IF(E226=\"Construção\",0,IF(E226=\"Seguro\",$C$17*'Base de Dados'!$C$2,IF($C$14=Parâmetros!$B$4,0,Simulador!$C$17*'Base de Dados'!$C$2)))))","v":66.400000000000006},null,{"$f":"IF(C226=\"\",\"\",IF(E226<>\"Retorno\",(I226+K226+M226),IF($G$20=Parâmetros!$D$2,SUM(G226,I226,K226,M226,O226),PMT($O$25,SUM($G$17),($O$10)*-1)+O226+M226+K226)))","v":10870.126024142515},null,925868.99842011253,null,""]
[{"$f":"IF(C227=\"\",\"\",IF(C226>$G$17,0,EDATE(A226,1)))","v":"2042-06-02"},{"$f":"IF(AND(E227=\"Retorno\",E226<>\"Retorno\"),\"Primeira\",IF(AND(E227=\"Retorno\",E226=\"\"),\"Primeira\",\"\"))","v":""},{"$f":"IF(OR(C226>=$K$19,C226=\"\"),\"\",C226+1)","v":194},{"$f":"C227","v":"1900-07-12"},{"$f":"IF(C227=\"\",\"\",\"Retorno\")","v":"Retorno"},null,{"$f":"IFERROR(IF(C227=\"\",\"\",IF(E227<>\"Retorno\",0,IF($G$20=Parâmetros!$D$2,Simulador!$O$10/$G$17,IF($G$20=Parâmetros!$D$3,Simulador!Q227-Simulador!O227-Simulador!M227-Simulador!K227-Simulador!I227,\"\")))),\"\")","v":1127.7940171771133},null,8993.7517289294628,null,{"$f":"IF(C227=\"\",\"\",IF(AND($O$23<12.01%,$C$17<2250000.01),25,0))","v":0},null,{"$f":"IFERROR(IF(C227=\"\",\"\",IF($C$10=Parâmetros!$C$3,0,VLOOKUP(A227,'Base de Dados'!$E$3:$G$422,3,FALSE)*S227)),0)","v":681.34931940408285},null,{"$f":"IF(C227=\"\",\"\",IF(C228=\"\",0,IF(E227=\"Construção\",0,IF(E227=\"Seguro\",$C$17*'Base de Dados'!$C$2,IF($C$14=Parâmetros!$B$4,0,Simulador!$C$17*'Base de Dados'!$C$2)))))","v":66.400000000000006},null,{"$f":"IF(C227=\"\",\"\",IF(E227<>\"Retorno\",(I227+K227+M227),IF($G$20=Parâmetros!$D$2,SUM(G227,I227,K227,M227,O227),PMT($O$25,SUM($G$17),($O$10)*-1)+O227+M227+K227)))","v":10869.295065510658},null,{"$f":"IF(E227=\"Construção\",S226+(U227*-1),IF(E227=\"Carência\",S226,IF(E227=\"Retorno\",S226-G227,\"\")))","v":924741.20440293546},null,{"$f":"IF(E227=\"Construção\",(($O$10+$U$33)/$K$10)*-1,\"\")","v":""}]
["2042-07-02","",195,"1900-07-13","Retorno",null,{"$f":"IFERROR(IF(C228=\"\",\"\",IF(E228<>\"Retorno\",0,IF($G$20=Parâmetros!$D$2,Simulador!$O$10/$G$17,IF($G$20=Parâmetros!$D$3,Simulador!Q228-Simulador!O228-Simulador!M228-Simulador!K228-Simulador!I228,\"\")))),\"\")","v":1138.7492380659478},null,8982.7965080406284,null,0,null,{"$f":"IFERROR(IF(C228=\"\",\"\",IF($C$10=Parâmetros!$C$3,0,VLOOKUP(A228,'Base de Dados'!$E$3:$G$422,3,FALSE)*S228)),0)","v":680.51028896547587},null,{"$f":"IF(C228=\"\",\"\",IF(C229=\"\",0,IF(E228=\"Construção\",0,IF(E228=\"Seguro\",$C$17*'Base de Dados'!$C$2,IF($C$14=Parâmetros!$B$4,0,Simulador!$C$17*'Base de Dados'!$C$2)))))","v":66.400000000000006},null,{"$f":"IF(C228=\"\",\"\",IF(E228<>\"Retorno\",(I228+K228+M228),IF($G$20=Parâmetros!$D$2,SUM(G228,I228,K228,M228,O228),PMT($O$25,SUM($G$17),($O$10)*-1)+O228+M228+K228)))","v":10868.456035072051},null,923602.45516486955,null,""]
["2042-08-02","",196,"1900-07-14","Retorno",null,{"$f":"IFERROR(IF(C229=\"\",\"\",IF(E229<>\"Retorno\",0,IF($G$20=Parâmetros!$D$2,Simulador!$O$10/$G$17,IF($G$20=Parâmetros!$D$3,Simulador!Q229-Simulador!O229-Simulador!M229-Simulador!K229-Simulador!I229,\"\")))),\"\")","v":1149.8108763173605},null,8971.7348697892157,null,0,null,{"$f":"IFERROR(IF(C229=\"\",\"\",IF($C$10=Parâmetros!$C$3,0,VLOOKUP(A229,'Base de Dados'!$E$3:$G$422,3,FALSE)*S229)),0)","v":679.66310831180533},null,{"$f":"IF(C229=\"\",\"\",IF(C230=\"\",0,IF(E229=\"Construção\",0,IF(E229=\"Seguro\",$C$17*'Base de Dados'!$C$2,IF($C$14=Parâmetros!$B$4,0,Simulador!$C$17*'Base de Dados'!$C$2)))))","v":66.400000000000006},null,{"$f":"IF(C229=\"\",\"\",IF(E229<>\"Retorno\",(I229+K229+M229),IF($G$20=Parâmetros!$D$2,SUM(G229,I229,K229,M229,O229),PMT($O$25,SUM($G$17),($O$10)*-1)+O229+M229+K229)))","v":10867.60885441838},null,922452.64428855223,null,""]
["2042-09-02","",197,"1900-07-15","Retorno",null,{"$f":"IFERROR(IF(C230=\"\",\"\",IF(E230<>\"Retorno\",0,IF($G$20=Parâmetros!$D$2,Simulador!$O$10/$G$17,IF($G$20=Parâmetros!$D$3,Simulador!Q230-Simulador!O230-Simulador!M230-Simulador!K230-Simulador!I230,\"\")))),\"\")","v":1160.9799656534251},null,8960.5657804531511,null,0,null,{"$f":"IFERROR(IF(C230=\"\",\"\",IF($C$10=Parâmetros!$C$3,0,VLOOKUP(A230,'Base de Dados'!$E$3:$G$422,3,FALSE)*S230)),0)","v":678.8076982731119},null,{"$f":"IF(C230=\"\",\"\",IF(C231=\"\",0,IF(E230=\"Construção\",0,IF(E230=\"Seguro\",$C$17*'Base de Dados'!$C$2,IF($C$14=Parâmetros!$B$4,0,Simulador!$C$17*'Base de Dados'!$C$2)))))","v":66.400000000000006},null,{"$f":"IF(C230=\"\",\"\",IF(E230<>\"Retorno\",(I230+K230+M230),IF($G$20=Parâmetros!$D$2,SUM(G230,I230,K230,M230,O230),PMT($O$25,SUM($G$17),($O$10)*-1)+O230+M230+K230)))","v":10866.753444379689},null,921291.66432289884,null,""]
["2042-10-02","",198,"1900-07-16","Retorno",null,{"$f":"IFERROR(IF(C231=\"\",\"\",IF(E231<>\"Retorno\",0,IF($G$20=Parâmetros!$D$2,Simulador!$O$10/$G$17,IF($G$20=Parâmetros!$D$3,Simulador!Q231-Simulador!O231-Simulador!M231-Simulador!K231-Simulador!I231,\"\")))),\"\")","v":1172.2575498377355},null,8949.2881962688407,null,0,null,{"$f":"IFERROR(IF(C231=\"\",\"\",IF($C$10=Parâmetros!$C$3,0,VLOOKUP(A231,'Base de Dados'!$E$3:$G$422,3,FALSE)*S231)),0)","v":677.94397891039148},null,{"$f":"IF(C231=\"\",\"\",IF(C232=\"\",0,IF(E231=\"Construção\",0,IF(E231=\"Seguro\",$C$17*'Base de Dados'!$C$2,IF($C$14=Parâmetros!$B$4,0,Simulador!$C$17*'Base de Dados'!$C$2)))))","v":66.400000000000006},null,{"$f":"IF(C231=\"\",\"\",IF(E231<>\"Retorno\",(I231+K231+M231),IF($G$20=Parâmetros!$D$2,SUM(G231,I231,K231,M231,O231),PMT($O$25,SUM($G$17),($O$10)*-1)+O231+M231+K231)))","v":10865.889725016967},null,920119.40677306114,null,""]
["2042-11-02","",199,"1900-07-17","Retorno",null,{"$f":"IFERROR(IF(C232=\"\",\"\",IF(E232<>\"Retorno\",0,IF($G$20=Parâmetros!$D$2,Simulador!$O$10/$G$17,IF($G$20=Parâmetros!$D$3,Simulador!Q232-Simulador!O232-Simulador!M232-Simulador!K232-Simulador!I232,\"\")))),\"\")","v":1183.6446827729615},null,8937.9010633336147,null,0,null,{"$f":"IFERROR(IF(C232=\"\",\"\",IF($C$10=Parâmetros!$C$3,0,VLOOKUP(A232,'Base de Dados'!$E$3:$G$422,3,FALSE)*S232)),0)","v":677.07186950812434},null,{"$f":"IF(C232=\"\",\"\",IF(C233=\"\",0,IF(E232=\"Construção\",0,IF(E232=\"Seguro\",$C$17*'Base de Dados'!$C$2,IF($C$14=Parâmetros!$B$4,0,Simulador!$C$17*'Base de Dados'!$C$2)))))","v":66.400000000000006},null,{"$f":"IF(C232=\"\",\"\",IF(E232<>\"Retorno\",(I232+K232+M232),IF($G$20=Parâmetros!$D$2,SUM(G232,I232,K232,M232,O232),PMT($O$25,SUM($G$17),($O$10)*-1)+O232+M232+K232)))","v":10865.017615614701},null,918935.76209028822,null,""]
["2042-12-02","",200,"1900-07-18","Retorno",null,{"$f":"IFERROR(IF(C233=\"\",\"\",IF(E233<>\"Retorno\",0,IF($G$20=Parâmetros!$D$2,Simulador!$O$10/$G$17,IF($G$20=Parâmetros!$D$3,Simulador!Q233-Simulador!O233-Simulador!M233-Simulador!K233-Simulador!I233,\"\")))),\"\")","v":1195.1424285991034},null,8926.4033175074728,null,0,null,{"$f":"IFERROR(IF(C233=\"\",\"\",IF($C$10=Parâmetros!$C$3,0,VLOOKUP(A233,'Base de Dados'!$E$3:$G$422,3,FALSE)*S233)),0)","v":676.19128856673262},null,{"$f":"IF(C233=\"\",\"\",IF(C234=\"\",0,IF(E233=\"Construção\",0,IF(E233=\"Seguro\",$C$17*'Base de Dados'!$C$2,IF($C$14=Parâmetros!$B$4,0,Simulador!$C$17*'Base de Dados'!$C$2)))))","v":66.400000000000006},null,{"$f":"IF(C233=\"\",\"\",IF(E233<>\"Retorno\",(I233+K233+M233),IF($G$20=Parâmetros!$D$2,SUM(G233,I233,K233,M233,O233),PMT($O$25,SUM($G$17),($O$10)*-1)+O233+M233+K233)))","v":10864.137034673309},null,917740.61966168915,null,""]
["2043-01-02","",201,"1900-07-19","Retorno",null,{"$f":"IFERROR(IF(C234=\"\",\"\",IF(E234<>\"Retorno\",0,IF($G$20=Parâmetros!$D$2,Simulador!$O$10/$G$17,IF($G$20=Parâmetros!$D$3,Simulador!Q234-Simulador!O234-Simulador!M234-Simulador!K234-Simulador!I234,\"\")))),\"\")","v":1206.7518617930291},null,8914.7938843135489,null,0,null,{"$f":"IFERROR(IF(C234=\"\",\"\",IF($C$10=Parâmetros!$C$3,0,VLOOKUP(A234,'Base de Dados'!$E$3:$G$422,3,FALSE)*S234)),0)","v":675.30215379496349},null,{"$f":"IF(C234=\"\",\"\",IF(C235=\"\",0,IF(E234=\"Construção\",0,IF(E234=\"Seguro\",$C$17*'Base de Dados'!$C$2,IF($C$14=Parâmetros!$B$4,0,Simulador!$C$17*'Base de Dados'!$C$2)))))","v":66.400000000000006},null,{"$f":"IF(C234=\"\",\"\",IF(E234<>\"Retorno\",(I234+K234+M234),IF($G$20=Parâmetros!$D$2,SUM(G234,I234,K234,M234,O234),PMT($O$25,SUM($G$17),($O$10)*-1)+O234+M234+K234)))","v":10863.24789990154},null,916533.86779989616,null,""]
["2043-02-02","",202,"1900-07-20","Retorno",null,{"$f":"IFERROR(IF(C235=\"\",\"\",IF(E235<>\"Retorno\",0,IF($G$20=Parâmetros!$D$2,Simulador!$O$10/$G$17,IF($G$20=Parâmetros!$D$3,Simulador!Q235-Simulador!O235-Simulador!M235-Simulador!K235-Simulador!I235,\"\")))),\"\")","v":1218.4740672690477},null,8903.0716788375285,null,0,null,{"$f":"IFERROR(IF(C235=\"\",\"\",IF($C$10=Parâmetros!$C$3,0,VLOOKUP(A235,'Base de Dados'!$E$3:$G$422,3,FALSE)*S235)),0)","v":674.40438210219975},null,{"$f":"IF(C235=\"\",\"\",IF(C236=\"\",0,IF(E235=\"Construção\",0,IF(E235=\"Seguro\",$C$17*'Base de Dados'!$C$2,IF($C$14=Parâmetros!$B$4,0,Simulador!$C$17*'Base de Dados'!$C$2)))))","v":66.400000000000006},null,{"$f":"IF(C235=\"\",\"\",IF(E235<>\"Retorno\",(I235+K235+M235),IF($G$20=Parâmetros!$D$2,SUM(G235,I235,K235,M235,O235),PMT($O$25,SUM($G$17),($O$10)*-1)+O235+M235+K235)))","v":10862.350128208776},null,915315.39373262716,null,""]
["2043-03-02","",203,"1900-07-21","Retorno",null,{"$f":"IFERROR(IF(C236=\"\",\"\",IF(E236<>\"Retorno\",0,IF($G$20=Parâmetros!$D$2,Simulador!$O$10/$G$17,IF($G$20=Parâmetros!$D$3,Simulador!Q236-Simulador!O236-Simulador!M236-Simulador!K236-Simulador!I236,\"\")))),\"\")","v":1230.3101404802092},null,8891.235605626367,null,0,null,{"$f":"IFERROR(IF(C236=\"\",\"\",IF($C$10=Parâmetros!$C$3,0,VLOOKUP(A236,'Base de Dados'!$E$3:$G$422,3,FALSE)*S236)),0)","v":673.49788959069394},null,{"$f":"IF(C236=\"\",\"\",IF(C237=\"\",0,IF(E236=\"Construção\",0,IF(E236=\"Seguro\",$C$17*'Base de Dados'!$C$2,IF($C$14=Parâmetros!$B$4,0,Simulador!$C$17*'Base de Dados'!$C$2)))))","v":66.400000000000006},null,{"$f":"IF(C236=\"\",\"\",IF(E236<>\"Retorno\",(I236+K236+M236),IF($G$20=Parâmetros!$D$2,SUM(G236,I236,K236,M236,O236),PMT($O$25,SUM($G$17),($O$10)*-1)+O236+M236+K236)))","v":10861.443635697269},null,914085.08359214698,null,""]
["2043-04-02","",204,"1900-07-22","Retorno",null,{"$f":"IFERROR(IF(C237=\"\",\"\",IF(E237<>\"Retorno\",0,IF($G$20=Parâmetros!$D$2,Simulador!$O$10/$G$17,IF($G$20=Parâmetros!$D$3,Simulador!Q237-Simulador!O237-Simulador!M237-Simulador!K237-Simulador!I237,\"\")))),\"\")","v":1242.2611875202656},null,8879.2845585863106,null,0,null,{"$f":"IFERROR(IF(C237=\"\",\"\",IF($C$10=Parâmetros!$C$3,0,VLOOKUP(A237,'Base de Dados'!$E$3:$G$422,3,FALSE)*S237)),0)","v":672.58259154772907},null,{"$f":"IF(C237=\"\",\"\",IF(C238=\"\",0,IF(E237=\"Construção\",0,IF(E237=\"Seguro\",$C$17*'Base de Dados'!$C$2,IF($C$14=Parâmetros!$B$4,0,Simulador!$C$17*'Base de Dados'!$C$2)))))","v":66.400000000000006},null,{"$f":"IF(C237=\"\",\"\",IF(E237<>\"Retorno\",(I237+K237+M237),IF($G$20=Parâmetros!$D$2,SUM(G237,I237,K237,M237,O237),PMT($O$25,SUM($G$17),($O$10)*-1)+O237+M237+K237)))","v":10860.528337654305},null,912842.82240462676,null,""]
["2043-05-02","",205,"1900-07-23","Retorno",null,{"$f":"IFERROR(IF(C238=\"\",\"\",IF(E238<>\"Retorno\",0,IF($G$20=Parâmetros!$D$2,Simulador!$O$10/$G$17,IF($G$20=Parâmetros!$D$3,Simulador!Q238-Simulador!O238-Simulador!M238-Simulador!K238-Simulador!I238,\"\")))),\"\")","v":1254.3283252277561},null,8867.2174208788201,null,0,null,{"$f":"IFERROR(IF(C238=\"\",\"\",IF($C$10=Parâmetros!$C$3,0,VLOOKUP(A238,'Base de Dados'!$E$3:$G$422,3,FALSE)*S238)),0)","v":671.65840243770128},null,{"$f":"IF(C238=\"\",\"\",IF(C239=\"\",0,IF(E238=\"Construção\",0,IF(E238=\"Seguro\",$C$17*'Base de Dados'!$C$2,IF($C$14=Parâmetros!$B$4,0,Simulador!$C$17*'Base de Dados'!$C$2)))))","v":66.400000000000006},null,{"$f":"IF(C238=\"\",\"\",IF(E238<>\"Retorno\",(I238+K238+M238),IF($G$20=Parâmetros!$D$2,SUM(G238,I238,K238,M238,O238),PMT($O$25,SUM($G$17),($O$10)*-1)+O238+M238+K238)))","v":10859.604148544277},null,911588.49407939904,null,""]
["2043-06-02","",206,"1900-07-24","Retorno",null,{"$f":"IFERROR(IF(C239=\"\",\"\",IF(E239<>\"Retorno\",0,IF($G$20=Parâmetros!$D$2,Simulador!$O$10/$G$17,IF($G$20=Parâmetros!$D$3,Simulador!Q239-Simulador!O239-Simulador!M239-Simulador!K239-Simulador!I239,\"\")))),\"\")","v":1266.5126812898452},null,8855.0330648167292,null,0,null,{"$f":"IFERROR(IF(C239=\"\",\"\",IF($C$10=Parâmetros!$C$3,0,VLOOKUP(A239,'Base de Dados'!$E$3:$G$422,3,FALSE)*S239)),0)","v":670.72523589412685},null,{"$f":"IF(C239=\"\",\"\",IF(C240=\"\",0,IF(E239=\"Construção\",0,IF(E239=\"Seguro\",$C$17*'Base de Dados'!$C$2,IF($C$14=Parâmetros!$B$4,0,Simulador!$C$17*'Base de Dados'!$C$2)))))","v":66.400000000000006},null,{"$f":"IF(C239=\"\",\"\",IF(E239<>\"Retorno\",(I239+K239+M239),IF($G$20=Parâmetros!$D$2,SUM(G239,I239,K239,M239,O239),PMT($O$25,SUM($G$17),($O$10)*-1)+O239+M239+K239)))","v":10858.670982000702},null,910321.98139810923,null,""]
["2043-07-02","",207,"1900-07-25","Retorno",null,{"$f":"IFERROR(IF(C240=\"\",\"\",IF(E240<>\"Retorno\",0,IF($G$20=Parâmetros!$D$2,Simulador!$O$10/$G$17,IF($G$20=Parâmetros!$D$3,Simulador!Q240-Simulador!O240-Simulador!M240-Simulador!K240-Simulador!I240,\"\")))),\"\")","v":1278.8153943481539},null,8842.7303517584223,null,0,null,{"$f":"IFERROR(IF(C240=\"\",\"\",IF($C$10=Parâmetros!$C$3,0,VLOOKUP(A240,'Base de Dados'!$E$3:$G$422,3,FALSE)*S240)),0)","v":669.78300471157115},null,{"$f":"IF(C240=\"\",\"\",IF(C241=\"\",0,IF(E240=\"Construção\",0,IF(E240=\"Seguro\",$C$17*'Base de Dados'!$C$2,IF($C$14=Parâmetros!$B$4,0,Simulador!$C$17*'Base de Dados'!$C$2)))))","v":66.400000000000006},null,{"$f":"IF(C240=\"\",\"\",IF(E240<>\"Retorno\",(I240+K240+M240),IF($G$20=Parâmetros!$D$2,SUM(G240,I240,K240,M240,O240),PMT($O$25,SUM($G$17),($O$10)*-1)+O240+M240+K240)))","v":10857.728750818147},null,909043.16600376111,null,""]
["2043-08-02","",208,"1900-07-26","Retorno",null,{"$f":"IFERROR(IF(C241=\"\",\"\",IF(E241<>\"Retorno\",0,IF($G$20=Parâmetros!$D$2,Simulador!$O$10/$G$17,IF($G$20=Parâmetros!$D$3,Simulador!Q241-Simulador!O241-Simulador!M241-Simulador!K241-Simulador!I241,\"\")))),\"\")","v":1291.2376141043296},null,8830.3081320022466,null,0,null,{"$f":"IFERROR(IF(C241=\"\",\"\",IF($C$10=Parâmetros!$C$3,0,VLOOKUP(A241,'Base de Dados'!$E$3:$G$422,3,FALSE)*S241)),0)","v":668.83162083749914},null,{"$f":"IF(C241=\"\",\"\",IF(C242=\"\",0,IF(E241=\"Construção\",0,IF(E241=\"Seguro\",$C$17*'Base de Dados'!$C$2,IF($C$14=Parâmetros!$B$4,0,Simulador!$C$17*'Base de Dados'!$C$2)))))","v":66.400000000000006},null,{"$f":"IF(C241=\"\",\"\",IF(E241<>\"Retorno\",(I241+K241+M241),IF($G$20=Parâmetros!$D$2,SUM(G241,I241,K241,M241,O241),PMT($O$25,SUM($G$17),($O$10)*-1)+O241+M241+K241)))","v":10856.777366944076},null,907751.92838965682,null,""]
["2043-09-02","",209,"1900-07-27","Retorno",null,{"$f":"IFERROR(IF(C242=\"\",\"\",IF(E242<>\"Retorno\",0,IF($G$20=Parâmetros!$D$2,Simulador!$O$10/$G$17,IF($G$20=Parâmetros!$D$3,Simulador!Q242-Simulador!O242-Simulador!M242-Simulador!K242-Simulador!I242,\"\")))),\"\")","v":1303.7805014287969},null,8817.7652446777793,null,0,null,{"$f":"IFERROR(IF(C242=\"\",\"\",IF($C$10=Parâmetros!$C$3,0,VLOOKUP(A242,'Base de Dados'!$E$3:$G$422,3,FALSE)*S242)),0)","v":822.3297597642005},null,{"$f":"IF(C242=\"\",\"\",IF(C243=\"\",0,IF(E242=\"Construção\",0,IF(E242=\"Seguro\",$C$17*'Base de Dados'!$C$2,IF($C$14=Parâmetros!$B$4,0,Simulador!$C$17*'Base de Dados'!$C$2)))))","v":66.400000000000006},null,{"$f":"IF(C242=\"\",\"\",IF(E242<>\"Retorno\",(I242+K242+M242),IF($G$20=Parâmetros!$D$2,SUM(G242,I242,K242,M242,O242),PMT($O$25,SUM($G$17),($O$10)*-1)+O242+M242+K242)))","v":11010.275505870777},null,906448.14788822806,null,""]
["2043-10-02","",210,"1900-07-28","Retorno",null,{"$f":"IFERROR(IF(C243=\"\",\"\",IF(E243<>\"Retorno\",0,IF($G$20=Parâmetros!$D$2,Simulador!$O$10/$G$17,IF($G$20=Parâmetros!$D$3,Simulador!Q243-Simulador!O243-Simulador!M243-Simulador!K243-Simulador!I243,\"\")))),\"\")","v":1316.4452284677336},null,8805.1005176388426,null,0,null,{"$f":"IFERROR(IF(C243=\"\",\"\",IF($C$10=Parâmetros!$C$3,0,VLOOKUP(A243,'Base de Dados'!$E$3:$G$422,3,FALSE)*S243)),0)","v":821.13548065293469},null,{"$f":"IF(C243=\"\",\"\",IF(C244=\"\",0,IF(E243=\"Construção\",0,IF(E243=\"Seguro\",$C$17*'Base de Dados'!$C$2,IF($C$14=Parâmetros!$B$4,0,Simulador!$C$17*'Base de Dados'!$C$2)))))","v":66.400000000000006},null,{"$f":"IF(C243=\"\",\"\",IF(E243<>\"Retorno\",(I243+K243+M243),IF($G$20=Parâmetros!$D$2,SUM(G243,I243,K243,M243,O243),PMT($O$25,SUM($G$17),($O$10)*-1)+O243+M243+K243)))","v":11009.08122675951},null,905131.70265976037,null,""]
["2043-11-02","",211,"1900-07-29","Retorno",null,{"$f":"IFERROR(IF(C244=\"\",\"\",IF(E244<>\"Retorno\",0,IF($G$20=Parâmetros!$D$2,Simulador!$O$10/$G$17,IF($G$20=Parâmetros!$D$3,Simulador!Q244-Simulador!O244-Simulador!M244-Simulador!K244-Simulador!I244,\"\")))),\"\")","v":1329.2329787540148},null,8792.3127673525596,null,0,null,{"$f":"IFERROR(IF(C244=\"\",\"\",IF($C$10=Parâmetros!$C$3,0,VLOOKUP(A244,'Base de Dados'!$E$3:$G$422,3,FALSE)*S244)),0)","v":819.92960049460908},null,{"$f":"IF(C244=\"\",\"\",IF(C245=\"\",0,IF(E244=\"Construção\",0,IF(E244=\"Seguro\",$C$17*'Base de Dados'!$C$2,IF($C$14=Parâmetros!$B$4,0,Simulador!$C$17*'Base de Dados'!$C$2)))))","v":66.400000000000006},null,{"$f":"IF(C244=\"\",\"\",IF(E244<>\"Retorno\",(I244+K244+M244),IF($G$20=Parâmetros!$D$2,SUM(G244,I244,K244,M244,O244),PMT($O$25,SUM($G$17),($O$10)*-1)+O244+M244+K244)))","v":11007.875346601184},null,903802.46968100639,null,""]
["2043-12-02","",212,"1900-07-30","Retorno",null,{"$f":"IFERROR(IF(C245=\"\",\"\",IF(E245<>\"Retorno\",0,IF($G$20=Parâmetros!$D$2,Simulador!$O$10/$G$17,IF($G$20=Parâmetros!$D$3,Simulador!Q245-Simulador!O245-Simulador!M245-Simulador!K245-Simulador!I245,\"\")))),\"\")","v":1342.1449473167686},null,8779.4007987898076,null,0,null,{"$f":"IFERROR(IF(C245=\"\",\"\",IF($C$10=Parâmetros!$C$3,0,VLOOKUP(A245,'Base de Dados'!$E$3:$G$422,3,FALSE)*S245)),0)","v":818.71200659840326},null,{"$f":"IF(C245=\"\",\"\",IF(C246=\"\",0,IF(E245=\"Construção\",0,IF(E245=\"Seguro\",$C$17*'Base de Dados'!$C$2,IF($C$14=Parâmetros!$B$4,0,Simulador!$C$17*'Base de Dados'!$C$2)))))","v":66.400000000000006},null,{"$f":"IF(C245=\"\",\"\",IF(E245<>\"Retorno\",(I245+K245+M245),IF($G$20=Parâmetros!$D$2,SUM(G245,I245,K245,M245,O245),PMT($O$25,SUM($G$17),($O$10)*-1)+O245+M245+K245)))","v":11006.657752704979},null,902460.32473368966,null,""]
["2044-01-02","",213,"1900-07-31","Retorno",null,{"$f":"IFERROR(IF(C246=\"\",\"\",IF(E246<>\"Retorno\",0,IF($G$20=Parâmetros!$D$2,Simulador!$O$10/$G$17,IF($G$20=Parâmetros!$D$3,Simulador!Q246-Simulador!O246-Simulador!M246-Simulador!K246-Simulador!I246,\"\")))),\"\")","v":1355.1823407935826},null,8766.3634053129936,null,0,null,{"$f":"IFERROR(IF(C246=\"\",\"\",IF($C$10=Parâmetros!$C$3,0,VLOOKUP(A246,'Base de Dados'!$E$3:$G$422,3,FALSE)*S246)),0)","v":817.48258517883539},null,{"$f":"IF(C246=\"\",\"\",IF(C247=\"\",0,IF(E246=\"Construção\",0,IF(E246=\"Seguro\",$C$17*'Base de Dados'!$C$2,IF($C$14=Parâmetros!$B$4,0,Simulador!$C$17*'Base de Dados'!$C$2)))))","v":66.400000000000006},null,{"$f":"IF(C246=\"\",\"\",IF(E246<>\"Retorno\",(I246+K246+M246),IF($G$20=Parâmetros!$D$2,SUM(G246,I246,K246,M246,O246),PMT($O$25,SUM($G$17),($O$10)*-1)+O246+M246+K246)))","v":11005.428331285411},null,901105.14239289612,null,""]
["2044-02-02","",214,"1900-08-01","Retorno",null,{"$f":"IFERROR(IF(C247=\"\",\"\",IF(E247<>\"Retorno\",0,IF($G$20=Parâmetros!$D$2,Simulador!$O$10/$G$17,IF($G$20=Parâmetros!$D$3,Simulador!Q247-Simulador!O247-Simulador!M247-Simulador!K247-Simulador!I247,\"\")))),\"\")","v":1368.3463775432119},null,8753.1993685633643,null,0,null,{"$f":"IFERROR(IF(C247=\"\",\"\",IF($C$10=Parâmetros!$C$3,0,VLOOKUP(A247,'Base de Dados'!$E$3:$G$422,3,FALSE)*S247)),0)","v":816.24122134512822},null,{"$f":"IF(C247=\"\",\"\",IF(C248=\"\",0,IF(E247=\"Construção\",0,IF(E247=\"Seguro\",$C$17*'Base de Dados'!$C$2,IF($C$14=Parâmetros!$B$4,0,Simulador!$C$17*'Base de Dados'!$C$2)))))","v":66.400000000000006},null,{"$f":"IF(C247=\"\",\"\",IF(E247<>\"Retorno\",(I247+K247+M247),IF($G$20=Parâmetros!$D$2,SUM(G247,I247,K247,M247,O247),PMT($O$25,SUM($G$17),($O$10)*-1)+O247+M247+K247)))","v":11004.186967451704},null,899736.79601535294,null,""]
["2044-03-02","",215,"1900-08-02","Retorno",null,{"$f":"IFERROR(IF(C248=\"\",\"\",IF(E248<>\"Retorno\",0,IF($G$20=Parâmetros!$D$2,Simulador!$O$10/$G$17,IF($G$20=Parâmetros!$D$3,Simulador!Q248-Simulador!O248-Simulador!M248-Simulador!K248-Simulador!I248,\"\")))),\"\")","v":1381.6382877591914},null,8739.9074583473848,null,0,null,{"$f":"IFERROR(IF(C248=\"\",\"\",IF($C$10=Parâmetros!$C$3,0,VLOOKUP(A248,'Base de Dados'!$E$3:$G$422,3,FALSE)*S248)),0)","v":814.98779909047312},null,{"$f":"IF(C248=\"\",\"\",IF(C249=\"\",0,IF(E248=\"Construção\",0,IF(E248=\"Seguro\",$C$17*'Base de Dados'!$C$2,IF($C$14=Parâmetros!$B$4,0,Simulador!$C$17*'Base de Dados'!$C$2)))))","v":66.400000000000006},null,{"$f":"IF(C248=\"\",\"\",IF(E248<>\"Retorno\",(I248+K248+M248),IF($G$20=Parâmetros!$D$2,SUM(G248,I248,K248,M248,O248),PMT($O$25,SUM($G$17),($O$10)*-1)+O248+M248+K248)))","v":11002.933545197049},null,898355.15772759379,null,""]
["2044-04-02","",216,"1900-08-03","Retorno",null,{"$f":"IFERROR(IF(C249=\"\",\"\",IF(E249<>\"Retorno\",0,IF($G$20=Parâmetros!$D$2,Simulador!$O$10/$G$17,IF($G$20=Parâmetros!$D$3,Simulador!Q249-Simulador!O249-Simulador!M249-Simulador!K249-Simulador!I249,\"\")))),\"\")","v":1395.059313585205},null,8726.4864325213712,null,0,null,{"$f":"IFERROR(IF(C249=\"\",\"\",IF($C$10=Parâmetros!$C$3,0,VLOOKUP(A249,'Base de Dados'!$E$3:$G$422,3,FALSE)*S249)),0)","v":813.72220128118863},null,{"$f":"IF(C249=\"\",\"\",IF(C250=\"\",0,IF(E249=\"Construção\",0,IF(E249=\"Seguro\",$C$17*'Base de Dados'!$C$2,IF($C$14=Parâmetros!$B$4,0,Simulador!$C$17*'Base de Dados'!$C$2)))))","v":66.400000000000006},null,{"$f":"IF(C249=\"\",\"\",IF(E249<>\"Retorno\",(I249+K249+M249),IF($G$20=Parâmetros!$D$2,SUM(G249,I249,K249,M249,O249),PMT($O$25,SUM($G$17),($O$10)*-1)+O249+M249+K249)))","v":11001.667947387765},null,896960.09841400862,null,""]
["2044-05-02","",217,"1900-08-04","Retorno",null,{"$f":"IFERROR(IF(C250=\"\",\"\",IF(E250<>\"Retorno\",0,IF($G$20=Parâmetros!$D$2,Simulador!$O$10/$G$17,IF($G$20=Parâmetros!$D$3,Simulador!Q250-Simulador!O250-Simulador!M250-Simulador!K250-Simulador!I250,\"\")))),\"\")","v":1408.6107092306866},null,8712.9350368758896,null,0,null,{"$f":"IFERROR(IF(C250=\"\",\"\",IF($C$10=Parâmetros!$C$3,0,VLOOKUP(A250,'Base de Dados'!$E$3:$G$422,3,FALSE)*S250)),0)","v":812.44430964577464},null,{"$f":"IF(C250=\"\",\"\",IF(C251=\"\",0,IF(E250=\"Construção\",0,IF(E250=\"Seguro\",$C$17*'Base de Dados'!$C$2,IF($C$14=Parâmetros!$B$4,0,Simulador!$C$17*'Base de Dados'!$C$2)))))","v":66.400000000000006},null,{"$f":"IF(C250=\"\",\"\",IF(E250<>\"Retorno\",(I250+K250+M250),IF($G$20=Parâmetros!$D$2,SUM(G250,I250,K250,M250,O250),PMT($O$25,SUM($G$17),($O$10)*-1)+O250+M250+K250)))","v":11000.39005575235},null,895551.48770477797,null,""]
["2044-06-02","",218,"1900-08-05","Retorno",null,{"$f":"IFERROR(IF(C251=\"\",\"\",IF(E251<>\"Retorno\",0,IF($G$20=Parâmetros!$D$2,Simulador!$O$10/$G$17,IF($G$20=Parâmetros!$D$3,Simulador!Q251-Simulador!O251-Simulador!M251-Simulador!K251-Simulador!I251,\"\")))),\"\")","v":1422.2937410885152},null,8699.252005018061,null,0,null,{"$f":"IFERROR(IF(C251=\"\",\"\",IF($C$10=Parâmetros!$C$3,0,VLOOKUP(A251,'Base de Dados'!$E$3:$G$422,3,FALSE)*S251)),0)","v":811.15400476385912},null,{"$f":"IF(C251=\"\",\"\",IF(C252=\"\",0,IF(E251=\"Construção\",0,IF(E251=\"Seguro\",$C$17*'Base de Dados'!$C$2,IF($C$14=Parâmetros!$B$4,0,Simulador!$C$17*'Base de Dados'!$C$2)))))","v":66.400000000000006},null,{"$f":"IF(C251=\"\",\"\",IF(E251<>\"Retorno\",(I251+K251+M251),IF($G$20=Parâmetros!$D$2,SUM(G251,I251,K251,M251,O251),PMT($O$25,SUM($G$17),($O$10)*-1)+O251+M251+K251)))","v":10999.099750870435},null,894129.1939636895,null,""]
["2044-07-02","",219,"1900-08-06","Retorno",null,{"$f":"IFERROR(IF(C252=\"\",\"\",IF(E252<>\"Retorno\",0,IF($G$20=Parâmetros!$D$2,Simulador!$O$10/$G$17,IF($G$20=Parâmetros!$D$3,Simulador!Q252-Simulador!O252-Simulador!M252-Simulador!K252-Simulador!I252,\"\")))),\"\")","v":1436.1096878529443},null,8685.4360582536319,null,0,null,{"$f":"IFERROR(IF(C252=\"\",\"\",IF($C$10=Parâmetros!$C$3,0,VLOOKUP(A252,'Base de Dados'!$E$3:$G$422,3,FALSE)*S252)),0)","v":809.85116605503902},null,{"$f":"IF(C252=\"\",\"\",IF(C253=\"\",0,IF(E252=\"Construção\",0,IF(E252=\"Seguro\",$C$17*'Base de Dados'!$C$2,IF($C$14=Parâmetros!$B$4,0,Simulador!$C$17*'Base de Dados'!$C$2)))))","v":66.400000000000006},null,{"$f":"IF(C252=\"\",\"\",IF(E252<>\"Retorno\",(I252+K252+M252),IF($G$20=Parâmetros!$D$2,SUM(G252,I252,K252,M252,O252),PMT($O$25,SUM($G$17),($O$10)*-1)+O252+M252+K252)))","v":10997.796912161615},null,892693.08427583659,null,""]
["2044-08-02","",220,"1900-08-07","Retorno",null,{"$f":"IFERROR(IF(C253=\"\",\"\",IF(E253<>\"Retorno\",0,IF($G$20=Parâmetros!$D$2,Simulador!$O$10/$G$17,IF($G$20=Parâmetros!$D$3,Simulador!Q253-Simulador!O253-Simulador!M253-Simulador!K253-Simulador!I253,\"\")))),\"\")","v":1450.05984063916},null,8671.4859054674162,null,0,null,{"$f":"IFERROR(IF(C253=\"\",\"\",IF($C$10=Parâmetros!$C$3,0,VLOOKUP(A253,'Base de Dados'!$E$3:$G$422,3,FALSE)*S253)),0)","v":808.53567176761123},null,{"$f":"IF(C253=\"\",\"\",IF(C254=\"\",0,IF(E253=\"Construção\",0,IF(E253=\"Seguro\",$C$17*'Base de Dados'!$C$2,IF($C$14=Parâmetros!$B$4,0,Simulador!$C$17*'Base de Dados'!$C$2)))))","v":66.400000000000006},null,{"$f":"IF(C253=\"\",\"\",IF(E253<>\"Retorno\",(I253+K253+M253),IF($G$20=Parâmetros!$D$2,SUM(G253,I253,K253,M253,O253),PMT($O$25,SUM($G$17),($O$10)*-1)+O253+M253+K253)))","v":10996.481417874187},null,891243.02443519747,null,""]
["2044-09-02","",221,"1900-08-08","Retorno",null,{"$f":"IFERROR(IF(C254=\"\",\"\",IF(E254<>\"Retorno\",0,IF($G$20=Parâmetros!$D$2,Simulador!$O$10/$G$17,IF($G$20=Parâmetros!$D$3,Simulador!Q254-Simulador!O254-Simulador!M254-Simulador!K254-Simulador!I254,\"\")))),\"\")","v":1464.1455031044698},null,8657.4002430021064,null,0,null,{"$f":"IFERROR(IF(C254=\"\",\"\",IF($C$10=Parâmetros!$C$3,0,VLOOKUP(A254,'Base de Dados'!$E$3:$G$422,3,FALSE)*S254)),0)","v":807.20739896719488},null,{"$f":"IF(C254=\"\",\"\",IF(C255=\"\",0,IF(E254=\"Construção\",0,IF(E254=\"Seguro\",$C$17*'Base de Dados'!$C$2,IF($C$14=Parâmetros!$B$4,0,Simulador!$C$17*'Base de Dados'!$C$2)))))","v":66.400000000000006},null,{"$f":"IF(C254=\"\",\"\",IF(E254<>\"Retorno\",(I254+K254+M254),IF($G$20=Parâmetros!$D$2,SUM(G254,I254,K254,M254,O254),PMT($O$25,SUM($G$17),($O$10)*-1)+O254+M254+K254)))","v":10995.153145073771},null,889778.87893209304,null,""]
["2044-10-02","",222,"1900-08-09","Retorno",null,{"$f":"IFERROR(IF(C255=\"\",\"\",IF(E255<>\"Retorno\",0,IF($G$20=Parâmetros!$D$2,Simulador!$O$10/$G$17,IF($G$20=Parâmetros!$D$3,Simulador!Q255-Simulador!O255-Simulador!M255-Simulador!K255-Simulador!I255,\"\")))),\"\")","v":1478.3679915692574},null,8643.1777545373188,null,0,null,{"$f":"IFERROR(IF(C255=\"\",\"\",IF($C$10=Parâmetros!$C$3,0,VLOOKUP(A255,'Base de Dados'!$E$3:$G$422,3,FALSE)*S255)),0)","v":805.8662235252433},null,{"$f":"IF(C255=\"\",\"\",IF(C256=\"\",0,IF(E255=\"Construção\",0,IF(E255=\"Seguro\",$C$17*'Base de Dados'!$C$2,IF($C$14=Parâmetros!$B$4,0,Simulador!$C$17*'Base de Dados'!$C$2)))))","v":66.400000000000006},null,{"$f":"IF(C255=\"\",\"\",IF(E255<>\"Retorno\",(I255+K255+M255),IF($G$20=Parâmetros!$D$2,SUM(G255,I255,K255,M255,O255),PMT($O$25,SUM($G$17),($O$10)*-1)+O255+M255+K255)))","v":10993.811969631819},null,888300.51094052382,null,""]
["2044-11-02","",223,"1900-08-10","Retorno",null,{"$f":"IFERROR(IF(C256=\"\",\"\",IF(E256<>\"Retorno\",0,IF($G$20=Parâmetros!$D$2,Simulador!$O$10/$G$17,IF($G$20=Parâmetros!$D$3,Simulador!Q256-Simulador!O256-Simulador!M256-Simulador!K256-Simulador!I256,\"\")))),\"\")","v":1492.7286351407329},null,8628.8171109658433,null,0,null,{"$f":"IFERROR(IF(C256=\"\",\"\",IF($C$10=Parâmetros!$C$3,0,VLOOKUP(A256,'Base de Dados'!$E$3:$G$422,3,FALSE)*S256)),0)","v":804.51202010744362},null,{"$f":"IF(C256=\"\",\"\",IF(C257=\"\",0,IF(E256=\"Construção\",0,IF(E256=\"Seguro\",$C$17*'Base de Dados'!$C$2,IF($C$14=Parâmetros!$B$4,0,Simulador!$C$17*'Base de Dados'!$C$2)))))","v":66.400000000000006},null,{"$f":"IF(C256=\"\",\"\",IF(E256<>\"Retorno\",(I256+K256+M256),IF($G$20=Parâmetros!$D$2,SUM(G256,I256,K256,M256,O256),PMT($O$25,SUM($G$17),($O$10)*-1)+O256+M256+K256)))","v":10992.45776621402},null,886807.78230538312,null,""]
["2044-12-02","",224,"1900-08-11","Retorno",null,{"$f":"IFERROR(IF(C257=\"\",\"\",IF(E257<>\"Retorno\",0,IF($G$20=Parâmetros!$D$2,Simulador!$O$10/$G$17,IF($G$20=Parâmetros!$D$3,Simulador!Q257-Simulador!O257-Simulador!M257-Simulador!K257-Simulador!I257,\"\")))),\"\")","v":1507.228775836682},null,8614.3169702698942,null,0,null,{"$f":"IFERROR(IF(C257=\"\",\"\",IF($C$10=Parâmetros!$C$3,0,VLOOKUP(A257,'Base de Dados'!$E$3:$G$422,3,FALSE)*S257)),0)","v":803.14466216200458},null,{"$f":"IF(C257=\"\",\"\",IF(C258=\"\",0,IF(E257=\"Construção\",0,IF(E257=\"Seguro\",$C$17*'Base de Dados'!$C$2,IF($C$14=Parâmetros!$B$4,0,Simulador!$C$17*'Base de Dados'!$C$2)))))","v":66.400000000000006},null,{"$f":"IF(C257=\"\",\"\",IF(E257<>\"Retorno\",(I257+K257+M257),IF($G$20=Parâmetros!$D$2,SUM(G257,I257,K257,M257,O257),PMT($O$25,SUM($G$17),($O$10)*-1)+O257+M257+K257)))","v":10991.090408268581},null,885300.55352954648,null,""]
["2045-01-02","",225,"1900-08-12","Retorno",null,{"$f":"IFERROR(IF(C258=\"\",\"\",IF(E258<>\"Retorno\",0,IF($G$20=Parâmetros!$D$2,Simulador!$O$10/$G$17,IF($G$20=Parâmetros!$D$3,Simulador!Q258-Simulador!O258-Simulador!M258-Simulador!K258-Simulador!I258,\"\")))),\"\")","v":1521.8697687111944},null,8599.6759773953818,null,0,null,{"$f":"IFERROR(IF(C258=\"\",\"\",IF($C$10=Parâmetros!$C$3,0,VLOOKUP(A258,'Base de Dados'!$E$3:$G$422,3,FALSE)*S258)),0)","v":801.76402190782983},null,{"$f":"IF(C258=\"\",\"\",IF(C259=\"\",0,IF(E258=\"Construção\",0,IF(E258=\"Seguro\",$C$17*'Base de Dados'!$C$2,IF($C$14=Parâmetros!$B$4,0,Simulador!$C$17*'Base de Dados'!$C$2)))))","v":66.400000000000006},null,{"$f":"IF(C258=\"\",\"\",IF(E258<>\"Retorno\",(I258+K258+M258),IF($G$20=Parâmetros!$D$2,SUM(G258,I258,K258,M258,O258),PMT($O$25,SUM($G$17),($O$10)*-1)+O258+M258+K258)))","v":10989.709768014405},null,883778.68376083532,null,""]
["2045-02-02","",226,"1900-08-13","Retorno",null,{"$f":"IFERROR(IF(C259=\"\",\"\",IF(E259<>\"Retorno\",0,IF($G$20=Parâmetros!$D$2,Simulador!$O$10/$G$17,IF($G$20=Parâmetros!$D$3,Simulador!Q259-Simulador!O259-Simulador!M259-Simulador!K259-Simulador!I259,\"\")))),\"\")","v":1536.6529819809748},null,8584.8927641256014,null,0,null,{"$f":"IFERROR(IF(C259=\"\",\"\",IF($C$10=Parâmetros!$C$3,0,VLOOKUP(A259,'Base de Dados'!$E$3:$G$422,3,FALSE)*S259)),0)","v":800.36997032257671},null,{"$f":"IF(C259=\"\",\"\",IF(C260=\"\",0,IF(E259=\"Construção\",0,IF(E259=\"Seguro\",$C$17*'Base de Dados'!$C$2,IF($C$14=Parâmetros!$B$4,0,Simulador!$C$17*'Base de Dados'!$C$2)))))","v":66.400000000000006},null,{"$f":"IF(C259=\"\",\"\",IF(E259<>\"Retorno\",(I259+K259+M259),IF($G$20=Parâmetros!$D$2,SUM(G259,I259,K259,M259,O259),PMT($O$25,SUM($G$17),($O$10)*-1)+O259+M259+K259)))","v":10988.315716429153},null,882242.03077885439,null,""]
["2045-03-02","",227,"1900-08-14","Retorno",null,{"$f":"IFERROR(IF(C260=\"\",\"\",IF(E260<>\"Retorno\",0,IF($G$20=Parâmetros!$D$2,Simulador!$O$10/$G$17,IF($G$20=Parâmetros!$D$3,Simulador!Q260-Simulador!O260-Simulador!M260-Simulador!K260-Simulador!I260,\"\")))),\"\")","v":1551.5797971536322},null,8569.965948952944,null,0,null,{"$f":"IFERROR(IF(C260=\"\",\"\",IF($C$10=Parâmetros!$C$3,0,VLOOKUP(A260,'Base de Dados'!$E$3:$G$422,3,FALSE)*S260)),0)","v":798.96237713059895},null,{"$f":"IF(C260=\"\",\"\",IF(C261=\"\",0,IF(E260=\"Construção\",0,IF(E260=\"Seguro\",$C$17*'Base de Dados'!$C$2,IF($C$14=Parâmetros!$B$4,0,Simulador!$C$17*'Base de Dados'!$C$2)))))","v":66.400000000000006},null,{"$f":"IF(C260=\"\",\"\",IF(E260<>\"Retorno\",(I260+K260+M260),IF($G$20=Parâmetros!$D$2,SUM(G260,I260,K260,M260,O260),PMT($O$25,SUM($G$17),($O$10)*-1)+O260+M260+K260)))","v":10986.908123237175},null,880690.45098170079,null,""]
["2045-04-02","",228,"1900-08-15","Retorno",null,{"$f":"IFERROR(IF(C261=\"\",\"\",IF(E261<>\"Retorno\",0,IF($G$20=Parâmetros!$D$2,Simulador!$O$10/$G$17,IF($G$20=Parâmetros!$D$3,Simulador!Q261-Simulador!O261-Simulador!M261-Simulador!K261-Simulador!I261,\"\")))),\"\")","v":1566.6516091562025},null,8554.8941369503736,null,0,null,{"$f":"IFERROR(IF(C261=\"\",\"\",IF($C$10=Parâmetros!$C$3,0,VLOOKUP(A261,'Base de Dados'!$E$3:$G$422,3,FALSE)*S261)),0)","v":797.54111079077256},null,{"$f":"IF(C261=\"\",\"\",IF(C262=\"\",0,IF(E261=\"Construção\",0,IF(E261=\"Seguro\",$C$17*'Base de Dados'!$C$2,IF($C$14=Parâmetros!$B$4,0,Simulador!$C$17*'Base de Dados'!$C$2)))))","v":66.400000000000006},null,{"$f":"IF(C261=\"\",\"\",IF(E261<>\"Retorno\",(I261+K261+M261),IF($G$20=Parâmetros!$D$2,SUM(G261,I261,K261,M261,O261),PMT($O$25,SUM($G$17),($O$10)*-1)+O261+M261+K261)))","v":10985.486856897349},null,879123.79937254463,null,""]
["2045-05-02","",229,"1900-08-16","Retorno",null,{"$f":"IFERROR(IF(C262=\"\",\"\",IF(E262<>\"Retorno\",0,IF($G$20=Parâmetros!$D$2,Simulador!$O$10/$G$17,IF($G$20=Parâmetros!$D$3,Simulador!Q262-Simulador!O262-Simulador!M262-Simulador!K262-Simulador!I262,\"\")))),\"\")","v":1581.8698264661161},null,8539.6759196404601,null,0,null,{"$f":"IFERROR(IF(C262=\"\",\"\",IF($C$10=Parâmetros!$C$3,0,VLOOKUP(A262,'Base de Dados'!$E$3:$G$422,3,FALSE)*S262)),0)","v":796.10603848420249},null,{"$f":"IF(C262=\"\",\"\",IF(C263=\"\",0,IF(E262=\"Construção\",0,IF(E262=\"Seguro\",$C$17*'Base de Dados'!$C$2,IF($C$14=Parâmetros!$B$4,0,Simulador!$C$17*'Base de Dados'!$C$2)))))","v":66.400000000000006},null,{"$f":"IF(C262=\"\",\"\",IF(E262<>\"Retorno\",(I262+K262+M262),IF($G$20=Parâmetros!$D$2,SUM(G262,I262,K262,M262,O262),PMT($O$25,SUM($G$17),($O$10)*-1)+O262+M262+K262)))","v":10984.051784590778},null,877541.92954607855,null,""]
["2045-06-02","",230,"1900-08-17","Retorno",null,{"$f":"IFERROR(IF(C263=\"\",\"\",IF(E263<>\"Retorno\",0,IF($G$20=Parâmetros!$D$2,Simulador!$O$10/$G$17,IF($G$20=Parâmetros!$D$3,Simulador!Q263-Simulador!O263-Simulador!M263-Simulador!K263-Simulador!I263,\"\")))),\"\")","v":1597.2358712423975},null,8524.3098748641787,null,0,null,{"$f":"IFERROR(IF(C263=\"\",\"\",IF($C$10=Parâmetros!$C$3,0,VLOOKUP(A263,'Base de Dados'!$E$3:$G$422,3,FALSE)*S263)),0)","v":794.65702610181143},null,{"$f":"IF(C263=\"\",\"\",IF(C264=\"\",0,IF(E263=\"Construção\",0,IF(E263=\"Seguro\",$C$17*'Base de Dados'!$C$2,IF($C$14=Parâmetros!$B$4,0,Simulador!$C$17*'Base de Dados'!$C$2)))))","v":66.400000000000006},null,{"$f":"IF(C263=\"\",\"\",IF(E263<>\"Retorno\",(I263+K263+M263),IF($G$20=Parâmetros!$D$2,SUM(G263,I263,K263,M263,O263),PMT($O$25,SUM($G$17),($O$10)*-1)+O263+M263+K263)))","v":10982.602772208387},null,875944.69367483619,null,""]
["2045-07-02","",231,"1900-08-18","Retorno",null,{"$f":"IFERROR(IF(C264=\"\",\"\",IF(E264<>\"Retorno\",0,IF($G$20=Parâmetros!$D$2,Simulador!$O$10/$G$17,IF($G$20=Parâmetros!$D$3,Simulador!Q264-Simulador!O264-Simulador!M264-Simulador!K264-Simulador!I264,\"\")))),\"\")","v":1612.7511794588445},null,8508.7945666477317,null,0,null,{"$f":"IFERROR(IF(C264=\"\",\"\",IF($C$10=Parâmetros!$C$3,0,VLOOKUP(A264,'Base de Dados'!$E$3:$G$422,3,FALSE)*S264)),0)","v":793.19393823180644},null,{"$f":"IF(C264=\"\",\"\",IF(C265=\"\",0,IF(E264=\"Construção\",0,IF(E264=\"Seguro\",$C$17*'Base de Dados'!$C$2,IF($C$14=Parâmetros!$B$4,0,Simulador!$C$17*'Base de Dados'!$C$2)))))","v":66.400000000000006},null,{"$f":"IF(C264=\"\",\"\",IF(E264<>\"Retorno\",(I264+K264+M264),IF($G$20=Parâmetros!$D$2,SUM(G264,I264,K264,M264,O264),PMT($O$25,SUM($G$17),($O$10)*-1)+O264+M264+K264)))","v":10981.139684338383},null,874331.94249537739,null,""]
["2045-08-02","",232,"1900-08-19","Retorno",null,{"$f":"IFERROR(IF(C265=\"\",\"\",IF(E265<>\"Retorno\",0,IF($G$20=Parâmetros!$D$2,Simulador!$O$10/$G$17,IF($G$20=Parâmetros!$D$3,Simulador!Q265-Simulador!O265-Simulador!M265-Simulador!K265-Simulador!I265,\"\")))),\"\")","v":1628.4172010377897},null,8493.1285450687865,null,0,null,{"$f":"IFERROR(IF(C265=\"\",\"\",IF($C$10=Parâmetros!$C$3,0,VLOOKUP(A265,'Base de Dados'!$E$3:$G$422,3,FALSE)*S265)),0)","v":791.71663814702492},null,{"$f":"IF(C265=\"\",\"\",IF(C266=\"\",0,IF(E265=\"Construção\",0,IF(E265=\"Seguro\",$C$17*'Base de Dados'!$C$2,IF($C$14=Parâmetros!$B$4,0,Simulador!$C$17*'Base de Dados'!$C$2)))))","v":66.400000000000006},null,{"$f":"IF(C265=\"\",\"\",IF(E265<>\"Retorno\",(I265+K265+M265),IF($G$20=Parâmetros!$D$2,SUM(G265,I265,K265,M265,O265),PMT($O$25,SUM($G$17),($O$10)*-1)+O265+M265+K265)))","v":10979.662384253601},null,872703.52529433963,null,""]
["2045-09-02","",233,"1900-08-20","Retorno",null,{"$f":"IFERROR(IF(C266=\"\",\"\",IF(E266<>\"Retorno\",0,IF($G$20=Parâmetros!$D$2,Simulador!$O$10/$G$17,IF($G$20=Parâmetros!$D$3,Simulador!Q266-Simulador!O266-Simulador!M266-Simulador!K266-Simulador!I266,\"\")))),\"\")","v":1644.2353999863062},null,8477.31034612027,null,0,null,{"$f":"IFERROR(IF(C266=\"\",\"\",IF($C$10=Parâmetros!$C$3,0,VLOOKUP(A266,'Base de Dados'!$E$3:$G$422,3,FALSE)*S266)),0)","v":790.22498779215744},null,{"$f":"IF(C266=\"\",\"\",IF(C267=\"\",0,IF(E266=\"Construção\",0,IF(E266=\"Seguro\",$C$17*'Base de Dados'!$C$2,IF($C$14=Parâmetros!$B$4,0,Simulador!$C$17*'Base de Dados'!$C$2)))))","v":66.400000000000006},null,{"$f":"IF(C266=\"\",\"\",IF(E266<>\"Retorno\",(I266+K266+M266),IF($G$20=Parâmetros!$D$2,SUM(G266,I266,K266,M266,O266),PMT($O$25,SUM($G$17),($O$10)*-1)+O266+M266+K266)))","v":10978.170733898733},null,871059.28989435337,null,""]
["2045-10-02","",234,"1900-08-21","Retorno",null,{"$f":"IFERROR(IF(C267=\"\",\"\",IF(E267<>\"Retorno\",0,IF($G$20=Parâmetros!$D$2,Simulador!$O$10/$G$17,IF($G$20=Parâmetros!$D$3,Simulador!Q267-Simulador!O267-Simulador!M267-Simulador!K267-Simulador!I267,\"\")))),\"\")","v":1660.2072545322972},null,8461.338491574279,null,0,null,{"$f":"IFERROR(IF(C267=\"\",\"\",IF($C$10=Parâmetros!$C$3,0,VLOOKUP(A267,'Base de Dados'!$E$3:$G$422,3,FALSE)*S267)),0)","v":788.71884777084574},null,{"$f":"IF(C267=\"\",\"\",IF(C268=\"\",0,IF(E267=\"Construção\",0,IF(E267=\"Seguro\",$C$17*'Base de Dados'!$C$2,IF($C$14=Parâmetros!$B$4,0,Simulador!$C$17*'Base de Dados'!$C$2)))))","v":66.400000000000006},null,{"$f":"IF(C267=\"\",\"\",IF(E267<>\"Retorno\",(I267+K267+M267),IF($G$20=Parâmetros!$D$2,SUM(G267,I267,K267,M267,O267),PMT($O$25,SUM($G$17),($O$10)*-1)+O267+M267+K267)))","v":10976.664593877422},null,869399.08263982111,null,""]
["2045-11-02","",235,"1900-08-22","Retorno",null,{"$f":"IFERROR(IF(C268=\"\",\"\",IF(E268<>\"Retorno\",0,IF($G$20=Parâmetros!$D$2,Simulador!$O$10/$G$17,IF($G$20=Parâmetros!$D$3,Simulador!Q268-Simulador!O268-Simulador!M268-Simulador!K268-Simulador!I268,\"\")))),\"\")","v":1676.3342572630318},null,8445.2114888435462,null,0,null,{"$f":"IFERROR(IF(C268=\"\",\"\",IF($C$10=Parâmetros!$C$3,0,VLOOKUP(A268,'Base de Dados'!$E$3:$G$422,3,FALSE)*S268)),0)","v":787.19807733265679},null,{"$f":"IF(C268=\"\",\"\",IF(C269=\"\",0,IF(E268=\"Construção\",0,IF(E268=\"Seguro\",$C$17*'Base de Dados'!$C$2,IF($C$14=Parâmetros!$B$4,0,Simulador!$C$17*'Base de Dados'!$C$2)))))","v":66.400000000000006},null,{"$f":"IF(C268=\"\",\"\",IF(E268<>\"Retorno\",(I268+K268+M268),IF($G$20=Parâmetros!$D$2,SUM(G268,I268,K268,M268,O268),PMT($O$25,SUM($G$17),($O$10)*-1)+O268+M268+K268)))","v":10975.143823439234},null,867722.74838255811,null,""]
["2045-12-02","",236,"1900-08-23","Retorno",null,{"$f":"IFERROR(IF(C269=\"\",\"\",IF(E269<>\"Retorno\",0,IF($G$20=Parâmetros!$D$2,Simulador!$O$10/$G$17,IF($G$20=Parâmetros!$D$3,Simulador!Q269-Simulador!O269-Simulador!M269-Simulador!K269-Simulador!I269,\"\")))),\"\")","v":1692.6179152646018},null,8428.9278308419744,null,0,null,{"$f":"IFERROR(IF(C269=\"\",\"\",IF($C$10=Parâmetros!$C$3,0,VLOOKUP(A269,'Base de Dados'!$E$3:$G$422,3,FALSE)*S269)),0)","v":785.66253435992871},null,{"$f":"IF(C269=\"\",\"\",IF(C270=\"\",0,IF(E269=\"Construção\",0,IF(E269=\"Seguro\",$C$17*'Base de Dados'!$C$2,IF($C$14=Parâmetros!$B$4,0,Simulador!$C$17*'Base de Dados'!$C$2)))))","v":66.400000000000006},null,{"$f":"IF(C269=\"\",\"\",IF(E269<>\"Retorno\",(I269+K269+M269),IF($G$20=Parâmetros!$D$2,SUM(G269,I269,K269,M269,O269),PMT($O$25,SUM($G$17),($O$10)*-1)+O269+M269+K269)))","v":10973.608280466504},null,866030.13046729355,null,""]
["2046-01-02","",237,"1900-08-24","Retorno",null,{"$f":"IFERROR(IF(C270=\"\",\"\",IF(E270<>\"Retorno\",0,IF($G$20=Parâmetros!$D$2,Simulador!$O$10/$G$17,IF($G$20=Parâmetros!$D$3,Simulador!Q270-Simulador!O270-Simulador!M270-Simulador!K270-Simulador!I270,\"\")))),\"\")","v":1709.0597502626861},null,8412.4859958438901,null,0,null,{"$f":"IFERROR(IF(C270=\"\",\"\",IF($C$10=Parâmetros!$C$3,0,VLOOKUP(A270,'Base de Dados'!$E$3:$G$422,3,FALSE)*S270)),0)","v":784.11207535449046},null,{"$f":"IF(C270=\"\",\"\",IF(C271=\"\",0,IF(E270=\"Construção\",0,IF(E270=\"Seguro\",$C$17*'Base de Dados'!$C$2,IF($C$14=Parâmetros!$B$4,0,Simulador!$C$17*'Base de Dados'!$C$2)))))","v":66.400000000000006},null,{"$f":"IF(C270=\"\",\"\",IF(E270<>\"Retorno\",(I270+K270+M270),IF($G$20=Parâmetros!$D$2,SUM(G270,I270,K270,M270,O270),PMT($O$25,SUM($G$17),($O$10)*-1)+O270+M270+K270)))","v":10972.057821461067},null,864321.0707170309,null,""]
["2046-02-02","",238,"1900-08-25","Retorno",null,{"$f":"IFERROR(IF(C271=\"\",\"\",IF(E271<>\"Retorno\",0,IF($G$20=Parâmetros!$D$2,Simulador!$O$10/$G$17,IF($G$20=Parâmetros!$D$3,Simulador!Q271-Simulador!O271-Simulador!M271-Simulador!K271-Simulador!I271,\"\")))),\"\")","v":1725.6612987646749},null,8395.8844473419013,null,0,null,{"$f":"IFERROR(IF(C271=\"\",\"\",IF($C$10=Parâmetros!$C$3,0,VLOOKUP(A271,'Base de Dados'!$E$3:$G$422,3,FALSE)*S271)),0)","v":782.54655542425121},null,{"$f":"IF(C271=\"\",\"\",IF(C272=\"\",0,IF(E271=\"Construção\",0,IF(E271=\"Seguro\",$C$17*'Base de Dados'!$C$2,IF($C$14=Parâmetros!$B$4,0,Simulador!$C$17*'Base de Dados'!$C$2)))))","v":66.400000000000006},null,{"$f":"IF(C271=\"\",\"\",IF(E271<>\"Retorno\",(I271+K271+M271),IF($G$20=Parâmetros!$D$2,SUM(G271,I271,K271,M271,O271),PMT($O$25,SUM($G$17),($O$10)*-1)+O271+M271+K271)))","v":10970.492301530827},null,862595.40941826627,null,""]
["2046-03-02","",239,"1900-08-26","Retorno",null,{"$f":"IFERROR(IF(C272=\"\",\"\",IF(E272<>\"Retorno\",0,IF($G$20=Parâmetros!$D$2,Simulador!$O$10/$G$17,IF($G$20=Parâmetros!$D$3,Simulador!Q272-Simulador!O272-Simulador!M272-Simulador!K272-Simulador!I272,\"\")))),\"\")","v":1742.4241122034528},null,8379.1216339031234,null,0,null,{"$f":"IFERROR(IF(C272=\"\",\"\",IF($C$10=Parâmetros!$C$3,0,VLOOKUP(A272,'Base de Dados'!$E$3:$G$422,3,FALSE)*S272)),0)","v":780.96582826966028},null,{"$f":"IF(C272=\"\",\"\",IF(C273=\"\",0,IF(E272=\"Construção\",0,IF(E272=\"Seguro\",$C$17*'Base de Dados'!$C$2,IF($C$14=Parâmetros!$B$4,0,Simulador!$C$17*'Base de Dados'!$C$2)))))","v":66.400000000000006},null,{"$f":"IF(C272=\"\",\"\",IF(E272<>\"Retorno\",(I272+K272+M272),IF($G$20=Parâmetros!$D$2,SUM(G272,I272,K272,M272,O272),PMT($O$25,SUM($G$17),($O$10)*-1)+O272+M272+K272)))","v":10968.911574376236},null,860852.98530606285,null,""]
["2046-04-02","",240,"1900-08-27","Retorno",null,{"$f":"IFERROR(IF(C273=\"\",\"\",IF(E273<>\"Retorno\",0,IF($G$20=Parâmetros!$D$2,Simulador!$O$10/$G$17,IF($G$20=Parâmetros!$D$3,Simulador!Q273-Simulador!O273-Simulador!M273-Simulador!K273-Simulador!I273,\"\")))),\"\")","v":1759.3497570824493},null,8362.1959890241269,null,0,null,{"$f":"IFERROR(IF(C273=\"\",\"\",IF($C$10=Parâmetros!$C$3,0,VLOOKUP(A273,'Base de Dados'!$E$3:$G$422,3,FALSE)*S273)),0)","v":779.36974617003511},null,{"$f":"IF(C273=\"\",\"\",IF(C274=\"\",0,IF(E273=\"Construção\",0,IF(E273=\"Seguro\",$C$17*'Base de Dados'!$C$2,IF($C$14=Parâmetros!$B$4,0,Simulador!$C$17*'Base de Dados'!$C$2)))))","v":66.400000000000006},null,{"$f":"IF(C273=\"\",\"\",IF(E273<>\"Retorno\",(I273+K273+M273),IF($G$20=Parâmetros!$D$2,SUM(G273,I273,K273,M273,O273),PMT($O$25,SUM($G$17),($O$10)*-1)+O273+M273+K273)))","v":10967.315492276612},null,859093.63554898044,null,""]
["2046-05-02","",241,"1900-08-28","Retorno",null,{"$f":"IFERROR(IF(C274=\"\",\"\",IF(E274<>\"Retorno\",0,IF($G$20=Parâmetros!$D$2,Simulador!$O$10/$G$17,IF($G$20=Parâmetros!$D$3,Simulador!Q274-Simulador!O274-Simulador!M274-Simulador!K274-Simulador!I274,\"\")))),\"\")","v":1776.4398151213918},null,8345.1059309851844,null,0,null,{"$f":"IFERROR(IF(C274=\"\",\"\",IF($C$10=Parâmetros!$C$3,0,VLOOKUP(A274,'Base de Dados'!$E$3:$G$422,3,FALSE)*S274)),0)","v":777.758159969757},null,{"$f":"IF(C274=\"\",\"\",IF(C275=\"\",0,IF(E274=\"Construção\",0,IF(E274=\"Seguro\",$C$17*'Base de Dados'!$C$2,IF($C$14=Parâmetros!$B$4,0,Simulador!$C$17*'Base de Dados'!$C$2)))))","v":66.400000000000006},null,{"$f":"IF(C274=\"\",\"\",IF(E274<>\"Retorno\",(I274+K274+M274),IF($G$20=Parâmetros!$D$2,SUM(G274,I274,K274,M274,O274),PMT($O$25,SUM($G$17),($O$10)*-1)+O274+M274+K274)))","v":10965.703906076333},null,857317.19573385909,null,""]
["2046-06-02","",242,"1900-08-29","Retorno",null,{"$f":"IFERROR(IF(C275=\"\",\"\",IF(E275<>\"Retorno\",0,IF($G$20=Parâmetros!$D$2,Simulador!$O$10/$G$17,IF($G$20=Parâmetros!$D$3,Simulador!Q275-Simulador!O275-Simulador!M275-Simulador!K275-Simulador!I275,\"\")))),\"\")","v":1793.6958834052002},null,8327.849862701376,null,0,null,{"$f":"IFERROR(IF(C275=\"\",\"\",IF($C$10=Parâmetros!$C$3,0,VLOOKUP(A275,'Base de Dados'!$E$3:$G$422,3,FALSE)*S275)),0)","v":776.13091906433181},null,{"$f":"IF(C275=\"\",\"\",IF(C276=\"\",0,IF(E275=\"Construção\",0,IF(E275=\"Seguro\",$C$17*'Base de Dados'!$C$2,IF($C$14=Parâmetros!$B$4,0,Simulador!$C$17*'Base de Dados'!$C$2)))))","v":66.400000000000006},null,{"$f":"IF(C275=\"\",\"\",IF(E275<>\"Retorno\",(I275+K275+M275),IF($G$20=Parâmetros!$D$2,SUM(G275,I275,K275,M275,O275),PMT($O$25,SUM($G$17),($O$10)*-1)+O275+M275+K275)))","v":10964.076665170907},null,855523.49985045393,null,""]
["2046-07-02","",243,"1900-08-30","Retorno",null,{"$f":"IFERROR(IF(C276=\"\",\"\",IF(E276<>\"Retorno\",0,IF($G$20=Parâmetros!$D$2,Simulador!$O$10/$G$17,IF($G$20=Parâmetros!$D$3,Simulador!Q276-Simulador!O276-Simulador!M276-Simulador!K276-Simulador!I276,\"\")))),\"\")","v":1811.1195745323002},null,8310.4261715742759,null,0,null,{"$f":"IFERROR(IF(C276=\"\",\"\",IF($C$10=Parâmetros!$C$3,0,VLOOKUP(A276,'Base de Dados'!$E$3:$G$422,3,FALSE)*S276)),0)","v":774.48787138631621},null,{"$f":"IF(C276=\"\",\"\",IF(C277=\"\",0,IF(E276=\"Construção\",0,IF(E276=\"Seguro\",$C$17*'Base de Dados'!$C$2,IF($C$14=Parâmetros!$B$4,0,Simulador!$C$17*'Base de Dados'!$C$2)))))","v":66.400000000000006},null,{"$f":"IF(C276=\"\",\"\",IF(E276<>\"Retorno\",(I276+K276+M276),IF($G$20=Parâmetros!$D$2,SUM(G276,I276,K276,M276,O276),PMT($O$25,SUM($G$17),($O$10)*-1)+O276+M276+K276)))","v":10962.433617492892},null,853712.38027592166,null,""]
["2046-08-02","",244,"1900-08-31","Retorno",null,{"$f":"IFERROR(IF(C277=\"\",\"\",IF(E277<>\"Retorno\",0,IF($G$20=Parâmetros!$D$2,Simulador!$O$10/$G$17,IF($G$20=Parâmetros!$D$3,Simulador!Q277-Simulador!O277-Simulador!M277-Simulador!K277-Simulador!I277,\"\")))),\"\")","v":1828.7125167654976},null,8292.8332293410785,null,0,null,{"$f":"IFERROR(IF(C277=\"\",\"\",IF($C$10=Parâmetros!$C$3,0,VLOOKUP(A277,'Base de Dados'!$E$3:$G$422,3,FALSE)*S277)),0)","v":772.82886339110655},null,{"$f":"IF(C277=\"\",\"\",IF(C278=\"\",0,IF(E277=\"Construção\",0,IF(E277=\"Seguro\",$C$17*'Base de Dados'!$C$2,IF($C$14=Parâmetros!$B$4,0,Simulador!$C$17*'Base de Dados'!$C$2)))))","v":66.400000000000006},null,{"$f":"IF(C277=\"\",\"\",IF(E277<>\"Retorno\",(I277+K277+M277),IF($G$20=Parâmetros!$D$2,SUM(G277,I277,K277,M277,O277),PMT($O$25,SUM($G$17),($O$10)*-1)+O277+M277+K277)))","v":10960.774609497683},null,851883.6677591562,null,""]
["2046-09-02","",245,"1900-09-01","Retorno",null,{"$f":"IFERROR(IF(C278=\"\",\"\",IF(E278<>\"Retorno\",0,IF($G$20=Parâmetros!$D$2,Simulador!$O$10/$G$17,IF($G$20=Parâmetros!$D$3,Simulador!Q278-Simulador!O278-Simulador!M278-Simulador!K278-Simulador!I278,\"\")))),\"\")","v":1846.4763541845987},null,8275.0693919219775,null,0,null,{"$f":"IFERROR(IF(C278=\"\",\"\",IF($C$10=Parâmetros!$C$3,0,VLOOKUP(A278,'Base de Dados'!$E$3:$G$422,3,FALSE)*S278)),0)","v":941.41618948100609},null,{"$f":"IF(C278=\"\",\"\",IF(C279=\"\",0,IF(E278=\"Construção\",0,IF(E278=\"Seguro\",$C$17*'Base de Dados'!$C$2,IF($C$14=Parâmetros!$B$4,0,Simulador!$C$17*'Base de Dados'!$C$2)))))","v":66.400000000000006},null,{"$f":"IF(C278=\"\",\"\",IF(E278<>\"Retorno\",(I278+K278+M278),IF($G$20=Parâmetros!$D$2,SUM(G278,I278,K278,M278,O278),PMT($O$25,SUM($G$17),($O$10)*-1)+O278+M278+K278)))","v":11129.361935587582},null,850037.19140497164,null,""]
["2046-10-02","",246,"1900-09-02","Retorno",null,{"$f":"IFERROR(IF(C279=\"\",\"\",IF(E279<>\"Retorno\",0,IF($G$20=Parâmetros!$D$2,Simulador!$O$10/$G$17,IF($G$20=Parâmetros!$D$3,Simulador!Q279-Simulador!O279-Simulador!M279-Simulador!K279-Simulador!I279,\"\")))),\"\")","v":1864.4127468397292},null,8257.132999266847,null,0,null,{"$f":"IFERROR(IF(C279=\"\",\"\",IF($C$10=Parâmetros!$C$3,0,VLOOKUP(A279,'Base de Dados'!$E$3:$G$422,3,FALSE)*S279)),0)","v":939.35135236388112},null,{"$f":"IF(C279=\"\",\"\",IF(C280=\"\",0,IF(E279=\"Construção\",0,IF(E279=\"Seguro\",$C$17*'Base de Dados'!$C$2,IF($C$14=Parâmetros!$B$4,0,Simulador!$C$17*'Base de Dados'!$C$2)))))","v":66.400000000000006},null,{"$f":"IF(C279=\"\",\"\",IF(E279<>\"Retorno\",(I279+K279+M279),IF($G$20=Parâmetros!$D$2,SUM(G279,I279,K279,M279,O279),PMT($O$25,SUM($G$17),($O$10)*-1)+O279+M279+K279)))","v":11127.297098470457},null,848172.77865813195,null,""]
["2046-11-02","",247,"1900-09-03","Retorno",null,{"$f":"IFERROR(IF(C280=\"\",\"\",IF(E280<>\"Retorno\",0,IF($G$20=Parâmetros!$D$2,Simulador!$O$10/$G$17,IF($G$20=Parâmetros!$D$3,Simulador!Q280-Simulador!O280-Simulador!M280-Simulador!K280-Simulador!I280,\"\")))),\"\")","v":1882.5233709063996},null,8239.0223752001766,null,0,null,{"$f":"IFERROR(IF(C280=\"\",\"\",IF($C$10=Parâmetros!$C$3,0,VLOOKUP(A280,'Base de Dados'!$E$3:$G$422,3,FALSE)*S280)),0)","v":937.26645773060227},null,{"$f":"IF(C280=\"\",\"\",IF(C281=\"\",0,IF(E280=\"Construção\",0,IF(E280=\"Seguro\",$C$17*'Base de Dados'!$C$2,IF($C$14=Parâmetros!$B$4,0,Simulador!$C$17*'Base de Dados'!$C$2)))))","v":66.400000000000006},null,{"$f":"IF(C280=\"\",\"\",IF(E280<>\"Retorno\",(I280+K280+M280),IF($G$20=Parâmetros!$D$2,SUM(G280,I280,K280,M280,O280),PMT($O$25,SUM($G$17),($O$10)*-1)+O280+M280+K280)))","v":11125.212203837178},null,846290.25528722559,null,""]
["2046-12-02","",248,"1900-09-04","Retorno",null,{"$f":"IFERROR(IF(C281=\"\",\"\",IF(E281<>\"Retorno\",0,IF($G$20=Parâmetros!$D$2,Simulador!$O$10/$G$17,IF($G$20=Parâmetros!$D$3,Simulador!Q281-Simulador!O281-Simulador!M281-Simulador!K281-Simulador!I281,\"\")))),\"\")","v":1900.8099188422002},null,8220.735827264376,null,0,null,{"$f":"IFERROR(IF(C281=\"\",\"\",IF($C$10=Parâmetros!$C$3,0,VLOOKUP(A281,'Base de Dados'!$E$3:$G$422,3,FALSE)*S281)),0)","v":935.16131074548468},null,{"$f":"IF(C281=\"\",\"\",IF(C282=\"\",0,IF(E281=\"Construção\",0,IF(E281=\"Seguro\",$C$17*'Base de Dados'!$C$2,IF($C$14=Parâmetros!$B$4,0,Simulador!$C$17*'Base de Dados'!$C$2)))))","v":66.400000000000006},null,{"$f":"IF(C281=\"\",\"\",IF(E281<>\"Retorno\",(I281+K281+M281),IF($G$20=Parâmetros!$D$2,SUM(G281,I281,K281,M281,O281),PMT($O$25,SUM($G$17),($O$10)*-1)+O281+M281+K281)))","v":11123.107056852061},null,844389.44536838343,null,""]
["2047-01-02","",249,"1900-09-05","Retorno",null,{"$f":"IFERROR(IF(C282=\"\",\"\",IF(E282<>\"Retorno\",0,IF($G$20=Parâmetros!$D$2,Simulador!$O$10/$G$17,IF($G$20=Parâmetros!$D$3,Simulador!Q282-Simulador!O282-Simulador!M282-Simulador!K282-Simulador!I282,\"\")))),\"\")","v":1919.274099544893},null,8202.2716465616832,null,0,null,{"$f":"IFERROR(IF(C282=\"\",\"\",IF($C$10=Parâmetros!$C$3,0,VLOOKUP(A282,'Base de Dados'!$E$3:$G$422,3,FALSE)*S282)),0)","v":933.0357146802387},null,{"$f":"IF(C282=\"\",\"\",IF(C283=\"\",0,IF(E282=\"Construção\",0,IF(E282=\"Seguro\",$C$17*'Base de Dados'!$C$2,IF($C$14=Parâmetros!$B$4,0,Simulador!$C$17*'Base de Dados'!$C$2)))))","v":66.400000000000006},null,{"$f":"IF(C282=\"\",\"\",IF(E282<>\"Retorno\",(I282+K282+M282),IF($G$20=Parâmetros!$D$2,SUM(G282,I282,K282,M282,O282),PMT($O$25,SUM($G$17),($O$10)*-1)+O282+M282+K282)))","v":11120.981460786814},null,842470.17126883857,null,""]
["2047-02-02","",250,"1900-09-06","Retorno",null,{"$f":"IFERROR(IF(C283=\"\",\"\",IF(E283<>\"Retorno\",0,IF($G$20=Parâmetros!$D$2,Simulador!$O$10/$G$17,IF($G$20=Parâmetros!$D$3,Simulador!Q283-Simulador!O283-Simulador!M283-Simulador!K283-Simulador!I283,\"\")))),\"\")","v":1937.9176385127139},null,8183.6281075938605,null,0,null,{"$f":"IFERROR(IF(C283=\"\",\"\",IF($C$10=Parâmetros!$C$3,0,VLOOKUP(A283,'Base de Dados'!$E$3:$G$422,3,FALSE)*S283)),0)","v":930.88947089558587},null,{"$f":"IF(C283=\"\",\"\",IF(C284=\"\",0,IF(E283=\"Construção\",0,IF(E283=\"Seguro\",$C$17*'Base de Dados'!$C$2,IF($C$14=Parâmetros!$B$4,0,Simulador!$C$17*'Base de Dados'!$C$2)))))","v":66.400000000000006},null,{"$f":"IF(C283=\"\",\"\",IF(E283<>\"Retorno\",(I283+K283+M283),IF($G$20=Parâmetros!$D$2,SUM(G283,I283,K283,M283,O283),PMT($O$25,SUM($G$17),($O$10)*-1)+O283+M283+K283)))","v":11118.835217002161},null,840532.2536303259,null,""]
["2047-03-02","",251,"1900-09-07","Retorno",null,{"$f":"IFERROR(IF(C284=\"\",\"\",IF(E284<>\"Retorno\",0,IF($G$20=Parâmetros!$D$2,Simulador!$O$10/$G$17,IF($G$20=Parâmetros!$D$3,Simulador!Q284-Simulador!O284-Simulador!M284-Simulador!K284-Simulador!I284,\"\")))),\"\")","v":1956.7422780044526},null,8164.8034681021236,null,0,null,{"$f":"IFERROR(IF(C284=\"\",\"\",IF($C$10=Parâmetros!$C$3,0,VLOOKUP(A284,'Base de Dados'!$E$3:$G$422,3,FALSE)*S284)),0)","v":928.72237882269599},null,{"$f":"IF(C284=\"\",\"\",IF(C285=\"\",0,IF(E284=\"Construção\",0,IF(E284=\"Seguro\",$C$17*'Base de Dados'!$C$2,IF($C$14=Parâmetros!$B$4,0,Simulador!$C$17*'Base de Dados'!$C$2)))))","v":66.400000000000006},null,{"$f":"IF(C284=\"\",\"\",IF(E284<>\"Retorno\",(I284+K284+M284),IF($G$20=Parâmetros!$D$2,SUM(G284,I284,K284,M284,O284),PMT($O$25,SUM($G$17),($O$10)*-1)+O284+M284+K284)))","v":11116.668124929272},null,838575.51135232148,null,""]
["2047-04-02","",252,"1900-09-08","Retorno",null,{"$f":"IFERROR(IF(C285=\"\",\"\",IF(E285<>\"Retorno\",0,IF($G$20=Parâmetros!$D$2,Simulador!$O$10/$G$17,IF($G$20=Parâmetros!$D$3,Simulador!Q285-Simulador!O285-Simulador!M285-Simulador!K285-Simulador!I285,\"\")))),\"\")","v":1975.7497772035804},null,8145.7959689029958,null,0,null,{"$f":"IFERROR(IF(C285=\"\",\"\",IF($C$10=Parâmetros!$C$3,0,VLOOKUP(A285,'Base de Dados'!$E$3:$G$422,3,FALSE)*S285)),0)","v":926.53423594444314},null,{"$f":"IF(C285=\"\",\"\",IF(C286=\"\",0,IF(E285=\"Construção\",0,IF(E285=\"Seguro\",$C$17*'Base de Dados'!$C$2,IF($C$14=Parâmetros!$B$4,0,Simulador!$C$17*'Base de Dados'!$C$2)))))","v":66.400000000000006},null,{"$f":"IF(C285=\"\",\"\",IF(E285<>\"Retorno\",(I285+K285+M285),IF($G$20=Parâmetros!$D$2,SUM(G285,I285,K285,M285,O285),PMT($O$25,SUM($G$17),($O$10)*-1)+O285+M285+K285)))","v":11114.47998205102},null,836599.76157511794,null,""]
["2047-05-02","",253,"1900-09-09","Retorno",null,{"$f":"IFERROR(IF(C286=\"\",\"\",IF(E286<>\"Retorno\",0,IF($G$20=Parâmetros!$D$2,Simulador!$O$10/$G$17,IF($G$20=Parâmetros!$D$3,Simulador!Q286-Simulador!O286-Simulador!M286-Simulador!K286-Simulador!I286,\"\")))),\"\")","v":1994.9419123813659},null,8126.6038337252103,null,0,null,{"$f":"IFERROR(IF(C286=\"\",\"\",IF($C$10=Parâmetros!$C$3,0,VLOOKUP(A286,'Base de Dados'!$E$3:$G$422,3,FALSE)*S286)),0)","v":924.32483777648076},null,{"$f":"IF(C286=\"\",\"\",IF(C287=\"\",0,IF(E286=\"Construção\",0,IF(E286=\"Seguro\",$C$17*'Base de Dados'!$C$2,IF($C$14=Parâmetros!$B$4,0,Simulador!$C$17*'Base de Dados'!$C$2)))))","v":66.400000000000006},null,{"$f":"IF(C286=\"\",\"\",IF(E286<>\"Retorno\",(I286+K286+M286),IF($G$20=Parâmetros!$D$2,SUM(G286,I286,K286,M286,O286),PMT($O$25,SUM($G$17),($O$10)*-1)+O286+M286+K286)))","v":11112.270583883057},null,834604.81966273661,null,""]
["2047-06-02","",254,"1900-09-10","Retorno",null,{"$f":"IFERROR(IF(C287=\"\",\"\",IF(E287<>\"Retorno\",0,IF($G$20=Parâmetros!$D$2,Simulador!$O$10/$G$17,IF($G$20=Parâmetros!$D$3,Simulador!Q287-Simulador!O287-Simulador!M287-Simulador!K287-Simulador!I287,\"\")))),\"\")","v":2014.3204770640405},null,8107.2252690425375,null,0,null,{"$f":"IFERROR(IF(C287=\"\",\"\",IF($C$10=Parâmetros!$C$3,0,VLOOKUP(A287,'Base de Dados'!$E$3:$G$422,3,FALSE)*S287)),0)","v":922.09397784813245},null,{"$f":"IF(C287=\"\",\"\",IF(C288=\"\",0,IF(E287=\"Construção\",0,IF(E287=\"Seguro\",$C$17*'Base de Dados'!$C$2,IF($C$14=Parâmetros!$B$4,0,Simulador!$C$17*'Base de Dados'!$C$2)))))","v":66.400000000000006},null,{"$f":"IF(C287=\"\",\"\",IF(E287<>\"Retorno\",(I287+K287+M287),IF($G$20=Parâmetros!$D$2,SUM(G287,I287,K287,M287,O287),PMT($O$25,SUM($G$17),($O$10)*-1)+O287+M287+K287)))","v":11110.039723954709},null,832590.49918567261,null,""]
["2047-07-02","",255,"1900-09-11","Retorno",null,{"$f":"IFERROR(IF(C288=\"\",\"\",IF(E288<>\"Retorno\",0,IF($G$20=Parâmetros!$D$2,Simulador!$O$10/$G$17,IF($G$20=Parâmetros!$D$3,Simulador!Q288-Simulador!O288-Simulador!M288-Simulador!K288-Simulador!I288,\"\")))),\"\")","v":2033.8872821997302},null,8087.658463906846,null,0,null,{"$f":"IFERROR(IF(C288=\"\",\"\",IF($C$10=Parâmetros!$C$3,0,VLOOKUP(A288,'Base de Dados'!$E$3:$G$422,3,FALSE)*S288)),0)","v":919.84144768309625},null,{"$f":"IF(C288=\"\",\"\",IF(C289=\"\",0,IF(E288=\"Construção\",0,IF(E288=\"Seguro\",$C$17*'Base de Dados'!$C$2,IF($C$14=Parâmetros!$B$4,0,Simulador!$C$17*'Base de Dados'!$C$2)))))","v":66.400000000000006},null,{"$f":"IF(C288=\"\",\"\",IF(E288<>\"Retorno\",(I288+K288+M288),IF($G$20=Parâmetros!$D$2,SUM(G288,I288,K288,M288,O288),PMT($O$25,SUM($G$17),($O$10)*-1)+O288+M288+K288)))","v":11107.787193789673},null,830556.61190347292,null,""]
["2047-08-02","",256,"1900-09-12","Retorno",null,{"$f":"IFERROR(IF(C289=\"\",\"\",IF(E289<>\"Retorno\",0,IF($G$20=Parâmetros!$D$2,Simulador!$O$10/$G$17,IF($G$20=Parâmetros!$D$3,Simulador!Q289-Simulador!O289-Simulador!M289-Simulador!K289-Simulador!I289,\"\")))),\"\")","v":2053.6441563276258},null,8067.9015897789504,null,0,null,{"$f":"IFERROR(IF(C289=\"\",\"\",IF($C$10=Parâmetros!$C$3,0,VLOOKUP(A289,'Base de Dados'!$E$3:$G$422,3,FALSE)*S289)),0)","v":917.56703677996347},null,{"$f":"IF(C289=\"\",\"\",IF(C290=\"\",0,IF(E289=\"Construção\",0,IF(E289=\"Seguro\",$C$17*'Base de Dados'!$C$2,IF($C$14=Parâmetros!$B$4,0,Simulador!$C$17*'Base de Dados'!$C$2)))))","v":66.400000000000006},null,{"$f":"IF(C289=\"\",\"\",IF(E289<>\"Retorno\",(I289+K289+M289),IF($G$20=Parâmetros!$D$2,SUM(G289,I289,K289,M289,O289),PMT($O$25,SUM($G$17),($O$10)*-1)+O289+M289+K289)))","v":11105.512782886539},null,828502.96774714533,null,""]
["2047-09-02","",257,"1900-09-13","Retorno",null,{"$f":"IFERROR(IF(C290=\"\",\"\",IF(E290<>\"Retorno\",0,IF($G$20=Parâmetros!$D$2,Simulador!$O$10/$G$17,IF($G$20=Parâmetros!$D$3,Simulador!Q290-Simulador!O290-Simulador!M290-Simulador!K290-Simulador!I290,\"\")))),\"\")","v":2073.5929457493276},null,{"$f":"IFERROR(IF(C290=\"\",\"\",FV($O$25,1,,-S289,0)-S289),\"\")","v":8047.9528003572486},null,0,null,{"$f":"IFERROR(IF(C290=\"\",\"\",IF($C$10=Parâmetros!$C$3,0,VLOOKUP(A290,'Base de Dados'!$E$3:$G$422,3,FALSE)*S290)),0)","v":915.27053259254615},null,{"$f":"IF(C290=\"\",\"\",IF(C291=\"\",0,IF(E290=\"Construção\",0,IF(E290=\"Seguro\",$C$17*'Base de Dados'!$C$2,IF($C$14=Parâmetros!$B$4,0,Simulador!$C$17*'Base de Dados'!$C$2)))))","v":66.400000000000006},null,{"$f":"IF(C290=\"\",\"\",IF(E290<>\"Retorno\",(I290+K290+M290),IF($G$20=Parâmetros!$D$2,SUM(G290,I290,K290,M290,O290),PMT($O$25,SUM($G$17),($O$10)*-1)+O290+M290+K290)))","v":11103.216278699121},null,826429.37480139604,null,""]
[{"$f":"IF(C291=\"\",\"\",IF(C290>$G$17,0,EDATE(A290,1)))","v":"2047-10-02"},{"$f":"IF(AND(E291=\"Retorno\",E290<>\"Retorno\"),\"Primeira\",IF(AND(E291=\"Retorno\",E290=\"\"),\"Primeira\",\"\"))","v":""},{"$f":"IF(OR(C290>=$K$19,C290=\"\"),\"\",C290+1)","v":258},{"$f":"C291","v":"1900-09-14"},{"$f":"IF(C291=\"\",\"\",\"Retorno\")","v":"Retorno"},null,{"$f":"IFERROR(IF(C291=\"\",\"\",IF(E291<>\"Retorno\",0,IF($G$20=Parâmetros!$D$2,Simulador!$O$10/$G$17,IF($G$20=Parâmetros!$D$3,Simulador!Q291-Simulador!O291-Simulador!M291-Simulador!K291-Simulador!I291,\"\")))),\"\")","v":2093.735514701033},null,8027.8102314055432,null,{"$f":"IF(C291=\"\",\"\",IF(AND($O$23<12.01%,$C$17<2250000.01),25,0))","v":0},null,{"$f":"IFERROR(IF(C291=\"\",\"\",IF($C$10=Parâmetros!$C$3,0,VLOOKUP(A291,'Base de Dados'!$E$3:$G$422,3,FALSE)*S291)),0)","v":912.95172051001475},null,{"$f":"IF(C291=\"\",\"\",IF(C292=\"\",0,IF(E291=\"Construção\",0,IF(E291=\"Seguro\",$C$17*'Base de Dados'!$C$2,IF($C$14=Parâmetros!$B$4,0,Simulador!$C$17*'Base de Dados'!$C$2)))))","v":66.400000000000006},null,{"$f":"IF(C291=\"\",\"\",IF(E291<>\"Retorno\",(I291+K291+M291),IF($G$20=Parâmetros!$D$2,SUM(G291,I291,K291,M291,O291),PMT($O$25,SUM($G$17),($O$10)*-1)+O291+M291+K291)))","v":11100.89746661659},null,{"$f":"IF(E291=\"Construção\",S290+(U291*-1),IF(E291=\"Carência\",S290,IF(E291=\"Retorno\",S290-G291,\"\")))","v":824335.63928669505},null,{"$f":"IF(E291=\"Construção\",(($O$10+$U$33)/$K$10)*-1,\"\")","v":""}]
["2047-11-02","",259,"1900-09-15","Retorno",null,{"$f":"IFERROR(IF(C292=\"\",\"\",IF(E292<>\"Retorno\",0,IF($G$20=Parâmetros!$D$2,Simulador!$O$10/$G$17,IF($G$20=Parâmetros!$D$3,Simulador!Q292-Simulador!O292-Simulador!M292-Simulador!K292-Simulador!I292,\"\")))),\"\")","v":2114.0737455279268},null,8007.4720005786512,null,0,null,{"$f":"IFERROR(IF(C292=\"\",\"\",IF($C$10=Parâmetros!$C$3,0,VLOOKUP(A292,'Base de Dados'!$E$3:$G$422,3,FALSE)*S292)),0)","v":910.61038383684263},null,{"$f":"IF(C292=\"\",\"\",IF(C293=\"\",0,IF(E292=\"Construção\",0,IF(E292=\"Seguro\",$C$17*'Base de Dados'!$C$2,IF($C$14=Parâmetros!$B$4,0,Simulador!$C$17*'Base de Dados'!$C$2)))))","v":66.400000000000006},null,{"$f":"IF(C292=\"\",\"\",IF(E292<>\"Retorno\",(I292+K292+M292),IF($G$20=Parâmetros!$D$2,SUM(G292,I292,K292,M292,O292),PMT($O$25,SUM($G$17),($O$10)*-1)+O292+M292+K292)))","v":11098.556129943419},null,822221.56554116716,null,""]
["2047-12-02","",260,"1900-09-16","Retorno",null,{"$f":"IFERROR(IF(C293=\"\",\"\",IF(E293<>\"Retorno\",0,IF($G$20=Parâmetros!$D$2,Simulador!$O$10/$G$17,IF($G$20=Parâmetros!$D$3,Simulador!Q293-Simulador!O293-Simulador!M293-Simulador!K293-Simulador!I293,\"\")))),\"\")","v":2134.6095388597259},null,7986.9362072468502,null,0,null,{"$f":"IFERROR(IF(C293=\"\",\"\",IF($C$10=Parâmetros!$C$3,0,VLOOKUP(A293,'Base de Dados'!$E$3:$G$422,3,FALSE)*S293)),0)","v":908.24630377255551},null,{"$f":"IF(C293=\"\",\"\",IF(C294=\"\",0,IF(E293=\"Construção\",0,IF(E293=\"Seguro\",$C$17*'Base de Dados'!$C$2,IF($C$14=Parâmetros!$B$4,0,Simulador!$C$17*'Base de Dados'!$C$2)))))","v":66.400000000000006},null,{"$f":"IF(C293=\"\",\"\",IF(E293<>\"Retorno\",(I293+K293+M293),IF($G$20=Parâmetros!$D$2,SUM(G293,I293,K293,M293,O293),PMT($O$25,SUM($G$17),($O$10)*-1)+O293+M293+K293)))","v":11096.192049879131},null,820086.95600230747,null,""]
["2048-01-02","",261,"1900-09-17","Retorno",null,{"$f":"IFERROR(IF(C294=\"\",\"\",IF(E294<>\"Retorno\",0,IF($G$20=Parâmetros!$D$2,Simulador!$O$10/$G$17,IF($G$20=Parâmetros!$D$3,Simulador!Q294-Simulador!O294-Simulador!M294-Simulador!K294-Simulador!I294,\"\")))),\"\")","v":2155.34481378893},null,7966.2009323176462,null,0,null,{"$f":"IFERROR(IF(C294=\"\",\"\",IF($C$10=Parâmetros!$C$3,0,VLOOKUP(A294,'Base de Dados'!$E$3:$G$422,3,FALSE)*S294)),0)","v":905.85925939128435},null,{"$f":"IF(C294=\"\",\"\",IF(C295=\"\",0,IF(E294=\"Construção\",0,IF(E294=\"Seguro\",$C$17*'Base de Dados'!$C$2,IF($C$14=Parâmetros!$B$4,0,Simulador!$C$17*'Base de Dados'!$C$2)))))","v":66.400000000000006},null,{"$f":"IF(C294=\"\",\"\",IF(E294<>\"Retorno\",(I294+K294+M294),IF($G$20=Parâmetros!$D$2,SUM(G294,I294,K294,M294,O294),PMT($O$25,SUM($G$17),($O$10)*-1)+O294+M294+K294)))","v":11093.805005497859},null,817931.61118851858,null,""]
["2048-02-02","",262,"1900-09-18","Retorno",null,{"$f":"IFERROR(IF(C295=\"\",\"\",IF(E295<>\"Retorno\",0,IF($G$20=Parâmetros!$D$2,Simulador!$O$10/$G$17,IF($G$20=Parâmetros!$D$3,Simulador!Q295-Simulador!O295-Simulador!M295-Simulador!K295-Simulador!I295,\"\")))),\"\")","v":2176.281508049733},null,7945.2642380568432,null,0,null,{"$f":"IFERROR(IF(C295=\"\",\"\",IF($C$10=Parâmetros!$C$3,0,VLOOKUP(A295,'Base de Dados'!$E$3:$G$422,3,FALSE)*S295)),0)","v":903.44902762111928},null,{"$f":"IF(C295=\"\",\"\",IF(C296=\"\",0,IF(E295=\"Construção\",0,IF(E295=\"Seguro\",$C$17*'Base de Dados'!$C$2,IF($C$14=Parâmetros!$B$4,0,Simulador!$C$17*'Base de Dados'!$C$2)))))","v":66.400000000000006},null,{"$f":"IF(C295=\"\",\"\",IF(E295<>\"Retorno\",(I295+K295+M295),IF($G$20=Parâmetros!$D$2,SUM(G295,I295,K295,M295,O295),PMT($O$25,SUM($G$17),($O$10)*-1)+O295+M295+K295)))","v":11091.394773727696},null,815755.32968046889,null,""]
["2048-03-02","",263,"1900-09-19","Retorno",null,{"$f":"IFERROR(IF(C296=\"\",\"\",IF(E296<>\"Retorno\",0,IF($G$20=Parâmetros!$D$2,Simulador!$O$10/$G$17,IF($G$20=Parâmetros!$D$3,Simulador!Q296-Simulador!O296-Simulador!M296-Simulador!K296-Simulador!I296,\"\")))),\"\")","v":2197.4215781990588},null,7924.1241679075174,null,0,null,{"$f":"IFERROR(IF(C296=\"\",\"\",IF($C$10=Parâmetros!$C$3,0,VLOOKUP(A296,'Base de Dados'!$E$3:$G$422,3,FALSE)*S296)),0)","v":901.01538322326383},null,{"$f":"IF(C296=\"\",\"\",IF(C297=\"\",0,IF(E296=\"Construção\",0,IF(E296=\"Seguro\",$C$17*'Base de Dados'!$C$2,IF($C$14=Parâmetros!$B$4,0,Simulador!$C$17*'Base de Dados'!$C$2)))))","v":66.400000000000006},null,{"$f":"IF(C296=\"\",\"\",IF(E296<>\"Retorno\",(I296+K296+M296),IF($G$20=Parâmetros!$D$2,SUM(G296,I296,K296,M296,O296),PMT($O$25,SUM($G$17),($O$10)*-1)+O296+M296+K296)))","v":11088.96112932984},null,813557.90810226987,null,""]
["2048-04-02","",264,"1900-09-20","Retorno",null,{"$f":"IFERROR(IF(C297=\"\",\"\",IF(E297<>\"Retorno\",0,IF($G$20=Parâmetros!$D$2,Simulador!$O$10/$G$17,IF($G$20=Parâmetros!$D$3,Simulador!Q297-Simulador!O297-Simulador!M297-Simulador!K297-Simulador!I297,\"\")))),\"\")","v":2218.7669997995636},null,7902.7787463070126,null,0,null,{"$f":"IFERROR(IF(C297=\"\",\"\",IF($C$10=Parâmetros!$C$3,0,VLOOKUP(A297,'Base de Dados'!$E$3:$G$422,3,FALSE)*S297)),0)","v":898.55809877098591},null,{"$f":"IF(C297=\"\",\"\",IF(C298=\"\",0,IF(E297=\"Construção\",0,IF(E297=\"Seguro\",$C$17*'Base de Dados'!$C$2,IF($C$14=Parâmetros!$B$4,0,Simulador!$C$17*'Base de Dados'!$C$2)))))","v":66.400000000000006},null,{"$f":"IF(C297=\"\",\"\",IF(E297<>\"Retorno\",(I297+K297+M297),IF($G$20=Parâmetros!$D$2,SUM(G297,I297,K297,M297,O297),PMT($O$25,SUM($G$17),($O$10)*-1)+O297+M297+K297)))","v":11086.503844877561},null,811339.14110247034,null,""]
["2048-05-02","",265,"1900-09-21","Retorno",null,{"$f":"IFERROR(IF(C298=\"\",\"\",IF(E298<>\"Retorno\",0,IF($G$20=Parâmetros!$D$2,Simulador!$O$10/$G$17,IF($G$20=Parâmetros!$D$3,Simulador!Q298-Simulador!O298-Simulador!M298-Simulador!K298-Simulador!I298,\"\")))),\"\")","v":2240.319767604271},null,7881.2259785023052,null,0,null,{"$f":"IFERROR(IF(C298=\"\",\"\",IF($C$10=Parâmetros!$C$3,0,VLOOKUP(A298,'Base de Dados'!$E$3:$G$422,3,FALSE)*S298)),0)","v":896.07694462836423},null,{"$f":"IF(C298=\"\",\"\",IF(C299=\"\",0,IF(E298=\"Construção\",0,IF(E298=\"Seguro\",$C$17*'Base de Dados'!$C$2,IF($C$14=Parâmetros!$B$4,0,Simulador!$C$17*'Base de Dados'!$C$2)))))","v":66.400000000000006},null,{"$f":"IF(C298=\"\",\"\",IF(E298<>\"Retorno\",(I298+K298+M298),IF($G$20=Parâmetros!$D$2,SUM(G298,I298,K298,M298,O298),PMT($O$25,SUM($G$17),($O$10)*-1)+O298+M298+K298)))","v":11084.022690734941},null,809098.82133486611,null,""]
["2048-06-02","",266,"1900-09-22","Retorno",null,{"$f":"IFERROR(IF(C299=\"\",\"\",IF(E299<>\"Retorno\",0,IF($G$20=Parâmetros!$D$2,Simulador!$O$10/$G$17,IF($G$20=Parâmetros!$D$3,Simulador!Q299-Simulador!O299-Simulador!M299-Simulador!K299-Simulador!I299,\"\")))),\"\")","v":2262.0818957429528},null,7859.4638503636234,null,0,null,{"$f":"IFERROR(IF(C299=\"\",\"\",IF($C$10=Parâmetros!$C$3,0,VLOOKUP(A299,'Base de Dados'!$E$3:$G$422,3,FALSE)*S299)),0)","v":893.57168892882896},null,{"$f":"IF(C299=\"\",\"\",IF(C300=\"\",0,IF(E299=\"Construção\",0,IF(E299=\"Seguro\",$C$17*'Base de Dados'!$C$2,IF($C$14=Parâmetros!$B$4,0,Simulador!$C$17*'Base de Dados'!$C$2)))))","v":66.400000000000006},null,{"$f":"IF(C299=\"\",\"\",IF(E299<>\"Retorno\",(I299+K299+M299),IF($G$20=Parâmetros!$D$2,SUM(G299,I299,K299,M299,O299),PMT($O$25,SUM($G$17),($O$10)*-1)+O299+M299+K299)))","v":11081.517435035405},null,806836.73943912319,null,""]
["2048-07-02","",267,"1900-09-23","Retorno",null,{"$f":"IFERROR(IF(C300=\"\",\"\",IF(E300<>\"Retorno\",0,IF($G$20=Parâmetros!$D$2,Simulador!$O$10/$G$17,IF($G$20=Parâmetros!$D$3,Simulador!Q300-Simulador!O300-Simulador!M300-Simulador!K300-Simulador!I300,\"\")))),\"\")","v":2284.0554179102564},null,7837.4903281963198,null,0,null,{"$f":"IFERROR(IF(C300=\"\",\"\",IF($C$10=Parâmetros!$C$3,0,VLOOKUP(A300,'Base de Dados'!$E$3:$G$422,3,FALSE)*S300)),0)","v":891.04209755349336},null,{"$f":"IF(C300=\"\",\"\",IF(C301=\"\",0,IF(E300=\"Construção\",0,IF(E300=\"Seguro\",$C$17*'Base de Dados'!$C$2,IF($C$14=Parâmetros!$B$4,0,Simulador!$C$17*'Base de Dados'!$C$2)))))","v":66.400000000000006},null,{"$f":"IF(C300=\"\",\"\",IF(E300<>\"Retorno\",(I300+K300+M300),IF($G$20=Parâmetros!$D$2,SUM(G300,I300,K300,M300,O300),PMT($O$25,SUM($G$17),($O$10)*-1)+O300+M300+K300)))","v":11078.987843660068},null,804552.68402121298,null,""]
["2048-08-02","",268,"1900-09-24","Retorno",null,{"$f":"IFERROR(IF(C301=\"\",\"\",IF(E301<>\"Retorno\",0,IF($G$20=Parâmetros!$D$2,Simulador!$O$10/$G$17,IF($G$20=Parâmetros!$D$3,Simulador!Q301-Simulador!O301-Simulador!M301-Simulador!K301-Simulador!I301,\"\")))),\"\")","v":2306.2423875559271},null,7815.3033585506491,null,0,null,{"$f":"IFERROR(IF(C301=\"\",\"\",IF($C$10=Parâmetros!$C$3,0,VLOOKUP(A301,'Base de Dados'!$E$3:$G$422,3,FALSE)*S301)),0)","v":888.48793410927522},null,{"$f":"IF(C301=\"\",\"\",IF(C302=\"\",0,IF(E301=\"Construção\",0,IF(E301=\"Seguro\",$C$17*'Base de Dados'!$C$2,IF($C$14=Parâmetros!$B$4,0,Simulador!$C$17*'Base de Dados'!$C$2)))))","v":66.400000000000006},null,{"$f":"IF(C301=\"\",\"\",IF(E301<>\"Retorno\",(I301+K301+M301),IF($G$20=Parâmetros!$D$2,SUM(G301,I301,K301,M301,O301),PMT($O$25,SUM($G$17),($O$10)*-1)+O301+M301+K301)))","v":11076.43368021585},null,802246.44163365709,null,""]
["2048-09-02","",269,"1900-09-25","Retorno",null,{"$f":"IFERROR(IF(C302=\"\",\"\",IF(E302<>\"Retorno\",0,IF($G$20=Parâmetros!$D$2,Simulador!$O$10/$G$17,IF($G$20=Parâmetros!$D$3,Simulador!Q302-Simulador!O302-Simulador!M302-Simulador!K302-Simulador!I302,\"\")))),\"\")","v":2328.644878076544},null,7792.9008680300321,null,0,null,{"$f":"IFERROR(IF(C302=\"\",\"\",IF($C$10=Parâmetros!$C$3,0,VLOOKUP(A302,'Base de Dados'!$E$3:$G$422,3,FALSE)*S302)),0)","v":885.90895990680542},null,{"$f":"IF(C302=\"\",\"\",IF(C303=\"\",0,IF(E302=\"Construção\",0,IF(E302=\"Seguro\",$C$17*'Base de Dados'!$C$2,IF($C$14=Parâmetros!$B$4,0,Simulador!$C$17*'Base de Dados'!$C$2)))))","v":66.400000000000006},null,{"$f":"IF(C302=\"\",\"\",IF(E302<>\"Retorno\",(I302+K302+M302),IF($G$20=Parâmetros!$D$2,SUM(G302,I302,K302,M302,O302),PMT($O$25,SUM($G$17),($O$10)*-1)+O302+M302+K302)))","v":11073.854706013381},null,799917.79675558058,null,""]
["2048-10-02","",270,"1900-09-26","Retorno",null,{"$f":"IFERROR(IF(C303=\"\",\"\",IF(E303<>\"Retorno\",0,IF($G$20=Parâmetros!$D$2,Simulador!$O$10/$G$17,IF($G$20=Parâmetros!$D$3,Simulador!Q303-Simulador!O303-Simulador!M303-Simulador!K303-Simulador!I303,\"\")))),\"\")","v":2351.2649830092359},null,7770.2807630973402,null,0,null,{"$f":"IFERROR(IF(C303=\"\",\"\",IF($C$10=Parâmetros!$C$3,0,VLOOKUP(A303,'Base de Dados'!$E$3:$G$422,3,FALSE)*S303)),0)","v":883.30493393812276},null,{"$f":"IF(C303=\"\",\"\",IF(C304=\"\",0,IF(E303=\"Construção\",0,IF(E303=\"Seguro\",$C$17*'Base de Dados'!$C$2,IF($C$14=Parâmetros!$B$4,0,Simulador!$C$17*'Base de Dados'!$C$2)))))","v":66.400000000000006},null,{"$f":"IF(C303=\"\",\"\",IF(E303<>\"Retorno\",(I303+K303+M303),IF($G$20=Parâmetros!$D$2,SUM(G303,I303,K303,M303,O303),PMT($O$25,SUM($G$17),($O$10)*-1)+O303+M303+K303)))","v":11071.250680044699},null,797566.53177257138,null,""]
["2048-11-02","",271,"1900-09-27","Retorno",null,{"$f":"IFERROR(IF(C304=\"\",\"\",IF(E304<>\"Retorno\",0,IF($G$20=Parâmetros!$D$2,Simulador!$O$10/$G$17,IF($G$20=Parâmetros!$D$3,Simulador!Q304-Simulador!O304-Simulador!M304-Simulador!K304-Simulador!I304,\"\")))),\"\")","v":2374.1048162278403},null,7747.4409298787359,null,0,null,{"$f":"IFERROR(IF(C304=\"\",\"\",IF($C$10=Parâmetros!$C$3,0,VLOOKUP(A304,'Base de Dados'!$E$3:$G$422,3,FALSE)*S304)),0)","v":880.67561285415047},null,{"$f":"IF(C304=\"\",\"\",IF(C305=\"\",0,IF(E304=\"Construção\",0,IF(E304=\"Seguro\",$C$17*'Base de Dados'!$C$2,IF($C$14=Parâmetros!$B$4,0,Simulador!$C$17*'Base de Dados'!$C$2)))))","v":66.400000000000006},null,{"$f":"IF(C304=\"\",\"\",IF(E304<>\"Retorno\",(I304+K304+M304),IF($G$20=Parâmetros!$D$2,SUM(G304,I304,K304,M304,O304),PMT($O$25,SUM($G$17),($O$10)*-1)+O304+M304+K304)))","v":11068.621358960727},null,795192.42695634358,null,""]
["2048-12-02","",272,"1900-09-28","Retorno",null,{"$f":"IFERROR(IF(C305=\"\",\"\",IF(E305<>\"Retorno\",0,IF($G$20=Parâmetros!$D$2,Simulador!$O$10/$G$17,IF($G$20=Parâmetros!$D$3,Simulador!Q305-Simulador!O305-Simulador!M305-Simulador!K305-Simulador!I305,\"\")))),\"\")","v":2397.1665121394126},null,7724.3792339671636,null,0,null,{"$f":"IFERROR(IF(C305=\"\",\"\",IF($C$10=Parâmetros!$C$3,0,VLOOKUP(A305,'Base de Dados'!$E$3:$G$422,3,FALSE)*S305)),0)","v":878.02075094195618},null,{"$f":"IF(C305=\"\",\"\",IF(C306=\"\",0,IF(E305=\"Construção\",0,IF(E305=\"Seguro\",$C$17*'Base de Dados'!$C$2,IF($C$14=Parâmetros!$B$4,0,Simulador!$C$17*'Base de Dados'!$C$2)))))","v":66.400000000000006},null,{"$f":"IF(C305=\"\",\"\",IF(E305<>\"Retorno\",(I305+K305+M305),IF($G$20=Parâmetros!$D$2,SUM(G305,I305,K305,M305,O305),PMT($O$25,SUM($G$17),($O$10)*-1)+O305+M305+K305)))","v":11065.966497048532},null,792795.26044420421,null,""]
["2049-01-02","",273,"1900-09-29","Retorno",null,{"$f":"IFERROR(IF(C306=\"\",\"\",IF(E306<>\"Retorno\",0,IF($G$20=Parâmetros!$D$2,Simulador!$O$10/$G$17,IF($G$20=Parâmetros!$D$3,Simulador!Q306-Simulador!O306-Simulador!M306-Simulador!K306-Simulador!I306,\"\")))),\"\")","v":2420.4522258850429},null,7701.0935202215333,null,0,null,{"$f":"IFERROR(IF(C306=\"\",\"\",IF($C$10=Parâmetros!$C$3,0,VLOOKUP(A306,'Base de Dados'!$E$3:$G$422,3,FALSE)*S306)),0)","v":875.34010010178849},null,{"$f":"IF(C306=\"\",\"\",IF(C307=\"\",0,IF(E306=\"Construção\",0,IF(E306=\"Seguro\",$C$17*'Base de Dados'!$C$2,IF($C$14=Parâmetros!$B$4,0,Simulador!$C$17*'Base de Dados'!$C$2)))))","v":66.400000000000006},null,{"$f":"IF(C306=\"\",\"\",IF(E306<>\"Retorno\",(I306+K306+M306),IF($G$20=Parâmetros!$D$2,SUM(G306,I306,K306,M306,O306),PMT($O$25,SUM($G$17),($O$10)*-1)+O306+M306+K306)))","v":11063.285846208364},null,790374.8082183192,null,""]
["2049-02-02","",274,"1900-09-30","Retorno",null,{"$f":"IFERROR(IF(C307=\"\",\"\",IF(E307<>\"Retorno\",0,IF($G$20=Parâmetros!$D$2,Simulador!$O$10/$G$17,IF($G$20=Parâmetros!$D$3,Simulador!Q307-Simulador!O307-Simulador!M307-Simulador!K307-Simulador!I307,\"\")))),\"\")","v":2443.9641335398574},null,7677.5816125667188,null,0,null,{"$f":"IFERROR(IF(C307=\"\",\"\",IF($C$10=Parâmetros!$C$3,0,VLOOKUP(A307,'Base de Dados'!$E$3:$G$422,3,FALSE)*S307)),0)","v":872.6334098238932},null,{"$f":"IF(C307=\"\",\"\",IF(C308=\"\",0,IF(E307=\"Construção\",0,IF(E307=\"Seguro\",$C$17*'Base de Dados'!$C$2,IF($C$14=Parâmetros!$B$4,0,Simulador!$C$17*'Base de Dados'!$C$2)))))","v":66.400000000000006},null,{"$f":"IF(C307=\"\",\"\",IF(E307<>\"Retorno\",(I307+K307+M307),IF($G$20=Parâmetros!$D$2,SUM(G307,I307,K307,M307,O307),PMT($O$25,SUM($G$17),($O$10)*-1)+O307+M307+K307)))","v":11060.579155930469},null,787930.84408477938,null,""]
["2049-03-02","",275,"1900-10-01","Retorno",null,{"$f":"IFERROR(IF(C308=\"\",\"\",IF(E308<>\"Retorno\",0,IF($G$20=Parâmetros!$D$2,Simulador!$O$10/$G$17,IF($G$20=Parâmetros!$D$3,Simulador!Q308-Simulador!O308-Simulador!M308-Simulador!K308-Simulador!I308,\"\")))),\"\")","v":2467.7044323175596},null,7653.8413137890166,null,0,null,{"$f":"IFERROR(IF(C308=\"\",\"\",IF($C$10=Parâmetros!$C$3,0,VLOOKUP(A308,'Base de Dados'!$E$3:$G$422,3,FALSE)*S308)),0)","v":869.90042716510152},null,{"$f":"IF(C308=\"\",\"\",IF(C309=\"\",0,IF(E308=\"Construção\",0,IF(E308=\"Seguro\",$C$17*'Base de Dados'!$C$2,IF($C$14=Parâmetros!$B$4,0,Simulador!$C$17*'Base de Dados'!$C$2)))))","v":66.400000000000006},null,{"$f":"IF(C308=\"\",\"\",IF(E308<>\"Retorno\",(I308+K308+M308),IF($G$20=Parâmetros!$D$2,SUM(G308,I308,K308,M308,O308),PMT($O$25,SUM($G$17),($O$10)*-1)+O308+M308+K308)))","v":11057.846173271677},null,785463.13965246186,null,""]
["2049-04-02","",276,"1900-10-02","Retorno",null,{"$f":"IFERROR(IF(C309=\"\",\"\",IF(E309<>\"Retorno\",0,IF($G$20=Parâmetros!$D$2,Simulador!$O$10/$G$17,IF($G$20=Parâmetros!$D$3,Simulador!Q309-Simulador!O309-Simulador!M309-Simulador!K309-Simulador!I309,\"\")))),\"\")","v":2491.6753407748565},null,7629.8704053317197,null,0,null,{"$f":"IFERROR(IF(C309=\"\",\"\",IF($C$10=Parâmetros!$C$3,0,VLOOKUP(A309,'Base de Dados'!$E$3:$G$422,3,FALSE)*S309)),0)","v":867.14089672519333},null,{"$f":"IF(C309=\"\",\"\",IF(C310=\"\",0,IF(E309=\"Construção\",0,IF(E309=\"Seguro\",$C$17*'Base de Dados'!$C$2,IF($C$14=Parâmetros!$B$4,0,Simulador!$C$17*'Base de Dados'!$C$2)))))","v":66.400000000000006},null,{"$f":"IF(C309=\"\",\"\",IF(E309<>\"Retorno\",(I309+K309+M309),IF($G$20=Parâmetros!$D$2,SUM(G309,I309,K309,M309,O309),PMT($O$25,SUM($G$17),($O$10)*-1)+O309+M309+K309)))","v":11055.086642831769},null,782971.46431168704,null,""]
["2049-05-02","",277,"1900-10-03","Retorno",null,{"$f":"IFERROR(IF(C310=\"\",\"\",IF(E310<>\"Retorno\",0,IF($G$20=Parâmetros!$D$2,Simulador!$O$10/$G$17,IF($G$20=Parâmetros!$D$3,Simulador!Q310-Simulador!O310-Simulador!M310-Simulador!K310-Simulador!I310,\"\")))),\"\")","v":2515.8790990196085},null,7605.6666470869677,null,0,null,{"$f":"IFERROR(IF(C310=\"\",\"\",IF($C$10=Parâmetros!$C$3,0,VLOOKUP(A310,'Base de Dados'!$E$3:$G$422,3,FALSE)*S310)),0)","v":864.35456062302922},null,{"$f":"IF(C310=\"\",\"\",IF(C311=\"\",0,IF(E310=\"Construção\",0,IF(E310=\"Seguro\",$C$17*'Base de Dados'!$C$2,IF($C$14=Parâmetros!$B$4,0,Simulador!$C$17*'Base de Dados'!$C$2)))))","v":66.400000000000006},null,{"$f":"IF(C310=\"\",\"\",IF(E310<>\"Retorno\",(I310+K310+M310),IF($G$20=Parâmetros!$D$2,SUM(G310,I310,K310,M310,O310),PMT($O$25,SUM($G$17),($O$10)*-1)+O310+M310+K310)))","v":11052.300306729605},null,780455.58521266747,null,""]
["2049-06-02","",278,"1900-10-04","Retorno",null,{"$f":"IFERROR(IF(C311=\"\",\"\",IF(E311<>\"Retorno\",0,IF($G$20=Parâmetros!$D$2,Simulador!$O$10/$G$17,IF($G$20=Parâmetros!$D$3,Simulador!Q311-Simulador!O311-Simulador!M311-Simulador!K311-Simulador!I311,\"\")))),\"\")","v":2540.3179689193294},null,7581.2277771872468,null,0,null,{"$f":"IFERROR(IF(C311=\"\",\"\",IF($C$10=Parâmetros!$C$3,0,VLOOKUP(A311,'Base de Dados'!$E$3:$G$422,3,FALSE)*S311)),0)","v":861.54115847245112},null,{"$f":"IF(C311=\"\",\"\",IF(C312=\"\",0,IF(E311=\"Construção\",0,IF(E311=\"Seguro\",$C$17*'Base de Dados'!$C$2,IF($C$14=Parâmetros!$B$4,0,Simulador!$C$17*'Base de Dados'!$C$2)))))","v":66.400000000000006},null,{"$f":"IF(C311=\"\",\"\",IF(E311<>\"Retorno\",(I311+K311+M311),IF($G$20=Parâmetros!$D$2,SUM(G311,I311,K311,M311,O311),PMT($O$25,SUM($G$17),($O$10)*-1)+O311+M311+K311)))","v":11049.486904579027},null,777915.26724374818,null,""]
["2049-07-02","",279,"1900-10-05","Retorno",null,{"$f":"IFERROR(IF(C312=\"\",\"\",IF(E312<>\"Retorno\",0,IF($G$20=Parâmetros!$D$2,Simulador!$O$10/$G$17,IF($G$20=Parâmetros!$D$3,Simulador!Q312-Simulador!O312-Simulador!M312-Simulador!K312-Simulador!I312,\"\")))),\"\")","v":2564.9942343131788},null,7556.5515117933974,null,0,null,{"$f":"IFERROR(IF(C312=\"\",\"\",IF($C$10=Parâmetros!$C$3,0,VLOOKUP(A312,'Base de Dados'!$E$3:$G$422,3,FALSE)*S312)),0)","v":858.70042735794925},null,{"$f":"IF(C312=\"\",\"\",IF(C313=\"\",0,IF(E312=\"Construção\",0,IF(E312=\"Seguro\",$C$17*'Base de Dados'!$C$2,IF($C$14=Parâmetros!$B$4,0,Simulador!$C$17*'Base de Dados'!$C$2)))))","v":66.400000000000006},null,{"$f":"IF(C312=\"\",\"\",IF(E312<>\"Retorno\",(I312+K312+M312),IF($G$20=Parâmetros!$D$2,SUM(G312,I312,K312,M312,O312),PMT($O$25,SUM($G$17),($O$10)*-1)+O312+M312+K312)))","v":11046.646173464525},null,775350.27300943504,null,""]
["2049-08-02","",280,"1900-10-06","Retorno",null,{"$f":"IFERROR(IF(C313=\"\",\"\",IF(E313<>\"Retorno\",0,IF($G$20=Parâmetros!$D$2,Simulador!$O$10/$G$17,IF($G$20=Parâmetros!$D$3,Simulador!Q313-Simulador!O313-Simulador!M313-Simulador!K313-Simulador!I313,\"\")))),\"\")","v":2589.9102012253516},null,7531.6355448812246,null,0,null,{"$f":"IFERROR(IF(C313=\"\",\"\",IF($C$10=Parâmetros!$C$3,0,VLOOKUP(A313,'Base de Dados'!$E$3:$G$422,3,FALSE)*S313)),0)","v":855.83210181009224},null,{"$f":"IF(C313=\"\",\"\",IF(C314=\"\",0,IF(E313=\"Construção\",0,IF(E313=\"Seguro\",$C$17*'Base de Dados'!$C$2,IF($C$14=Parâmetros!$B$4,0,Simulador!$C$17*'Base de Dados'!$C$2)))))","v":66.400000000000006},null,{"$f":"IF(C313=\"\",\"\",IF(E313<>\"Retorno\",(I313+K313+M313),IF($G$20=Parâmetros!$D$2,SUM(G313,I313,K313,M313,O313),PMT($O$25,SUM($G$17),($O$10)*-1)+O313+M313+K313)))","v":11043.777847916668},null,772760.36280820973,null,""]
["2049-09-02","",281,"1900-10-07","Retorno",null,{"$f":"IFERROR(IF(C314=\"\",\"\",IF(E314<>\"Retorno\",0,IF($G$20=Parâmetros!$D$2,Simulador!$O$10/$G$17,IF($G$20=Parâmetros!$D$3,Simulador!Q314-Simulador!O314-Simulador!M314-Simulador!K314-Simulador!I314,\"\")))),\"\")","v":2615.0681980798636},null,7506.4775480267126,null,0,null,{"$f":"IFERROR(IF(C314=\"\",\"\",IF($C$10=Parâmetros!$C$3,0,VLOOKUP(A314,'Base de Dados'!$E$3:$G$422,3,FALSE)*S314)),0)","v":1042.6997143726549},null,{"$f":"IF(C314=\"\",\"\",IF(C315=\"\",0,IF(E314=\"Construção\",0,IF(E314=\"Seguro\",$C$17*'Base de Dados'!$C$2,IF($C$14=Parâmetros!$B$4,0,Simulador!$C$17*'Base de Dados'!$C$2)))))","v":66.400000000000006},null,{"$f":"IF(C314=\"\",\"\",IF(E314<>\"Retorno\",(I314+K314+M314),IF($G$20=Parâmetros!$D$2,SUM(G314,I314,K314,M314,O314),PMT($O$25,SUM($G$17),($O$10)*-1)+O314+M314+K314)))","v":11230.645460479231},null,770145.2946101299,null,""]
["2049-10-02","",282,"1900-10-08","Retorno",null,{"$f":"IFERROR(IF(C315=\"\",\"\",IF(E315<>\"Retorno\",0,IF($G$20=Parâmetros!$D$2,Simulador!$O$10/$G$17,IF($G$20=Parâmetros!$D$3,Simulador!Q315-Simulador!O315-Simulador!M315-Simulador!K315-Simulador!I315,\"\")))),\"\")","v":2640.470575919413},null,7481.0751701871632,null,0,null,{"$f":"IFERROR(IF(C315=\"\",\"\",IF($C$10=Parâmetros!$C$3,0,VLOOKUP(A315,'Base de Dados'!$E$3:$G$422,3,FALSE)*S315)),0)","v":1039.1247812599177},null,{"$f":"IF(C315=\"\",\"\",IF(C316=\"\",0,IF(E315=\"Construção\",0,IF(E315=\"Seguro\",$C$17*'Base de Dados'!$C$2,IF($C$14=Parâmetros!$B$4,0,Simulador!$C$17*'Base de Dados'!$C$2)))))","v":66.400000000000006},null,{"$f":"IF(C315=\"\",\"\",IF(E315<>\"Retorno\",(I315+K315+M315),IF($G$20=Parâmetros!$D$2,SUM(G315,I315,K315,M315,O315),PMT($O$25,SUM($G$17),($O$10)*-1)+O315+M315+K315)))","v":11227.070527366493},null,767504.82403421053,null,""]
["2049-11-02","",283,"1900-10-09","Retorno",null,{"$f":"IFERROR(IF(C316=\"\",\"\",IF(E316<>\"Retorno\",0,IF($G$20=Parâmetros!$D$2,Simulador!$O$10/$G$17,IF($G$20=Parâmetros!$D$3,Simulador!Q316-Simulador!O316-Simulador!M316-Simulador!K316-Simulador!I316,\"\")))),\"\")","v":2666.1197086237753},null,7455.4260374828009,null,0,null,{"$f":"IFERROR(IF(C316=\"\",\"\",IF($C$10=Parâmetros!$C$3,0,VLOOKUP(A316,'Base de Dados'!$E$3:$G$422,3,FALSE)*S316)),0)","v":1035.5151217864118},null,{"$f":"IF(C316=\"\",\"\",IF(C317=\"\",0,IF(E316=\"Construção\",0,IF(E316=\"Seguro\",$C$17*'Base de Dados'!$C$2,IF($C$14=Parâmetros!$B$4,0,Simulador!$C$17*'Base de Dados'!$C$2)))))","v":66.400000000000006},null,{"$f":"IF(C316=\"\",\"\",IF(E316<>\"Retorno\",(I316+K316+M316),IF($G$20=Parâmetros!$D$2,SUM(G316,I316,K316,M316,O316),PMT($O$25,SUM($G$17),($O$10)*-1)+O316+M316+K316)))","v":11223.460867892987},null,764838.70432558679,null,""]
["2049-12-02","",284,"1900-10-10","Retorno",null,{"$f":"IFERROR(IF(C317=\"\",\"\",IF(E317<>\"Retorno\",0,IF($G$20=Parâmetros!$D$2,Simulador!$O$10/$G$17,IF($G$20=Parâmetros!$D$3,Simulador!Q317-Simulador!O317-Simulador!M317-Simulador!K317-Simulador!I317,\"\")))),\"\")","v":2692.017993132622},null,7429.5277529739542,null,0,null,{"$f":"IFERROR(IF(C317=\"\",\"\",IF($C$10=Parâmetros!$C$3,0,VLOOKUP(A317,'Base de Dados'!$E$3:$G$422,3,FALSE)*S317)),0)","v":1031.8703986255098},null,{"$f":"IF(C317=\"\",\"\",IF(C318=\"\",0,IF(E317=\"Construção\",0,IF(E317=\"Seguro\",$C$17*'Base de Dados'!$C$2,IF($C$14=Parâmetros!$B$4,0,Simulador!$C$17*'Base de Dados'!$C$2)))))","v":66.400000000000006},null,{"$f":"IF(C317=\"\",\"\",IF(E317<>\"Retorno\",(I317+K317+M317),IF($G$20=Parâmetros!$D$2,SUM(G317,I317,K317,M317,O317),PMT($O$25,SUM($G$17),($O$10)*-1)+O317+M317+K317)))","v":11219.816144732085},null,762146.68633245421,null,""]
["2050-01-02","",285,"1900-10-11","Retorno",null,{"$f":"IFERROR(IF(C318=\"\",\"\",IF(E318<>\"Retorno\",0,IF($G$20=Parâmetros!$D$2,Simulador!$O$10/$G$17,IF($G$20=Parâmetros!$D$3,Simulador!Q318-Simulador!O318-Simulador!M318-Simulador!K318-Simulador!I318,\"\")))),\"\")","v":2718.1678496689237},null,7403.3778964376543,null,0,null,{"$f":"IFERROR(IF(C318=\"\",\"\",IF($C$10=Parâmetros!$C$3,0,VLOOKUP(A318,'Base de Dados'!$E$3:$G$422,3,FALSE)*S318)),0)","v":1028.190271173843},null,{"$f":"IF(C318=\"\",\"\",IF(C319=\"\",0,IF(E318=\"Construção\",0,IF(E318=\"Seguro\",$C$17*'Base de Dados'!$C$2,IF($C$14=Parâmetros!$B$4,0,Simulador!$C$17*'Base de Dados'!$C$2)))))","v":66.400000000000006},null,{"$f":"IF(C318=\"\",\"\",IF(E318<>\"Retorno\",(I318+K318+M318),IF($G$20=Parâmetros!$D$2,SUM(G318,I318,K318,M318,O318),PMT($O$25,SUM($G$17),($O$10)*-1)+O318+M318+K318)))","v":11216.13601728042},null,759428.51848278532,null,""]
["2050-02-02","",286,"1900-10-12","Retorno",null,{"$f":"IFERROR(IF(C319=\"\",\"\",IF(E319<>\"Retorno\",0,IF($G$20=Parâmetros!$D$2,Simulador!$O$10/$G$17,IF($G$20=Parâmetros!$D$3,Simulador!Q319-Simulador!O319-Simulador!M319-Simulador!K319-Simulador!I319,\"\")))),\"\")","v":2744.5717219652524},null,7376.9740241413238,null,0,null,{"$f":"IFERROR(IF(C319=\"\",\"\",IF($C$10=Parâmetros!$C$3,0,VLOOKUP(A319,'Base de Dados'!$E$3:$G$422,3,FALSE)*S319)),0)","v":1024.4743955194742},null,{"$f":"IF(C319=\"\",\"\",IF(C320=\"\",0,IF(E319=\"Construção\",0,IF(E319=\"Seguro\",$C$17*'Base de Dados'!$C$2,IF($C$14=Parâmetros!$B$4,0,Simulador!$C$17*'Base de Dados'!$C$2)))))","v":66.400000000000006},null,{"$f":"IF(C319=\"\",\"\",IF(E319<>\"Retorno\",(I319+K319+M319),IF($G$20=Parâmetros!$D$2,SUM(G319,I319,K319,M319,O319),PMT($O$25,SUM($G$17),($O$10)*-1)+O319+M319+K319)))","v":11212.420141626049},null,756683.94676082011,null,""]
["2050-03-02","",287,"1900-10-13","Retorno",null,{"$f":"IFERROR(IF(C320=\"\",\"\",IF(E320<>\"Retorno\",0,IF($G$20=Parâmetros!$D$2,Simulador!$O$10/$G$17,IF($G$20=Parâmetros!$D$3,Simulador!Q320-Simulador!O320-Simulador!M320-Simulador!K320-Simulador!I320,\"\")))),\"\")","v":2771.2320774925556},null,7350.3136686140206,null,0,null,{"$f":"IFERROR(IF(C320=\"\",\"\",IF($C$10=Parâmetros!$C$3,0,VLOOKUP(A320,'Base de Dados'!$E$3:$G$422,3,FALSE)*S320)),0)","v":1020.7224244097572},null,{"$f":"IF(C320=\"\",\"\",IF(C321=\"\",0,IF(E320=\"Construção\",0,IF(E320=\"Seguro\",$C$17*'Base de Dados'!$C$2,IF($C$14=Parâmetros!$B$4,0,Simulador!$C$17*'Base de Dados'!$C$2)))))","v":66.400000000000006},null,{"$f":"IF(C320=\"\",\"\",IF(E320<>\"Retorno\",(I320+K320+M320),IF($G$20=Parâmetros!$D$2,SUM(G320,I320,K320,M320,O320),PMT($O$25,SUM($G$17),($O$10)*-1)+O320+M320+K320)))","v":11208.668170516334},null,753912.71468332759,null,""]
["2050-04-02","",288,"1900-10-14","Retorno",null,{"$f":"IFERROR(IF(C321=\"\",\"\",IF(E321<>\"Retorno\",0,IF($G$20=Parâmetros!$D$2,Simulador!$O$10/$G$17,IF($G$20=Parâmetros!$D$3,Simulador!Q321-Simulador!O321-Simulador!M321-Simulador!K321-Simulador!I321,\"\")))),\"\")","v":2798.1514076901749},null,7323.3943384164013,null,0,null,{"$f":"IFERROR(IF(C321=\"\",\"\",IF($C$10=Parâmetros!$C$3,0,VLOOKUP(A321,'Base de Dados'!$E$3:$G$422,3,FALSE)*S321)),0)","v":1016.9340072188854},null,{"$f":"IF(C321=\"\",\"\",IF(C322=\"\",0,IF(E321=\"Construção\",0,IF(E321=\"Seguro\",$C$17*'Base de Dados'!$C$2,IF($C$14=Parâmetros!$B$4,0,Simulador!$C$17*'Base de Dados'!$C$2)))))","v":66.400000000000006},null,{"$f":"IF(C321=\"\",\"\",IF(E321<>\"Retorno\",(I321+K321+M321),IF($G$20=Parâmetros!$D$2,SUM(G321,I321,K321,M321,O321),PMT($O$25,SUM($G$17),($O$10)*-1)+O321+M321+K321)))","v":11204.879753325462},null,751114.56327563745,null,""]
["2050-05-02","",289,"1900-10-15","Retorno",null,{"$f":"IFERROR(IF(C322=\"\",\"\",IF(E322<>\"Retorno\",0,IF($G$20=Parâmetros!$D$2,Simulador!$O$10/$G$17,IF($G$20=Parâmetros!$D$3,Simulador!Q322-Simulador!O322-Simulador!M322-Simulador!K322-Simulador!I322,\"\")))),\"\")","v":2825.3322281990349},null,7296.2135179075412,null,0,null,{"$f":"IFERROR(IF(C322=\"\",\"\",IF($C$10=Parâmetros!$C$3,0,VLOOKUP(A322,'Base de Dados'!$E$3:$G$422,3,FALSE)*S322)),0)","v":1013.1087899151269},null,{"$f":"IF(C322=\"\",\"\",IF(C323=\"\",0,IF(E322=\"Construção\",0,IF(E322=\"Seguro\",$C$17*'Base de Dados'!$C$2,IF($C$14=Parâmetros!$B$4,0,Simulador!$C$17*'Base de Dados'!$C$2)))))","v":66.400000000000006},null,{"$f":"IF(C322=\"\",\"\",IF(E322<>\"Retorno\",(I322+K322+M322),IF($G$20=Parâmetros!$D$2,SUM(G322,I322,K322,M322,O322),PMT($O$25,SUM($G$17),($O$10)*-1)+O322+M322+K322)))","v":11201.054536021702},null,748289.23104743846,null,""]
["2050-06-02","",290,"1900-10-16","Retorno",null,{"$f":"IFERROR(IF(C323=\"\",\"\",IF(E323<>\"Retorno\",0,IF($G$20=Parâmetros!$D$2,Simulador!$O$10/$G$17,IF($G$20=Parâmetros!$D$3,Simulador!Q323-Simulador!O323-Simulador!M323-Simulador!K323-Simulador!I323,\"\")))),\"\")","v":2852.7770790964514},null,7268.7686670101248,null,0,null,{"$f":"IFERROR(IF(C323=\"\",\"\",IF($C$10=Parâmetros!$C$3,0,VLOOKUP(A323,'Base de Dados'!$E$3:$G$422,3,FALSE)*S323)),0)","v":1009.2464150277382},null,{"$f":"IF(C323=\"\",\"\",IF(C324=\"\",0,IF(E323=\"Construção\",0,IF(E323=\"Seguro\",$C$17*'Base de Dados'!$C$2,IF($C$14=Parâmetros!$B$4,0,Simulador!$C$17*'Base de Dados'!$C$2)))))","v":66.400000000000006},null,{"$f":"IF(C323=\"\",\"\",IF(E323<>\"Retorno\",(I323+K323+M323),IF($G$20=Parâmetros!$D$2,SUM(G323,I323,K323,M323,O323),PMT($O$25,SUM($G$17),($O$10)*-1)+O323+M323+K323)))","v":11197.192161134313},null,745436.45396834204,null,""]
["2050-07-02","",291,"1900-10-17","Retorno",null,{"$f":"IFERROR(IF(C324=\"\",\"\",IF(E324<>\"Retorno\",0,IF($G$20=Parâmetros!$D$2,Simulador!$O$10/$G$17,IF($G$20=Parâmetros!$D$3,Simulador!Q324-Simulador!O324-Simulador!M324-Simulador!K324-Simulador!I324,\"\")))),\"\")","v":2880.4885251337346},null,7241.0572209728416,null,0,null,{"$f":"IFERROR(IF(C324=\"\",\"\",IF($C$10=Parâmetros!$C$3,0,VLOOKUP(A324,'Base de Dados'!$E$3:$G$422,3,FALSE)*S324)),0)","v":1005.3465216135597},null,{"$f":"IF(C324=\"\",\"\",IF(C325=\"\",0,IF(E324=\"Construção\",0,IF(E324=\"Seguro\",$C$17*'Base de Dados'!$C$2,IF($C$14=Parâmetros!$B$4,0,Simulador!$C$17*'Base de Dados'!$C$2)))))","v":66.400000000000006},null,{"$f":"IF(C324=\"\",\"\",IF(E324<>\"Retorno\",(I324+K324+M324),IF($G$20=Parâmetros!$D$2,SUM(G324,I324,K324,M324,O324),PMT($O$25,SUM($G$17),($O$10)*-1)+O324+M324+K324)))","v":11193.292267720135},null,742555.96544320835,null,""]
["2050-08-02","",292,"1900-10-18","Retorno",null,{"$f":"IFERROR(IF(C325=\"\",\"\",IF(E325<>\"Retorno\",0,IF($G$20=Parâmetros!$D$2,Simulador!$O$10/$G$17,IF($G$20=Parâmetros!$D$3,Simulador!Q325-Simulador!O325-Simulador!M325-Simulador!K325-Simulador!I325,\"\")))),\"\")","v":2908.4691559760049},null,7213.0765901305713,null,0,null,{"$f":"IFERROR(IF(C325=\"\",\"\",IF($C$10=Parâmetros!$C$3,0,VLOOKUP(A325,'Base de Dados'!$E$3:$G$422,3,FALSE)*S325)),0)","v":1001.4087452232839},null,{"$f":"IF(C325=\"\",\"\",IF(C326=\"\",0,IF(E325=\"Construção\",0,IF(E325=\"Seguro\",$C$17*'Base de Dados'!$C$2,IF($C$14=Parâmetros!$B$4,0,Simulador!$C$17*'Base de Dados'!$C$2)))))","v":66.400000000000006},null,{"$f":"IF(C325=\"\",\"\",IF(E325<>\"Retorno\",(I325+K325+M325),IF($G$20=Parâmetros!$D$2,SUM(G325,I325,K325,M325,O325),PMT($O$25,SUM($G$17),($O$10)*-1)+O325+M325+K325)))","v":11189.354491329859},null,739647.49628723238,null,""]
["2050-09-02","",293,"1900-10-19","Retorno",null,{"$f":"IFERROR(IF(C326=\"\",\"\",IF(E326<>\"Retorno\",0,IF($G$20=Parâmetros!$D$2,Simulador!$O$10/$G$17,IF($G$20=Parâmetros!$D$3,Simulador!Q326-Simulador!O326-Simulador!M326-Simulador!K326-Simulador!I326,\"\")))),\"\")","v":2936.7215864437549},null,7184.8241596628213,null,0,null,{"$f":"IFERROR(IF(C326=\"\",\"\",IF($C$10=Parâmetros!$C$3,0,VLOOKUP(A326,'Base de Dados'!$E$3:$G$422,3,FALSE)*S326)),0)","v":997.43271786739774},null,{"$f":"IF(C326=\"\",\"\",IF(C327=\"\",0,IF(E326=\"Construção\",0,IF(E326=\"Seguro\",$C$17*'Base de Dados'!$C$2,IF($C$14=Parâmetros!$B$4,0,Simulador!$C$17*'Base de Dados'!$C$2)))))","v":66.400000000000006},null,{"$f":"IF(C326=\"\",\"\",IF(E326<>\"Retorno\",(I326+K326+M326),IF($G$20=Parâmetros!$D$2,SUM(G326,I326,K326,M326,O326),PMT($O$25,SUM($G$17),($O$10)*-1)+O326+M326+K326)))","v":11185.378463973973},null,736710.77470078866,null,""]
["2050-10-02","",294,"1900-10-20","Retorno",null,{"$f":"IFERROR(IF(C327=\"\",\"\",IF(E327<>\"Retorno\",0,IF($G$20=Parâmetros!$D$2,Simulador!$O$10/$G$17,IF($G$20=Parâmetros!$D$3,Simulador!Q327-Simulador!O327-Simulador!M327-Simulador!K327-Simulador!I327,\"\")))),\"\")","v":2965.2484567575557},null,7156.2972893490223,null,0,null,{"$f":"IFERROR(IF(C327=\"\",\"\",IF($C$10=Parâmetros!$C$3,0,VLOOKUP(A327,'Base de Dados'!$E$3:$G$422,3,FALSE)*S327)),0)","v":993.41806798179368},null,{"$f":"IF(C327=\"\",\"\",IF(C328=\"\",0,IF(E327=\"Construção\",0,IF(E327=\"Seguro\",$C$17*'Base de Dados'!$C$2,IF($C$14=Parâmetros!$B$4,0,Simulador!$C$17*'Base de Dados'!$C$2)))))","v":66.400000000000006},null,{"$f":"IF(C327=\"\",\"\",IF(E327<>\"Retorno\",(I327+K327+M327),IF($G$20=Parâmetros!$D$2,SUM(G327,I327,K327,M327,O327),PMT($O$25,SUM($G$17),($O$10)*-1)+O327+M327+K327)))","v":11181.36381408837},null,733745.52624403115,null,""]
["2050-11-02","",295,"1900-10-21","Retorno",null,{"$f":"IFERROR(IF(C328=\"\",\"\",IF(E328<>\"Retorno\",0,IF($G$20=Parâmetros!$D$2,Simulador!$O$10/$G$17,IF($G$20=Parâmetros!$D$3,Simulador!Q328-Simulador!O328-Simulador!M328-Simulador!K328-Simulador!I328,\"\")))),\"\")","v":2994.0524327844996},null,7127.4933133220766,null,0,null,{"$f":"IFERROR(IF(C328=\"\",\"\",IF($C$10=Parâmetros!$C$3,0,VLOOKUP(A328,'Base de Dados'!$E$3:$G$422,3,FALSE)*S328)),0)","v":989.36442039304677},null,{"$f":"IF(C328=\"\",\"\",IF(C329=\"\",0,IF(E328=\"Construção\",0,IF(E328=\"Seguro\",$C$17*'Base de Dados'!$C$2,IF($C$14=Parâmetros!$B$4,0,Simulador!$C$17*'Base de Dados'!$C$2)))))","v":66.400000000000006},null,{"$f":"IF(C328=\"\",\"\",IF(E328<>\"Retorno\",(I328+K328+M328),IF($G$20=Parâmetros!$D$2,SUM(G328,I328,K328,M328,O328),PMT($O$25,SUM($G$17),($O$10)*-1)+O328+M328+K328)))","v":11177.310166499623},null,730751.47381124669,null,""]
["2050-12-02","",296,"1900-10-22","Retorno",null,{"$f":"IFERROR(IF(C329=\"\",\"\",IF(E329<>\"Retorno\",0,IF($G$20=Parâmetros!$D$2,Simulador!$O$10/$G$17,IF($G$20=Parâmetros!$D$3,Simulador!Q329-Simulador!O329-Simulador!M329-Simulador!K329-Simulador!I329,\"\")))),\"\")","v":3023.1362062879289},null,7098.4095398186473,null,0,null,{"$f":"IFERROR(IF(C329=\"\",\"\",IF($C$10=Parâmetros!$C$3,0,VLOOKUP(A329,'Base de Dados'!$E$3:$G$422,3,FALSE)*S329)),0)","v":985.27139628335362},null,{"$f":"IF(C329=\"\",\"\",IF(C330=\"\",0,IF(E329=\"Construção\",0,IF(E329=\"Seguro\",$C$17*'Base de Dados'!$C$2,IF($C$14=Parâmetros!$B$4,0,Simulador!$C$17*'Base de Dados'!$C$2)))))","v":66.400000000000006},null,{"$f":"IF(C329=\"\",\"\",IF(E329<>\"Retorno\",(I329+K329+M329),IF($G$20=Parâmetros!$D$2,SUM(G329,I329,K329,M329,O329),PMT($O$25,SUM($G$17),($O$10)*-1)+O329+M329+K329)))","v":11173.217142389929},null,727728.3376049588,null,""]
["2051-01-02","",297,"1900-10-23","Retorno",null,{"$f":"IFERROR(IF(C330=\"\",\"\",IF(E330<>\"Retorno\",0,IF($G$20=Parâmetros!$D$2,Simulador!$O$10/$G$17,IF($G$20=Parâmetros!$D$3,Simulador!Q330-Simulador!O330-Simulador!M330-Simulador!K330-Simulador!I330,\"\")))),\"\")","v":3052.5024951781761},null,7069.0432509284001,null,0,null,{"$f":"IFERROR(IF(C330=\"\",\"\",IF($C$10=Parâmetros!$C$3,0,VLOOKUP(A330,'Base de Dados'!$E$3:$G$422,3,FALSE)*S330)),0)","v":981.13861315513191},null,{"$f":"IF(C330=\"\",\"\",IF(C331=\"\",0,IF(E330=\"Construção\",0,IF(E330=\"Seguro\",$C$17*'Base de Dados'!$C$2,IF($C$14=Parâmetros!$B$4,0,Simulador!$C$17*'Base de Dados'!$C$2)))))","v":66.400000000000006},null,{"$f":"IF(C330=\"\",\"\",IF(E330<>\"Retorno\",(I330+K330+M330),IF($G$20=Parâmetros!$D$2,SUM(G330,I330,K330,M330,O330),PMT($O$25,SUM($G$17),($O$10)*-1)+O330+M330+K330)))","v":11169.084359261708},null,724675.83510978066,null,""]
["2051-02-02","",298,"1900-10-24","Retorno",null,{"$f":"IFERROR(IF(C331=\"\",\"\",IF(E331<>\"Retorno\",0,IF($G$20=Parâmetros!$D$2,Simulador!$O$10/$G$17,IF($G$20=Parâmetros!$D$3,Simulador!Q331-Simulador!O331-Simulador!M331-Simulador!K331-Simulador!I331,\"\")))),\"\")","v":3082.154043766941},null,7039.3917023396352,null,0,null,{"$f":"IFERROR(IF(C331=\"\",\"\",IF($C$10=Parâmetros!$C$3,0,VLOOKUP(A331,'Base de Dados'!$E$3:$G$422,3,FALSE)*S331)),0)","v":976.96568479527593},null,{"$f":"IF(C331=\"\",\"\",IF(C332=\"\",0,IF(E331=\"Construção\",0,IF(E331=\"Seguro\",$C$17*'Base de Dados'!$C$2,IF($C$14=Parâmetros!$B$4,0,Simulador!$C$17*'Base de Dados'!$C$2)))))","v":66.400000000000006},null,{"$f":"IF(C331=\"\",\"\",IF(E331<>\"Retorno\",(I331+K331+M331),IF($G$20=Parâmetros!$D$2,SUM(G331,I331,K331,M331,O331),PMT($O$25,SUM($G$17),($O$10)*-1)+O331+M331+K331)))","v":11164.911430901851},null,721593.68106601376,null,""]
["2051-03-02","",299,"1900-10-25","Retorno",null,{"$f":"IFERROR(IF(C332=\"\",\"\",IF(E332<>\"Retorno\",0,IF($G$20=Parâmetros!$D$2,Simulador!$O$10/$G$17,IF($G$20=Parâmetros!$D$3,Simulador!Q332-Simulador!O332-Simulador!M332-Simulador!K332-Simulador!I332,\"\")))),\"\")","v":3112.0936230242169},null,7009.4521230823593,null,0,null,{"$f":"IFERROR(IF(C332=\"\",\"\",IF($C$10=Parâmetros!$C$3,0,VLOOKUP(A332,'Base de Dados'!$E$3:$G$422,3,FALSE)*S332)),0)","v":972.75222123906349},null,{"$f":"IF(C332=\"\",\"\",IF(C333=\"\",0,IF(E332=\"Construção\",0,IF(E332=\"Seguro\",$C$17*'Base de Dados'!$C$2,IF($C$14=Parâmetros!$B$4,0,Simulador!$C$17*'Base de Dados'!$C$2)))))","v":66.400000000000006},null,{"$f":"IF(C332=\"\",\"\",IF(E332<>\"Retorno\",(I332+K332+M332),IF($G$20=Parâmetros!$D$2,SUM(G332,I332,K332,M332,O332),PMT($O$25,SUM($G$17),($O$10)*-1)+O332+M332+K332)))","v":11160.697967345639},null,718481.58744298958,null,""]
["2051-04-02","",300,"1900-10-26","Retorno",null,{"$f":"IFERROR(IF(C333=\"\",\"\",IF(E333<>\"Retorno\",0,IF($G$20=Parâmetros!$D$2,Simulador!$O$10/$G$17,IF($G$20=Parâmetros!$D$3,Simulador!Q333-Simulador!O333-Simulador!M333-Simulador!K333-Simulador!I333,\"\")))),\"\")","v":3142.324030836151},null,6979.2217152704252,null,0,null,{"$f":"IFERROR(IF(C333=\"\",\"\",IF($C$10=Parâmetros!$C$3,0,VLOOKUP(A333,'Base de Dados'!$E$3:$G$422,3,FALSE)*S333)),0)","v":968.49782873371453},null,{"$f":"IF(C333=\"\",\"\",IF(C334=\"\",0,IF(E333=\"Construção\",0,IF(E333=\"Seguro\",$C$17*'Base de Dados'!$C$2,IF($C$14=Parâmetros!$B$4,0,Simulador!$C$17*'Base de Dados'!$C$2)))))","v":66.400000000000006},null,{"$f":"IF(C333=\"\",\"\",IF(E333<>\"Retorno\",(I333+K333+M333),IF($G$20=Parâmetros!$D$2,SUM(G333,I333,K333,M333,O333),PMT($O$25,SUM($G$17),($O$10)*-1)+O333+M333+K333)))","v":11156.44357484029},null,715339.26341215346,null,""]
["2051-05-02","",301,"1900-10-27","Retorno",null,{"$f":"IFERROR(IF(C334=\"\",\"\",IF(E334<>\"Retorno\",0,IF($G$20=Parâmetros!$D$2,Simulador!$O$10/$G$17,IF($G$20=Parâmetros!$D$3,Simulador!Q334-Simulador!O334-Simulador!M334-Simulador!K334-Simulador!I334,\"\")))),\"\")","v":3172.8480922674444},null,6948.6976538391318,null,0,null,{"$f":"IFERROR(IF(C334=\"\",\"\",IF($C$10=Parâmetros!$C$3,0,VLOOKUP(A334,'Base de Dados'!$E$3:$G$422,3,FALSE)*S334)),0)","v":964.20210970159371},null,{"$f":"IF(C334=\"\",\"\",IF(C335=\"\",0,IF(E334=\"Construção\",0,IF(E334=\"Seguro\",$C$17*'Base de Dados'!$C$2,IF($C$14=Parâmetros!$B$4,0,Simulador!$C$17*'Base de Dados'!$C$2)))))","v":66.400000000000006},null,{"$f":"IF(C334=\"\",\"\",IF(E334<>\"Retorno\",(I334+K334+M334),IF($G$20=Parâmetros!$D$2,SUM(G334,I334,K334,M334,O334),PMT($O$25,SUM($G$17),($O$10)*-1)+O334+M334+K334)))","v":11152.147855808169},null,712166.41531988606,null,""]
["2051-06-02","",302,"1900-10-28","Retorno",null,{"$f":"IFERROR(IF(C335=\"\",\"\",IF(E335<>\"Retorno\",0,IF($G$20=Parâmetros!$D$2,Simulador!$O$10/$G$17,IF($G$20=Parâmetros!$D$3,Simulador!Q335-Simulador!O335-Simulador!M335-Simulador!K335-Simulador!I335,\"\")))),\"\")","v":3203.6686598252654},null,6917.8770862813108,null,0,null,{"$f":"IFERROR(IF(C335=\"\",\"\",IF($C$10=Parâmetros!$C$3,0,VLOOKUP(A335,'Base de Dados'!$E$3:$G$422,3,FALSE)*S335)),0)","v":959.8646627030563},null,{"$f":"IF(C335=\"\",\"\",IF(C336=\"\",0,IF(E335=\"Construção\",0,IF(E335=\"Seguro\",$C$17*'Base de Dados'!$C$2,IF($C$14=Parâmetros!$B$4,0,Simulador!$C$17*'Base de Dados'!$C$2)))))","v":66.400000000000006},null,{"$f":"IF(C335=\"\",\"\",IF(E335<>\"Retorno\",(I335+K335+M335),IF($G$20=Parâmetros!$D$2,SUM(G335,I335,K335,M335,O335),PMT($O$25,SUM($G$17),($O$10)*-1)+O335+M335+K335)))","v":11147.810408809632},null,708962.74666006083,null,""]
["2051-07-02","",303,"1900-10-29","Retorno",null,{"$f":"IFERROR(IF(C336=\"\",\"\",IF(E336<>\"Retorno\",0,IF($G$20=Parâmetros!$D$2,Simulador!$O$10/$G$17,IF($G$20=Parâmetros!$D$3,Simulador!Q336-Simulador!O336-Simulador!M336-Simulador!K336-Simulador!I336,\"\")))),\"\")","v":3234.7886137251426},null,6886.7571323814336,null,0,null,{"$f":"IFERROR(IF(C336=\"\",\"\",IF($C$10=Parâmetros!$C$3,0,VLOOKUP(A336,'Base de Dados'!$E$3:$G$422,3,FALSE)*S336)),0)","v":955.48508239893386},null,{"$f":"IF(C336=\"\",\"\",IF(C337=\"\",0,IF(E336=\"Construção\",0,IF(E336=\"Seguro\",$C$17*'Base de Dados'!$C$2,IF($C$14=Parâmetros!$B$4,0,Simulador!$C$17*'Base de Dados'!$C$2)))))","v":66.400000000000006},null,{"$f":"IF(C336=\"\",\"\",IF(E336<>\"Retorno\",(I336+K336+M336),IF($G$20=Parâmetros!$D$2,SUM(G336,I336,K336,M336,O336),PMT($O$25,SUM($G$17),($O$10)*-1)+O336+M336+K336)))","v":11143.43082850551},null,705727.95804633573,null,""]
["2051-08-02","",304,"1900-10-30","Retorno",null,{"$f":"IFERROR(IF(C337=\"\",\"\",IF(E337<>\"Retorno\",0,IF($G$20=Parâmetros!$D$2,Simulador!$O$10/$G$17,IF($G$20=Parâmetros!$D$3,Simulador!Q337-Simulador!O337-Simulador!M337-Simulador!K337-Simulador!I337,\"\")))),\"\")","v":3266.2108621610478},null,6855.3348839455284,null,0,null,{"$f":"IFERROR(IF(C337=\"\",\"\",IF($C$10=Parâmetros!$C$3,0,VLOOKUP(A337,'Base de Dados'!$E$3:$G$422,3,FALSE)*S337)),0)","v":951.06295951265406},null,{"$f":"IF(C337=\"\",\"\",IF(C338=\"\",0,IF(E337=\"Construção\",0,IF(E337=\"Seguro\",$C$17*'Base de Dados'!$C$2,IF($C$14=Parâmetros!$B$4,0,Simulador!$C$17*'Base de Dados'!$C$2)))))","v":66.400000000000006},null,{"$f":"IF(C337=\"\",\"\",IF(E337<>\"Retorno\",(I337+K337+M337),IF($G$20=Parâmetros!$D$2,SUM(G337,I337,K337,M337,O337),PMT($O$25,SUM($G$17),($O$10)*-1)+O337+M337+K337)))","v":11139.00870561923},null,702461.74718417472,null,""]
["2051-09-02","",305,"1900-10-31","Retorno",null,{"$f":"IFERROR(IF(C338=\"\",\"\",IF(E338<>\"Retorno\",0,IF($G$20=Parâmetros!$D$2,Simulador!$O$10/$G$17,IF($G$20=Parâmetros!$D$3,Simulador!Q338-Simulador!O338-Simulador!M338-Simulador!K338-Simulador!I338,\"\")))),\"\")","v":3297.938341576295},null,6823.6074045302812,null,0,null,{"$f":"IFERROR(IF(C338=\"\",\"\",IF($C$10=Parâmetros!$C$3,0,VLOOKUP(A338,'Base de Dados'!$E$3:$G$422,3,FALSE)*S338)),0)","v":946.59788079199393},null,{"$f":"IF(C338=\"\",\"\",IF(C339=\"\",0,IF(E338=\"Construção\",0,IF(E338=\"Seguro\",$C$17*'Base de Dados'!$C$2,IF($C$14=Parâmetros!$B$4,0,Simulador!$C$17*'Base de Dados'!$C$2)))))","v":66.400000000000006},null,{"$f":"IF(C338=\"\",\"\",IF(E338<>\"Retorno\",(I338+K338+M338),IF($G$20=Parâmetros!$D$2,SUM(G338,I338,K338,M338,O338),PMT($O$25,SUM($G$17),($O$10)*-1)+O338+M338+K338)))","v":11134.54362689857},null,699163.80884259846,null,""]
["2051-10-02","",306,"1900-11-01","Retorno",null,{"$f":"IFERROR(IF(C339=\"\",\"\",IF(E339<>\"Retorno\",0,IF($G$20=Parâmetros!$D$2,Simulador!$O$10/$G$17,IF($G$20=Parâmetros!$D$3,Simulador!Q339-Simulador!O339-Simulador!M339-Simulador!K339-Simulador!I339,\"\")))),\"\")","v":3329.9740169386296},null,6791.5717291679466,null,0,null,{"$f":"IFERROR(IF(C339=\"\",\"\",IF($C$10=Parâmetros!$C$3,0,VLOOKUP(A339,'Base de Dados'!$E$3:$G$422,3,FALSE)*S339)),0)","v":942.08942897046086},null,{"$f":"IF(C339=\"\",\"\",IF(C340=\"\",0,IF(E339=\"Construção\",0,IF(E339=\"Seguro\",$C$17*'Base de Dados'!$C$2,IF($C$14=Parâmetros!$B$4,0,Simulador!$C$17*'Base de Dados'!$C$2)))))","v":66.400000000000006},null,{"$f":"IF(C339=\"\",\"\",IF(E339<>\"Retorno\",(I339+K339+M339),IF($G$20=Parâmetros!$D$2,SUM(G339,I339,K339,M339,O339),PMT($O$25,SUM($G$17),($O$10)*-1)+O339+M339+K339)))","v":11130.035175077037},null,695833.83482565987,null,""]
["2051-11-02","",307,"1900-11-02","Retorno",null,{"$f":"IFERROR(IF(C340=\"\",\"\",IF(E340<>\"Retorno\",0,IF($G$20=Parâmetros!$D$2,Simulador!$O$10/$G$17,IF($G$20=Parâmetros!$D$3,Simulador!Q340-Simulador!O340-Simulador!M340-Simulador!K340-Simulador!I340,\"\")))),\"\")","v":3362.3208820170639},null,6759.2248640895123,null,0,null,{"$f":"IFERROR(IF(C340=\"\",\"\",IF($C$10=Parâmetros!$C$3,0,VLOOKUP(A340,'Base de Dados'!$E$3:$G$422,3,FALSE)*S340)),0)","v":937.53718272829792},null,{"$f":"IF(C340=\"\",\"\",IF(C341=\"\",0,IF(E340=\"Construção\",0,IF(E340=\"Seguro\",$C$17*'Base de Dados'!$C$2,IF($C$14=Parâmetros!$B$4,0,Simulador!$C$17*'Base de Dados'!$C$2)))))","v":66.400000000000006},null,{"$f":"IF(C340=\"\",\"\",IF(E340<>\"Retorno\",(I340+K340+M340),IF($G$20=Parâmetros!$D$2,SUM(G340,I340,K340,M340,O340),PMT($O$25,SUM($G$17),($O$10)*-1)+O340+M340+K340)))","v":11125.482928834874},null,692471.51394364284,null,""]
["2051-12-02","",308,"1900-11-03","Retorno",null,{"$f":"IFERROR(IF(C341=\"\",\"\",IF(E341<>\"Retorno\",0,IF($G$20=Parâmetros!$D$2,Simulador!$O$10/$G$17,IF($G$20=Parâmetros!$D$3,Simulador!Q341-Simulador!O341-Simulador!M341-Simulador!K341-Simulador!I341,\"\")))),\"\")","v":3394.9819596613906},null,6726.5637864451855,null,0,null,{"$f":"IFERROR(IF(C341=\"\",\"\",IF($C$10=Parâmetros!$C$3,0,VLOOKUP(A341,'Base de Dados'!$E$3:$G$422,3,FALSE)*S341)),0)","v":932.94071665311242},null,{"$f":"IF(C341=\"\",\"\",IF(C342=\"\",0,IF(E341=\"Construção\",0,IF(E341=\"Seguro\",$C$17*'Base de Dados'!$C$2,IF($C$14=Parâmetros!$B$4,0,Simulador!$C$17*'Base de Dados'!$C$2)))))","v":66.400000000000006},null,{"$f":"IF(C341=\"\",\"\",IF(E341<>\"Retorno\",(I341+K341+M341),IF($G$20=Parâmetros!$D$2,SUM(G341,I341,K341,M341,O341),PMT($O$25,SUM($G$17),($O$10)*-1)+O341+M341+K341)))","v":11120.886462759689},null,689076.53198398149,null,""]
["2052-01-02","",309,"1900-11-04","Retorno",null,{"$f":"IFERROR(IF(C342=\"\",\"\",IF(E342<>\"Retorno\",0,IF($G$20=Parâmetros!$D$2,Simulador!$O$10/$G$17,IF($G$20=Parâmetros!$D$3,Simulador!Q342-Simulador!O342-Simulador!M342-Simulador!K342-Simulador!I342,\"\")))),\"\")","v":3427.9603020850718},null,6693.5854440215044,null,0,null,{"$f":"IFERROR(IF(C342=\"\",\"\",IF($C$10=Parâmetros!$C$3,0,VLOOKUP(A342,'Base de Dados'!$E$3:$G$422,3,FALSE)*S342)),0)","v":928.29960120011958},null,{"$f":"IF(C342=\"\",\"\",IF(C343=\"\",0,IF(E342=\"Construção\",0,IF(E342=\"Seguro\",$C$17*'Base de Dados'!$C$2,IF($C$14=Parâmetros!$B$4,0,Simulador!$C$17*'Base de Dados'!$C$2)))))","v":66.400000000000006},null,{"$f":"IF(C342=\"\",\"\",IF(E342<>\"Retorno\",(I342+K342+M342),IF($G$20=Parâmetros!$D$2,SUM(G342,I342,K342,M342,O342),PMT($O$25,SUM($G$17),($O$10)*-1)+O342+M342+K342)))","v":11116.245347306696},null,685648.57168189646,null,""]
["2052-02-02","",310,"1900-11-05","Retorno",null,{"$f":"IFERROR(IF(C343=\"\",\"\",IF(E343<>\"Retorno\",0,IF($G$20=Parâmetros!$D$2,Simulador!$O$10/$G$17,IF($G$20=Parâmetros!$D$3,Simulador!Q343-Simulador!O343-Simulador!M343-Simulador!K343-Simulador!I343,\"\")))),\"\")","v":3461.2589911503401},null,6660.2867549562361,null,0,null,{"$f":"IFERROR(IF(C343=\"\",\"\",IF($C$10=Parâmetros!$C$3,0,VLOOKUP(A343,'Base de Dados'!$E$3:$G$422,3,FALSE)*S343)),0)","v":923.61340265200113},null,{"$f":"IF(C343=\"\",\"\",IF(C344=\"\",0,IF(E343=\"Construção\",0,IF(E343=\"Seguro\",$C$17*'Base de Dados'!$C$2,IF($C$14=Parâmetros!$B$4,0,Simulador!$C$17*'Base de Dados'!$C$2)))))","v":66.400000000000006},null,{"$f":"IF(C343=\"\",\"\",IF(E343<>\"Retorno\",(I343+K343+M343),IF($G$20=Parâmetros!$D$2,SUM(G343,I343,K343,M343,O343),PMT($O$25,SUM($G$17),($O$10)*-1)+O343+M343+K343)))","v":11111.559148758577},null,682187.31269074616,null,""]
["2052-03-02","",311,"1900-11-06","Retorno",null,{"$f":"IFERROR(IF(C344=\"\",\"\",IF(E344<>\"Retorno\",0,IF($G$20=Parâmetros!$D$2,Simulador!$O$10/$G$17,IF($G$20=Parâmetros!$D$3,Simulador!Q344-Simulador!O344-Simulador!M344-Simulador!K344-Simulador!I344,\"\")))),\"\")","v":3494.8811386560938},null,6626.6646074504824,null,0,null,{"$f":"IFERROR(IF(C344=\"\",\"\",IF($C$10=Parâmetros!$C$3,0,VLOOKUP(A344,'Base de Dados'!$E$3:$G$422,3,FALSE)*S344)),0)","v":918.88168307837475},null,{"$f":"IF(C344=\"\",\"\",IF(C345=\"\",0,IF(E344=\"Construção\",0,IF(E344=\"Seguro\",$C$17*'Base de Dados'!$C$2,IF($C$14=Parâmetros!$B$4,0,Simulador!$C$17*'Base de Dados'!$C$2)))))","v":66.400000000000006},null,{"$f":"IF(C344=\"\",\"\",IF(E344<>\"Retorno\",(I344+K344+M344),IF($G$20=Parâmetros!$D$2,SUM(G344,I344,K344,M344,O344),PMT($O$25,SUM($G$17),($O$10)*-1)+O344+M344+K344)))","v":11106.82742918495},null,678692.4315520901,null,""]
["2052-04-02","",312,"1900-11-07","Retorno",null,{"$f":"IFERROR(IF(C345=\"\",\"\",IF(E345<>\"Retorno\",0,IF($G$20=Parâmetros!$D$2,Simulador!$O$10/$G$17,IF($G$20=Parâmetros!$D$3,Simulador!Q345-Simulador!O345-Simulador!M345-Simulador!K345-Simulador!I345,\"\")))),\"\")","v":3528.8298866289351},null,6592.7158594776411,null,0,null,{"$f":"IFERROR(IF(C345=\"\",\"\",IF($C$10=Parâmetros!$C$3,0,VLOOKUP(A345,'Base de Dados'!$E$3:$G$422,3,FALSE)*S345)),0)","v":914.10400029486789},null,{"$f":"IF(C345=\"\",\"\",IF(C346=\"\",0,IF(E345=\"Construção\",0,IF(E345=\"Seguro\",$C$17*'Base de Dados'!$C$2,IF($C$14=Parâmetros!$B$4,0,Simulador!$C$17*'Base de Dados'!$C$2)))))","v":66.400000000000006},null,{"$f":"IF(C345=\"\",\"\",IF(E345<>\"Retorno\",(I345+K345+M345),IF($G$20=Parâmetros!$D$2,SUM(G345,I345,K345,M345,O345),PMT($O$25,SUM($G$17),($O$10)*-1)+O345+M345+K345)))","v":11102.049746401444},null,675163.6016654612,null,""]
["2052-05-02","",313,"1900-11-08","Retorno",null,{"$f":"IFERROR(IF(C346=\"\",\"\",IF(E346<>\"Retorno\",0,IF($G$20=Parâmetros!$D$2,Simulador!$O$10/$G$17,IF($G$20=Parâmetros!$D$3,Simulador!Q346-Simulador!O346-Simulador!M346-Simulador!K346-Simulador!I346,\"\")))),\"\")","v":3563.1084076164207},null,6558.4373384901555,null,0,null,{"$f":"IFERROR(IF(C346=\"\",\"\",IF($C$10=Parâmetros!$C$3,0,VLOOKUP(A346,'Base de Dados'!$E$3:$G$422,3,FALSE)*S346)),0)","v":909.27990782179609},null,{"$f":"IF(C346=\"\",\"\",IF(C347=\"\",0,IF(E346=\"Construção\",0,IF(E346=\"Seguro\",$C$17*'Base de Dados'!$C$2,IF($C$14=Parâmetros!$B$4,0,Simulador!$C$17*'Base de Dados'!$C$2)))))","v":66.400000000000006},null,{"$f":"IF(C346=\"\",\"\",IF(E346<>\"Retorno\",(I346+K346+M346),IF($G$20=Parâmetros!$D$2,SUM(G346,I346,K346,M346,O346),PMT($O$25,SUM($G$17),($O$10)*-1)+O346+M346+K346)))","v":11097.225653928372},null,671600.49325784482,null,""]
["2052-06-02","",314,"1900-11-09","Retorno",null,{"$f":"IFERROR(IF(C347=\"\",\"\",IF(E347<>\"Retorno\",0,IF($G$20=Parâmetros!$D$2,Simulador!$O$10/$G$17,IF($G$20=Parâmetros!$D$3,Simulador!Q347-Simulador!O347-Simulador!M347-Simulador!K347-Simulador!I347,\"\")))),\"\")","v":3597.7199049838036},null,6523.8258411227725,null,0,null,{"$f":"IFERROR(IF(C347=\"\",\"\",IF($C$10=Parâmetros!$C$3,0,VLOOKUP(A347,'Base de Dados'!$E$3:$G$422,3,FALSE)*S347)),0)","v":904.40895484243856},null,{"$f":"IF(C347=\"\",\"\",IF(C348=\"\",0,IF(E347=\"Construção\",0,IF(E347=\"Seguro\",$C$17*'Base de Dados'!$C$2,IF($C$14=Parâmetros!$B$4,0,Simulador!$C$17*'Base de Dados'!$C$2)))))","v":66.400000000000006},null,{"$f":"IF(C347=\"\",\"\",IF(E347<>\"Retorno\",(I347+K347+M347),IF($G$20=Parâmetros!$D$2,SUM(G347,I347,K347,M347,O347),PMT($O$25,SUM($G$17),($O$10)*-1)+O347+M347+K347)))","v":11092.354700949014},null,668002.77335286106,null,""]
["2052-07-02","",315,"1900-11-10","Retorno",null,{"$f":"IFERROR(IF(C348=\"\",\"\",IF(E348<>\"Retorno\",0,IF($G$20=Parâmetros!$D$2,Simulador!$O$10/$G$17,IF($G$20=Parâmetros!$D$3,Simulador!Q348-Simulador!O348-Simulador!M348-Simulador!K348-Simulador!I348,\"\")))),\"\")","v":3632.667613213338},null,6488.8781328932382,null,0,null,{"$f":"IFERROR(IF(C348=\"\",\"\",IF($C$10=Parâmetros!$C$3,0,VLOOKUP(A348,'Base de Dados'!$E$3:$G$422,3,FALSE)*S348)),0)","v":899.49068616090904},null,{"$f":"IF(C348=\"\",\"\",IF(C349=\"\",0,IF(E348=\"Construção\",0,IF(E348=\"Seguro\",$C$17*'Base de Dados'!$C$2,IF($C$14=Parâmetros!$B$4,0,Simulador!$C$17*'Base de Dados'!$C$2)))))","v":66.400000000000006},null,{"$f":"IF(C348=\"\",\"\",IF(E348<>\"Retorno\",(I348+K348+M348),IF($G$20=Parâmetros!$D$2,SUM(G348,I348,K348,M348,O348),PMT($O$25,SUM($G$17),($O$10)*-1)+O348+M348+K348)))","v":11087.436432267485},null,664370.10573964776,null,""]
["2052-08-02","",316,"1900-11-11","Retorno",null,{"$f":"IFERROR(IF(C349=\"\",\"\",IF(E349<>\"Retorno\",0,IF($G$20=Parâmetros!$D$2,Simulador!$O$10/$G$17,IF($G$20=Parâmetros!$D$3,Simulador!Q349-Simulador!O349-Simulador!M349-Simulador!K349-Simulador!I349,\"\")))),\"\")","v":3667.9547982068416},null,6453.5909478997346,null,0,null,{"$f":"IFERROR(IF(C349=\"\",\"\",IF($C$10=Parâmetros!$C$3,0,VLOOKUP(A349,'Base de Dados'!$E$3:$G$422,3,FALSE)*S349)),0)","v":894.52464215961686},null,{"$f":"IF(C349=\"\",\"\",IF(C350=\"\",0,IF(E349=\"Construção\",0,IF(E349=\"Seguro\",$C$17*'Base de Dados'!$C$2,IF($C$14=Parâmetros!$B$4,0,Simulador!$C$17*'Base de Dados'!$C$2)))))","v":66.400000000000006},null,{"$f":"IF(C349=\"\",\"\",IF(E349<>\"Retorno\",(I349+K349+M349),IF($G$20=Parâmetros!$D$2,SUM(G349,I349,K349,M349,O349),PMT($O$25,SUM($G$17),($O$10)*-1)+O349+M349+K349)))","v":11082.470388266192},null,660702.15094144095,null,""]
["2052-09-02","",317,"1900-11-12","Retorno",null,{"$f":"IFERROR(IF(C350=\"\",\"\",IF(E350<>\"Retorno\",0,IF($G$20=Parâmetros!$D$2,Simulador!$O$10/$G$17,IF($G$20=Parâmetros!$D$3,Simulador!Q350-Simulador!O350-Simulador!M350-Simulador!K350-Simulador!I350,\"\")))),\"\")","v":3703.584757590239},null,6417.9609885163372,null,0,null,{"$f":"IFERROR(IF(C350=\"\",\"\",IF($C$10=Parâmetros!$C$3,0,VLOOKUP(A350,'Base de Dados'!$E$3:$G$422,3,FALSE)*S350)),0)","v":1146.5938977040562},null,{"$f":"IF(C350=\"\",\"\",IF(C351=\"\",0,IF(E350=\"Construção\",0,IF(E350=\"Seguro\",$C$17*'Base de Dados'!$C$2,IF($C$14=Parâmetros!$B$4,0,Simulador!$C$17*'Base de Dados'!$C$2)))))","v":66.400000000000006},null,{"$f":"IF(C350=\"\",\"\",IF(E350<>\"Retorno\",(I350+K350+M350),IF($G$20=Parâmetros!$D$2,SUM(G350,I350,K350,M350,O350),PMT($O$25,SUM($G$17),($O$10)*-1)+O350+M350+K350)))","v":11334.539643810633},null,656998.56618385075,null,""]
["2052-10-02","",318,"1900-11-13","Retorno",null,{"$f":"IFERROR(IF(C351=\"\",\"\",IF(E351<>\"Retorno\",0,IF($G$20=Parâmetros!$D$2,Simulador!$O$10/$G$17,IF($G$20=Parâmetros!$D$3,Simulador!Q351-Simulador!O351-Simulador!M351-Simulador!K351-Simulador!I351,\"\")))),\"\")","v":3739.5608210221781},null,6381.9849250843981,null,0,null,{"$f":"IFERROR(IF(C351=\"\",\"\",IF($C$10=Parâmetros!$C$3,0,VLOOKUP(A351,'Base de Dados'!$E$3:$G$422,3,FALSE)*S351)),0)","v":1140.0676161592085},null,{"$f":"IF(C351=\"\",\"\",IF(C352=\"\",0,IF(E351=\"Construção\",0,IF(E351=\"Seguro\",$C$17*'Base de Dados'!$C$2,IF($C$14=Parâmetros!$B$4,0,Simulador!$C$17*'Base de Dados'!$C$2)))))","v":66.400000000000006},null,{"$f":"IF(C351=\"\",\"\",IF(E351<>\"Retorno\",(I351+K351+M351),IF($G$20=Parâmetros!$D$2,SUM(G351,I351,K351,M351,O351),PMT($O$25,SUM($G$17),($O$10)*-1)+O351+M351+K351)))","v":11328.013362265785},null,653259.00536282861,null,""]
["2052-11-02","",319,"1900-11-14","Retorno",null,{"$f":"IFERROR(IF(C352=\"\",\"\",IF(E352<>\"Retorno\",0,IF($G$20=Parâmetros!$D$2,Simulador!$O$10/$G$17,IF($G$20=Parâmetros!$D$3,Simulador!Q352-Simulador!O352-Simulador!M352-Simulador!K352-Simulador!I352,\"\")))),\"\")","v":3775.8863505050922},null,6345.659395601484,null,0,null,{"$f":"IFERROR(IF(C352=\"\",\"\",IF($C$10=Parâmetros!$C$3,0,VLOOKUP(A352,'Base de Dados'!$E$3:$G$422,3,FALSE)*S352)),0)","v":1133.4779393003071},null,{"$f":"IF(C352=\"\",\"\",IF(C353=\"\",0,IF(E352=\"Construção\",0,IF(E352=\"Seguro\",$C$17*'Base de Dados'!$C$2,IF($C$14=Parâmetros!$B$4,0,Simulador!$C$17*'Base de Dados'!$C$2)))))","v":66.400000000000006},null,{"$f":"IF(C352=\"\",\"\",IF(E352<>\"Retorno\",(I352+K352+M352),IF($G$20=Parâmetros!$D$2,SUM(G352,I352,K352,M352,O352),PMT($O$25,SUM($G$17),($O$10)*-1)+O352+M352+K352)))","v":11321.423685406882},null,649483.11901232356,null,""]
["2052-12-02","",320,"1900-11-15","Retorno",null,{"$f":"IFERROR(IF(C353=\"\",\"\",IF(E353<>\"Retorno\",0,IF($G$20=Parâmetros!$D$2,Simulador!$O$10/$G$17,IF($G$20=Parâmetros!$D$3,Simulador!Q353-Simulador!O353-Simulador!M353-Simulador!K353-Simulador!I353,\"\")))),\"\")","v":3812.5647406996377},null,6308.9810054069385,null,0,null,{"$f":"IFERROR(IF(C353=\"\",\"\",IF($C$10=Parâmetros!$C$3,0,VLOOKUP(A353,'Base de Dados'!$E$3:$G$422,3,FALSE)*S353)),0)","v":1126.8242513148382},null,{"$f":"IF(C353=\"\",\"\",IF(C354=\"\",0,IF(E353=\"Construção\",0,IF(E353=\"Seguro\",$C$17*'Base de Dados'!$C$2,IF($C$14=Parâmetros!$B$4,0,Simulador!$C$17*'Base de Dados'!$C$2)))))","v":66.400000000000006},null,{"$f":"IF(C353=\"\",\"\",IF(E353<>\"Retorno\",(I353+K353+M353),IF($G$20=Parâmetros!$D$2,SUM(G353,I353,K353,M353,O353),PMT($O$25,SUM($G$17),($O$10)*-1)+O353+M353+K353)))","v":11314.769997421414},null,645670.55427162396,null,""]
["2053-01-02","",321,"1900-11-16","Retorno",null,{"$f":"IFERROR(IF(C354=\"\",\"\",IF(E354<>\"Retorno\",0,IF($G$20=Parâmetros!$D$2,Simulador!$O$10/$G$17,IF($G$20=Parâmetros!$D$3,Simulador!Q354-Simulador!O354-Simulador!M354-Simulador!K354-Simulador!I354,\"\")))),\"\")","v":3849.5994192414601},null,{"$f":"IFERROR(IF(C354=\"\",\"\",FV($O$25,1,,-S353,0)-S353),\"\")","v":6271.9463268651161},null,0,null,{"$f":"IFERROR(IF(C354=\"\",\"\",IF($C$10=Parâmetros!$C$3,0,VLOOKUP(A354,'Base de Dados'!$E$3:$G$422,3,FALSE)*S354)),0)","v":1120.1059304083778},null,{"$f":"IF(C354=\"\",\"\",IF(C355=\"\",0,IF(E354=\"Construção\",0,IF(E354=\"Seguro\",$C$17*'Base de Dados'!$C$2,IF($C$14=Parâmetros!$B$4,0,Simulador!$C$17*'Base de Dados'!$C$2)))))","v":66.400000000000006},null,{"$f":"IF(C354=\"\",\"\",IF(E354<>\"Retorno\",(I354+K354+M354),IF($G$20=Parâmetros!$D$2,SUM(G354,I354,K354,M354,O354),PMT($O$25,SUM($G$17),($O$10)*-1)+O354+M354+K354)))","v":11308.051676514953},null,641820.95485238254,null,""]
[{"$f":"IF(C355=\"\",\"\",IF(C354>$G$17,0,EDATE(A354,1)))","v":"2053-02-02"},{"$f":"IF(AND(E355=\"Retorno\",E354<>\"Retorno\"),\"Primeira\",IF(AND(E355=\"Retorno\",E354=\"\"),\"Primeira\",\"\"))","v":""},{"$f":"IF(OR(C354>=$K$19,C354=\"\"),\"\",C354+1)","v":322},{"$f":"C355","v":"1900-11-17"},{"$f":"IF(C355=\"\",\"\",\"Retorno\")","v":"Retorno"},null,{"$f":"IFERROR(IF(C355=\"\",\"\",IF(E355<>\"Retorno\",0,IF($G$20=Parâmetros!$D$2,Simulador!$O$10/$G$17,IF($G$20=Parâmetros!$D$3,Simulador!Q355-Simulador!O355-Simulador!M355-Simulador!K355-Simulador!I355,\"\")))),\"\")","v":3886.9938470618017},null,6234.5518990447745,null,{"$f":"IF(C355=\"\",\"\",IF(AND($O$23<12.01%,$C$17<2250000.01),25,0))","v":0},null,{"$f":"IFERROR(IF(C355=\"\",\"\",IF($C$10=Parâmetros!$C$3,0,VLOOKUP(A355,'Base de Dados'!$E$3:$G$422,3,FALSE)*S355)),0)","v":1113.3223487464857},null,{"$f":"IF(C355=\"\",\"\",IF(C356=\"\",0,IF(E355=\"Construção\",0,IF(E355=\"Seguro\",$C$17*'Base de Dados'!$C$2,IF($C$14=Parâmetros!$B$4,0,Simulador!$C$17*'Base de Dados'!$C$2)))))","v":66.400000000000006},null,{"$f":"IF(C355=\"\",\"\",IF(E355<>\"Retorno\",(I355+K355+M355),IF($G$20=Parâmetros!$D$2,SUM(G355,I355,K355,M355,O355),PMT($O$25,SUM($G$17),($O$10)*-1)+O355+M355+K355)))","v":11301.268094853061},null,{"$f":"IF(E355=\"Construção\",S354+(U355*-1),IF(E355=\"Carência\",S354,IF(E355=\"Retorno\",S354-G355,\"\")))","v":637933.96100532077},null,{"$f":"IF(E355=\"Construção\",(($O$10+$U$33)/$K$10)*-1,\"\")","v":""}]
["2053-03-02","",323,"1900-11-18","Retorno",null,{"$f":"IFERROR(IF(C356=\"\",\"\",IF(E356<>\"Retorno\",0,IF($G$20=Parâmetros!$D$2,Simulador!$O$10/$G$17,IF($G$20=Parâmetros!$D$3,Simulador!Q356-Simulador!O356-Simulador!M356-Simulador!K356-Simulador!I356,\"\")))),\"\")","v":3924.7515187107874},null,6196.7942273957888,null,0,null,{"$f":"IFERROR(IF(C356=\"\",\"\",IF($C$10=Parâmetros!$C$3,0,VLOOKUP(A356,'Base de Dados'!$E$3:$G$422,3,FALSE)*S356)),0)","v":1106.4728723960318},null,{"$f":"IF(C356=\"\",\"\",IF(C357=\"\",0,IF(E356=\"Construção\",0,IF(E356=\"Seguro\",$C$17*'Base de Dados'!$C$2,IF($C$14=Parâmetros!$B$4,0,Simulador!$C$17*'Base de Dados'!$C$2)))))","v":66.400000000000006},null,{"$f":"IF(C356=\"\",\"\",IF(E356<>\"Retorno\",(I356+K356+M356),IF($G$20=Parâmetros!$D$2,SUM(G356,I356,K356,M356,O356),PMT($O$25,SUM($G$17),($O$10)*-1)+O356+M356+K356)))","v":11294.418618502608},null,634009.20948661002,null,""]
["2053-04-02","",324,"1900-11-19","Retorno",null,{"$f":"IFERROR(IF(C357=\"\",\"\",IF(E357<>\"Retorno\",0,IF($G$20=Parâmetros!$D$2,Simulador!$O$10/$G$17,IF($G$20=Parâmetros!$D$3,Simulador!Q357-Simulador!O357-Simulador!M357-Simulador!K357-Simulador!I357,\"\")))),\"\")","v":3962.8759626843184},null,6158.6697834222578,null,0,null,{"$f":"IFERROR(IF(C357=\"\",\"\",IF($C$10=Parâmetros!$C$3,0,VLOOKUP(A357,'Base de Dados'!$E$3:$G$422,3,FALSE)*S357)),0)","v":1099.5568612659551},null,{"$f":"IF(C357=\"\",\"\",IF(C358=\"\",0,IF(E357=\"Construção\",0,IF(E357=\"Seguro\",$C$17*'Base de Dados'!$C$2,IF($C$14=Parâmetros!$B$4,0,Simulador!$C$17*'Base de Dados'!$C$2)))))","v":66.400000000000006},null,{"$f":"IF(C357=\"\",\"\",IF(E357<>\"Retorno\",(I357+K357+M357),IF($G$20=Parâmetros!$D$2,SUM(G357,I357,K357,M357,O357),PMT($O$25,SUM($G$17),($O$10)*-1)+O357+M357+K357)))","v":11287.502607372531},null,630046.33352392574,null,""]
["2053-05-02","",325,"1900-11-20","Retorno",null,{"$f":"IFERROR(IF(C358=\"\",\"\",IF(E358<>\"Retorno\",0,IF($G$20=Parâmetros!$D$2,Simulador!$O$10/$G$17,IF($G$20=Parâmetros!$D$3,Simulador!Q358-Simulador!O358-Simulador!M358-Simulador!K358-Simulador!I358,\"\")))),\"\")","v":4001.3707417531787},null,6120.1750043533975,null,0,null,{"$f":"IFERROR(IF(C358=\"\",\"\",IF($C$10=Parâmetros!$C$3,0,VLOOKUP(A358,'Base de Dados'!$E$3:$G$422,3,FALSE)*S358)),0)","v":1092.5736690474475},null,{"$f":"IF(C358=\"\",\"\",IF(C359=\"\",0,IF(E358=\"Construção\",0,IF(E358=\"Seguro\",$C$17*'Base de Dados'!$C$2,IF($C$14=Parâmetros!$B$4,0,Simulador!$C$17*'Base de Dados'!$C$2)))))","v":66.400000000000006},null,{"$f":"IF(C358=\"\",\"\",IF(E358<>\"Retorno\",(I358+K358+M358),IF($G$20=Parâmetros!$D$2,SUM(G358,I358,K358,M358,O358),PMT($O$25,SUM($G$17),($O$10)*-1)+O358+M358+K358)))","v":11280.519415154024},null,626044.9627821726,null,""]
["2053-06-02","",326,"1900-11-21","Retorno",null,{"$f":"IFERROR(IF(C359=\"\",\"\",IF(E359<>\"Retorno\",0,IF($G$20=Parâmetros!$D$2,Simulador!$O$10/$G$17,IF($G$20=Parâmetros!$D$3,Simulador!Q359-Simulador!O359-Simulador!M359-Simulador!K359-Simulador!I359,\"\")))),\"\")","v":4040.2394532967974},null,6081.3062928097788,null,0,null,{"$f":"IFERROR(IF(C359=\"\",\"\",IF($C$10=Parâmetros!$C$3,0,VLOOKUP(A359,'Base de Dados'!$E$3:$G$422,3,FALSE)*S359)),0)","v":1085.5226431535541},null,{"$f":"IF(C359=\"\",\"\",IF(C360=\"\",0,IF(E359=\"Construção\",0,IF(E359=\"Seguro\",$C$17*'Base de Dados'!$C$2,IF($C$14=Parâmetros!$B$4,0,Simulador!$C$17*'Base de Dados'!$C$2)))))","v":66.400000000000006},null,{"$f":"IF(C359=\"\",\"\",IF(E359<>\"Retorno\",(I359+K359+M359),IF($G$20=Parâmetros!$D$2,SUM(G359,I359,K359,M359,O359),PMT($O$25,SUM($G$17),($O$10)*-1)+O359+M359+K359)))","v":11273.46838926013},null,622004.72332887584,null,""]
["2053-07-02","",327,"1900-11-22","Retorno",null,{"$f":"IFERROR(IF(C360=\"\",\"\",IF(E360<>\"Retorno\",0,IF($G$20=Parâmetros!$D$2,Simulador!$O$10/$G$17,IF($G$20=Parâmetros!$D$3,Simulador!Q360-Simulador!O360-Simulador!M360-Simulador!K360-Simulador!I360,\"\")))),\"\")","v":4079.4857296386417},null,6042.0600164679345,null,0,null,{"$f":"IFERROR(IF(C360=\"\",\"\",IF($C$10=Parâmetros!$C$3,0,VLOOKUP(A360,'Base de Dados'!$E$3:$G$422,3,FALSE)*S360)),0)","v":1078.4031246581887},null,{"$f":"IF(C360=\"\",\"\",IF(C361=\"\",0,IF(E360=\"Construção\",0,IF(E360=\"Seguro\",$C$17*'Base de Dados'!$C$2,IF($C$14=Parâmetros!$B$4,0,Simulador!$C$17*'Base de Dados'!$C$2)))))","v":66.400000000000006},null,{"$f":"IF(C360=\"\",\"\",IF(E360<>\"Retorno\",(I360+K360+M360),IF($G$20=Parâmetros!$D$2,SUM(G360,I360,K360,M360,O360),PMT($O$25,SUM($G$17),($O$10)*-1)+O360+M360+K360)))","v":11266.348870764765},null,617925.23759923724,null,""]
["2053-08-02","",328,"1900-11-23","Retorno",null,{"$f":"IFERROR(IF(C361=\"\",\"\",IF(E361<>\"Retorno\",0,IF($G$20=Parâmetros!$D$2,Simulador!$O$10/$G$17,IF($G$20=Parâmetros!$D$3,Simulador!Q361-Simulador!O361-Simulador!M361-Simulador!K361-Simulador!I361,\"\")))),\"\")","v":4119.1132383862659},null,6002.4325077203102,null,0,null,{"$f":"IFERROR(IF(C361=\"\",\"\",IF($C$10=Parâmetros!$C$3,0,VLOOKUP(A361,'Base de Dados'!$E$3:$G$422,3,FALSE)*S361)),0)","v":1071.214448234557},null,{"$f":"IF(C361=\"\",\"\",IF(C362=\"\",0,IF(E361=\"Construção\",0,IF(E361=\"Seguro\",$C$17*'Base de Dados'!$C$2,IF($C$14=Parâmetros!$B$4,0,Simulador!$C$17*'Base de Dados'!$C$2)))))","v":66.400000000000006},null,{"$f":"IF(C361=\"\",\"\",IF(E361<>\"Retorno\",(I361+K361+M361),IF($G$20=Parâmetros!$D$2,SUM(G361,I361,K361,M361,O361),PMT($O$25,SUM($G$17),($O$10)*-1)+O361+M361+K361)))","v":11259.160194341133},null,613806.12436085101,null,""]
["2053-09-02","",329,"1900-11-24","Retorno",null,{"$f":"IFERROR(IF(C362=\"\",\"\",IF(E362<>\"Retorno\",0,IF($G$20=Parâmetros!$D$2,Simulador!$O$10/$G$17,IF($G$20=Parâmetros!$D$3,Simulador!Q362-Simulador!O362-Simulador!M362-Simulador!K362-Simulador!I362,\"\")))),\"\")","v":4159.1256827738052},null,5962.420063332771,null,0,null,{"$f":"IFERROR(IF(C362=\"\",\"\",IF($C$10=Parâmetros!$C$3,0,VLOOKUP(A362,'Base de Dados'!$E$3:$G$422,3,FALSE)*S362)),0)","v":1063.9559420929804},null,{"$f":"IF(C362=\"\",\"\",IF(C363=\"\",0,IF(E362=\"Construção\",0,IF(E362=\"Seguro\",$C$17*'Base de Dados'!$C$2,IF($C$14=Parâmetros!$B$4,0,Simulador!$C$17*'Base de Dados'!$C$2)))))","v":66.400000000000006},null,{"$f":"IF(C362=\"\",\"\",IF(E362<>\"Retorno\",(I362+K362+M362),IF($G$20=Parâmetros!$D$2,SUM(G362,I362,K362,M362,O362),PMT($O$25,SUM($G$17),($O$10)*-1)+O362+M362+K362)))","v":11251.901688199556},null,609646.99867807725,null,""]
["2053-10-02","",330,"1900-11-25","Retorno",null,{"$f":"IFERROR(IF(C363=\"\",\"\",IF(E363<>\"Retorno\",0,IF($G$20=Parâmetros!$D$2,Simulador!$O$10/$G$17,IF($G$20=Parâmetros!$D$3,Simulador!Q363-Simulador!O363-Simulador!M363-Simulador!K363-Simulador!I363,\"\")))),\"\")","v":4199.5268020078456},null,5922.0189440987306,null,0,null,{"$f":"IFERROR(IF(C363=\"\",\"\",IF($C$10=Parâmetros!$C$3,0,VLOOKUP(A363,'Base de Dados'!$E$3:$G$422,3,FALSE)*S363)),0)","v":1056.6269279181163},null,{"$f":"IF(C363=\"\",\"\",IF(C364=\"\",0,IF(E363=\"Construção\",0,IF(E363=\"Seguro\",$C$17*'Base de Dados'!$C$2,IF($C$14=Parâmetros!$B$4,0,Simulador!$C$17*'Base de Dados'!$C$2)))))","v":66.400000000000006},null,{"$f":"IF(C363=\"\",\"\",IF(E363<>\"Retorno\",(I363+K363+M363),IF($G$20=Parâmetros!$D$2,SUM(G363,I363,K363,M363,O363),PMT($O$25,SUM($G$17),($O$10)*-1)+O363+M363+K363)))","v":11244.572674024692},null,605447.47187606944,null,""]
["2053-11-02","",331,"1900-11-26","Retorno",null,{"$f":"IFERROR(IF(C364=\"\",\"\",IF(E364<>\"Retorno\",0,IF($G$20=Parâmetros!$D$2,Simulador!$O$10/$G$17,IF($G$20=Parâmetros!$D$3,Simulador!Q364-Simulador!O364-Simulador!M364-Simulador!K364-Simulador!I364,\"\")))),\"\")","v":4240.3203716172538},null,5881.2253744893242,null,0,null,{"$f":"IFERROR(IF(C364=\"\",\"\",IF($C$10=Parâmetros!$C$3,0,VLOOKUP(A364,'Base de Dados'!$E$3:$G$422,3,FALSE)*S364)),0)","v":1049.22672080557},null,{"$f":"IF(C364=\"\",\"\",IF(C365=\"\",0,IF(E364=\"Construção\",0,IF(E364=\"Seguro\",$C$17*'Base de Dados'!$C$2,IF($C$14=Parâmetros!$B$4,0,Simulador!$C$17*'Base de Dados'!$C$2)))))","v":66.400000000000006},null,{"$f":"IF(C364=\"\",\"\",IF(E364<>\"Retorno\",(I364+K364+M364),IF($G$20=Parâmetros!$D$2,SUM(G364,I364,K364,M364,O364),PMT($O$25,SUM($G$17),($O$10)*-1)+O364+M364+K364)))","v":11237.172466912147},null,601207.15150445222,null,""]
["2053-12-02","",332,"1900-11-27","Retorno",null,{"$f":"IFERROR(IF(C365=\"\",\"\",IF(E365<>\"Retorno\",0,IF($G$20=Parâmetros!$D$2,Simulador!$O$10/$G$17,IF($G$20=Parâmetros!$D$3,Simulador!Q365-Simulador!O365-Simulador!M365-Simulador!K365-Simulador!I365,\"\")))),\"\")","v":4281.5102038057903},null,5840.0355423007859,null,0,null,{"$f":"IFERROR(IF(C365=\"\",\"\",IF($C$10=Parâmetros!$C$3,0,VLOOKUP(A365,'Base de Dados'!$E$3:$G$422,3,FALSE)*S365)),0)","v":1041.7546291978881},null,{"$f":"IF(C365=\"\",\"\",IF(C366=\"\",0,IF(E365=\"Construção\",0,IF(E365=\"Seguro\",$C$17*'Base de Dados'!$C$2,IF($C$14=Parâmetros!$B$4,0,Simulador!$C$17*'Base de Dados'!$C$2)))))","v":66.400000000000006},null,{"$f":"IF(C365=\"\",\"\",IF(E365<>\"Retorno\",(I365+K365+M365),IF($G$20=Parâmetros!$D$2,SUM(G365,I365,K365,M365,O365),PMT($O$25,SUM($G$17),($O$10)*-1)+O365+M365+K365)))","v":11229.700375304465},null,596925.64130064647,null,""]
["2054-01-02","",333,"1900-11-28","Retorno",null,{"$f":"IFERROR(IF(C366=\"\",\"\",IF(E366<>\"Retorno\",0,IF($G$20=Parâmetros!$D$2,Simulador!$O$10/$G$17,IF($G$20=Parâmetros!$D$3,Simulador!Q366-Simulador!O366-Simulador!M366-Simulador!K366-Simulador!I366,\"\")))),\"\")","v":4323.1001478082417},null,5798.4455982983345,null,0,null,{"$f":"IFERROR(IF(C366=\"\",\"\",IF($C$10=Parâmetros!$C$3,0,VLOOKUP(A366,'Base de Dados'!$E$3:$G$422,3,FALSE)*S366)),0)","v":1034.2099548199333},null,{"$f":"IF(C366=\"\",\"\",IF(C367=\"\",0,IF(E366=\"Construção\",0,IF(E366=\"Seguro\",$C$17*'Base de Dados'!$C$2,IF($C$14=Parâmetros!$B$4,0,Simulador!$C$17*'Base de Dados'!$C$2)))))","v":66.400000000000006},null,{"$f":"IF(C366=\"\",\"\",IF(E366<>\"Retorno\",(I366+K366+M366),IF($G$20=Parâmetros!$D$2,SUM(G366,I366,K366,M366,O366),PMT($O$25,SUM($G$17),($O$10)*-1)+O366+M366+K366)))","v":11222.155700926509},null,592602.54115283827,null,""]
["2054-02-02","",334,"1900-11-29","Retorno",null,{"$f":"IFERROR(IF(C367=\"\",\"\",IF(E367<>\"Retorno\",0,IF($G$20=Parâmetros!$D$2,Simulador!$O$10/$G$17,IF($G$20=Parâmetros!$D$3,Simulador!Q367-Simulador!O367-Simulador!M367-Simulador!K367-Simulador!I367,\"\")))),\"\")","v":4365.0940902504753},null,5756.4516558561008,null,0,null,{"$f":"IFERROR(IF(C367=\"\",\"\",IF($C$10=Parâmetros!$C$3,0,VLOOKUP(A367,'Base de Dados'!$E$3:$G$422,3,FALSE)*S367)),0)","v":1026.5919926136282},null,{"$f":"IF(C367=\"\",\"\",IF(C368=\"\",0,IF(E367=\"Construção\",0,IF(E367=\"Seguro\",$C$17*'Base de Dados'!$C$2,IF($C$14=Parâmetros!$B$4,0,Simulador!$C$17*'Base de Dados'!$C$2)))))","v":66.400000000000006},null,{"$f":"IF(C367=\"\",\"\",IF(E367<>\"Retorno\",(I367+K367+M367),IF($G$20=Parâmetros!$D$2,SUM(G367,I367,K367,M367,O367),PMT($O$25,SUM($G$17),($O$10)*-1)+O367+M367+K367)))","v":11214.537738720204},null,588237.44706258783,null,""]
["2054-03-02","",335,"1900-11-30","Retorno",null,{"$f":"IFERROR(IF(C368=\"\",\"\",IF(E368<>\"Retorno\",0,IF($G$20=Parâmetros!$D$2,Simulador!$O$10/$G$17,IF($G$20=Parâmetros!$D$3,Simulador!Q368-Simulador!O368-Simulador!M368-Simulador!K368-Simulador!I368,\"\")))),\"\")","v":4407.495955512315},null,5714.0497905942611,null,0,null,{"$f":"IFERROR(IF(C368=\"\",\"\",IF($C$10=Parâmetros!$C$3,0,VLOOKUP(A368,'Base de Dados'!$E$3:$G$422,3,FALSE)*S368)),0)","v":1018.9000306720682},null,{"$f":"IF(C368=\"\",\"\",IF(C369=\"\",0,IF(E368=\"Construção\",0,IF(E368=\"Seguro\",$C$17*'Base de Dados'!$C$2,IF($C$14=Parâmetros!$B$4,0,Simulador!$C$17*'Base de Dados'!$C$2)))))","v":66.400000000000006},null,{"$f":"IF(C368=\"\",\"\",IF(E368<>\"Retorno\",(I368+K368+M368),IF($G$20=Parâmetros!$D$2,SUM(G368,I368,K368,M368,O368),PMT($O$25,SUM($G$17),($O$10)*-1)+O368+M368+K368)))","v":11206.845776778644},null,583829.95110707555,null,""]
["2054-04-02","",336,"1900-12-01","Retorno",null,{"$f":"IFERROR(IF(C369=\"\",\"\",IF(E369<>\"Retorno\",0,IF($G$20=Parâmetros!$D$2,Simulador!$O$10/$G$17,IF($G$20=Parâmetros!$D$3,Simulador!Q369-Simulador!O369-Simulador!M369-Simulador!K369-Simulador!I369,\"\")))),\"\")","v":4450.3097060944801},null,5671.2360400120961,null,0,null,{"$f":"IFERROR(IF(C369=\"\",\"\",IF($C$10=Parâmetros!$C$3,0,VLOOKUP(A369,'Base de Dados'!$E$3:$G$422,3,FALSE)*S369)),0)","v":1011.1333501729922},null,{"$f":"IF(C369=\"\",\"\",IF(C370=\"\",0,IF(E369=\"Construção\",0,IF(E369=\"Seguro\",$C$17*'Base de Dados'!$C$2,IF($C$14=Parâmetros!$B$4,0,Simulador!$C$17*'Base de Dados'!$C$2)))))","v":66.400000000000006},null,{"$f":"IF(C369=\"\",\"\",IF(E369<>\"Retorno\",(I369+K369+M369),IF($G$20=Parâmetros!$D$2,SUM(G369,I369,K369,M369,O369),PMT($O$25,SUM($G$17),($O$10)*-1)+O369+M369+K369)))","v":11199.079096279567},null,579379.64140098111,null,""]
["2054-05-02","",337,"1900-12-02","Retorno",null,{"$f":"IFERROR(IF(C370=\"\",\"\",IF(E370<>\"Retorno\",0,IF($G$20=Parâmetros!$D$2,Simulador!$O$10/$G$17,IF($G$20=Parâmetros!$D$3,Simulador!Q370-Simulador!O370-Simulador!M370-Simulador!K370-Simulador!I370,\"\")))),\"\")","v":4493.5393429887863},null,5628.0064031177899,null,0,null,{"$f":"IFERROR(IF(C370=\"\",\"\",IF($C$10=Parâmetros!$C$3,0,VLOOKUP(A370,'Base de Dados'!$E$3:$G$422,3,FALSE)*S370)),0)","v":1003.2912253116082},null,{"$f":"IF(C370=\"\",\"\",IF(C371=\"\",0,IF(E370=\"Construção\",0,IF(E370=\"Seguro\",$C$17*'Base de Dados'!$C$2,IF($C$14=Parâmetros!$B$4,0,Simulador!$C$17*'Base de Dados'!$C$2)))))","v":66.400000000000006},null,{"$f":"IF(C370=\"\",\"\",IF(E370<>\"Retorno\",(I370+K370+M370),IF($G$20=Parâmetros!$D$2,SUM(G370,I370,K370,M370,O370),PMT($O$25,SUM($G$17),($O$10)*-1)+O370+M370+K370)))","v":11191.236971418184},null,574886.10205799236,null,""]
["2054-06-02","",338,"1900-12-03","Retorno",null,{"$f":"IFERROR(IF(C371=\"\",\"\",IF(E371<>\"Retorno\",0,IF($G$20=Parâmetros!$D$2,Simulador!$O$10/$G$17,IF($G$20=Parâmetros!$D$3,Simulador!Q371-Simulador!O371-Simulador!M371-Simulador!K371-Simulador!I371,\"\")))),\"\")","v":4537.1889060523044},null,5584.3568400542717,null,0,null,{"$f":"IFERROR(IF(C371=\"\",\"\",IF($C$10=Parâmetros!$C$3,0,VLOOKUP(A371,'Base de Dados'!$E$3:$G$422,3,FALSE)*S371)),0)","v":995.37292323276586},null,{"$f":"IF(C371=\"\",\"\",IF(C372=\"\",0,IF(E371=\"Construção\",0,IF(E371=\"Seguro\",$C$17*'Base de Dados'!$C$2,IF($C$14=Parâmetros!$B$4,0,Simulador!$C$17*'Base de Dados'!$C$2)))))","v":66.400000000000006},null,{"$f":"IF(C371=\"\",\"\",IF(E371<>\"Retorno\",(I371+K371+M371),IF($G$20=Parâmetros!$D$2,SUM(G371,I371,K371,M371,O371),PMT($O$25,SUM($G$17),($O$10)*-1)+O371+M371+K371)))","v":11183.318669339342},null,570348.9131519401,null,""]
["2054-07-02","",339,"1900-12-04","Retorno",null,{"$f":"IFERROR(IF(C372=\"\",\"\",IF(E372<>\"Retorno\",0,IF($G$20=Parâmetros!$D$2,Simulador!$O$10/$G$17,IF($G$20=Parâmetros!$D$3,Simulador!Q372-Simulador!O372-Simulador!M372-Simulador!K372-Simulador!I372,\"\")))),\"\")","v":4581.262474384197},null,5540.2832717223791,null,0,null,{"$f":"IFERROR(IF(C372=\"\",\"\",IF($C$10=Parâmetros!$C$3,0,VLOOKUP(A372,'Base de Dados'!$E$3:$G$422,3,FALSE)*S372)),0)","v":987.3777039624706},null,{"$f":"IF(C372=\"\",\"\",IF(C373=\"\",0,IF(E372=\"Construção\",0,IF(E372=\"Seguro\",$C$17*'Base de Dados'!$C$2,IF($C$14=Parâmetros!$B$4,0,Simulador!$C$17*'Base de Dados'!$C$2)))))","v":66.400000000000006},null,{"$f":"IF(C372=\"\",\"\",IF(E372<>\"Retorno\",(I372+K372+M372),IF($G$20=Parâmetros!$D$2,SUM(G372,I372,K372,M372,O372),PMT($O$25,SUM($G$17),($O$10)*-1)+O372+M372+K372)))","v":11175.323450069047},null,565767.65067755594,null,""]
["2054-08-02","",340,"1900-12-05","Retorno",null,{"$f":"IFERROR(IF(C373=\"\",\"\",IF(E373<>\"Retorno\",0,IF($G$20=Parâmetros!$D$2,Simulador!$O$10/$G$17,IF($G$20=Parâmetros!$D$3,Simulador!Q373-Simulador!O373-Simulador!M373-Simulador!K373-Simulador!I373,\"\")))),\"\")","v":4625.7641667077933},null,5495.7815793987829,null,0,null,{"$f":"IFERROR(IF(C373=\"\",\"\",IF($C$10=Parâmetros!$C$3,0,VLOOKUP(A373,'Base de Dados'!$E$3:$G$422,3,FALSE)*S373)),0)","v":979.30482033873216},null,{"$f":"IF(C373=\"\",\"\",IF(C374=\"\",0,IF(E373=\"Construção\",0,IF(E373=\"Seguro\",$C$17*'Base de Dados'!$C$2,IF($C$14=Parâmetros!$B$4,0,Simulador!$C$17*'Base de Dados'!$C$2)))))","v":66.400000000000006},null,{"$f":"IF(C373=\"\",\"\",IF(E373<>\"Retorno\",(I373+K373+M373),IF($G$20=Parâmetros!$D$2,SUM(G373,I373,K373,M373,O373),PMT($O$25,SUM($G$17),($O$10)*-1)+O373+M373+K373)))","v":11167.250566445307},null,561141.88651084818,null,""]
["2054-09-02","",341,"1900-12-06","Retorno",null,{"$f":"IFERROR(IF(C374=\"\",\"\",IF(E374<>\"Retorno\",0,IF($G$20=Parâmetros!$D$2,Simulador!$O$10/$G$17,IF($G$20=Parâmetros!$D$3,Simulador!Q374-Simulador!O374-Simulador!M374-Simulador!K374-Simulador!I374,\"\")))),\"\")","v":4670.6981417549905},null,5450.8476043515839,null,0,null,{"$f":"IFERROR(IF(C374=\"\",\"\",IF($C$10=Parâmetros!$C$3,0,VLOOKUP(A374,'Base de Dados'!$E$3:$G$422,3,FALSE)*S374)),0)","v":971.15351794174148},null,{"$f":"IF(C374=\"\",\"\",IF(C375=\"\",0,IF(E374=\"Construção\",0,IF(E374=\"Seguro\",$C$17*'Base de Dados'!$C$2,IF($C$14=Parâmetros!$B$4,0,Simulador!$C$17*'Base de Dados'!$C$2)))))","v":66.400000000000006},null,{"$f":"IF(C374=\"\",\"\",IF(E374<>\"Retorno\",(I374+K374+M374),IF($G$20=Parâmetros!$D$2,SUM(G374,I374,K374,M374,O374),PMT($O$25,SUM($G$17),($O$10)*-1)+O374+M374+K374)))","v":11159.099264048316},null,556471.18836909323,null,""]
["2054-10-02","",342,"1900-12-07","Retorno",null,{"$f":"IFERROR(IF(C375=\"\",\"\",IF(E375<>\"Retorno\",0,IF($G$20=Parâmetros!$D$2,Simulador!$O$10/$G$17,IF($G$20=Parâmetros!$D$3,Simulador!Q375-Simulador!O375-Simulador!M375-Simulador!K375-Simulador!I375,\"\")))),\"\")","v":4716.0685986548579},null,5405.4771474517183,null,0,null,{"$f":"IFERROR(IF(C375=\"\",\"\",IF($C$10=Parâmetros!$C$3,0,VLOOKUP(A375,'Base de Dados'!$E$3:$G$422,3,FALSE)*S375)),0)","v":962.92303502336904},null,{"$f":"IF(C375=\"\",\"\",IF(C376=\"\",0,IF(E375=\"Construção\",0,IF(E375=\"Seguro\",$C$17*'Base de Dados'!$C$2,IF($C$14=Parâmetros!$B$4,0,Simulador!$C$17*'Base de Dados'!$C$2)))))","v":66.400000000000006},null,{"$f":"IF(C375=\"\",\"\",IF(E375<>\"Retorno\",(I375+K375+M375),IF($G$20=Parâmetros!$D$2,SUM(G375,I375,K375,M375,O375),PMT($O$25,SUM($G$17),($O$10)*-1)+O375+M375+K375)))","v":11150.868781129944},null,551755.11977043841,null,""]
["2054-11-02","",343,"1900-12-08","Retorno",null,{"$f":"IFERROR(IF(C376=\"\",\"\",IF(E376<>\"Retorno\",0,IF($G$20=Parâmetros!$D$2,Simulador!$O$10/$G$17,IF($G$20=Parâmetros!$D$3,Simulador!Q376-Simulador!O376-Simulador!M376-Simulador!K376-Simulador!I376,\"\")))),\"\")","v":4761.8797773261704},null,5359.6659687804058,null,0,null,{"$f":"IFERROR(IF(C376=\"\",\"\",IF($C$10=Parâmetros!$C$3,0,VLOOKUP(A376,'Base de Dados'!$E$3:$G$422,3,FALSE)*S376)),0)","v":954.61260243597951},null,{"$f":"IF(C376=\"\",\"\",IF(C377=\"\",0,IF(E376=\"Construção\",0,IF(E376=\"Seguro\",$C$17*'Base de Dados'!$C$2,IF($C$14=Parâmetros!$B$4,0,Simulador!$C$17*'Base de Dados'!$C$2)))))","v":66.400000000000006},null,{"$f":"IF(C376=\"\",\"\",IF(E376<>\"Retorno\",(I376+K376+M376),IF($G$20=Parâmetros!$D$2,SUM(G376,I376,K376,M376,O376),PMT($O$25,SUM($G$17),($O$10)*-1)+O376+M376+K376)))","v":11142.558348542556},null,546993.23999311228,null,""]
["2054-12-02","",344,"1900-12-09","Retorno",null,{"$f":"IFERROR(IF(C377=\"\",\"\",IF(E377<>\"Retorno\",0,IF($G$20=Parâmetros!$D$2,Simulador!$O$10/$G$17,IF($G$20=Parâmetros!$D$3,Simulador!Q377-Simulador!O377-Simulador!M377-Simulador!K377-Simulador!I377,\"\")))),\"\")","v":4808.1359588738214},null,5313.4097872327548,null,0,null,{"$f":"IFERROR(IF(C377=\"\",\"\",IF($C$10=Parâmetros!$C$3,0,VLOOKUP(A377,'Base de Dados'!$E$3:$G$422,3,FALSE)*S377)),0)","v":946.22144356055298},null,{"$f":"IF(C377=\"\",\"\",IF(C378=\"\",0,IF(E377=\"Construção\",0,IF(E377=\"Seguro\",$C$17*'Base de Dados'!$C$2,IF($C$14=Parâmetros!$B$4,0,Simulador!$C$17*'Base de Dados'!$C$2)))))","v":66.400000000000006},null,{"$f":"IF(C377=\"\",\"\",IF(E377<>\"Retorno\",(I377+K377+M377),IF($G$20=Parâmetros!$D$2,SUM(G377,I377,K377,M377,O377),PMT($O$25,SUM($G$17),($O$10)*-1)+O377+M377+K377)))","v":11134.167189667129},null,542185.10403423849,null,""]
["2055-01-02","",345,"1900-12-10","Retorno",null,{"$f":"IFERROR(IF(C378=\"\",\"\",IF(E378<>\"Retorno\",0,IF($G$20=Parâmetros!$D$2,Simulador!$O$10/$G$17,IF($G$20=Parâmetros!$D$3,Simulador!Q378-Simulador!O378-Simulador!M378-Simulador!K378-Simulador!I378,\"\")))),\"\")","v":4854.8414659885839},null,5266.7042801179923,null,0,null,{"$f":"IFERROR(IF(C378=\"\",\"\",IF($C$10=Parâmetros!$C$3,0,VLOOKUP(A378,'Base de Dados'!$E$3:$G$422,3,FALSE)*S378)),0)","v":937.74877423410976},null,{"$f":"IF(C378=\"\",\"\",IF(C379=\"\",0,IF(E378=\"Construção\",0,IF(E378=\"Seguro\",$C$17*'Base de Dados'!$C$2,IF($C$14=Parâmetros!$B$4,0,Simulador!$C$17*'Base de Dados'!$C$2)))))","v":66.400000000000006},null,{"$f":"IF(C378=\"\",\"\",IF(E378<>\"Retorno\",(I378+K378+M378),IF($G$20=Parâmetros!$D$2,SUM(G378,I378,K378,M378,O378),PMT($O$25,SUM($G$17),($O$10)*-1)+O378+M378+K378)))","v":11125.694520340685},null,537330.26256824995,null,""]
["2055-02-02","",346,"1900-12-11","Retorno",null,{"$f":"IFERROR(IF(C379=\"\",\"\",IF(E379<>\"Retorno\",0,IF($G$20=Parâmetros!$D$2,Simulador!$O$10/$G$17,IF($G$20=Parâmetros!$D$3,Simulador!Q379-Simulador!O379-Simulador!M379-Simulador!K379-Simulador!I379,\"\")))),\"\")","v":4902.0006633511894},null,5219.5450827553868,null,0,null,{"$f":"IFERROR(IF(C379=\"\",\"\",IF($C$10=Parâmetros!$C$3,0,VLOOKUP(A379,'Base de Dados'!$E$3:$G$422,3,FALSE)*S379)),0)","v":929.1938026764293},null,{"$f":"IF(C379=\"\",\"\",IF(C380=\"\",0,IF(E379=\"Construção\",0,IF(E379=\"Seguro\",$C$17*'Base de Dados'!$C$2,IF($C$14=Parâmetros!$B$4,0,Simulador!$C$17*'Base de Dados'!$C$2)))))","v":66.400000000000006},null,{"$f":"IF(C379=\"\",\"\",IF(E379<>\"Retorno\",(I379+K379+M379),IF($G$20=Parâmetros!$D$2,SUM(G379,I379,K379,M379,O379),PMT($O$25,SUM($G$17),($O$10)*-1)+O379+M379+K379)))","v":11117.139548783005},null,532428.2619048988,null,""]
["2055-03-02","",347,"1900-12-12","Retorno",null,{"$f":"IFERROR(IF(C380=\"\",\"\",IF(E380<>\"Retorno\",0,IF($G$20=Parâmetros!$D$2,Simulador!$O$10/$G$17,IF($G$20=Parâmetros!$D$3,Simulador!Q380-Simulador!O380-Simulador!M380-Simulador!K380-Simulador!I380,\"\")))),\"\")","v":4949.6179580402477},null,5171.9277880663285,null,0,null,{"$f":"IFERROR(IF(C380=\"\",\"\",IF($C$10=Parâmetros!$C$3,0,VLOOKUP(A380,'Base de Dados'!$E$3:$G$422,3,FALSE)*S380)),0)","v":920.5557294160576},null,{"$f":"IF(C380=\"\",\"\",IF(C381=\"\",0,IF(E380=\"Construção\",0,IF(E380=\"Seguro\",$C$17*'Base de Dados'!$C$2,IF($C$14=Parâmetros!$B$4,0,Simulador!$C$17*'Base de Dados'!$C$2)))))","v":66.400000000000006},null,{"$f":"IF(C380=\"\",\"\",IF(E380<>\"Retorno\",(I380+K380+M380),IF($G$20=Parâmetros!$D$2,SUM(G380,I380,K380,M380,O380),PMT($O$25,SUM($G$17),($O$10)*-1)+O380+M380+K380)))","v":11108.501475522633},null,527478.64394685859,null,""]
["2055-04-02","",348,"1900-12-13","Retorno",null,{"$f":"IFERROR(IF(C381=\"\",\"\",IF(E381<>\"Retorno\",0,IF($G$20=Parâmetros!$D$2,Simulador!$O$10/$G$17,IF($G$20=Parâmetros!$D$3,Simulador!Q381-Simulador!O381-Simulador!M381-Simulador!K381-Simulador!I381,\"\")))),\"\")","v":4997.6977999440078},null,5123.8479461625684,null,0,null,{"$f":"IFERROR(IF(C381=\"\",\"\",IF($C$10=Parâmetros!$C$3,0,VLOOKUP(A381,'Base de Dados'!$E$3:$G$422,3,FALSE)*S381)),0)","v":911.83374721559528},null,{"$f":"IF(C381=\"\",\"\",IF(C382=\"\",0,IF(E381=\"Construção\",0,IF(E381=\"Seguro\",$C$17*'Base de Dados'!$C$2,IF($C$14=Parâmetros!$B$4,0,Simulador!$C$17*'Base de Dados'!$C$2)))))","v":66.400000000000006},null,{"$f":"IF(C381=\"\",\"\",IF(E381<>\"Retorno\",(I381+K381+M381),IF($G$20=Parâmetros!$D$2,SUM(G381,I381,K381,M381,O381),PMT($O$25,SUM($G$17),($O$10)*-1)+O381+M381+K381)))","v":11099.77949332217},null,522480.94614691456,null,""]
["2055-05-02","",349,"1900-12-14","Retorno",null,{"$f":"IFERROR(IF(C382=\"\",\"\",IF(E382<>\"Retorno\",0,IF($G$20=Parâmetros!$D$2,Simulador!$O$10/$G$17,IF($G$20=Parâmetros!$D$3,Simulador!Q382-Simulador!O382-Simulador!M382-Simulador!K382-Simulador!I382,\"\")))),\"\")","v":5046.2446821764843},null,5075.3010639300919,null,0,null,{"$f":"IFERROR(IF(C382=\"\",\"\",IF($C$10=Parâmetros!$C$3,0,VLOOKUP(A382,'Base de Dados'!$E$3:$G$422,3,FALSE)*S382)),0)","v":903.02704099626078},null,{"$f":"IF(C382=\"\",\"\",IF(C383=\"\",0,IF(E382=\"Construção\",0,IF(E382=\"Seguro\",$C$17*'Base de Dados'!$C$2,IF($C$14=Parâmetros!$B$4,0,Simulador!$C$17*'Base de Dados'!$C$2)))))","v":66.400000000000006},null,{"$f":"IF(C382=\"\",\"\",IF(E382<>\"Retorno\",(I382+K382+M382),IF($G$20=Parâmetros!$D$2,SUM(G382,I382,K382,M382,O382),PMT($O$25,SUM($G$17),($O$10)*-1)+O382+M382+K382)))","v":11090.972787102837},null,517434.70146473806,null,""]
["2055-06-02","",350,"1900-12-15","Retorno",null,{"$f":"IFERROR(IF(C383=\"\",\"\",IF(E383<>\"Retorno\",0,IF($G$20=Parâmetros!$D$2,Simulador!$O$10/$G$17,IF($G$20=Parâmetros!$D$3,Simulador!Q383-Simulador!O383-Simulador!M383-Simulador!K383-Simulador!I383,\"\")))),\"\")","v":5095.263141496669},null,5026.2826046099071,null,0,null,{"$f":"IFERROR(IF(C383=\"\",\"\",IF($C$10=Parâmetros!$C$3,0,VLOOKUP(A383,'Base de Dados'!$E$3:$G$422,3,FALSE)*S383)),0)","v":894.13478776172076},null,{"$f":"IF(C383=\"\",\"\",IF(C384=\"\",0,IF(E383=\"Construção\",0,IF(E383=\"Seguro\",$C$17*'Base de Dados'!$C$2,IF($C$14=Parâmetros!$B$4,0,Simulador!$C$17*'Base de Dados'!$C$2)))))","v":66.400000000000006},null,{"$f":"IF(C383=\"\",\"\",IF(E383<>\"Retorno\",(I383+K383+M383),IF($G$20=Parâmetros!$D$2,SUM(G383,I383,K383,M383,O383),PMT($O$25,SUM($G$17),($O$10)*-1)+O383+M383+K383)))","v":11082.080533868297},null,512339.43832324137,null,""]
["2055-07-02","",351,"1900-12-16","Retorno",null,{"$f":"IFERROR(IF(C384=\"\",\"\",IF(E384<>\"Retorno\",0,IF($G$20=Parâmetros!$D$2,Simulador!$O$10/$G$17,IF($G$20=Parâmetros!$D$3,Simulador!Q384-Simulador!O384-Simulador!M384-Simulador!K384-Simulador!I384,\"\")))),\"\")","v":5144.7577587334472},null,4976.787987373129,null,0,null,{"$f":"IFERROR(IF(C384=\"\",\"\",IF($C$10=Parâmetros!$C$3,0,VLOOKUP(A384,'Base de Dados'!$E$3:$G$422,3,FALSE)*S384)),0)","v":885.15615652117913},null,{"$f":"IF(C384=\"\",\"\",IF(C385=\"\",0,IF(E384=\"Construção\",0,IF(E384=\"Seguro\",$C$17*'Base de Dados'!$C$2,IF($C$14=Parâmetros!$B$4,0,Simulador!$C$17*'Base de Dados'!$C$2)))))","v":66.400000000000006},null,{"$f":"IF(C384=\"\",\"\",IF(E384<>\"Retorno\",(I384+K384+M384),IF($G$20=Parâmetros!$D$2,SUM(G384,I384,K384,M384,O384),PMT($O$25,SUM($G$17),($O$10)*-1)+O384+M384+K384)))","v":11073.101902627755},null,507194.6805645079,null,""]
["2055-08-02","",352,"1900-12-17","Retorno",null,{"$f":"IFERROR(IF(C385=\"\",\"\",IF(E385<>\"Retorno\",0,IF($G$20=Parâmetros!$D$2,Simulador!$O$10/$G$17,IF($G$20=Parâmetros!$D$3,Simulador!Q385-Simulador!O385-Simulador!M385-Simulador!K385-Simulador!I385,\"\")))),\"\")","v":5194.7331592128994},null,4926.8125868936768,null,0,null,{"$f":"IFERROR(IF(C385=\"\",\"\",IF($C$10=Parâmetros!$C$3,0,VLOOKUP(A385,'Base de Dados'!$E$3:$G$422,3,FALSE)*S385)),0)","v":876.09030821172075},null,{"$f":"IF(C385=\"\",\"\",IF(C386=\"\",0,IF(E385=\"Construção\",0,IF(E385=\"Seguro\",$C$17*'Base de Dados'!$C$2,IF($C$14=Parâmetros!$B$4,0,Simulador!$C$17*'Base de Dados'!$C$2)))))","v":66.400000000000006},null,{"$f":"IF(C385=\"\",\"\",IF(E385<>\"Retorno\",(I385+K385+M385),IF($G$20=Parâmetros!$D$2,SUM(G385,I385,K385,M385,O385),PMT($O$25,SUM($G$17),($O$10)*-1)+O385+M385+K385)))","v":11064.036054318296},null,501999.94740529498,null,""]
["2055-09-02","",353,"1900-12-18","Retorno",null,{"$f":"IFERROR(IF(C386=\"\",\"\",IF(E386<>\"Retorno\",0,IF($G$20=Parâmetros!$D$2,Simulador!$O$10/$G$17,IF($G$20=Parâmetros!$D$3,Simulador!Q386-Simulador!O386-Simulador!M386-Simulador!K386-Simulador!I386,\"\")))),\"\")","v":5245.1940131908432},null,4876.351732915733,null,0,null,{"$f":"IFERROR(IF(C386=\"\",\"\",IF($C$10=Parâmetros!$C$3,0,VLOOKUP(A386,'Base de Dados'!$E$3:$G$422,3,FALSE)*S386)),0)","v":1072.543188048892},null,{"$f":"IF(C386=\"\",\"\",IF(C387=\"\",0,IF(E386=\"Construção\",0,IF(E386=\"Seguro\",$C$17*'Base de Dados'!$C$2,IF($C$14=Parâmetros!$B$4,0,Simulador!$C$17*'Base de Dados'!$C$2)))))","v":66.400000000000006},null,{"$f":"IF(C386=\"\",\"\",IF(E386<>\"Retorno\",(I386+K386+M386),IF($G$20=Parâmetros!$D$2,SUM(G386,I386,K386,M386,O386),PMT($O$25,SUM($G$17),($O$10)*-1)+O386+M386+K386)))","v":11260.488934155468},null,496754.75339210412,null,""]
["2055-10-02","",354,"1900-12-19","Retorno",null,{"$f":"IFERROR(IF(C387=\"\",\"\",IF(E387<>\"Retorno\",0,IF($G$20=Parâmetros!$D$2,Simulador!$O$10/$G$17,IF($G$20=Parâmetros!$D$3,Simulador!Q387-Simulador!O387-Simulador!M387-Simulador!K387-Simulador!I387,\"\")))),\"\")","v":5296.145036289332},null,4825.4007098172442,null,0,null,{"$f":"IFERROR(IF(C387=\"\",\"\",IF($C$10=Parâmetros!$C$3,0,VLOOKUP(A387,'Base de Dados'!$E$3:$G$422,3,FALSE)*S387)),0)","v":1061.1082813010398},null,{"$f":"IF(C387=\"\",\"\",IF(C388=\"\",0,IF(E387=\"Construção\",0,IF(E387=\"Seguro\",$C$17*'Base de Dados'!$C$2,IF($C$14=Parâmetros!$B$4,0,Simulador!$C$17*'Base de Dados'!$C$2)))))","v":66.400000000000006},null,{"$f":"IF(C387=\"\",\"\",IF(E387<>\"Retorno\",(I387+K387+M387),IF($G$20=Parâmetros!$D$2,SUM(G387,I387,K387,M387,O387),PMT($O$25,SUM($G$17),($O$10)*-1)+O387+M387+K387)))","v":11249.054027407616},null,491458.60835581477,null,""]
["2055-11-02","",355,"1900-12-20","Retorno",null,{"$f":"IFERROR(IF(C388=\"\",\"\",IF(E388<>\"Retorno\",0,IF($G$20=Parâmetros!$D$2,Simulador!$O$10/$G$17,IF($G$20=Parâmetros!$D$3,Simulador!Q388-Simulador!O388-Simulador!M388-Simulador!K388-Simulador!I388,\"\")))),\"\")","v":5347.5909899372873},null,4773.9547561692889,null,0,null,{"$f":"IFERROR(IF(C388=\"\",\"\",IF($C$10=Parâmetros!$C$3,0,VLOOKUP(A388,'Base de Dados'!$E$3:$G$422,3,FALSE)*S388)),0)","v":1049.562297594666},null,{"$f":"IF(C388=\"\",\"\",IF(C389=\"\",0,IF(E388=\"Construção\",0,IF(E388=\"Seguro\",$C$17*'Base de Dados'!$C$2,IF($C$14=Parâmetros!$B$4,0,Simulador!$C$17*'Base de Dados'!$C$2)))))","v":66.400000000000006},null,{"$f":"IF(C388=\"\",\"\",IF(E388<>\"Retorno\",(I388+K388+M388),IF($G$20=Parâmetros!$D$2,SUM(G388,I388,K388,M388,O388),PMT($O$25,SUM($G$17),($O$10)*-1)+O388+M388+K388)))","v":11237.508043701242},null,486111.01736587746,null,""]
["2055-12-02","",356,"1900-12-21","Retorno",null,{"$f":"IFERROR(IF(C389=\"\",\"\",IF(E389<>\"Retorno\",0,IF($G$20=Parâmetros!$D$2,Simulador!$O$10/$G$17,IF($G$20=Parâmetros!$D$3,Simulador!Q389-Simulador!O389-Simulador!M389-Simulador!K389-Simulador!I389,\"\")))),\"\")","v":5399.5366818153216},null,4722.0090642912546,null,0,null,{"$f":"IFERROR(IF(C389=\"\",\"\",IF($C$10=Parâmetros!$C$3,0,VLOOKUP(A389,'Base de Dados'!$E$3:$G$422,3,FALSE)*S389)),0)","v":1037.9041579449586},null,{"$f":"IF(C389=\"\",\"\",IF(C390=\"\",0,IF(E389=\"Construção\",0,IF(E389=\"Seguro\",$C$17*'Base de Dados'!$C$2,IF($C$14=Parâmetros!$B$4,0,Simulador!$C$17*'Base de Dados'!$C$2)))))","v":66.400000000000006},null,{"$f":"IF(C389=\"\",\"\",IF(E389<>\"Retorno\",(I389+K389+M389),IF($G$20=Parâmetros!$D$2,SUM(G389,I389,K389,M389,O389),PMT($O$25,SUM($G$17),($O$10)*-1)+O389+M389+K389)))","v":11225.849904051534},null,480711.48068406212,null,""]
["2056-01-02","",357,"1900-12-22","Retorno",null,{"$f":"IFERROR(IF(C390=\"\",\"\",IF(E390<>\"Retorno\",0,IF($G$20=Parâmetros!$D$2,Simulador!$O$10/$G$17,IF($G$20=Parâmetros!$D$3,Simulador!Q390-Simulador!O390-Simulador!M390-Simulador!K390-Simulador!I390,\"\")))),\"\")","v":5451.9869663052177},null,4669.5587798013585,null,0,null,{"$f":"IFERROR(IF(C390=\"\",\"\",IF($C$10=Parâmetros!$C$3,0,VLOOKUP(A390,'Base de Dados'!$E$3:$G$422,3,FALSE)*S390)),0)","v":1026.132772886009},null,{"$f":"IF(C390=\"\",\"\",IF(C391=\"\",0,IF(E390=\"Construção\",0,IF(E390=\"Seguro\",$C$17*'Base de Dados'!$C$2,IF($C$14=Parâmetros!$B$4,0,Simulador!$C$17*'Base de Dados'!$C$2)))))","v":66.400000000000006},null,{"$f":"IF(C390=\"\",\"\",IF(E390<>\"Retorno\",(I390+K390+M390),IF($G$20=Parâmetros!$D$2,SUM(G390,I390,K390,M390,O390),PMT($O$25,SUM($G$17),($O$10)*-1)+O390+M390+K390)))","v":11214.078518992585},null,475259.49371775688,null,""]
["2056-02-02","",358,"1900-12-23","Retorno",null,{"$f":"IFERROR(IF(C391=\"\",\"\",IF(E391<>\"Retorno\",0,IF($G$20=Parâmetros!$D$2,Simulador!$O$10/$G$17,IF($G$20=Parâmetros!$D$3,Simulador!Q391-Simulador!O391-Simulador!M391-Simulador!K391-Simulador!I391,\"\")))),\"\")","v":5504.9467449434251},null,4616.5990011631511,null,0,null,{"$f":"IFERROR(IF(C391=\"\",\"\",IF($C$10=Parâmetros!$C$3,0,VLOOKUP(A391,'Base de Dados'!$E$3:$G$422,3,FALSE)*S391)),0)","v":1014.2470423690015},null,{"$f":"IF(C391=\"\",\"\",IF(C392=\"\",0,IF(E391=\"Construção\",0,IF(E391=\"Seguro\",$C$17*'Base de Dados'!$C$2,IF($C$14=Parâmetros!$B$4,0,Simulador!$C$17*'Base de Dados'!$C$2)))))","v":66.400000000000006},null,{"$f":"IF(C391=\"\",\"\",IF(E391<>\"Retorno\",(I391+K391+M391),IF($G$20=Parâmetros!$D$2,SUM(G391,I391,K391,M391,O391),PMT($O$25,SUM($G$17),($O$10)*-1)+O391+M391+K391)))","v":11202.192788475577},null,469754.54697281343,null,""]
["2056-03-02","",359,"1900-12-24","Retorno",null,{"$f":"IFERROR(IF(C392=\"\",\"\",IF(E392<>\"Retorno\",0,IF($G$20=Parâmetros!$D$2,Simulador!$O$10/$G$17,IF($G$20=Parâmetros!$D$3,Simulador!Q392-Simulador!O392-Simulador!M392-Simulador!K392-Simulador!I392,\"\")))),\"\")","v":5558.4209668792118},null,4563.1247792273643,null,0,null,{"$f":"IFERROR(IF(C392=\"\",\"\",IF($C$10=Parâmetros!$C$3,0,VLOOKUP(A392,'Base de Dados'!$E$3:$G$422,3,FALSE)*S392)),0)","v":1002.2458556594127},null,{"$f":"IF(C392=\"\",\"\",IF(C393=\"\",0,IF(E392=\"Construção\",0,IF(E392=\"Seguro\",$C$17*'Base de Dados'!$C$2,IF($C$14=Parâmetros!$B$4,0,Simulador!$C$17*'Base de Dados'!$C$2)))))","v":66.400000000000006},null,{"$f":"IF(C392=\"\",\"\",IF(E392<>\"Retorno\",(I392+K392+M392),IF($G$20=Parâmetros!$D$2,SUM(G392,I392,K392,M392,O392),PMT($O$25,SUM($G$17),($O$10)*-1)+O392+M392+K392)))","v":11190.191601765988},null,464196.1260059342,null,""]
["2056-04-02","",360,"1900-12-25","Retorno",null,{"$f":"IFERROR(IF(C393=\"\",\"\",IF(E393<>\"Retorno\",0,IF($G$20=Parâmetros!$D$2,Simulador!$O$10/$G$17,IF($G$20=Parâmetros!$D$3,Simulador!Q393-Simulador!O393-Simulador!M393-Simulador!K393-Simulador!I393,\"\")))),\"\")","v":5612.4146293371832},null,4509.131116769393,null,0,null,{"$f":"IFERROR(IF(C393=\"\",\"\",IF($C$10=Parâmetros!$C$3,0,VLOOKUP(A393,'Base de Dados'!$E$3:$G$422,3,FALSE)*S393)),0)","v":990.12809123321063},null,{"$f":"IF(C393=\"\",\"\",IF(C394=\"\",0,IF(E393=\"Construção\",0,IF(E393=\"Seguro\",$C$17*'Base de Dados'!$C$2,IF($C$14=Parâmetros!$B$4,0,Simulador!$C$17*'Base de Dados'!$C$2)))))","v":66.400000000000006},null,{"$f":"IF(C393=\"\",\"\",IF(E393<>\"Retorno\",(I393+K393+M393),IF($G$20=Parâmetros!$D$2,SUM(G393,I393,K393,M393,O393),PMT($O$25,SUM($G$17),($O$10)*-1)+O393+M393+K393)))","v":11178.073837339787},null,458583.711376597]
["2056-05-02","",361,"1900-12-26","Retorno",null,{"$f":"IFERROR(IF(C394=\"\",\"\",IF(E394<>\"Retorno\",0,IF($G$20=Parâmetros!$D$2,Simulador!$O$10/$G$17,IF($G$20=Parâmetros!$D$3,Simulador!Q394-Simulador!O394-Simulador!M394-Simulador!K394-Simulador!I394,\"\")))),\"\")","v":5666.932778084165},null,4454.6129680224112,null,0,null,{"$f":"IFERROR(IF(C394=\"\",\"\",IF($C$10=Parâmetros!$C$3,0,VLOOKUP(A394,'Base de Dados'!$E$3:$G$422,3,FALSE)*S394)),0)","v":977.89261667204914},null,{"$f":"IF(C394=\"\",\"\",IF(C395=\"\",0,IF(E394=\"Construção\",0,IF(E394=\"Seguro\",$C$17*'Base de Dados'!$C$2,IF($C$14=Parâmetros!$B$4,0,Simulador!$C$17*'Base de Dados'!$C$2)))))","v":66.400000000000006},null,{"$f":"IF(C394=\"\",\"\",IF(E394<>\"Retorno\",(I394+K394+M394),IF($G$20=Parâmetros!$D$2,SUM(G394,I394,K394,M394,O394),PMT($O$25,SUM($G$17),($O$10)*-1)+O394+M394+K394)))","v":11165.838362778624},null,452916.77859851281]
["2056-06-02","",362,"1900-12-27","Retorno",null,{"$f":"IFERROR(IF(C395=\"\",\"\",IF(E395<>\"Retorno\",0,IF($G$20=Parâmetros!$D$2,Simulador!$O$10/$G$17,IF($G$20=Parâmetros!$D$3,Simulador!Q395-Simulador!O395-Simulador!M395-Simulador!K395-Simulador!I395,\"\")))),\"\")","v":5721.980507900802},null,4399.5652382057742,null,0,null,{"$f":"IFERROR(IF(C395=\"\",\"\",IF($C$10=Parâmetros!$C$3,0,VLOOKUP(A395,'Base de Dados'!$E$3:$G$422,3,FALSE)*S395)),0)","v":965.53828855744041},null,{"$f":"IF(C395=\"\",\"\",IF(C396=\"\",0,IF(E395=\"Construção\",0,IF(E395=\"Seguro\",$C$17*'Base de Dados'!$C$2,IF($C$14=Parâmetros!$B$4,0,Simulador!$C$17*'Base de Dados'!$C$2)))))","v":66.400000000000006},null,{"$f":"IF(C395=\"\",\"\",IF(E395<>\"Retorno\",(I395+K395+M395),IF($G$20=Parâmetros!$D$2,SUM(G395,I395,K395,M395,O395),PMT($O$25,SUM($G$17),($O$10)*-1)+O395+M395+K395)))","v":11153.484034664016},null,447194.79809061199]
["2056-07-02","",363,"1900-12-28","Retorno",null,{"$f":"IFERROR(IF(C396=\"\",\"\",IF(E396<>\"Retorno\",0,IF($G$20=Parâmetros!$D$2,Simulador!$O$10/$G$17,IF($G$20=Parâmetros!$D$3,Simulador!Q396-Simulador!O396-Simulador!M396-Simulador!K396-Simulador!I396,\"\")))),\"\")","v":5777.5629630576386},null,4343.9827830489376,null,0,null,{"$f":"IFERROR(IF(C396=\"\",\"\",IF($C$10=Parâmetros!$C$3,0,VLOOKUP(A396,'Base de Dados'!$E$3:$G$422,3,FALSE)*S396)),0)","v":953.06395236390267},null,{"$f":"IF(C396=\"\",\"\",IF(C397=\"\",0,IF(E396=\"Construção\",0,IF(E396=\"Seguro\",$C$17*'Base de Dados'!$C$2,IF($C$14=Parâmetros!$B$4,0,Simulador!$C$17*'Base de Dados'!$C$2)))))","v":66.400000000000006},null,{"$f":"IF(C396=\"\",\"\",IF(E396<>\"Retorno\",(I396+K396+M396),IF($G$20=Parâmetros!$D$2,SUM(G396,I396,K396,M396,O396),PMT($O$25,SUM($G$17),($O$10)*-1)+O396+M396+K396)))","v":11141.009698470478},null,441417.23512755433]
["2056-08-02","",364,"1900-12-29","Retorno",null,{"$f":"IFERROR(IF(C397=\"\",\"\",IF(E397<>\"Retorno\",0,IF($G$20=Parâmetros!$D$2,Simulador!$O$10/$G$17,IF($G$20=Parâmetros!$D$3,Simulador!Q397-Simulador!O397-Simulador!M397-Simulador!K397-Simulador!I397,\"\")))),\"\")","v":5833.685337796087},null,4287.8604083104874,null,0,null,{"$f":"IFERROR(IF(C397=\"\",\"\",IF($C$10=Parâmetros!$C$3,0,VLOOKUP(A397,'Base de Dados'!$E$3:$G$422,3,FALSE)*S397)),0)","v":940.4684423510671},null,{"$f":"IF(C397=\"\",\"\",IF(C398=\"\",0,IF(E397=\"Construção\",0,IF(E397=\"Seguro\",$C$17*'Base de Dados'!$C$2,IF($C$14=Parâmetros!$B$4,0,Simulador!$C$17*'Base de Dados'!$C$2)))))","v":66.400000000000006},null,{"$f":"IF(C397=\"\",\"\",IF(E397<>\"Retorno\",(I397+K397+M397),IF($G$20=Parâmetros!$D$2,SUM(G397,I397,K397,M397,O397),PMT($O$25,SUM($G$17),($O$10)*-1)+O397+M397+K397)))","v":11128.414188457642},null,435583.54978975822]
["2056-09-02","",365,"1900-12-30","Retorno",null,{"$f":"IFERROR(IF(C398=\"\",\"\",IF(E398<>\"Retorno\",0,IF($G$20=Parâmetros!$D$2,Simulador!$O$10/$G$17,IF($G$20=Parâmetros!$D$3,Simulador!Q398-Simulador!O398-Simulador!M398-Simulador!K398-Simulador!I398,\"\")))),\"\")","v":5890.3528768133074},null,4231.1928692932706,null,0,null,{"$f":"IFERROR(IF(C398=\"\",\"\",IF($C$10=Parâmetros!$C$3,0,VLOOKUP(A398,'Base de Dados'!$E$3:$G$422,3,FALSE)*S398)),0)","v":927.7505814547394},null,{"$f":"IF(C398=\"\",\"\",IF(C399=\"\",0,IF(E398=\"Construção\",0,IF(E398=\"Seguro\",$C$17*'Base de Dados'!$C$2,IF($C$14=Parâmetros!$B$4,0,Simulador!$C$17*'Base de Dados'!$C$2)))))","v":66.400000000000006},null,{"$f":"IF(C398=\"\",\"\",IF(E398<>\"Retorno\",(I398+K398+M398),IF($G$20=Parâmetros!$D$2,SUM(G398,I398,K398,M398,O398),PMT($O$25,SUM($G$17),($O$10)*-1)+O398+M398+K398)))","v":11115.696327561316},null,429693.1969129449]
["2056-10-02","",366,"1900-12-31","Retorno",null,{"$f":"IFERROR(IF(C399=\"\",\"\",IF(E399<>\"Retorno\",0,IF($G$20=Parâmetros!$D$2,Simulador!$O$10/$G$17,IF($G$20=Parâmetros!$D$3,Simulador!Q399-Simulador!O399-Simulador!M399-Simulador!K399-Simulador!I399,\"\")))),\"\")","v":5947.5708757529301},null,4173.9748703536461,null,0,null,{"$f":"IFERROR(IF(C399=\"\",\"\",IF($C$10=Parâmetros!$C$3,0,VLOOKUP(A399,'Base de Dados'!$E$3:$G$422,3,FALSE)*S399)),0)","v":914.90918117690126},null,{"$f":"IF(C399=\"\",\"\",IF(C400=\"\",0,IF(E399=\"Construção\",0,IF(E399=\"Seguro\",$C$17*'Base de Dados'!$C$2,IF($C$14=Parâmetros!$B$4,0,Simulador!$C$17*'Base de Dados'!$C$2)))))","v":66.400000000000006},null,{"$f":"IF(C399=\"\",\"\",IF(E399<>\"Retorno\",(I399+K399+M399),IF($G$20=Parâmetros!$D$2,SUM(G399,I399,K399,M399,O399),PMT($O$25,SUM($G$17),($O$10)*-1)+O399+M399+K399)))","v":11102.854927283477},null,423745.62603719195]
["2056-11-02","",367,"1901-01-01","Retorno",null,{"$f":"IFERROR(IF(C400=\"\",\"\",IF(E400<>\"Retorno\",0,IF($G$20=Parâmetros!$D$2,Simulador!$O$10/$G$17,IF($G$20=Parâmetros!$D$3,Simulador!Q400-Simulador!O400-Simulador!M400-Simulador!K400-Simulador!I400,\"\")))),\"\")","v":6005.3446816995656},null,4116.2010644070106,null,0,null,{"$f":"IFERROR(IF(C400=\"\",\"\",IF($C$10=Parâmetros!$C$3,0,VLOOKUP(A400,'Base de Dados'!$E$3:$G$422,3,FALSE)*S400)),0)","v":901.94304147464368},null,{"$f":"IF(C400=\"\",\"\",IF(C401=\"\",0,IF(E400=\"Construção\",0,IF(E400=\"Seguro\",$C$17*'Base de Dados'!$C$2,IF($C$14=Parâmetros!$B$4,0,Simulador!$C$17*'Base de Dados'!$C$2)))))","v":66.400000000000006},null,{"$f":"IF(C400=\"\",\"\",IF(E400<>\"Retorno\",(I400+K400+M400),IF($G$20=Parâmetros!$D$2,SUM(G400,I400,K400,M400,O400),PMT($O$25,SUM($G$17),($O$10)*-1)+O400+M400+K400)))","v":11089.88878758122},null,417740.28135549236]
["2056-12-02","",368,"1901-01-02","Retorno",null,{"$f":"IFERROR(IF(C401=\"\",\"\",IF(E401<>\"Retorno\",0,IF($G$20=Parâmetros!$D$2,Simulador!$O$10/$G$17,IF($G$20=Parâmetros!$D$3,Simulador!Q401-Simulador!O401-Simulador!M401-Simulador!K401-Simulador!I401,\"\")))),\"\")","v":6063.6796936786068},null,4057.8660524279694,null,0,null,{"$f":"IFERROR(IF(C401=\"\",\"\",IF($C$10=Parâmetros!$C$3,0,VLOOKUP(A401,'Base de Dados'!$E$3:$G$422,3,FALSE)*S401)),0)","v":888.85095064802215},null,{"$f":"IF(C401=\"\",\"\",IF(C402=\"\",0,IF(E401=\"Construção\",0,IF(E401=\"Seguro\",$C$17*'Base de Dados'!$C$2,IF($C$14=Parâmetros!$B$4,0,Simulador!$C$17*'Base de Dados'!$C$2)))))","v":66.400000000000006},null,{"$f":"IF(C401=\"\",\"\",IF(E401<>\"Retorno\",(I401+K401+M401),IF($G$20=Parâmetros!$D$2,SUM(G401,I401,K401,M401,O401),PMT($O$25,SUM($G$17),($O$10)*-1)+O401+M401+K401)))","v":11076.796696754598},null,411676.60166181374]
["2057-01-02","",369,"1901-01-03","Retorno",null,{"$f":"IFERROR(IF(C402=\"\",\"\",IF(E402<>\"Retorno\",0,IF($G$20=Parâmetros!$D$2,Simulador!$O$10/$G$17,IF($G$20=Parâmetros!$D$3,Simulador!Q402-Simulador!O402-Simulador!M402-Simulador!K402-Simulador!I402,\"\")))),\"\")","v":6122.5813631607834},null,3998.9643829457927,null,0,null,{"$f":"IFERROR(IF(C402=\"\",\"\",IF($C$10=Parâmetros!$C$3,0,VLOOKUP(A402,'Base de Dados'!$E$3:$G$422,3,FALSE)*S402)),0)","v":875.63168522682156},null,{"$f":"IF(C402=\"\",\"\",IF(C403=\"\",0,IF(E402=\"Construção\",0,IF(E402=\"Seguro\",$C$17*'Base de Dados'!$C$2,IF($C$14=Parâmetros!$B$4,0,Simulador!$C$17*'Base de Dados'!$C$2)))))","v":66.400000000000006},null,{"$f":"IF(C402=\"\",\"\",IF(E402<>\"Retorno\",(I402+K402+M402),IF($G$20=Parâmetros!$D$2,SUM(G402,I402,K402,M402,O402),PMT($O$25,SUM($G$17),($O$10)*-1)+O402+M402+K402)))","v":11063.577431333397},null,405554.02029865293]
["2057-02-02","",370,"1901-01-04","Retorno",null,{"$f":"IFERROR(IF(C403=\"\",\"\",IF(E403<>\"Retorno\",0,IF($G$20=Parâmetros!$D$2,Simulador!$O$10/$G$17,IF($G$20=Parâmetros!$D$3,Simulador!Q403-Simulador!O403-Simulador!M403-Simulador!K403-Simulador!I403,\"\")))),\"\")","v":6182.0551945714778},null,3939.4905515350983,null,0,null,{"$f":"IFERROR(IF(C403=\"\",\"\",IF($C$10=Parâmetros!$C$3,0,VLOOKUP(A403,'Base de Dados'!$E$3:$G$422,3,FALSE)*S403)),0)","v":862.28400985622227},null,{"$f":"IF(C403=\"\",\"\",IF(C404=\"\",0,IF(E403=\"Construção\",0,IF(E403=\"Seguro\",$C$17*'Base de Dados'!$C$2,IF($C$14=Parâmetros!$B$4,0,Simulador!$C$17*'Base de Dados'!$C$2)))))","v":66.400000000000006},null,{"$f":"IF(C403=\"\",\"\",IF(E403<>\"Retorno\",(I403+K403+M403),IF($G$20=Parâmetros!$D$2,SUM(G403,I403,K403,M403,O403),PMT($O$25,SUM($G$17),($O$10)*-1)+O403+M403+K403)))","v":11050.229755962799},null,399371.96510408144]
["2057-03-02","",371,"1901-01-05","Retorno",null,{"$f":"IFERROR(IF(C404=\"\",\"\",IF(E404<>\"Retorno\",0,IF($G$20=Parâmetros!$D$2,Simulador!$O$10/$G$17,IF($G$20=Parâmetros!$D$3,Simulador!Q404-Simulador!O404-Simulador!M404-Simulador!K404-Simulador!I404,\"\")))),\"\")","v":6242.1067458053967},null,3879.4390003011795,null,0,null,{"$f":"IFERROR(IF(C404=\"\",\"\",IF($C$10=Parâmetros!$C$3,0,VLOOKUP(A404,'Base de Dados'!$E$3:$G$422,3,FALSE)*S404)),0)","v":848.80667718135385},null,{"$f":"IF(C404=\"\",\"\",IF(C405=\"\",0,IF(E404=\"Construção\",0,IF(E404=\"Seguro\",$C$17*'Base de Dados'!$C$2,IF($C$14=Parâmetros!$B$4,0,Simulador!$C$17*'Base de Dados'!$C$2)))))","v":66.400000000000006},null,{"$f":"IF(C404=\"\",\"\",IF(E404<>\"Retorno\",(I404+K404+M404),IF($G$20=Parâmetros!$D$2,SUM(G404,I404,K404,M404,O404),PMT($O$25,SUM($G$17),($O$10)*-1)+O404+M404+K404)))","v":11036.75242328793},null,393129.85835827602]
["2057-04-02","",372,"1901-01-06","Retorno",null,{"$f":"IFERROR(IF(C405=\"\",\"\",IF(E405<>\"Retorno\",0,IF($G$20=Parâmetros!$D$2,Simulador!$O$10/$G$17,IF($G$20=Parâmetros!$D$3,Simulador!Q405-Simulador!O405-Simulador!M405-Simulador!K405-Simulador!I405,\"\")))),\"\")","v":6302.7416287456672},null,3818.804117360909,null,0,null,{"$f":"IFERROR(IF(C405=\"\",\"\",IF($C$10=Parâmetros!$C$3,0,VLOOKUP(A405,'Base de Dados'!$E$3:$G$422,3,FALSE)*S405)),0)","v":835.19842773072901},null,{"$f":"IF(C405=\"\",\"\",IF(C406=\"\",0,IF(E405=\"Construção\",0,IF(E405=\"Seguro\",$C$17*'Base de Dados'!$C$2,IF($C$14=Parâmetros!$B$4,0,Simulador!$C$17*'Base de Dados'!$C$2)))))","v":66.400000000000006},null,{"$f":"IF(C405=\"\",\"\",IF(E405<>\"Retorno\",(I405+K405+M405),IF($G$20=Parâmetros!$D$2,SUM(G405,I405,K405,M405,O405),PMT($O$25,SUM($G$17),($O$10)*-1)+O405+M405+K405)))","v":11023.144173837305},null,386827.11672953033]
["2057-05-02","",373,"1901-01-07","Retorno",null,{"$f":"IFERROR(IF(C406=\"\",\"\",IF(E406<>\"Retorno\",0,IF($G$20=Parâmetros!$D$2,Simulador!$O$10/$G$17,IF($G$20=Parâmetros!$D$3,Simulador!Q406-Simulador!O406-Simulador!M406-Simulador!K406-Simulador!I406,\"\")))),\"\")","v":6363.9655097885206},null,3757.5802363180555,null,0,null,{"$f":"IFERROR(IF(C406=\"\",\"\",IF($C$10=Parâmetros!$C$3,0,VLOOKUP(A406,'Base de Dados'!$E$3:$G$422,3,FALSE)*S406)),0)","v":821.45798979854453},null,{"$f":"IF(C406=\"\",\"\",IF(C407=\"\",0,IF(E406=\"Construção\",0,IF(E406=\"Seguro\",$C$17*'Base de Dados'!$C$2,IF($C$14=Parâmetros!$B$4,0,Simulador!$C$17*'Base de Dados'!$C$2)))))","v":66.400000000000006},null,{"$f":"IF(C406=\"\",\"\",IF(E406<>\"Retorno\",(I406+K406+M406),IF($G$20=Parâmetros!$D$2,SUM(G406,I406,K406,M406,O406),PMT($O$25,SUM($G$17),($O$10)*-1)+O406+M406+K406)))","v":11009.40373590512},null,380463.15121974179]
["2057-06-02","",374,"1901-01-08","Retorno",null,{"$f":"IFERROR(IF(C407=\"\",\"\",IF(E407<>\"Retorno\",0,IF($G$20=Parâmetros!$D$2,Simulador!$O$10/$G$17,IF($G$20=Parâmetros!$D$3,Simulador!Q407-Simulador!O407-Simulador!M407-Simulador!K407-Simulador!I407,\"\")))),\"\")","v":6425.784110372575},null,3695.7616357340012,null,0,null,{"$f":"IFERROR(IF(C407=\"\",\"\",IF($C$10=Parâmetros!$C$3,0,VLOOKUP(A407,'Base de Dados'!$E$3:$G$422,3,FALSE)*S407)),0)","v":807.58407932583907},null,{"$f":"IF(C407=\"\",\"\",IF(C408=\"\",0,IF(E407=\"Construção\",0,IF(E407=\"Seguro\",$C$17*'Base de Dados'!$C$2,IF($C$14=Parâmetros!$B$4,0,Simulador!$C$17*'Base de Dados'!$C$2)))))","v":66.400000000000006},null,{"$f":"IF(C407=\"\",\"\",IF(E407<>\"Retorno\",(I407+K407+M407),IF($G$20=Parâmetros!$D$2,SUM(G407,I407,K407,M407,O407),PMT($O$25,SUM($G$17),($O$10)*-1)+O407+M407+K407)))","v":10995.529825432415},null,374037.3671093692]
["2057-07-02","",375,"1901-01-09","Retorno",null,{"$f":"IFERROR(IF(C408=\"\",\"\",IF(E408<>\"Retorno\",0,IF($G$20=Parâmetros!$D$2,Simulador!$O$10/$G$17,IF($G$20=Parâmetros!$D$3,Simulador!Q408-Simulador!O408-Simulador!M408-Simulador!K408-Simulador!I408,\"\")))),\"\")","v":6488.2032075137631},null,3633.3425385928131,null,0,null,{"$f":"IFERROR(IF(C408=\"\",\"\",IF($C$10=Parâmetros!$C$3,0,VLOOKUP(A408,'Base de Dados'!$E$3:$G$422,3,FALSE)*S408)),0)","v":793.57539978049613},null,{"$f":"IF(C408=\"\",\"\",IF(C409=\"\",0,IF(E408=\"Construção\",0,IF(E408=\"Seguro\",$C$17*'Base de Dados'!$C$2,IF($C$14=Parâmetros!$B$4,0,Simulador!$C$17*'Base de Dados'!$C$2)))))","v":66.400000000000006},null,{"$f":"IF(C408=\"\",\"\",IF(E408<>\"Retorno\",(I408+K408+M408),IF($G$20=Parâmetros!$D$2,SUM(G408,I408,K408,M408,O408),PMT($O$25,SUM($G$17),($O$10)*-1)+O408+M408+K408)))","v":10981.521145887073},null,367549.16390185541]
["2057-08-02","",376,"1901-01-10","Retorno",null,{"$f":"IFERROR(IF(C409=\"\",\"\",IF(E409<>\"Retorno\",0,IF($G$20=Parâmetros!$D$2,Simulador!$O$10/$G$17,IF($G$20=Parâmetros!$D$3,Simulador!Q409-Simulador!O409-Simulador!M409-Simulador!K409-Simulador!I409,\"\")))),\"\")","v":6551.2286343449759},null,3570.3171117616002,null,0,null,{"$f":"IFERROR(IF(C409=\"\",\"\",IF($C$10=Parâmetros!$C$3,0,VLOOKUP(A409,'Base de Dados'!$E$3:$G$422,3,FALSE)*S409)),0)","v":779.43064203608185},null,{"$f":"IF(C409=\"\",\"\",IF(C410=\"\",0,IF(E409=\"Construção\",0,IF(E409=\"Seguro\",$C$17*'Base de Dados'!$C$2,IF($C$14=Parâmetros!$B$4,0,Simulador!$C$17*'Base de Dados'!$C$2)))))","v":66.400000000000006},null,{"$f":"IF(C409=\"\",\"\",IF(E409<>\"Retorno\",(I409+K409+M409),IF($G$20=Parâmetros!$D$2,SUM(G409,I409,K409,M409,O409),PMT($O$25,SUM($G$17),($O$10)*-1)+O409+M409+K409)))","v":10967.376388142658},null,360997.93526751042]
["2057-09-02","",377,"1901-01-11","Retorno",null,{"$f":"IFERROR(IF(C410=\"\",\"\",IF(E410<>\"Retorno\",0,IF($G$20=Parâmetros!$D$2,Simulador!$O$10/$G$17,IF($G$20=Parâmetros!$D$3,Simulador!Q410-Simulador!O410-Simulador!M410-Simulador!K410-Simulador!I410,\"\")))),\"\")","v":6614.866280661352},null,3506.6794654452242,null,0,null,{"$f":"IFERROR(IF(C410=\"\",\"\",IF($C$10=Parâmetros!$C$3,0,VLOOKUP(A410,'Base de Dados'!$E$3:$G$422,3,FALSE)*S410)),0)","v":765.14848424950583},null,{"$f":"IF(C410=\"\",\"\",IF(C411=\"\",0,IF(E410=\"Construção\",0,IF(E410=\"Seguro\",$C$17*'Base de Dados'!$C$2,IF($C$14=Parâmetros!$B$4,0,Simulador!$C$17*'Base de Dados'!$C$2)))))","v":66.400000000000006},null,{"$f":"IF(C410=\"\",\"\",IF(E410<>\"Retorno\",(I410+K410+M410),IF($G$20=Parâmetros!$D$2,SUM(G410,I410,K410,M410,O410),PMT($O$25,SUM($G$17),($O$10)*-1)+O410+M410+K410)))","v":10953.094230356082},null,354383.06898684904]
["2057-10-02","",378,"1901-01-12","Retorno",null,{"$f":"IFERROR(IF(C411=\"\",\"\",IF(E411<>\"Retorno\",0,IF($G$20=Parâmetros!$D$2,Simulador!$O$10/$G$17,IF($G$20=Parâmetros!$D$3,Simulador!Q411-Simulador!O411-Simulador!M411-Simulador!K411-Simulador!I411,\"\")))),\"\")","v":6679.1220934705725},null,3442.4236526360037,null,0,null,{"$f":"IFERROR(IF(C411=\"\",\"\",IF($C$10=Parâmetros!$C$3,0,VLOOKUP(A411,'Base de Dados'!$E$3:$G$422,3,FALSE)*S411)),0)","v":750.72759173749353},null,{"$f":"IF(C411=\"\",\"\",IF(C412=\"\",0,IF(E411=\"Construção\",0,IF(E411=\"Seguro\",$C$17*'Base de Dados'!$C$2,IF($C$14=Parâmetros!$B$4,0,Simulador!$C$17*'Base de Dados'!$C$2)))))","v":66.400000000000006},null,{"$f":"IF(C411=\"\",\"\",IF(E411<>\"Retorno\",(I411+K411+M411),IF($G$20=Parâmetros!$D$2,SUM(G411,I411,K411,M411,O411),PMT($O$25,SUM($G$17),($O$10)*-1)+O411+M411+K411)))","v":10938.673337844069},null,347703.94689337845]
["2057-11-02","",379,"1901-01-13","Retorno",null,{"$f":"IFERROR(IF(C412=\"\",\"\",IF(E412<>\"Retorno\",0,IF($G$20=Parâmetros!$D$2,Simulador!$O$10/$G$17,IF($G$20=Parâmetros!$D$3,Simulador!Q412-Simulador!O412-Simulador!M412-Simulador!K412-Simulador!I412,\"\")))),\"\")","v":6744.0020775486282},null,3377.543668557948,null,0,null,{"$f":"IFERROR(IF(C412=\"\",\"\",IF($C$10=Parâmetros!$C$3,0,VLOOKUP(A412,'Base de Dados'!$E$3:$G$422,3,FALSE)*S412)),0)","v":736.16661685185818},null,{"$f":"IF(C412=\"\",\"\",IF(C413=\"\",0,IF(E412=\"Construção\",0,IF(E412=\"Seguro\",$C$17*'Base de Dados'!$C$2,IF($C$14=Parâmetros!$B$4,0,Simulador!$C$17*'Base de Dados'!$C$2)))))","v":66.400000000000006},null,{"$f":"IF(C412=\"\",\"\",IF(E412<>\"Retorno\",(I412+K412+M412),IF($G$20=Parâmetros!$D$2,SUM(G412,I412,K412,M412,O412),PMT($O$25,SUM($G$17),($O$10)*-1)+O412+M412+K412)))","v":10924.112362958434},null,340959.9448158298]
["2057-12-02","",380,"1901-01-14","Retorno",null,{"$f":"IFERROR(IF(C413=\"\",\"\",IF(E413<>\"Retorno\",0,IF($G$20=Parâmetros!$D$2,Simulador!$O$10/$G$17,IF($G$20=Parâmetros!$D$3,Simulador!Q413-Simulador!O413-Simulador!M413-Simulador!K413-Simulador!I413,\"\")))),\"\")","v":6809.5122960011158},null,3312.0334501054604,null,0,null,{"$f":"IFERROR(IF(C413=\"\",\"\",IF($C$10=Parâmetros!$C$3,0,VLOOKUP(A413,'Base de Dados'!$E$3:$G$422,3,FALSE)*S413)),0)","v":721.46419885356215},null,{"$f":"IF(C413=\"\",\"\",IF(C414=\"\",0,IF(E413=\"Construção\",0,IF(E413=\"Seguro\",$C$17*'Base de Dados'!$C$2,IF($C$14=Parâmetros!$B$4,0,Simulador!$C$17*'Base de Dados'!$C$2)))))","v":66.400000000000006},null,{"$f":"IF(C413=\"\",\"\",IF(E413<>\"Retorno\",(I413+K413+M413),IF($G$20=Parâmetros!$D$2,SUM(G413,I413,K413,M413,O413),PMT($O$25,SUM($G$17),($O$10)*-1)+O413+M413+K413)))","v":10909.409944960138},null,334150.43251982867]
["2058-01-02","",381,"1901-01-15","Retorno",null,{"$f":"IFERROR(IF(C414=\"\",\"\",IF(E414<>\"Retorno\",0,IF($G$20=Parâmetros!$D$2,Simulador!$O$10/$G$17,IF($G$20=Parâmetros!$D$3,Simulador!Q414-Simulador!O414-Simulador!M414-Simulador!K414-Simulador!I414,\"\")))),\"\")","v":6875.6588708295403},null,3245.8868752770359,null,0,null,{"$f":"IFERROR(IF(C414=\"\",\"\",IF($C$10=Parâmetros!$C$3,0,VLOOKUP(A414,'Base de Dados'!$E$3:$G$422,3,FALSE)*S414)),0)","v":706.618963785554},null,{"$f":"IF(C414=\"\",\"\",IF(C415=\"\",0,IF(E414=\"Construção\",0,IF(E414=\"Seguro\",$C$17*'Base de Dados'!$C$2,IF($C$14=Parâmetros!$B$4,0,Simulador!$C$17*'Base de Dados'!$C$2)))))","v":66.400000000000006},null,{"$f":"IF(C414=\"\",\"\",IF(E414<>\"Retorno\",(I414+K414+M414),IF($G$20=Parâmetros!$D$2,SUM(G414,I414,K414,M414,O414),PMT($O$25,SUM($G$17),($O$10)*-1)+O414+M414+K414)))","v":10894.564709892129},null,327274.77364899911]
["2058-02-02","",382,"1901-01-16","Retorno",null,{"$f":"IFERROR(IF(C415=\"\",\"\",IF(E415<>\"Retorno\",0,IF($G$20=Parâmetros!$D$2,Simulador!$O$10/$G$17,IF($G$20=Parâmetros!$D$3,Simulador!Q415-Simulador!O415-Simulador!M415-Simulador!K415-Simulador!I415,\"\")))),\"\")","v":6942.4479835037873},null,3179.0977626027889,null,0,null,{"$f":"IFERROR(IF(C415=\"\",\"\",IF($C$10=Parâmetros!$C$3,0,VLOOKUP(A415,'Base de Dados'!$E$3:$G$422,3,FALSE)*S415)),0)","v":691.62952434437091},null,{"$f":"IF(C415=\"\",\"\",IF(C416=\"\",0,IF(E415=\"Construção\",0,IF(E415=\"Seguro\",$C$17*'Base de Dados'!$C$2,IF($C$14=Parâmetros!$B$4,0,Simulador!$C$17*'Base de Dados'!$C$2)))))","v":66.400000000000006},null,{"$f":"IF(C415=\"\",\"\",IF(E415<>\"Retorno\",(I415+K415+M415),IF($G$20=Parâmetros!$D$2,SUM(G415,I415,K415,M415,O415),PMT($O$25,SUM($G$17),($O$10)*-1)+O415+M415+K415)))","v":10879.575270450947},null,320332.3256654953]
["2058-03-02","",383,"1901-01-17","Retorno",null,{"$f":"IFERROR(IF(C416=\"\",\"\",IF(E416<>\"Retorno\",0,IF($G$20=Parâmetros!$D$2,Simulador!$O$10/$G$17,IF($G$20=Parâmetros!$D$3,Simulador!Q416-Simulador!O416-Simulador!M416-Simulador!K416-Simulador!I416,\"\")))),\"\")","v":7009.8858755394267},null,3111.6598705671495,null,0,null,{"$f":"IFERROR(IF(C416=\"\",\"\",IF($C$10=Parâmetros!$C$3,0,VLOOKUP(A416,'Base de Dados'!$E$3:$G$422,3,FALSE)*S416)),0)","v":676.49447975049372},null,{"$f":"IF(C416=\"\",\"\",IF(C417=\"\",0,IF(E416=\"Construção\",0,IF(E416=\"Seguro\",$C$17*'Base de Dados'!$C$2,IF($C$14=Parâmetros!$B$4,0,Simulador!$C$17*'Base de Dados'!$C$2)))))","v":66.400000000000006},null,{"$f":"IF(C416=\"\",\"\",IF(E416<>\"Retorno\",(I416+K416+M416),IF($G$20=Parâmetros!$D$2,SUM(G416,I416,K416,M416,O416),PMT($O$25,SUM($G$17),($O$10)*-1)+O416+M416+K416)))","v":10864.44022585707},null,313322.43978995585]
["2058-04-02","",384,"1901-01-18","Retorno",null,{"$f":"IFERROR(IF(C417=\"\",\"\",IF(E417<>\"Retorno\",0,IF($G$20=Parâmetros!$D$2,Simulador!$O$10/$G$17,IF($G$20=Parâmetros!$D$3,Simulador!Q417-Simulador!O417-Simulador!M417-Simulador!K417-Simulador!I417,\"\")))),\"\")","v":7077.978849081419},null,3043.5668970251572,null,0,null,{"$f":"IFERROR(IF(C417=\"\",\"\",IF($C$10=Parâmetros!$C$3,0,VLOOKUP(A417,'Base de Dados'!$E$3:$G$422,3,FALSE)*S417)),0)","v":661.21241561744205},null,{"$f":"IF(C417=\"\",\"\",IF(C418=\"\",0,IF(E417=\"Construção\",0,IF(E417=\"Seguro\",$C$17*'Base de Dados'!$C$2,IF($C$14=Parâmetros!$B$4,0,Simulador!$C$17*'Base de Dados'!$C$2)))))","v":66.400000000000006},null,{"$f":"IF(C417=\"\",\"\",IF(E417<>\"Retorno\",(I417+K417+M417),IF($G$20=Parâmetros!$D$2,SUM(G417,I417,K417,M417,O417),PMT($O$25,SUM($G$17),($O$10)*-1)+O417+M417+K417)))","v":10849.158161724017},null,306244.46094087441]
["2058-05-02","",385,"1901-01-19","Retorno",null,{"$f":"IFERROR(IF(C418=\"\",\"\",IF(E418<>\"Retorno\",0,IF($G$20=Parâmetros!$D$2,Simulador!$O$10/$G$17,IF($G$20=Parâmetros!$D$3,Simulador!Q418-Simulador!O418-Simulador!M418-Simulador!K418-Simulador!I418,\"\")))),\"\")","v":7146.7332674924783},null,{"$f":"IFERROR(IF(C418=\"\",\"\",FV($O$25,1,,-S417,0)-S417),\"\")","v":2974.8124786140979},null,0,null,{"$f":"IFERROR(IF(C418=\"\",\"\",IF($C$10=Parâmetros!$C$3,0,VLOOKUP(A418,'Base de Dados'!$E$3:$G$422,3,FALSE)*S418)),0)","v":645.78190381959894},null,{"$f":"IF(C418=\"\",\"\",IF(C419=\"\",0,IF(E418=\"Construção\",0,IF(E418=\"Seguro\",$C$17*'Base de Dados'!$C$2,IF($C$14=Parâmetros!$B$4,0,Simulador!$C$17*'Base de Dados'!$C$2)))))","v":66.400000000000006},null,{"$f":"IF(C418=\"\",\"\",IF(E418<>\"Retorno\",(I418+K418+M418),IF($G$20=Parâmetros!$D$2,SUM(G418,I418,K418,M418,O418),PMT($O$25,SUM($G$17),($O$10)*-1)+O418+M418+K418)))","v":10833.727649926175},null,299097.72767338192]
[{"$f":"IF(C419=\"\",\"\",IF(C418>$G$17,0,EDATE(A418,1)))","v":"2058-06-02"},{"$f":"IF(AND(E419=\"Retorno\",E418<>\"Retorno\"),\"Primeira\",IF(AND(E419=\"Retorno\",E418=\"\"),\"Primeira\",\"\"))","v":""},{"$f":"IF(OR(C418>=$K$19,C418=\"\"),\"\",C418+1)","v":386},{"$f":"C419","v":"1901-01-20"},{"$f":"IF(C419=\"\",\"\",\"Retorno\")","v":"Retorno"},null,{"$f":"IFERROR(IF(C419=\"\",\"\",IF(E419<>\"Retorno\",0,IF($G$20=Parâmetros!$D$2,Simulador!$O$10/$G$17,IF($G$20=Parâmetros!$D$3,Simulador!Q419-Simulador!O419-Simulador!M419-Simulador!K419-Simulador!I419,\"\")))),\"\")","v":7216.1555559484204},null,2905.3901901581557,null,{"$f":"IF(C419=\"\",\"\",IF(AND($O$23<12.01%,$C$17<2250000.01),25,0))","v":0},null,{"$f":"IFERROR(IF(C419=\"\",\"\",IF($C$10=Parâmetros!$C$3,0,VLOOKUP(A419,'Base de Dados'!$E$3:$G$422,3,FALSE)*S419)),0)","v":630.20150235875064},null,{"$f":"IF(C419=\"\",\"\",IF(C420=\"\",0,IF(E419=\"Construção\",0,IF(E419=\"Seguro\",$C$17*'Base de Dados'!$C$2,IF($C$14=Parâmetros!$B$4,0,Simulador!$C$17*'Base de Dados'!$C$2)))))","v":66.400000000000006},null,{"$f":"IF(C419=\"\",\"\",IF(E419<>\"Retorno\",(I419+K419+M419),IF($G$20=Parâmetros!$D$2,SUM(G419,I419,K419,M419,O419),PMT($O$25,SUM($G$17),($O$10)*-1)+O419+M419+K419)))","v":10818.147248465326},null,{"$f":"IF(E419=\"Construção\",S418+(U419*-1),IF(E419=\"Carência\",S418,IF(E419=\"Retorno\",S418-G419,\"\")))","v":291881.57211743348}]
["2058-07-02","",387,"1901-01-21","Retorno",null,{"$f":"IFERROR(IF(C420=\"\",\"\",IF(E420<>\"Retorno\",0,IF($G$20=Parâmetros!$D$2,Simulador!$O$10/$G$17,IF($G$20=Parâmetros!$D$3,Simulador!Q420-Simulador!O420-Simulador!M420-Simulador!K420-Simulador!I420,\"\")))),\"\")","v":7286.2522020379347},null,2835.2935440686415,null,0,null,{"$f":"IFERROR(IF(C420=\"\",\"\",IF($C$10=Parâmetros!$C$3,0,VLOOKUP(A420,'Base de Dados'!$E$3:$G$422,3,FALSE)*S420)),0)","v":614.46975522933053},null,{"$f":"IF(C420=\"\",\"\",IF(C421=\"\",0,IF(E420=\"Construção\",0,IF(E420=\"Seguro\",$C$17*'Base de Dados'!$C$2,IF($C$14=Parâmetros!$B$4,0,Simulador!$C$17*'Base de Dados'!$C$2)))))","v":66.400000000000006},null,{"$f":"IF(C420=\"\",\"\",IF(E420<>\"Retorno\",(I420+K420+M420),IF($G$20=Parâmetros!$D$2,SUM(G420,I420,K420,M420,O420),PMT($O$25,SUM($G$17),($O$10)*-1)+O420+M420+K420)))","v":10802.415501335907},null,284595.31991539552]
["2058-08-02","",388,"1901-01-22","Retorno",null,{"$f":"IFERROR(IF(C421=\"\",\"\",IF(E421<>\"Retorno\",0,IF($G$20=Parâmetros!$D$2,Simulador!$O$10/$G$17,IF($G$20=Parâmetros!$D$3,Simulador!Q421-Simulador!O421-Simulador!M421-Simulador!K421-Simulador!I421,\"\")))),\"\")","v":7357.0297563693985},null,2764.5159897371777,null,0,null,{"$f":"IFERROR(IF(C421=\"\",\"\",IF($C$10=Parâmetros!$C$3,0,VLOOKUP(A421,'Base de Dados'!$E$3:$G$422,3,FALSE)*S421)),0)","v":598.58519228235332},null,{"$f":"IF(C421=\"\",\"\",IF(C422=\"\",0,IF(E421=\"Construção\",0,IF(E421=\"Seguro\",$C$17*'Base de Dados'!$C$2,IF($C$14=Parâmetros!$B$4,0,Simulador!$C$17*'Base de Dados'!$C$2)))))","v":66.400000000000006},null,{"$f":"IF(C421=\"\",\"\",IF(E421<>\"Retorno\",(I421+K421+M421),IF($G$20=Parâmetros!$D$2,SUM(G421,I421,K421,M421,O421),PMT($O$25,SUM($G$17),($O$10)*-1)+O421+M421+K421)))","v":10786.530938388929},null,277238.2901590261]
["2058-09-02","",389,"1901-01-23","Retorno",null,{"$f":"IFERROR(IF(C422=\"\",\"\",IF(E422<>\"Retorno\",0,IF($G$20=Parâmetros!$D$2,Simulador!$O$10/$G$17,IF($G$20=Parâmetros!$D$3,Simulador!Q422-Simulador!O422-Simulador!M422-Simulador!K422-Simulador!I422,\"\")))),\"\")","v":7428.4948331826981},null,2693.0509129238781,null,0,null,{"$f":"IFERROR(IF(C422=\"\",\"\",IF($C$10=Parâmetros!$C$3,0,VLOOKUP(A422,'Base de Dados'!$E$3:$G$422,3,FALSE)*S422)),0)","v":788.41120292164692},null,{"$f":"IF(C422=\"\",\"\",IF(C423=\"\",0,IF(E422=\"Construção\",0,IF(E422=\"Seguro\",$C$17*'Base de Dados'!$C$2,IF($C$14=Parâmetros!$B$4,0,Simulador!$C$17*'Base de Dados'!$C$2)))))","v":66.400000000000006},null,{"$f":"IF(C422=\"\",\"\",IF(E422<>\"Retorno\",(I422+K422+M422),IF($G$20=Parâmetros!$D$2,SUM(G422,I422,K422,M422,O422),PMT($O$25,SUM($G$17),($O$10)*-1)+O422+M422+K422)))","v":10976.356949028223},null,269809.79532584338]
["2058-10-02","",390,"1901-01-24","Retorno",null,{"$f":"IFERROR(IF(C423=\"\",\"\",IF(E423<>\"Retorno\",0,IF($G$20=Parâmetros!$D$2,Simulador!$O$10/$G$17,IF($G$20=Parâmetros!$D$3,Simulador!Q423-Simulador!O423-Simulador!M423-Simulador!K423-Simulador!I423,\"\")))),\"\")","v":7500.6541109674527},null,2620.8916351391235,null,0,null,{"$f":"IFERROR(IF(C423=\"\",\"\",IF($C$10=Parâmetros!$C$3,0,VLOOKUP(A423,'Base de Dados'!$E$3:$G$422,3,FALSE)*S423)),0)","v":766.49354154398884},null,{"$f":"IF(C423=\"\",\"\",IF(C424=\"\",0,IF(E423=\"Construção\",0,IF(E423=\"Seguro\",$C$17*'Base de Dados'!$C$2,IF($C$14=Parâmetros!$B$4,0,Simulador!$C$17*'Base de Dados'!$C$2)))))","v":66.400000000000006},null,{"$f":"IF(C423=\"\",\"\",IF(E423<>\"Retorno\",(I423+K423+M423),IF($G$20=Parâmetros!$D$2,SUM(G423,I423,K423,M423,O423),PMT($O$25,SUM($G$17),($O$10)*-1)+O423+M423+K423)))","v":10954.439287650564},null,262309.14121487591]
["2058-11-02","",391,"1901-01-25","Retorno",null,{"$f":"IFERROR(IF(C424=\"\",\"\",IF(E424<>\"Retorno\",0,IF($G$20=Parâmetros!$D$2,Simulador!$O$10/$G$17,IF($G$20=Parâmetros!$D$3,Simulador!Q424-Simulador!O424-Simulador!M424-Simulador!K424-Simulador!I424,\"\")))),\"\")","v":7573.514333087116},null,2548.0314130194602,null,0,null,{"$f":"IFERROR(IF(C424=\"\",\"\",IF($C$10=Parâmetros!$C$3,0,VLOOKUP(A424,'Base de Dados'!$E$3:$G$422,3,FALSE)*S424)),0)","v":744.36297531127502},null,{"$f":"IF(C424=\"\",\"\",IF(C425=\"\",0,IF(E424=\"Construção\",0,IF(E424=\"Seguro\",$C$17*'Base de Dados'!$C$2,IF($C$14=Parâmetros!$B$4,0,Simulador!$C$17*'Base de Dados'!$C$2)))))","v":66.400000000000006},null,{"$f":"IF(C424=\"\",\"\",IF(E424<>\"Retorno\",(I424+K424+M424),IF($G$20=Parâmetros!$D$2,SUM(G424,I424,K424,M424,O424),PMT($O$25,SUM($G$17),($O$10)*-1)+O424+M424+K424)))","v":10932.30872141785},null,254735.6268817888]
["2058-12-02","",392,"1901-01-26","Retorno",null,{"$f":"IFERROR(IF(C425=\"\",\"\",IF(E425<>\"Retorno\",0,IF($G$20=Parâmetros!$D$2,Simulador!$O$10/$G$17,IF($G$20=Parâmetros!$D$3,Simulador!Q425-Simulador!O425-Simulador!M425-Simulador!K425-Simulador!I425,\"\")))),\"\")","v":7647.0823084092499},null,2474.4634376973263,null,0,null,{"$f":"IFERROR(IF(C425=\"\",\"\",IF($C$10=Parâmetros!$C$3,0,VLOOKUP(A425,'Base de Dados'!$E$3:$G$422,3,FALSE)*S425)),0)","v":722.01743609787241},null,{"$f":"IF(C425=\"\",\"\",IF(C426=\"\",0,IF(E425=\"Construção\",0,IF(E425=\"Seguro\",$C$17*'Base de Dados'!$C$2,IF($C$14=Parâmetros!$B$4,0,Simulador!$C$17*'Base de Dados'!$C$2)))))","v":66.400000000000006},null,{"$f":"IF(C425=\"\",\"\",IF(E425<>\"Retorno\",(I425+K425+M425),IF($G$20=Parâmetros!$D$2,SUM(G425,I425,K425,M425,O425),PMT($O$25,SUM($G$17),($O$10)*-1)+O425+M425+K425)))","v":10909.963182204448},null,247088.54457337956]
["2059-01-02","",393,"1901-01-27","Retorno",null,{"$f":"IFERROR(IF(C426=\"\",\"\",IF(E426<>\"Retorno\",0,IF($G$20=Parâmetros!$D$2,Simulador!$O$10/$G$17,IF($G$20=Parâmetros!$D$3,Simulador!Q426-Simulador!O426-Simulador!M426-Simulador!K426-Simulador!I426,\"\")))),\"\")","v":7721.3649119415877},null,2400.1808341649885,null,0,null,{"$f":"IFERROR(IF(C426=\"\",\"\",IF($C$10=Parâmetros!$C$3,0,VLOOKUP(A426,'Base de Dados'!$E$3:$G$422,3,FALSE)*S426)),0)","v":699.45483568868792},null,{"$f":"IF(C426=\"\",\"\",IF(C427=\"\",0,IF(E426=\"Construção\",0,IF(E426=\"Seguro\",$C$17*'Base de Dados'!$C$2,IF($C$14=Parâmetros!$B$4,0,Simulador!$C$17*'Base de Dados'!$C$2)))))","v":66.400000000000006},null,{"$f":"IF(C426=\"\",\"\",IF(E426<>\"Retorno\",(I426+K426+M426),IF($G$20=Parâmetros!$D$2,SUM(G426,I426,K426,M426,O426),PMT($O$25,SUM($G$17),($O$10)*-1)+O426+M426+K426)))","v":10887.400581795264},null,239367.17966143799]
["2059-02-02","",394,"1901-01-28","Retorno",null,{"$f":"IFERROR(IF(C427=\"\",\"\",IF(E427<>\"Retorno\",0,IF($G$20=Parâmetros!$D$2,Simulador!$O$10/$G$17,IF($G$20=Parâmetros!$D$3,Simulador!Q427-Simulador!O427-Simulador!M427-Simulador!K427-Simulador!I427,\"\")))),\"\")","v":7796.3690854747347},null,2325.1766606318415,null,0,null,{"$f":"IFERROR(IF(C427=\"\",\"\",IF($C$10=Parâmetros!$C$3,0,VLOOKUP(A427,'Base de Dados'!$E$3:$G$422,3,FALSE)*S427)),0)","v":676.6730655840222},null,{"$f":"IF(C427=\"\",\"\",IF(C428=\"\",0,IF(E427=\"Construção\",0,IF(E427=\"Seguro\",$C$17*'Base de Dados'!$C$2,IF($C$14=Parâmetros!$B$4,0,Simulador!$C$17*'Base de Dados'!$C$2)))))","v":66.400000000000006},null,{"$f":"IF(C427=\"\",\"\",IF(E427<>\"Retorno\",(I427+K427+M427),IF($G$20=Parâmetros!$D$2,SUM(G427,I427,K427,M427,O427),PMT($O$25,SUM($G$17),($O$10)*-1)+O427+M427+K427)))","v":10864.618811690598},null,231570.81057596326]
["2059-03-02","",395,"1901-01-29","Retorno",null,{"$f":"IFERROR(IF(C428=\"\",\"\",IF(E428<>\"Retorno\",0,IF($G$20=Parâmetros!$D$2,Simulador!$O$10/$G$17,IF($G$20=Parâmetros!$D$3,Simulador!Q428-Simulador!O428-Simulador!M428-Simulador!K428-Simulador!I428,\"\")))),\"\")","v":7872.1018382308048},null,2249.4439078757714,null,0,null,{"$f":"IFERROR(IF(C428=\"\",\"\",IF($C$10=Parâmetros!$C$3,0,VLOOKUP(A428,'Base de Dados'!$E$3:$G$422,3,FALSE)*S428)),0)","v":653.66999680252798},null,{"$f":"IF(C428=\"\",\"\",IF(C429=\"\",0,IF(E428=\"Construção\",0,IF(E428=\"Seguro\",$C$17*'Base de Dados'!$C$2,IF($C$14=Parâmetros!$B$4,0,Simulador!$C$17*'Base de Dados'!$C$2)))))","v":66.400000000000006},null,{"$f":"IF(C428=\"\",\"\",IF(E428<>\"Retorno\",(I428+K428+M428),IF($G$20=Parâmetros!$D$2,SUM(G428,I428,K428,M428,O428),PMT($O$25,SUM($G$17),($O$10)*-1)+O428+M428+K428)))","v":10841.615742909104},null,223698.70873773246]
["2059-04-02","",396,"1901-01-30","Retorno",null,{"$f":"IFERROR(IF(C429=\"\",\"\",IF(E429<>\"Retorno\",0,IF($G$20=Parâmetros!$D$2,Simulador!$O$10/$G$17,IF($G$20=Parâmetros!$D$3,Simulador!Q429-Simulador!O429-Simulador!M429-Simulador!K429-Simulador!I429,\"\")))),\"\")","v":7948.5702475184025},null,2172.9754985881737,null,0,null,{"$f":"IFERROR(IF(C429=\"\",\"\",IF($C$10=Parâmetros!$C$3,0,VLOOKUP(A429,'Base de Dados'!$E$3:$G$422,3,FALSE)*S429)),0)","v":630.44347968225452},null,{"$f":"IF(C429=\"\",\"\",IF(C430=\"\",0,IF(E429=\"Construção\",0,IF(E429=\"Seguro\",$C$17*'Base de Dados'!$C$2,IF($C$14=Parâmetros!$B$4,0,Simulador!$C$17*'Base de Dados'!$C$2)))))","v":66.400000000000006},null,{"$f":"IF(C429=\"\",\"\",IF(E429<>\"Retorno\",(I429+K429+M429),IF($G$20=Parâmetros!$D$2,SUM(G429,I429,K429,M429,O429),PMT($O$25,SUM($G$17),($O$10)*-1)+O429+M429+K429)))","v":10818.389225788831},null,215750.13849021407]
["2059-05-02","",397,"1901-01-31","Retorno",null,{"$f":"IFERROR(IF(C430=\"\",\"\",IF(E430<>\"Retorno\",0,IF($G$20=Parâmetros!$D$2,Simulador!$O$10/$G$17,IF($G$20=Parâmetros!$D$3,Simulador!Q430-Simulador!O430-Simulador!M430-Simulador!K430-Simulador!I430,\"\")))),\"\")","v":8025.7814593940948},null,2095.7642867124814,null,0,null,{"$f":"IFERROR(IF(C430=\"\",\"\",IF($C$10=Parâmetros!$C$3,0,VLOOKUP(A430,'Base de Dados'!$E$3:$G$422,3,FALSE)*S430)),0)","v":606.9913436797591},null,{"$f":"IF(C430=\"\",\"\",IF(C431=\"\",0,IF(E430=\"Construção\",0,IF(E430=\"Seguro\",$C$17*'Base de Dados'!$C$2,IF($C$14=Parâmetros!$B$4,0,Simulador!$C$17*'Base de Dados'!$C$2)))))","v":66.400000000000006},null,{"$f":"IF(C430=\"\",\"\",IF(E430<>\"Retorno\",(I430+K430+M430),IF($G$20=Parâmetros!$D$2,SUM(G430,I430,K430,M430,O430),PMT($O$25,SUM($G$17),($O$10)*-1)+O430+M430+K430)))","v":10794.937089786335},null,207724.35703081999]
["2059-06-02","",398,"1901-02-01","Retorno",null,{"$f":"IFERROR(IF(C431=\"\",\"\",IF(E431<>\"Retorno\",0,IF($G$20=Parâmetros!$D$2,Simulador!$O$10/$G$17,IF($G$20=Parâmetros!$D$3,Simulador!Q431-Simulador!O431-Simulador!M431-Simulador!K431-Simulador!I431,\"\")))),\"\")","v":8103.7426893300817},null,2017.8030567764945,null,0,null,{"$f":"IFERROR(IF(C431=\"\",\"\",IF($C$10=Parâmetros!$C$3,0,VLOOKUP(A431,'Base de Dados'!$E$3:$G$422,3,FALSE)*S431)),0)","v":583.31139716726761},null,{"$f":"IF(C431=\"\",\"\",IF(C432=\"\",0,IF(E431=\"Construção\",0,IF(E431=\"Seguro\",$C$17*'Base de Dados'!$C$2,IF($C$14=Parâmetros!$B$4,0,Simulador!$C$17*'Base de Dados'!$C$2)))))","v":66.400000000000006},null,{"$f":"IF(C431=\"\",\"\",IF(E431<>\"Retorno\",(I431+K431+M431),IF($G$20=Parâmetros!$D$2,SUM(G431,I431,K431,M431,O431),PMT($O$25,SUM($G$17),($O$10)*-1)+O431+M431+K431)))","v":10771.257143273844},null,199620.61434148991]
["2059-07-02","",399,"1901-02-02","Retorno",null,{"$f":"IFERROR(IF(C432=\"\",\"\",IF(E432<>\"Retorno\",0,IF($G$20=Parâmetros!$D$2,Simulador!$O$10/$G$17,IF($G$20=Parâmetros!$D$3,Simulador!Q432-Simulador!O432-Simulador!M432-Simulador!K432-Simulador!I432,\"\")))),\"\")","v":8182.4612228886199},null,1939.0845232179563,null,0,null,{"$f":"IFERROR(IF(C432=\"\",\"\",IF($C$10=Parâmetros!$C$3,0,VLOOKUP(A432,'Base de Dados'!$E$3:$G$422,3,FALSE)*S432)),0)","v":559.40142722786481},null,{"$f":"IF(C432=\"\",\"\",IF(C433=\"\",0,IF(E432=\"Construção\",0,IF(E432=\"Seguro\",$C$17*'Base de Dados'!$C$2,IF($C$14=Parâmetros!$B$4,0,Simulador!$C$17*'Base de Dados'!$C$2)))))","v":66.400000000000006},null,{"$f":"IF(C432=\"\",\"\",IF(E432<>\"Retorno\",(I432+K432+M432),IF($G$20=Parâmetros!$D$2,SUM(G432,I432,K432,M432,O432),PMT($O$25,SUM($G$17),($O$10)*-1)+O432+M432+K432)))","v":10747.347173334441},null,191438.1531186013]
["2059-08-02","",400,"1901-02-03","Retorno",null,{"$f":"IFERROR(IF(C433=\"\",\"\",IF(E433<>\"Retorno\",0,IF($G$20=Parâmetros!$D$2,Simulador!$O$10/$G$17,IF($G$20=Parâmetros!$D$3,Simulador!Q433-Simulador!O433-Simulador!M433-Simulador!K433-Simulador!I433,\"\")))),\"\")","v":8261.9444164028773},null,1859.6013297036989,null,0,null,{"$f":"IFERROR(IF(C433=\"\",\"\",IF($C$10=Parâmetros!$C$3,0,VLOOKUP(A433,'Base de Dados'!$E$3:$G$422,3,FALSE)*S433)),0)","v":535.25919944869406},null,{"$f":"IF(C433=\"\",\"\",IF(C434=\"\",0,IF(E433=\"Construção\",0,IF(E433=\"Seguro\",$C$17*'Base de Dados'!$C$2,IF($C$14=Parâmetros!$B$4,0,Simulador!$C$17*'Base de Dados'!$C$2)))))","v":66.400000000000006},null,{"$f":"IF(C433=\"\",\"\",IF(E433<>\"Retorno\",(I433+K433+M433),IF($G$20=Parâmetros!$D$2,SUM(G433,I433,K433,M433,O433),PMT($O$25,SUM($G$17),($O$10)*-1)+O433+M433+K433)))","v":10723.20494555527},null,183176.20870219843]
["2059-09-02","",401,"1901-02-04","Retorno",null,{"$f":"IFERROR(IF(C434=\"\",\"\",IF(E434<>\"Retorno\",0,IF($G$20=Parâmetros!$D$2,Simulador!$O$10/$G$17,IF($G$20=Parâmetros!$D$3,Simulador!Q434-Simulador!O434-Simulador!M434-Simulador!K434-Simulador!I434,\"\")))),\"\")","v":8342.1996976641894},null,1779.3460484423849,null,0,null,{"$f":"IFERROR(IF(C434=\"\",\"\",IF($C$10=Parâmetros!$C$3,0,VLOOKUP(A434,'Base de Dados'!$E$3:$G$422,3,FALSE)*S434)),0)","v":510.88245771214952},null,{"$f":"IF(C434=\"\",\"\",IF(C435=\"\",0,IF(E434=\"Construção\",0,IF(E434=\"Seguro\",$C$17*'Base de Dados'!$C$2,IF($C$14=Parâmetros!$B$4,0,Simulador!$C$17*'Base de Dados'!$C$2)))))","v":66.400000000000006},null,{"$f":"IF(C434=\"\",\"\",IF(E434<>\"Retorno\",(I434+K434+M434),IF($G$20=Parâmetros!$D$2,SUM(G434,I434,K434,M434,O434),PMT($O$25,SUM($G$17),($O$10)*-1)+O434+M434+K434)))","v":10698.828203818724},null,174834.00900453425]
["2059-10-02","",402,"1901-02-05","Retorno",null,{"$f":"IFERROR(IF(C435=\"\",\"\",IF(E435<>\"Retorno\",0,IF($G$20=Parâmetros!$D$2,Simulador!$O$10/$G$17,IF($G$20=Parâmetros!$D$3,Simulador!Q435-Simulador!O435-Simulador!M435-Simulador!K435-Simulador!I435,\"\")))),\"\")","v":8423.2345666164565},null,1698.3111794901197,null,0,null,{"$f":"IFERROR(IF(C435=\"\",\"\",IF($C$10=Parâmetros!$C$3,0,VLOOKUP(A435,'Base de Dados'!$E$3:$G$422,3,FALSE)*S435)),0)","v":486.26892398503963},null,{"$f":"IF(C435=\"\",\"\",IF(C436=\"\",0,IF(E435=\"Construção\",0,IF(E435=\"Seguro\",$C$17*'Base de Dados'!$C$2,IF($C$14=Parâmetros!$B$4,0,Simulador!$C$17*'Base de Dados'!$C$2)))))","v":66.400000000000006},null,{"$f":"IF(C435=\"\",\"\",IF(E435<>\"Retorno\",(I435+K435+M435),IF($G$20=Parâmetros!$D$2,SUM(G435,I435,K435,M435,O435),PMT($O$25,SUM($G$17),($O$10)*-1)+O435+M435+K435)))","v":10674.214670091615},null,166410.7744379178]
["2059-11-02","",403,"1901-02-06","Retorno",null,{"$f":"IFERROR(IF(C436=\"\",\"\",IF(E436<>\"Retorno\",0,IF($G$20=Parâmetros!$D$2,Simulador!$O$10/$G$17,IF($G$20=Parâmetros!$D$3,Simulador!Q436-Simulador!O436-Simulador!M436-Simulador!K436-Simulador!I436,\"\")))),\"\")","v":8505.0565960568583},null,1616.4891500497179,null,0,null,{"$f":"IFERROR(IF(C436=\"\",\"\",IF($C$10=Parâmetros!$C$3,0,VLOOKUP(A436,'Base de Dados'!$E$3:$G$422,3,FALSE)*S436)),0)","v":461.41629810570191},null,{"$f":"IF(C436=\"\",\"\",IF(C437=\"\",0,IF(E436=\"Construção\",0,IF(E436=\"Seguro\",$C$17*'Base de Dados'!$C$2,IF($C$14=Parâmetros!$B$4,0,Simulador!$C$17*'Base de Dados'!$C$2)))))","v":66.400000000000006},null,{"$f":"IF(C436=\"\",\"\",IF(E436<>\"Retorno\",(I436+K436+M436),IF($G$20=Parâmetros!$D$2,SUM(G436,I436,K436,M436,O436),PMT($O$25,SUM($G$17),($O$10)*-1)+O436+M436+K436)))","v":10649.362044212277},null,157905.71784186095]
["2059-12-02","",404,"1901-02-07","Retorno",null,{"$f":"IFERROR(IF(C437=\"\",\"\",IF(E437<>\"Retorno\",0,IF($G$20=Parâmetros!$D$2,Simulador!$O$10/$G$17,IF($G$20=Parâmetros!$D$3,Simulador!Q437-Simulador!O437-Simulador!M437-Simulador!K437-Simulador!I437,\"\")))),\"\")","v":8587.6734323435903},null,1533.8723137629859,null,0,null,{"$f":"IFERROR(IF(C437=\"\",\"\",IF($C$10=Parâmetros!$C$3,0,VLOOKUP(A437,'Base de Dados'!$E$3:$G$422,3,FALSE)*S437)),0)","v":436.32225756905069},null,{"$f":"IF(C437=\"\",\"\",IF(C438=\"\",0,IF(E437=\"Construção\",0,IF(E437=\"Seguro\",$C$17*'Base de Dados'!$C$2,IF($C$14=Parâmetros!$B$4,0,Simulador!$C$17*'Base de Dados'!$C$2)))))","v":66.400000000000006},null,{"$f":"IF(C437=\"\",\"\",IF(E437<>\"Retorno\",(I437+K437+M437),IF($G$20=Parâmetros!$D$2,SUM(G437,I437,K437,M437,O437),PMT($O$25,SUM($G$17),($O$10)*-1)+O437+M437+K437)))","v":10624.268003675626},null,149318.04440951737]
["2060-01-02","",405,"1901-02-08","Retorno",null,{"$f":"IFERROR(IF(C438=\"\",\"\",IF(E438<>\"Retorno\",0,IF($G$20=Parâmetros!$D$2,Simulador!$O$10/$G$17,IF($G$20=Parâmetros!$D$3,Simulador!Q438-Simulador!O438-Simulador!M438-Simulador!K438-Simulador!I438,\"\")))),\"\")","v":8671.0927961103826},null,1450.4529499961936,null,0,null,{"$f":"IFERROR(IF(C438=\"\",\"\",IF($C$10=Parâmetros!$C$3,0,VLOOKUP(A438,'Base de Dados'!$E$3:$G$422,3,FALSE)*S438)),0)","v":410.98445730953659},null,{"$f":"IF(C438=\"\",\"\",IF(C439=\"\",0,IF(E438=\"Construção\",0,IF(E438=\"Seguro\",$C$17*'Base de Dados'!$C$2,IF($C$14=Parâmetros!$B$4,0,Simulador!$C$17*'Base de Dados'!$C$2)))))","v":66.400000000000006},null,{"$f":"IF(C438=\"\",\"\",IF(E438<>\"Retorno\",(I438+K438+M438),IF($G$20=Parâmetros!$D$2,SUM(G438,I438,K438,M438,O438),PMT($O$25,SUM($G$17),($O$10)*-1)+O438+M438+K438)))","v":10598.930203416112},null,140646.951613407]
["2060-02-02","",406,"1901-02-09","Retorno",null,{"$f":"IFERROR(IF(C439=\"\",\"\",IF(E439<>\"Retorno\",0,IF($G$20=Parâmetros!$D$2,Simulador!$O$10/$G$17,IF($G$20=Parâmetros!$D$3,Simulador!Q439-Simulador!O439-Simulador!M439-Simulador!K439-Simulador!I439,\"\")))),\"\")","v":8755.322482988131},null,1366.2232631184452,null,0,null,{"$f":"IFERROR(IF(C439=\"\",\"\",IF($C$10=Parâmetros!$C$3,0,VLOOKUP(A439,'Base de Dados'!$E$3:$G$422,3,FALSE)*S439)),0)","v":385.40052948199701},null,{"$f":"IF(C439=\"\",\"\",IF(C440=\"\",0,IF(E439=\"Construção\",0,IF(E439=\"Seguro\",$C$17*'Base de Dados'!$C$2,IF($C$14=Parâmetros!$B$4,0,Simulador!$C$17*'Base de Dados'!$C$2)))))","v":66.400000000000006},null,{"$f":"IF(C439=\"\",\"\",IF(E439<>\"Retorno\",(I439+K439+M439),IF($G$20=Parâmetros!$D$2,SUM(G439,I439,K439,M439,O439),PMT($O$25,SUM($G$17),($O$10)*-1)+O439+M439+K439)))","v":10573.346275588572},null,131891.62913041888]
["2060-03-02","",407,"1901-02-10","Retorno",null,{"$f":"IFERROR(IF(C440=\"\",\"\",IF(E440<>\"Retorno\",0,IF($G$20=Parâmetros!$D$2,Simulador!$O$10/$G$17,IF($G$20=Parâmetros!$D$3,Simulador!Q440-Simulador!O440-Simulador!M440-Simulador!K440-Simulador!I440,\"\")))),\"\")","v":8840.3703643331919},null,1281.1753817733843,null,0,null,{"$f":"IFERROR(IF(C440=\"\",\"\",IF($C$10=Parâmetros!$C$3,0,VLOOKUP(A440,'Base de Dados'!$E$3:$G$422,3,FALSE)*S440)),0)","v":359.56808324037894},null,{"$f":"IF(C440=\"\",\"\",IF(C441=\"\",0,IF(E440=\"Construção\",0,IF(E440=\"Seguro\",$C$17*'Base de Dados'!$C$2,IF($C$14=Parâmetros!$B$4,0,Simulador!$C$17*'Base de Dados'!$C$2)))))","v":66.400000000000006},null,{"$f":"IF(C440=\"\",\"\",IF(E440<>\"Retorno\",(I440+K440+M440),IF($G$20=Parâmetros!$D$2,SUM(G440,I440,K440,M440,O440),PMT($O$25,SUM($G$17),($O$10)*-1)+O440+M440+K440)))","v":10547.513829346955},null,123051.25876608568]
["2060-04-02","",408,"1901-02-11","Retorno",null,{"$f":"IFERROR(IF(C441=\"\",\"\",IF(E441<>\"Retorno\",0,IF($G$20=Parâmetros!$D$2,Simulador!$O$10/$G$17,IF($G$20=Parâmetros!$D$3,Simulador!Q441-Simulador!O441-Simulador!M441-Simulador!K441-Simulador!I441,\"\")))),\"\")","v":8926.2443879631701},null,1195.3013581434061,null,0,null,{"$f":"IFERROR(IF(C441=\"\",\"\",IF($C$10=Parâmetros!$C$3,0,VLOOKUP(A441,'Base de Dados'!$E$3:$G$422,3,FALSE)*S441)),0)","v":333.48470451431177},null,{"$f":"IF(C441=\"\",\"\",IF(C442=\"\",0,IF(E441=\"Construção\",0,IF(E441=\"Seguro\",$C$17*'Base de Dados'!$C$2,IF($C$14=Parâmetros!$B$4,0,Simulador!$C$17*'Base de Dados'!$C$2)))))","v":66.400000000000006},null,{"$f":"IF(C441=\"\",\"\",IF(E441<>\"Retorno\",(I441+K441+M441),IF($G$20=Parâmetros!$D$2,SUM(G441,I441,K441,M441,O441),PMT($O$25,SUM($G$17),($O$10)*-1)+O441+M441+K441)))","v":10521.430450620888},null,114125.01437812251]
["2060-05-02","",409,"1901-02-12","Retorno",null,{"$f":"IFERROR(IF(C442=\"\",\"\",IF(E442<>\"Retorno\",0,IF($G$20=Parâmetros!$D$2,Simulador!$O$10/$G$17,IF($G$20=Parâmetros!$D$3,Simulador!Q442-Simulador!O442-Simulador!M442-Simulador!K442-Simulador!I442,\"\")))),\"\")","v":9012.9525788995616},null,1108.5931672070146,null,0,null,{"$f":"IFERROR(IF(C442=\"\",\"\",IF($C$10=Parâmetros!$C$3,0,VLOOKUP(A442,'Base de Dados'!$E$3:$G$422,3,FALSE)*S442)),0)","v":307.14795578350936},null,{"$f":"IF(C442=\"\",\"\",IF(C443=\"\",0,IF(E442=\"Construção\",0,IF(E442=\"Seguro\",$C$17*'Base de Dados'!$C$2,IF($C$14=Parâmetros!$B$4,0,Simulador!$C$17*'Base de Dados'!$C$2)))))","v":66.400000000000006},null,{"$f":"IF(C442=\"\",\"\",IF(E442<>\"Retorno\",(I442+K442+M442),IF($G$20=Parâmetros!$D$2,SUM(G442,I442,K442,M442,O442),PMT($O$25,SUM($G$17),($O$10)*-1)+O442+M442+K442)))","v":10495.093701890086},null,105112.06179922294]
["2060-06-02","",410,"1901-02-13","Retorno",null,{"$f":"IFERROR(IF(C443=\"\",\"\",IF(E443<>\"Retorno\",0,IF($G$20=Parâmetros!$D$2,Simulador!$O$10/$G$17,IF($G$20=Parâmetros!$D$3,Simulador!Q443-Simulador!O443-Simulador!M443-Simulador!K443-Simulador!I443,\"\")))),\"\")","v":9100.5030401176718},null,1021.0427059889043,null,0,null,{"$f":"IFERROR(IF(C443=\"\",\"\",IF($C$10=Parâmetros!$C$3,0,VLOOKUP(A443,'Base de Dados'!$E$3:$G$422,3,FALSE)*S443)),0)","v":280.55537584998149},null,{"$f":"IF(C443=\"\",\"\",IF(C444=\"\",0,IF(E443=\"Construção\",0,IF(E443=\"Seguro\",$C$17*'Base de Dados'!$C$2,IF($C$14=Parâmetros!$B$4,0,Simulador!$C$17*'Base de Dados'!$C$2)))))","v":66.400000000000006},null,{"$f":"IF(C443=\"\",\"\",IF(E443<>\"Retorno\",(I443+K443+M443),IF($G$20=Parâmetros!$D$2,SUM(G443,I443,K443,M443,O443),PMT($O$25,SUM($G$17),($O$10)*-1)+O443+M443+K443)))","v":10468.501121956557},null,96011.558759105261]
["2060-07-02","",411,"1901-02-14","Retorno",null,{"$f":"IFERROR(IF(C444=\"\",\"\",IF(E444<>\"Retorno\",0,IF($G$20=Parâmetros!$D$2,Simulador!$O$10/$G$17,IF($G$20=Parâmetros!$D$3,Simulador!Q444-Simulador!O444-Simulador!M444-Simulador!K444-Simulador!I444,\"\")))),\"\")","v":9188.9039533039413},null,932.64179280263488,null,0,null,{"$f":"IFERROR(IF(C444=\"\",\"\",IF($C$10=Parâmetros!$C$3,0,VLOOKUP(A444,'Base de Dados'!$E$3:$G$422,3,FALSE)*S444)),0)","v":253.70447960803202},null,{"$f":"IF(C444=\"\",\"\",IF(C445=\"\",0,IF(E444=\"Construção\",0,IF(E444=\"Seguro\",$C$17*'Base de Dados'!$C$2,IF($C$14=Parâmetros!$B$4,0,Simulador!$C$17*'Base de Dados'!$C$2)))))","v":66.400000000000006},null,{"$f":"IF(C444=\"\",\"\",IF(E444<>\"Retorno\",(I444+K444+M444),IF($G$20=Parâmetros!$D$2,SUM(G444,I444,K444,M444,O444),PMT($O$25,SUM($G$17),($O$10)*-1)+O444+M444+K444)))","v":10441.650225714608},null,86822.654805801314]
["2060-08-02","",412,"1901-02-15","Retorno",null,{"$f":"IFERROR(IF(C445=\"\",\"\",IF(E445<>\"Retorno\",0,IF($G$20=Parâmetros!$D$2,Simulador!$O$10/$G$17,IF($G$20=Parâmetros!$D$3,Simulador!Q445-Simulador!O445-Simulador!M445-Simulador!K445-Simulador!I445,\"\")))),\"\")","v":9278.1635796204155},null,843.38216648616071,null,0,null,{"$f":"IFERROR(IF(C445=\"\",\"\",IF($C$10=Parâmetros!$C$3,0,VLOOKUP(A445,'Base de Dados'!$E$3:$G$422,3,FALSE)*S445)),0)","v":226.59275781202319},null,{"$f":"IF(C445=\"\",\"\",IF(C446=\"\",0,IF(E445=\"Construção\",0,IF(E445=\"Seguro\",$C$17*'Base de Dados'!$C$2,IF($C$14=Parâmetros!$B$4,0,Simulador!$C$17*'Base de Dados'!$C$2)))))","v":66.400000000000006},null,{"$f":"IF(C445=\"\",\"\",IF(E445<>\"Retorno\",(I445+K445+M445),IF($G$20=Parâmetros!$D$2,SUM(G445,I445,K445,M445,O445),PMT($O$25,SUM($G$17),($O$10)*-1)+O445+M445+K445)))","v":10414.538503918599},null,77544.491226180893]
["2060-09-02","",413,"1901-02-16","Retorno",null,{"$f":"IFERROR(IF(C446=\"\",\"\",IF(E446<>\"Retorno\",0,IF($G$20=Parâmetros!$D$2,Simulador!$O$10/$G$17,IF($G$20=Parâmetros!$D$3,Simulador!Q446-Simulador!O446-Simulador!M446-Simulador!K446-Simulador!I446,\"\")))),\"\")","v":9368.2902604768842},null,753.25548562969198,null,0,null,{"$f":"IFERROR(IF(C446=\"\",\"\",IF($C$10=Parâmetros!$C$3,0,VLOOKUP(A446,'Base de Dados'!$E$3:$G$422,3,FALSE)*S446)),0)","v":199.21767684188367},null,{"$f":"IF(C446=\"\",\"\",IF(C447=\"\",0,IF(E446=\"Construção\",0,IF(E446=\"Seguro\",$C$17*'Base de Dados'!$C$2,IF($C$14=Parâmetros!$B$4,0,Simulador!$C$17*'Base de Dados'!$C$2)))))","v":66.400000000000006},null,{"$f":"IF(C446=\"\",\"\",IF(E446<>\"Retorno\",(I446+K446+M446),IF($G$20=Parâmetros!$D$2,SUM(G446,I446,K446,M446,O446),PMT($O$25,SUM($G$17),($O$10)*-1)+O446+M446+K446)))","v":10387.163422948459},null,68176.200965704003]
["2060-10-02","",414,"1901-02-17","Retorno",null,{"$f":"IFERROR(IF(C447=\"\",\"\",IF(E447<>\"Retorno\",0,IF($G$20=Parâmetros!$D$2,Simulador!$O$10/$G$17,IF($G$20=Parâmetros!$D$3,Simulador!Q447-Simulador!O447-Simulador!M447-Simulador!K447-Simulador!I447,\"\")))),\"\")","v":9459.2924183102823},null,662.25332779629389,null,0,null,{"$f":"IFERROR(IF(C447=\"\",\"\",IF($C$10=Parâmetros!$C$3,0,VLOOKUP(A447,'Base de Dados'!$E$3:$G$422,3,FALSE)*S447)),0)","v":171.57667846633919},null,{"$f":"IF(C447=\"\",\"\",IF(C448=\"\",0,IF(E447=\"Construção\",0,IF(E447=\"Seguro\",$C$17*'Base de Dados'!$C$2,IF($C$14=Parâmetros!$B$4,0,Simulador!$C$17*'Base de Dados'!$C$2)))))","v":66.400000000000006},null,{"$f":"IF(C447=\"\",\"\",IF(E447<>\"Retorno\",(I447+K447+M447),IF($G$20=Parâmetros!$D$2,SUM(G447,I447,K447,M447,O447),PMT($O$25,SUM($G$17),($O$10)*-1)+O447+M447+K447)))","v":10359.522424572915},null,58716.908547393723]
["2060-11-02","",415,"1901-02-18","Retorno",null,{"$f":"IFERROR(IF(C448=\"\",\"\",IF(E448<>\"Retorno\",0,IF($G$20=Parâmetros!$D$2,Simulador!$O$10/$G$17,IF($G$20=Parâmetros!$D$3,Simulador!Q448-Simulador!O448-Simulador!M448-Simulador!K448-Simulador!I448,\"\")))),\"\")","v":9551.1785573718535},null,570.36718873472273,null,0,null,{"$f":"IFERROR(IF(C448=\"\",\"\",IF($C$10=Parâmetros!$C$3,0,VLOOKUP(A448,'Base de Dados'!$E$3:$G$422,3,FALSE)*S448)),0)","v":143.6671796038429},null,{"$f":"IF(C448=\"\",\"\",IF(C449=\"\",0,IF(E448=\"Construção\",0,IF(E448=\"Seguro\",$C$17*'Base de Dados'!$C$2,IF($C$14=Parâmetros!$B$4,0,Simulador!$C$17*'Base de Dados'!$C$2)))))","v":66.400000000000006},null,{"$f":"IF(C448=\"\",\"\",IF(E448<>\"Retorno\",(I448+K448+M448),IF($G$20=Parâmetros!$D$2,SUM(G448,I448,K448,M448,O448),PMT($O$25,SUM($G$17),($O$10)*-1)+O448+M448+K448)))","v":10331.612925710418},null,49165.729990021871]
["2060-12-02","",416,"1901-02-19","Retorno",null,{"$f":"IFERROR(IF(C449=\"\",\"\",IF(E449<>\"Retorno\",0,IF($G$20=Parâmetros!$D$2,Simulador!$O$10/$G$17,IF($G$20=Parâmetros!$D$3,Simulador!Q449-Simulador!O449-Simulador!M449-Simulador!K449-Simulador!I449,\"\")))),\"\")","v":9643.957264521845},null,477.5884815847312,null,0,null,{"$f":"IFERROR(IF(C449=\"\",\"\",IF($C$10=Parâmetros!$C$3,0,VLOOKUP(A449,'Base de Dados'!$E$3:$G$422,3,FALSE)*S449)),0)","v":115.48657208118362},null,{"$f":"IF(C449=\"\",\"\",IF(C450=\"\",0,IF(E449=\"Construção\",0,IF(E449=\"Seguro\",$C$17*'Base de Dados'!$C$2,IF($C$14=Parâmetros!$B$4,0,Simulador!$C$17*'Base de Dados'!$C$2)))))","v":66.400000000000006},null,{"$f":"IF(C449=\"\",\"\",IF(E449<>\"Retorno\",(I449+K449+M449),IF($G$20=Parâmetros!$D$2,SUM(G449,I449,K449,M449,O449),PMT($O$25,SUM($G$17),($O$10)*-1)+O449+M449+K449)))","v":10303.432318187759},null,39521.772725500028]
["2061-01-02","",417,"1901-02-20","Retorno",null,{"$f":"IFERROR(IF(C450=\"\",\"\",IF(E450<>\"Retorno\",0,IF($G$20=Parâmetros!$D$2,Simulador!$O$10/$G$17,IF($G$20=Parâmetros!$D$3,Simulador!Q450-Simulador!O450-Simulador!M450-Simulador!K450-Simulador!I450,\"\")))),\"\")","v":9737.6372100319732},null,383.90853607460303,null,0,null,{"$f":"IFERROR(IF(C450=\"\",\"\",IF($C$10=Parâmetros!$C$3,0,VLOOKUP(A450,'Base de Dados'!$E$3:$G$422,3,FALSE)*S450)),0)","v":87.032222389749208},null,{"$f":"IF(C450=\"\",\"\",IF(C451=\"\",0,IF(E450=\"Construção\",0,IF(E450=\"Seguro\",$C$17*'Base de Dados'!$C$2,IF($C$14=Parâmetros!$B$4,0,Simulador!$C$17*'Base de Dados'!$C$2)))))","v":66.400000000000006},null,{"$f":"IF(C450=\"\",\"\",IF(E450<>\"Retorno\",(I450+K450+M450),IF($G$20=Parâmetros!$D$2,SUM(G450,I450,K450,M450,O450),PMT($O$25,SUM($G$17),($O$10)*-1)+O450+M450+K450)))","v":10274.977968496325},null,29784.135515468057]
["2061-02-02","",418,"1901-02-21","Retorno",null,{"$f":"IFERROR(IF(C451=\"\",\"\",IF(E451<>\"Retorno\",0,IF($G$20=Parâmetros!$D$2,Simulador!$O$10/$G$17,IF($G$20=Parâmetros!$D$3,Simulador!Q451-Simulador!O451-Simulador!M451-Simulador!K451-Simulador!I451,\"\")))),\"\")","v":9832.2271483956665},null,289.31859771090967,null,0,null,{"$f":"IFERROR(IF(C451=\"\",\"\",IF($C$10=Parâmetros!$C$3,0,VLOOKUP(A451,'Base de Dados'!$E$3:$G$422,3,FALSE)*S451)),0)","v":58.301471439422237},null,{"$f":"IF(C451=\"\",\"\",IF(C452=\"\",0,IF(E451=\"Construção\",0,IF(E451=\"Seguro\",$C$17*'Base de Dados'!$C$2,IF($C$14=Parâmetros!$B$4,0,Simulador!$C$17*'Base de Dados'!$C$2)))))","v":66.400000000000006},null,{"$f":"IF(C451=\"\",\"\",IF(E451<>\"Retorno\",(I451+K451+M451),IF($G$20=Parâmetros!$D$2,SUM(G451,I451,K451,M451,O451),PMT($O$25,SUM($G$17),($O$10)*-1)+O451+M451+K451)))","v":10246.247217545999},null,19951.908367072392]
["2061-03-02","",419,"1901-02-22","Retorno",null,{"$f":"IFERROR(IF(C452=\"\",\"\",IF(E452<>\"Retorno\",0,IF($G$20=Parâmetros!$D$2,Simulador!$O$10/$G$17,IF($G$20=Parâmetros!$D$3,Simulador!Q452-Simulador!O452-Simulador!M452-Simulador!K452-Simulador!I452,\"\")))),\"\")","v":9927.7359191461783},null,193.80982696039791,null,0,null,{"$f":"IFERROR(IF(C452=\"\",\"\",IF($C$10=Parâmetros!$C$3,0,VLOOKUP(A452,'Base de Dados'!$E$3:$G$422,3,FALSE)*S452)),0)","v":29.29163431008519},null,{"$f":"IF(C452=\"\",\"\",IF(C453=\"\",0,IF(E452=\"Construção\",0,IF(E452=\"Seguro\",$C$17*'Base de Dados'!$C$2,IF($C$14=Parâmetros!$B$4,0,Simulador!$C$17*'Base de Dados'!$C$2)))))","v":66.400000000000006},null,{"$f":"IF(C452=\"\",\"\",IF(E452<>\"Retorno\",(I452+K452+M452),IF($G$20=Parâmetros!$D$2,SUM(G452,I452,K452,M452,O452),PMT($O$25,SUM($G$17),($O$10)*-1)+O452+M452+K452)))","v":10217.237380416662},null,10024.172447926214]
["2061-04-02","",420,"1901-02-23","Retorno",null,{"$f":"IFERROR(IF(C453=\"\",\"\",IF(E453<>\"Retorno\",0,IF($G$20=Parâmetros!$D$2,Simulador!$O$10/$G$17,IF($G$20=Parâmetros!$D$3,Simulador!Q453-Simulador!O453-Simulador!M453-Simulador!K453-Simulador!I453,\"\")))),\"\")","v":10024.172447682649},null,97.373298423926826,null,0,null,{"$f":"IFERROR(IF(C453=\"\",\"\",IF($C$10=Parâmetros!$C$3,0,VLOOKUP(A453,'Base de Dados'!$E$3:$G$422,3,FALSE)*S453)),0)","v":7.1171982581290652E-10},null,{"$f":"IF(C453=\"\",\"\",IF(C454=\"\",0,IF(E453=\"Construção\",0,IF(E453=\"Seguro\",$C$17*'Base de Dados'!$C$2,IF($C$14=Parâmetros!$B$4,0,Simulador!$C$17*'Base de Dados'!$C$2)))))","v":0},null,{"$f":"IF(C453=\"\",\"\",IF(E453<>\"Retorno\",(I453+K453+M453),IF($G$20=Parâmetros!$D$2,SUM(G453,I453,K453,M453,O453),PMT($O$25,SUM($G$17),($O$10)*-1)+O453+M453+K453)))","v":10121.545746107287},null,2.4356450012419373E-7]

{"sheet":"Parâmetros","index":1,"n_rows":39,"n_cols":37,"rows_kept":39,"cut":false,"hidden":true,"merged":[[4,1,4,11],[20,1,20,11],[26,1,26,11],[34,1,34,11]]}
[null,"Tipo de Imóvel","Tipo de Pessoa","Sist. Amort","Opção","Nascimento","Dt Ppt em mês","Alíquota IOF PF","Alíquota IOF PJ","ID Simulação","CRV Simulador","LTV Simulador","Prazo total simul","Tipo de Produto","Prazo Total","IOF","Alíquota","Idade","Idade mínima","Taxa de Juros","ID simplificado","Funcionário","ID Secundário","Segmento Enquadra no SFH","Enquadramento","Carteira"]
[null,"RESIDENCIAL","PESSOA FÍSICA","SAC","SIM",{"$f":"Simulador!G14","v":"1989-09-14"},{"$f":"TODAY()","v":"2026-04-02"},0.03,0.03,{"$f":"U2","v":"Repasse/AquisiçãoRESIDENCIALPRICEPRINCIPAL"},{"$f":"_xlfn.XLOOKUP(J2,'Base de Dados'!N:N,'Base de Dados'!O:O,\"\",0,1)","v":0.25},{"$f":"VLOOKUP(J2,'Base de Dados'!N1:P100000,3,FALSE)","v":0.8},{"$f":"Simulador!K19","v":420},{"$f":"Simulador!E6","v":"Repasse/Aquisição"},50,{"$f":"VLOOKUP(J2,'Base de Dados'!N1:X100000,11,FALSE)","v":"NÃO"},{"$f":"VLOOKUP(J2,'Base de Dados'!N1:Y100000,12,FALSE)","v":0},{"$f":"YEAR(TODAY())-YEAR(F2)","v":37},18,{"$f":"T3","v":"02:57:07.200"},{"$f":"IF(Simulador!C10=Parâmetros!C3,Simulador!E6&Parâmetros!Z2&Simulador!G20,Simulador!E6&Y2&Simulador!G20&Simulador!C26)","v":"Repasse/AquisiçãoRESIDENCIALPRICEPRINCIPAL"},{"$f":"IF(AND('Simulador Bradesco'!I13=Parâmetros!E2,'Simulador Bradesco'!D13=Parâmetros!AK2),\"Funcionário\",\"\")","v":""},{"$f":"Simulador!E6&Z2&Simulador!G20","v":"Repasse/AquisiçãoFALSOPRICE"},{"$f":"_xlfn.IFNA(VLOOKUP(Simulador!C26,Parâmetros!G22:I26,3,FALSE),\"NÃO\")","v":"NÃO"},{"$f":"IF(Simulador!C14=Parâmetros!B2,Parâmetros!C8,IF(AND(Simulador!C14=Parâmetros!B2,Simulador!C17>2250000),Parâmetros!C9,IF(Simulador!C14=Parâmetros!B3,Parâmetros!C11,Parâmetros!C7)))","v":"RESIDENCIAL"},{"$f":"IF(AND(Simulador!C10=Parâmetros!C3,Simulador!C14=Parâmetros!B3),C16,IF(AND(Simulador!C10=Parâmetros!C3,Simulador!C14=Parâmetros!B2),C15,IF(AND(Simulador!C10=Parâmetros!C3,Simulador!C14=Parâmetros!B4),Parâmetros!C14)))","v":false},null,null,null,null,null,null,null,null,null,null,"PESSOA FÍSICA"]
[null,"COMERCIAL","PESSOA JURÍDICA","PRICE","NÃO",null,null,3.8E-3,3.8E-3,null,{"$f":"K2","v":0.25},null,null,{"$f":"IF(N2=D24,\"Construção\",IF(N2=D25,\"Construção\",IF(N2=D23,\"Aquisição\",IF(N2=D22,\"Aquisição\",\"\"))))","v":"Aquisição"},null,null,null,null,null,{"$f":"IF(Simulador!C10=Parâmetros!C3,VLOOKUP(Parâmetros!W2,'Base de Dados'!N2:W71,10,FALSE),VLOOKUP(Parâmetros!U2,'Base de Dados'!N2:W71,10,FALSE))","v":0.123}]
[null,"LOTE",null,null,null,null,null,{"$f":"SUM(H2:H3)","v":3.3799999999999997E-2},{"$f":"SUM(I2:I3)","v":3.3799999999999997E-2},null,null,null,null,null,{"$f":"Simulador!K17","v":""}]
[null,"Pessoa Física"]
[null,"Carteira","Sigla","Taxa","LTV SAC","LTV PRICE","CRV SAC","CRV PRICE","Prazo Mínimo","Prazo Máximo","IOF","Tarifa de Avaliação","Prazo Mínimo Poup+","Prazo Max Poup+","LTV Poup+","Prime","Exclusive","Classic","Principal","Private","Valor Mínimo imóvel"]
[null,"Lote","LOTE",0.1399,0.7,0.7,0.2,0.15,121,240,"SIM",3400,null,null,null,0.1399,0.1399,0.1399,0.1399,0.1399,0]
[null,"Residencial até 2,25mm","RESIDENCIAL",0.123,0.8,0.8,0.35,0.25,121,420,"NÃO",1021.25,240,420,0.8,null,null,null,null,null,0]
[null,"Residencial maior 2,25mm","RESIDENCIAL > 225",0.123,0.8,0.8,0.35,0.25,121,420,"NÃO",2114.0300000000002,240,420,0.8,0.123,0.123,0.123,0.123,0.123,2250000.0099999998]
[null,"Residencial até 2,25mm < 12","RESIDENCIAL",0.12,0.9,0.8,0.35,0.25,121,420,"NÃO",2114.0300000000002,240,420,0.8,0.123,0.123,0.123,0.123,0.123,0]
[null,"Comercial","COMERCIAL",0.1399,0.8,0.8,0.35,0.25,121,360,"SIM",3400,null,null,null,null,null,null,null,null,0]
[null,null,null,null,null,null,"Pessoa Jurídica "]
[null,"Carteira","Sigla","Taxa","LTV SAC","LTV PRICE","CRV SAC","CRV PRICE","Prazo Mínimo","Prazo Máximo","IOF","Tarifa de Avaliação","Prazo Mínimo Poup+","Prazo Max Poup+","LTV Poup+"]
[null,"Lote Pj","CHH Lote PJ",0.1399,0.7,0.7,"N/A","N/A",121,240,"SIM",3400]
[null,"Residencial PJ","CHH PJ",0.1399,0.7,0.7,"N/A","N/A",121,240,"NÃO",2114.0300000000002,240,240,0.8]
[null,"Comercial PJ","CHC PJ",0.1399,0.6,0.6,"N/A","N/A",121,240,"SIM",3400]
[]
[null,"Prazo Máximo de Amortização"]
[null,80.5]
[]
[null,"Condições e Taxa Poup+"]
[null,"Taxa Selic Atual",0.13250000000000001,"Repasse/Aquisição","Construção",null,"PRIME",{"$f":"MIN(P7:P11)","v":0.123},{"$f":"IF(H22<12%,\"SIM\",\"NÃO\")","v":"NÃO"}]
[null,"Fator Utilizado",{"$f":"IF(C22>8.5%,6.17%,0.7*C22)","v":6.1699999999999998E-2},"Poupança+","Aquisição",{"$f":"C23","v":6.1699999999999998E-2},"EXCLUSIVE",{"$f":"MIN(Q7:Q11)","v":0.123},{"$f":"IF(H23<12%,\"SIM\",\"NÃO\")","v":"NÃO"}]
[null,"Spread",7.8200000000000006E-2,"Término de Construção",null,{"$f":"C24","v":7.8200000000000006E-2},"CLASSIC",{"$f":"MIN(R7:R11)","v":0.123},"NÃO"]
[null,null,null,"Crédito Associativo ",null,null,"PRINCIPAL",{"$f":"MIN(S7:S11)","v":0.123},"NÃO"]
[null,null,null,null,null,null,"PRIVATE",{"$f":"MIN(T7:T11)","v":0.123},"NÃO"]
[null,"Término de Construção"]
[null,"Carteira","Sigla","Taxa","LTV SAC","LTV PRICE","CRV SAC","CRV PRICE","Prazo Mínimo","Prazo Máximo","IOF","Tarifa de Avaliação","Prazo max constru","Prazo max care"]
[null,"Construção","SFH",0.105,0.7,0.7,0.3,0.15,100,334,"NÃO",2114.0300000000002,24,2]
[null,"Construção","CHH",0.11,0.7,0.7,0.3,0.15,100,334,"NÃO",2114.0300000000002,24,2]
[null,"Construção","CHH PJ",0.11,0.7,0.7,"N/A","N/A",90,240,"SIM",2114.0300000000002,24,2]
[null,"Construção","CHC PJ",0.11,0.7,0.7,"N/A","N/A",90,240,"SIM",3400,24,2]
[]
[]
[null,"Crédito Associativo "]
[null,"Carteira","Sigla","Taxa","LTV SAC","LTV PRICE","CRV SAC","CRV PRICE","Prazo Mínimo","Prazo Máximo","IOF","Tarifa de Avaliação","Prazo max constru","Prazo max care"]
[null,"Construção","SFH",9.5000000000000001E-2,0.9,0.8,0.35,0.15,180,360,"NÃO",2114.0300000000002,40,6]
[null,"Construção","CHH",9.5000000000000001E-2,0.9,0.8,0.35,0.15,180,360,"NÃO",2114.0300000000002,40,6]
[null,"Início da Construção","Término da Construção"]

{"sheet":"Simulador Bradesco","index":2,"n_rows":458,"n_cols":20,"rows_kept":458,"cut":false,"hidden":false,"merged":[[34,1,35,1],[6,2,6,18],[31,5,31,6],[8,3,9,5],[8,1,9,2],[12,3,12,5],[14,3,14,5],[12,1,12,2],[14,1,14,2],[14,6,14,7],[16,6,16,7],[21,3,21,5],[26,7,26,14],[14,8,14,10],[12,11,12,13],[12,14,12,15],[23,16,23,18],[18,16,18,18],[20,8,20,10],[16,8,16,10],[18,8,18,10],[12,6,12,7],[12,8,12,10],[8,16,8,18],[9,16,10,18],[13,16,13,18],[10,12,10,13],[9,6,9,7],[9,8,9,10],[9,14,9,15],[9,11,9,13],[14,11,14,13],[14,14,14,15],[16,1,16,2],[16,3,16,5],[18,6,18,7],[18,1,18,2],[18,3,18,5],[15,8,15,10],[20,1,20,2],[20,3,20,5],[20,6,20,7],[25,4,25,5],[21,6,21,7],[26,16,26,18],[32,1,33,19],[16,11,16,15],[29,1,30,19],[28,1,28,19],[27,1,27,19],[24,16,24,18],[23,1,23,2],[23,3,23,5],[23,6,23,7],[23,8,23,10],[24,1,24,2],[24,3,24,5],[24,6,24,7],[24,8,24,10],[25,16,25,18]]}
[]
[]
[]
[]
[]
[]
[null,null,{"$f":"IF(T39=\"\",\"É necessário o preenchimento de todos os campos obrigatórios para geração da simulação\",\"\")","v":""}]
[]
[null,"Produto",null,"Repasse/Aquisição",null,null,null,null,null,null,null,null,null,null,null,null,"1ª Prestação"]
[null,null,null,null,null,null,{"$f":"IF(D9=Parâmetros!D25,\"Mês entrega da Obra\",\"\")","v":""},null,null,null,null,{"$f":"IF(D9=Parâmetros!D25,\"Prazo de Construção restante\",\"\")","v":""},null,null,{"$f":"IFERROR(ROUNDUP(IF(L10<>\"\",(I10-TODAY())/30,\"\"),2),\"\")","v":""},null,{"$f":"IFERROR(VLOOKUP(\"Primeira\",Simulador!B31:Q453,16,FALSE),\"\")","v":10369.777143491041}]
[null,null,null,null,null,null,null,null,null,null,null,null,{"$f":"IF(D9=Parâmetros!D25,\"Prazo Total do PE\",\"\")","v":""},null,{"$f":"IF(D9=Parâmetros!D25,Parâmetros!O2,\"\")","v":""}]
[]
[null,"Tipo de Pessoa",null,"PESSOA FÍSICA",null,null,"Segmento",null,"PRINCIPAL",null,null,{"$f":"IF(D9=Parâmetros!D24,\"Prazo de Construção\",\"\")","v":""}]
[null,null,null,null,null,null,null,null,null,null,null,null,null,null,{"$f":"IF(L13<>\"\",\"Máx\",\"\")","v":""},{"$f":"IF(D9=Parâmetros!D24,Simulador!O27,\"\")","v":""},"Valor Financiado ($)"]
[null,"Tipo de Imóvel",null,"RESIDENCIAL",null,null,"Valor do Imóvel ($)",null,1328000,null,null,{"$f":"IF(Parâmetros!N3=Parâmetros!E22,\"Prazo de Carência\",\"\")","v":""},null,null,{"$f":"IFERROR(IF(VLOOKUP(Parâmetros!J2,'Base de Dados'!N1:V33,9,FALSE)=\"\",\"\",VLOOKUP(Parâmetros!J2,'Base de Dados'!N1:V33,9,FALSE)),\"\")","v":""}]
[]
[null,"Financia Despesas?",null,"NÃO",null,null,"Valor Financiamento ($)",null,1024000]
[null,null,null,null,null,null,null,{"$f":"IF(AND(D15=\"LOTE\",I17<750000),\"Mín Lote 750mil\",IF(I19>J20,\"Valor superior ao permitido\",\"\"))","v":""},{"$f":"\"Máx\"","v":"Máx"},{"$f":"IFERROR((Simulador!C23-I19),\"\")","v":1062400}]
[null,"Sistema de Amort.",null,"PRICE",null,null,"Valor de Despesas ($)",null,0,null,null,null,null,null,null,null,{"$f":"Simulador!O10","v":1024000}]
[null,null,null,null,null,null,null,null,"Máx",{"$f":"IF(I17=\"\",0,IF(I17=0,0,Simulador!I26))","v":38400},null,null,null,null,null,null,null,{"$f":"IFERROR(CONCATENATE(Simulador!T27,Simulador!S27,Simulador!C23),\"\")","v":"Máx 1062400"}]
[null,{"$f":"IF(D13=Parâmetros!C2,\"Dt. Nascimento\",\"\")","v":"Dt. Nascimento"},null,"1989-09-14",null,null,"Prazo de Amort.",null,420]
[null,"\"\"",null,{"$f":"IF(Parâmetros!R2<18,\"Idade menor do que 18 anos\",\"\")","v":""},null,null,{"$f":"IF(Simulador!S10=\"Prazo Superior\",\"O prazo de amortização, construção e carência (se houver), somados a idade do proponente, não pode superar 80 anos\",\"\")","v":""},null,"Mín/Máx",{"$f":"IFERROR(Simulador!O19,\"\")","v":121},{"$f":"IFERROR(Simulador!O21,\"\")","v":420}]
[null,null,null,null,null,null,null,{"$f":"TODAY()","v":"2026-04-02"},null,{"$f":"(I10-H23)/30","v":-1537.1333333333334}]
[null,"Carteira",null,{"$f":"IF(AND(D13=Parâmetros!C3,Simulador!C14=Parâmetros!B2),\"CHH PJ\",Simulador!O8)","v":"CHH FGTS"},null,null,"Tarifa de Avaliação ($)",null,{"$f":"IFERROR(Simulador!S25,\"\")","v":2114.0300000000002},null,null,null,null,null,null,null,"Taxa Efetiva"]
[null,"IOF",null,{"$f":"IFERROR(IF(D9=\"\",0,Simulador!S21),\"\")","v":0},null,null,"Renda Necessária",null,{"$f":"Simulador!O13","v":41479.108573964164},null,null,null,null,null,null,null,{"$f":"IFERROR(Simulador!O23,\"\")","v":0.123}]
[null,null,null,{"$f":"IF(D25>0,\"Alíquota Aplicada\",IF(D9=\"\",\"\",\"\"))","v":""},{"$f":"IFERROR(IF(D25>0,Simulador!S23,IF(D9=\"\",\"\",\"\")),\"\")","v":""},null,null,null,null,null,null,null,null,null,null,null,"CET"]
[null,null,null,null,null,null,null,{"$f":"IF(D9=Parâmetros!D23,CONCATENATE(\"*Valor da taxa é composto por\",\" \",Parâmetros!C24*100,\"%\",\" mais 70% da selic, que hoje é \",Parâmetros!C23*100,\"%\",\" limitado a 10,66%a.a.\"),\"\")","v":""},null,null,null,null,null,null,null,null,{"$f":"Simulador!S16","v":0.12918882966041567}]
[null,"* Tarifas: quando houver IOF os valores são somados às tarifas. Valores detalhados no resultado"]
[null,"*Seguro MIP somente aplicado quando Pessoa Física, baseado na data do proponente mais velho"]
[null,"*O resultado dessa simulação é meramente referencial, baseado em datas e informações nela inserida e não representa proposta ou oferta de crédito/financiamento nem gera qualquer espécie de obrigação mútua. As datas e demais informações serão conferidas quando da emissão do contrato, sendo que os valores serão apurados pelo índice de remuneração básica da poupança que atualmente é a tr - taxa referencial. "]
[]
[]
[null,"Fluxo de Prestações"]
[]
[null,"Total",null,null,null,null,null,{"$f":"SUM(H38:H458)","v":1023999.99999977},null,{"$f":"SUM(J38:J458)","v":3227049.21336499},null,2114.0300000000002,null,260491.15553600641,null,27888.000000000189,null,4541542.3989007687]
[]
[null,{"$f":"Simulador!A31","v":"DATA DO ENCARGO"},null,{"$f":"Simulador!C31","v":"N PREST"},null,{"$f":"Simulador!E31","v":"Tipo de encargo"},null,{"$f":"Simulador!G31","v":"AMORTIZAÇÃO"},null,{"$f":"Simulador!I31","v":"JUROS"},null,{"$f":"Simulador!K31","v":"Tarifas*"},null,{"$f":"Simulador!M31","v":"MIP*"},null,{"$f":"Simulador!O31","v":"DFI*"},null,{"$f":"Simulador!Q31","v":"ENCARGO"},null,{"$f":"Simulador!S31","v":"SALDO DEVEDOR"}]
[null,{"$f":"IFERROR(Simulador!A33,\"\")","v":"2026-04-02"},null,{"$f":"IFERROR(Simulador!C33,\"\")","v":0},null,null,null,{"$f":"IFERROR(Simulador!G33,\"\")","v":0},null,{"$f":"IFERROR(Simulador!I33,\"\")","v":0},null,{"$f":"IFERROR(Simulador!K33,\"\")","v":2114.0300000000002},null,{"$f":"Simulador!M33","v":181.86240000000001},null,{"$f":"IFERROR(Simulador!O33,\"\")","v":66.400000000000006},null,{"$f":"IFERROR(Simulador!Q33,\"\")","v":2362.2924000000003},null,{"$f":"IFERROR(Simulador!S33,\"\")","v":1024000}]
[null,{"$f":"Simulador!A34","v":"2026-05-02"},null,{"$f":"Simulador!C34","v":1},null,{"$f":"Simulador!E34","v":"Retorno"},null,{"$f":"Simulador!G34","v":174.56427665582487},null,{"$f":"Simulador!I34","v":9946.9814694507513},null,{"$f":"Simulador!K34","v":0},null,{"$f":"Simulador!M34","v":181.83139738446593},null,{"$f":"Simulador!O34","v":66.400000000000006},null,{"$f":"Simulador!Q34","v":10369.777143491041},null,{"$f":"Simulador!S34","v":1023825.4357233442}]
[null,{"$f":"Simulador!A35","v":"2026-06-02"},null,{"$f":"Simulador!C35","v":2},null,{"$f":"Simulador!E35","v":"Retorno"},null,{"$f":"Simulador!G35","v":176.25996769595986},null,{"$f":"Simulador!I35","v":9945.2857784106163},null,{"$f":"Simulador!K35","v":0},null,{"$f":"Simulador!M35","v":181.80009361420315},null,{"$f":"Simulador!O35","v":66.400000000000006},null,{"$f":"Simulador!Q35","v":10369.745839720779},null,{"$f":"Simulador!S35","v":1023649.1757556483}]
[null,{"$f":"Simulador!A36","v":"2026-07-02"},null,{"$f":"Simulador!C36","v":3},null,{"$f":"Simulador!E36","v":"Retorno"},null,{"$f":"Simulador!G36","v":177.97213042298426},null,{"$f":"Simulador!I36","v":9943.5736156835919},null,{"$f":"Simulador!K36","v":0},null,{"$f":"Simulador!M36","v":181.76848576384003},null,{"$f":"Simulador!O36","v":66.400000000000006},null,{"$f":"Simulador!Q36","v":10369.714231870415},null,{"$f":"Simulador!S36","v":1023471.2036252253}]
[null,{"$f":"Simulador!A37","v":"2026-08-02"},null,{"$f":"Simulador!C37","v":4},null,{"$f":"Simulador!E37","v":"Retorno"},null,{"$f":"Simulador!G37","v":179.70092484044471},null,{"$f":"Simulador!I37","v":9941.8448212661315},null,{"$f":"Simulador!K37","v":0},null,{"$f":"Simulador!M37","v":181.73657087958838},null,{"$f":"Simulador!O37","v":66.400000000000006},null,{"$f":"Simulador!Q37","v":10369.682316986164},null,{"$f":"Simulador!S37","v":1023291.5027003849}]
[null,{"$f":"Simulador!A38","v":"2026-09-02"},null,{"$f":"Simulador!C38","v":5},null,{"$f":"Simulador!E38","v":"Retorno"},null,{"$f":"Simulador!G38","v":181.44651250579955},null,{"$f":"Simulador!I38","v":9940.0992336007766},null,{"$f":"Simulador!K38","v":0},null,{"$f":"Simulador!M38","v":181.70434597896735},null,{"$f":"Simulador!O38","v":66.400000000000006},null,{"$f":"Simulador!Q38","v":10369.650092085543},null,{"$f":"Simulador!S38","v":1023110.0561878792}]
[null,{"$f":"Simulador!A39","v":"2026-10-02"},null,{"$f":"Simulador!C39","v":6},null,{"$f":"Simulador!E39","v":"Retorno"},null,{"$f":"Simulador!G39","v":183.20905654648413},null,{"$f":"Simulador!I39","v":9938.3366895600921},null,{"$f":"Simulador!K39","v":0},null,{"$f":"Simulador!M39","v":181.6718080505247},null,{"$f":"Simulador!O39","v":66.400000000000006},null,{"$f":"Simulador!Q39","v":10369.617554157101},null,{"$f":"Simulador!S39","v":1022926.8471313327}]
[null,{"$f":"Simulador!A40","v":"2026-11-02"},null,{"$f":"Simulador!C40","v":7},null,{"$f":"Simulador!E40","v":"Retorno"},null,{"$f":"Simulador!G40","v":184.98872167388072},null,{"$f":"Simulador!I40","v":9936.5570244326955},null,{"$f":"Simulador!K40","v":0},null,{"$f":"Simulador!M40","v":181.63895405355544},null,{"$f":"Simulador!O40","v":66.400000000000006},null,{"$f":"Simulador!Q40","v":10369.584700160131},null,{"$f":"Simulador!S40","v":1022741.8584096589}]
[null,{"$f":"Simulador!A41","v":"2026-12-02"},null,{"$f":"Simulador!C41","v":8},null,{"$f":"Simulador!E41","v":"Retorno"},null,{"$f":"Simulador!G41","v":186.78567419984938},null,{"$f":"Simulador!I41","v":9934.7600719067268},null,{"$f":"Simulador!K41","v":0},null,{"$f":"Simulador!M41","v":181.60578091781753},null,{"$f":"Simulador!O41","v":66.400000000000006},null,{"$f":"Simulador!Q41","v":10369.551527024394},null,{"$f":"Simulador!S41","v":1022555.0727354591}]
[null,{"$f":"Simulador!A42","v":"2027-01-02"},null,{"$f":"Simulador!C42","v":9},null,{"$f":"Simulador!E42","v":"Retorno"},null,{"$f":"Simulador!G42","v":188.60008205139638},null,{"$f":"Simulador!I42","v":9932.9456640551798},null,{"$f":"Simulador!K42","v":0},null,{"$f":"Simulador!M42","v":181.57228554324521},null,{"$f":"Simulador!O42","v":66.400000000000006},null,{"$f":"Simulador!Q42","v":10369.518031649821},null,{"$f":"Simulador!S42","v":1022366.4726534077}]
[null,{"$f":"Simulador!A43","v":"2027-02-02"},null,{"$f":"Simulador!C43","v":10},null,{"$f":"Simulador!E43","v":"Retorno"},null,{"$f":"Simulador!G43","v":190.43211478708872},null,{"$f":"Simulador!I43","v":9931.1136313194875},null,{"$f":"Simulador!K43","v":0},null,{"$f":"Simulador!M43","v":181.53846479965904},null,{"$f":"Simulador!O43","v":66.400000000000006},null,{"$f":"Simulador!Q43","v":10369.484210906236},null,{"$f":"Simulador!S43","v":1022176.0405386207}]
[null,{"$f":"Simulador!A44","v":"2027-03-02"},null,{"$f":"Simulador!C44","v":11},null,{"$f":"Simulador!E44","v":"Retorno"},null,{"$f":"Simulador!G44","v":192.28194361218812},null,{"$f":"Simulador!I44","v":9929.2638024943881},null,{"$f":"Simulador!K44","v":0},null,{"$f":"Simulador!M44","v":181.50431552647353},null,{"$f":"Simulador!O44","v":66.400000000000006},null,{"$f":"Simulador!Q44","v":10369.45006163305},null,{"$f":"Simulador!S44","v":1021983.7585950085}]
[null,{"$f":"Simulador!A45","v":"2027-04-02"},null,{"$f":"Simulador!C45","v":12},null,{"$f":"Simulador!E45","v":"Retorno"},null,{"$f":"Simulador!G45","v":194.14974139541482},null,{"$f":"Simulador!I45","v":9927.3960047111614},null,{"$f":"Simulador!K45","v":0},null,{"$f":"Simulador!M45","v":181.46983453240171},null,{"$f":"Simulador!O45","v":66.400000000000006},null,{"$f":"Simulador!Q45","v":10369.415580638977},null,{"$f":"Simulador!S45","v":1021789.6088536131}]
[null,{"$f":"Simulador!A46","v":"2027-05-02"},null,{"$f":"Simulador!C46","v":13},null,{"$f":"Simulador!E46","v":"Retorno"},null,{"$f":"Simulador!G46","v":196.03568268443087},null,{"$f":"Simulador!I46","v":9925.5100634221453},null,{"$f":"Simulador!K46","v":0},null,{"$f":"Simulador!M46","v":181.43501859515695},null,{"$f":"Simulador!O46","v":66.400000000000006},null,{"$f":"Simulador!Q46","v":10369.380764701733},null,{"$f":"Simulador!S46","v":1021593.5731709288}]
[null,{"$f":"Simulador!A47","v":"2027-06-02"},null,{"$f":"Simulador!C47","v":14},null,{"$f":"Simulador!E47","v":"Retorno"},null,{"$f":"Simulador!G47","v":197.93994372260386},null,{"$f":"Simulador!I47","v":9923.6058023839723},null,{"$f":"Simulador!K47","v":0},null,{"$f":"Simulador!M47","v":181.39986446115182},null,{"$f":"Simulador!O47","v":66.400000000000006},null,{"$f":"Simulador!Q47","v":10369.345610567727},null,{"$f":"Simulador!S47","v":1021395.6332272062}]
[null,{"$f":"Simulador!A48","v":"2027-07-02"},null,{"$f":"Simulador!C48","v":15},null,{"$f":"Simulador!E48","v":"Retorno"},null,{"$f":"Simulador!G48","v":199.86270246507229},null,{"$f":"Simulador!I48","v":9921.6830436415039},null,{"$f":"Simulador!K48","v":0},null,{"$f":"Simulador!M48","v":181.36436884519404},null,{"$f":"Simulador!O48","v":66.400000000000006},null,{"$f":"Simulador!Q48","v":10369.31011495177},null,{"$f":"Simulador!S48","v":1021195.7705247412}]
[null,{"$f":"Simulador!A49","v":"2027-08-02"},null,{"$f":"Simulador!C49","v":16},null,{"$f":"Simulador!E49","v":"Retorno"},null,{"$f":"Simulador!G49","v":201.80413859574219},null,{"$f":"Simulador!I49","v":9919.741607510834},null,{"$f":"Simulador!K49","v":0},null,{"$f":"Simulador!M49","v":181.32852843017943},null,{"$f":"Simulador!O49","v":66.400000000000006},null,{"$f":"Simulador!Q49","v":10369.274274536756},null,{"$f":"Simulador!S49","v":1020993.9663861454}]
[null,{"$f":"Simulador!A50","v":"2027-09-02"},null,{"$f":"Simulador!C50","v":17},null,{"$f":"Simulador!E50","v":"Retorno"},null,{"$f":"Simulador!G50","v":203.76443354405092},null,{"$f":"Simulador!I50","v":9917.7813125625253},null,{"$f":"Simulador!K50","v":0},null,{"$f":"Simulador!M50","v":181.29233986678202},null,{"$f":"Simulador!O50","v":66.400000000000006},null,{"$f":"Simulador!Q50","v":10369.238085973358},null,{"$f":"Simulador!S50","v":1020790.2019526014}]
[null,{"$f":"Simulador!A51","v":"2027-10-02"},null,{"$f":"Simulador!C51","v":18},null,{"$f":"Simulador!E51","v":"Retorno"},null,{"$f":"Simulador!G51","v":205.74377050173098},null,{"$f":"Simulador!I51","v":9915.8019756048452},null,{"$f":"Simulador!K51","v":0},null,{"$f":"Simulador!M51","v":181.25579977314092},null,{"$f":"Simulador!O51","v":66.400000000000006},null,{"$f":"Simulador!Q51","v":10369.201545879716},null,{"$f":"Simulador!S51","v":1020584.4581820997}]
[null,{"$f":"Simulador!A52","v":"2027-11-02"},null,{"$f":"Simulador!C52","v":19},null,{"$f":"Simulador!E52","v":"Retorno"},null,{"$f":"Simulador!G52","v":207.74233443980665},null,{"$f":"Simulador!I52","v":9913.8034116667695},null,{"$f":"Simulador!K52","v":0},null,{"$f":"Simulador!M52","v":181.21890473454442},null,{"$f":"Simulador!O52","v":66.400000000000006},null,{"$f":"Simulador!Q52","v":10369.16465084112},null,{"$f":"Simulador!S52","v":1020376.71584766}]
[null,{"$f":"Simulador!A53","v":"2027-12-02"},null,{"$f":"Simulador!C53","v":20},null,{"$f":"Simulador!E53","v":"Retorno"},null,{"$f":"Simulador!G53","v":209.76031212640555},null,{"$f":"Simulador!I53","v":9911.7854339801706},null,{"$f":"Simulador!K53","v":0},null,{"$f":"Simulador!M53","v":181.18165130311078},null,{"$f":"Simulador!O53","v":66.400000000000006},null,{"$f":"Simulador!Q53","v":10369.127397409686},null,{"$f":"Simulador!S53","v":1020166.9555355336}]
[null,{"$f":"Simulador!A54","v":"2028-01-02"},null,{"$f":"Simulador!C54","v":21},null,{"$f":"Simulador!E54","v":"Retorno"},null,{"$f":"Simulador!G54","v":211.79789214375523},null,{"$f":"Simulador!I54","v":9909.747853962821},null,{"$f":"Simulador!K54","v":0},null,{"$f":"Simulador!M54","v":181.14403599746606},null,{"$f":"Simulador!O54","v":66.400000000000006},null,{"$f":"Simulador!Q54","v":10369.089782104042},null,{"$f":"Simulador!S54","v":1019955.1576433899}]
[null,{"$f":"Simulador!A55","v":"2028-02-02"},null,{"$f":"Simulador!C55","v":22},null,{"$f":"Simulador!E55","v":"Retorno"},null,{"$f":"Simulador!G55","v":213.85526490587836},null,{"$f":"Simulador!I55","v":9907.6904812006978},null,{"$f":"Simulador!K55","v":0},null,{"$f":"Simulador!M55","v":181.10605530241878},null,{"$f":"Simulador!O55","v":66.400000000000006},null,{"$f":"Simulador!Q55","v":10369.051801408994},null,{"$f":"Simulador!S55","v":1019741.302378484}]
[null,{"$f":"Simulador!A56","v":"2028-03-02"},null,{"$f":"Simulador!C56","v":23},null,{"$f":"Simulador!E56","v":"Retorno"},null,{"$f":"Simulador!G56","v":215.93262267652062},null,{"$f":"Simulador!I56","v":9905.6131234300556},null,{"$f":"Simulador!K56","v":0},null,{"$f":"Simulador!M56","v":181.06770566863142},null,{"$f":"Simulador!O56","v":66.400000000000006},null,{"$f":"Simulador!Q56","v":10369.013451775207},null,{"$f":"Simulador!S56","v":1019525.3697558076}]
[null,{"$f":"Simulador!A57","v":"2028-04-02"},null,{"$f":"Simulador!C57","v":24},null,{"$f":"Simulador!E57","v":"Retorno"},null,{"$f":"Simulador!G57","v":218.03015958707874},null,{"$f":"Simulador!I57","v":9903.5155865194974},null,{"$f":"Simulador!K57","v":0},null,{"$f":"Simulador!M57","v":181.02898351228876},null,{"$f":"Simulador!O57","v":66.400000000000006},null,{"$f":"Simulador!Q57","v":10368.974729618865},null,{"$f":"Simulador!S57","v":1019307.3395962205}]
[null,{"$f":"Simulador!A58","v":"2028-05-02"},null,{"$f":"Simulador!C58","v":25},null,{"$f":"Simulador!E58","v":"Retorno"},null,{"$f":"Simulador!G58","v":220.14807165464481},null,{"$f":"Simulador!I58","v":9901.3976744519314},null,{"$f":"Simulador!K58","v":0},null,{"$f":"Simulador!M58","v":180.98988521476292},null,{"$f":"Simulador!O58","v":66.400000000000006},null,{"$f":"Simulador!Q58","v":10368.935631321339},null,{"$f":"Simulador!S58","v":1019087.1915245659}]
[null,{"$f":"Simulador!A59","v":"2028-06-02"},null,{"$f":"Simulador!C59","v":26},null,{"$f":"Simulador!E59","v":"Retorno"},null,{"$f":"Simulador!G59","v":222.28655680051634},null,{"$f":"Simulador!I59","v":9899.2591893060599},null,{"$f":"Simulador!K59","v":0},null,{"$f":"Simulador!M59","v":180.95040712227515},null,{"$f":"Simulador!O59","v":66.400000000000006},null,{"$f":"Simulador!Q59","v":10368.89615322885},null,{"$f":"Simulador!S59","v":1018864.9049677654}]
[null,{"$f":"Simulador!A60","v":"2028-07-02"},null,{"$f":"Simulador!C60","v":27},null,{"$f":"Simulador!E60","v":"Retorno"},null,{"$f":"Simulador!G60","v":224.44581486824063},null,{"$f":"Simulador!I60","v":9897.0999312383356},null,{"$f":"Simulador!K60","v":0},null,{"$f":"Simulador!M60","v":180.91054554555456},null,{"$f":"Simulador!O60","v":66.400000000000006},null,{"$f":"Simulador!Q60","v":10368.85629165213},null,{"$f":"Simulador!S60","v":1018640.4591528972}]
[null,{"$f":"Simulador!A61","v":"2028-08-02"},null,{"$f":"Simulador!C61","v":28},null,{"$f":"Simulador!E61","v":"Retorno"},null,{"$f":"Simulador!G61","v":226.62604764305615},null,{"$f":"Simulador!I61","v":9894.91969846352},null,{"$f":"Simulador!K61","v":0},null,{"$f":"Simulador!M61","v":180.87029675949316},null,{"$f":"Simulador!O61","v":66.400000000000006},null,{"$f":"Simulador!Q61","v":10368.816042866069},null,{"$f":"Simulador!S61","v":1018413.8331052542}]
[null,{"$f":"Simulador!A62","v":"2028-09-02"},null,{"$f":"Simulador!C62","v":29},null,{"$f":"Simulador!E62","v":"Retorno"},null,{"$f":"Simulador!G62","v":228.82745886993689},null,{"$f":"Simulador!I62","v":9892.7182872366393},null,{"$f":"Simulador!K62","v":0},null,{"$f":"Simulador!M62","v":180.82965700279786},null,{"$f":"Simulador!O62","v":66.400000000000006},null,{"$f":"Simulador!Q62","v":10368.775403109374},null,{"$f":"Simulador!S62","v":1018185.0056463843}]
[null,{"$f":"Simulador!A63","v":"2028-10-02"},null,{"$f":"Simulador!C63","v":30},null,{"$f":"Simulador!E63","v":"Retorno"},null,{"$f":"Simulador!G63","v":231.05025427338296},null,{"$f":"Simulador!I63","v":9890.4954918331932},null,{"$f":"Simulador!K63","v":0},null,{"$f":"Simulador!M63","v":222.8301208353331},null,{"$f":"Simulador!O63","v":66.400000000000006},null,{"$f":"Simulador!Q63","v":10410.775866941909},null,{"$f":"Simulador!S63","v":1017953.955392111}]
[null,{"$f":"Simulador!A64","v":"2028-11-02"},null,{"$f":"Simulador!C64","v":31},null,{"$f":"Simulador!E64","v":"Retorno"},null,{"$f":"Simulador!G64","v":233.29464157593065},null,{"$f":"Simulador!I64","v":9888.2511045306455},null,{"$f":"Simulador!K64","v":0},null,{"$f":"Simulador!M64","v":222.77905263829214},null,{"$f":"Simulador!O64","v":66.400000000000006},null,{"$f":"Simulador!Q64","v":10410.724798744868},null,{"$f":"Simulador!S64","v":1017720.6607505351}]
[null,{"$f":"Simulador!A65","v":"2028-12-02"},null,{"$f":"Simulador!C65","v":32},null,{"$f":"Simulador!E65","v":"Retorno"},null,{"$f":"Simulador!G65","v":235.56083051794303},null,{"$f":"Simulador!I65","v":9885.9849155886332},null,{"$f":"Simulador!K65","v":0},null,{"$f":"Simulador!M65","v":222.72748837249176},null,{"$f":"Simulador!O65","v":66.400000000000006},null,{"$f":"Simulador!Q65","v":10410.673234479067},null,{"$f":"Simulador!S65","v":1017485.0999200172}]
[null,{"$f":"Simulador!A66","v":"2029-01-02"},null,{"$f":"Simulador!C66","v":33},null,{"$f":"Simulador!E66","v":"Retorno"},null,{"$f":"Simulador!G66","v":237.84903287740053},null,{"$f":"Simulador!I66","v":9883.6967132291757},null,{"$f":"Simulador!K66","v":0},null,{"$f":"Simulador!M66","v":222.67542321919493},null,{"$f":"Simulador!O66","v":66.400000000000006},null,{"$f":"Simulador!Q66","v":10410.62116932577},null,{"$f":"Simulador!S66","v":1017247.2508871398}]
[null,{"$f":"Simulador!A67","v":"2029-02-02"},null,{"$f":"Simulador!C67","v":34},null,{"$f":"Simulador!E67","v":"Retorno"},null,{"$f":"Simulador!G67","v":240.15946248934233},null,{"$f":"Simulador!I67","v":9881.3862836172339},null,{"$f":"Simulador!K67","v":0},null,{"$f":"Simulador!M67","v":222.622852312856},null,{"$f":"Simulador!O67","v":66.400000000000006},null,{"$f":"Simulador!Q67","v":10410.568598419432},null,{"$f":"Simulador!S67","v":1017007.0914246505}]
[null,{"$f":"Simulador!A68","v":"2029-03-02"},null,{"$f":"Simulador!C68","v":35},null,{"$f":"Simulador!E68","v":"Retorno"},null,{"$f":"Simulador!G68","v":242.49233526577336},null,{"$f":"Simulador!I68","v":9879.0534108408028},null,{"$f":"Simulador!K68","v":0},null,{"$f":"Simulador!M68","v":222.56977074066634},null,{"$f":"Simulador!O68","v":66.400000000000006},null,{"$f":"Simulador!Q68","v":10410.515516847243},null,{"$f":"Simulador!S68","v":1016764.5990893848}]
[null,{"$f":"Simulador!A69","v":"2029-04-02"},null,{"$f":"Simulador!C69","v":36},null,{"$f":"Simulador!E69","v":"Retorno"},null,{"$f":"Simulador!G69","v":244.84786921626983},null,{"$f":"Simulador!I69","v":9876.6978768903064},null,{"$f":"Simulador!K69","v":0},null,{"$f":"Simulador!M69","v":222.51617354209489},null,{"$f":"Simulador!O69","v":66.400000000000006},null,{"$f":"Simulador!Q69","v":10410.461919648671},null,{"$f":"Simulador!S69","v":1016519.7512201685}]
[null,{"$f":"Simulador!A70","v":"2029-05-02"},null,{"$f":"Simulador!C70","v":37},null,{"$f":"Simulador!E70","v":"Retorno"},null,{"$f":"Simulador!G70","v":247.22628446823546},null,{"$f":"Simulador!I70","v":9874.3194616383407},null,{"$f":"Simulador!K70","v":0},null,{"$f":"Simulador!M70","v":222.46205570842483},null,{"$f":"Simulador!O70","v":66.400000000000006},null,{"$f":"Simulador!Q70","v":10410.407801815001},null,{"$f":"Simulador!S70","v":1016272.5249357003}]
[null,{"$f":"Simulador!A71","v":"2029-06-02"},null,{"$f":"Simulador!C71","v":38},null,{"$f":"Simulador!E71","v":"Retorno"},null,{"$f":"Simulador!G71","v":249.62780328692497},null,{"$f":"Simulador!I71","v":9871.9179428196512},null,{"$f":"Simulador!K71","v":0},null,{"$f":"Simulador!M71","v":222.40741218228533},null,{"$f":"Simulador!O71","v":66.400000000000006},null,{"$f":"Simulador!Q71","v":10410.353158288861},null,{"$f":"Simulador!S71","v":1016022.8971324135}]
[null,{"$f":"Simulador!A72","v":"2029-07-02"},null,{"$f":"Simulador!C72","v":39},null,{"$f":"Simulador!E72","v":"Retorno"},null,{"$f":"Simulador!G72","v":252.05265009698087},null,{"$f":"Simulador!I72","v":9869.4930960095953},null,{"$f":"Simulador!K72","v":0},null,{"$f":"Simulador!M72","v":222.35223785717909},null,{"$f":"Simulador!O72","v":66.400000000000006},null,{"$f":"Simulador!Q72","v":10410.297983963756},null,{"$f":"Simulador!S72","v":1015770.8444823165}]
[null,{"$f":"Simulador!A73","v":"2029-08-02"},null,{"$f":"Simulador!C73","v":40},null,{"$f":"Simulador!E73","v":"Retorno"},null,{"$f":"Simulador!G73","v":254.5010515031554},null,{"$f":"Simulador!I73","v":9867.0446946034208},null,{"$f":"Simulador!K73","v":0},null,{"$f":"Simulador!M73","v":222.29652757700507},null,{"$f":"Simulador!O73","v":66.400000000000006},null,{"$f":"Simulador!Q73","v":10410.242273683582},null,{"$f":"Simulador!S73","v":1015516.3434308134}]
[null,{"$f":"Simulador!A74","v":"2029-09-02"},null,{"$f":"Simulador!C74","v":41},null,{"$f":"Simulador!E74","v":"Retorno"},null,{"$f":"Simulador!G74","v":256.97323631103245},null,{"$f":"Simulador!I74","v":9864.5725097955437},null,{"$f":"Simulador!K74","v":0},null,{"$f":"Simulador!M74","v":222.24027613557658},null,{"$f":"Simulador!O74","v":66.400000000000006},null,{"$f":"Simulador!Q74","v":10410.186022242153},null,{"$f":"Simulador!S74","v":1015259.3701945024}]
[null,{"$f":"Simulador!A75","v":"2029-10-02"},null,{"$f":"Simulador!C75","v":42},null,{"$f":"Simulador!E75","v":"Retorno"},null,{"$f":"Simulador!G75","v":259.46943554903009},null,{"$f":"Simulador!I75","v":9862.0763105575461},null,{"$f":"Simulador!K75","v":0},null,{"$f":"Simulador!M75","v":222.18347827613491},null,{"$f":"Simulador!O75","v":66.400000000000006},null,{"$f":"Simulador!Q75","v":10410.12922438271},null,{"$f":"Simulador!S75","v":1014999.9007589534}]
[null,{"$f":"Simulador!A76","v":"2029-11-02"},null,{"$f":"Simulador!C76","v":43},null,{"$f":"Simulador!E76","v":"Retorno"},null,{"$f":"Simulador!G76","v":261.98988248970454},null,{"$f":"Simulador!I76","v":9859.5558636168716},null,{"$f":"Simulador!K76","v":0},null,{"$f":"Simulador!M76","v":222.12612869085791},null,{"$f":"Simulador!O76","v":66.400000000000006},null,{"$f":"Simulador!Q76","v":10410.071874797433},null,{"$f":"Simulador!S76","v":1014737.9108764637}]
[null,{"$f":"Simulador!A77","v":"2029-12-02"},null,{"$f":"Simulador!C77","v":44},null,{"$f":"Simulador!E77","v":"Retorno"},null,{"$f":"Simulador!G77","v":264.53481267163625},null,{"$f":"Simulador!I77","v":9857.0109334349399},null,{"$f":"Simulador!K77","v":0},null,{"$f":"Simulador!M77","v":222.06822202036412},null,{"$f":"Simulador!O77","v":66.400000000000006},null,{"$f":"Simulador!Q77","v":10410.013968126939},null,{"$f":"Simulador!S77","v":1014473.3760637922}]
[null,{"$f":"Simulador!A78","v":"2030-01-02"},null,{"$f":"Simulador!C78","v":45},null,{"$f":"Simulador!E78","v":"Retorno"},null,{"$f":"Simulador!G78","v":267.10446392131598},null,{"$f":"Simulador!I78","v":9854.4412821852602},null,{"$f":"Simulador!K78","v":0},null,{"$f":"Simulador!M78","v":222.00975285321175},null,{"$f":"Simulador!O78","v":66.400000000000006},null,{"$f":"Simulador!Q78","v":10409.955498959787},null,{"$f":"Simulador!S78","v":1014206.2715998709}]
[null,{"$f":"Simulador!A79","v":"2030-02-02"},null,{"$f":"Simulador!C79","v":46},null,{"$f":"Simulador!E79","v":"Retorno"},null,{"$f":"Simulador!G79","v":269.69907637549659},null,{"$f":"Simulador!I79","v":9851.8466697310796},null,{"$f":"Simulador!K79","v":0},null,{"$f":"Simulador!M79","v":221.95071572539317},null,{"$f":"Simulador!O79","v":66.400000000000006},null,{"$f":"Simulador!Q79","v":10409.89646183197},null,{"$f":"Simulador!S79","v":1013936.5725234954}]
[null,{"$f":"Simulador!A80","v":"2030-03-02"},null,{"$f":"Simulador!C80","v":47},null,{"$f":"Simulador!E80","v":"Retorno"},null,{"$f":"Simulador!G80","v":272.31889250342829},null,{"$f":"Simulador!I80","v":9849.2268536031479},null,{"$f":"Simulador!K80","v":0},null,{"$f":"Simulador!M80","v":221.89110511982418},null,{"$f":"Simulador!O80","v":66.400000000000006},null,{"$f":"Simulador!Q80","v":10409.836851226401},null,{"$f":"Simulador!S80","v":1013664.253630992}]
[null,{"$f":"Simulador!A81","v":"2030-04-02"},null,{"$f":"Simulador!C81","v":48},null,{"$f":"Simulador!E81","v":"Retorno"},null,{"$f":"Simulador!G81","v":274.96415712990893},null,{"$f":"Simulador!I81","v":9846.5815889766673},null,{"$f":"Simulador!K81","v":0},null,{"$f":"Simulador!M81","v":221.83091546582844},null,{"$f":"Simulador!O81","v":66.400000000000006},null,{"$f":"Simulador!Q81","v":10409.776661572405},null,{"$f":"Simulador!S81","v":1013389.2894738622}]
[null,{"$f":"Simulador!A82","v":"2030-05-02"},null,{"$f":"Simulador!C82","v":49},null,{"$f":"Simulador!E82","v":"Retorno"},null,{"$f":"Simulador!G82","v":277.63511745775213},null,{"$f":"Simulador!I82","v":9843.9106286488241},null,{"$f":"Simulador!K82","v":0},null,{"$f":"Simulador!M82","v":221.77014113861694},null,{"$f":"Simulador!O82","v":66.400000000000006},null,{"$f":"Simulador!Q82","v":10409.715887245193},null,{"$f":"Simulador!S82","v":1013111.6543564044}]
[null,{"$f":"Simulador!A83","v":"2030-06-02"},null,{"$f":"Simulador!C83","v":50},null,{"$f":"Simulador!E83","v":"Retorno"},null,{"$f":"Simulador!G83","v":280.33202309118678},null,{"$f":"Simulador!I83","v":9841.2137230153894},null,{"$f":"Simulador!K83","v":0},null,{"$f":"Simulador!M83","v":221.70877645876229},null,{"$f":"Simulador!O83","v":66.400000000000006},null,{"$f":"Simulador!Q83","v":10409.654522565339},null,{"$f":"Simulador!S83","v":1012831.3223333133}]
[null,{"$f":"Simulador!A84","v":"2030-07-02"},null,{"$f":"Simulador!C84","v":51},null,{"$f":"Simulador!E84","v":"Retorno"},null,{"$f":"Simulador!G84","v":283.05512605890726},null,{"$f":"Simulador!I84","v":9838.4906200476689},null,{"$f":"Simulador!K84","v":0},null,{"$f":"Simulador!M84","v":221.646815691668},null,{"$f":"Simulador!O84","v":66.400000000000006},null,{"$f":"Simulador!Q84","v":10409.592561798243},null,{"$f":"Simulador!S84","v":1012548.2672072544}]
[null,{"$f":"Simulador!A85","v":"2030-08-02"},null,{"$f":"Simulador!C85","v":52},null,{"$f":"Simulador!E85","v":"Retorno"},null,{"$f":"Simulador!G85","v":285.80468083805499},null,{"$f":"Simulador!I85","v":9835.7410652685212},null,{"$f":"Simulador!K85","v":0},null,{"$f":"Simulador!M85","v":221.58425304703255},null,{"$f":"Simulador!O85","v":66.400000000000006},null,{"$f":"Simulador!Q85","v":10409.529999153609},null,{"$f":"Simulador!S85","v":1012262.4625264164}]
[null,{"$f":"Simulador!A86","v":"2030-09-02"},null,{"$f":"Simulador!C86","v":53},null,{"$f":"Simulador!E86","v":"Retorno"},null,{"$f":"Simulador!G86","v":288.58094437726868},null,{"$f":"Simulador!I86","v":9832.9648017293075},null,{"$f":"Simulador!K86","v":0},null,{"$f":"Simulador!M86","v":221.52108267830837},null,{"$f":"Simulador!O86","v":66.400000000000006},null,{"$f":"Simulador!Q86","v":10409.466828784884},null,{"$f":"Simulador!S86","v":1011973.8815820392}]
[null,{"$f":"Simulador!A87","v":"2030-10-02"},null,{"$f":"Simulador!C87","v":54},null,{"$f":"Simulador!E87","v":"Retorno"},null,{"$f":"Simulador!G87","v":291.38417612148078},null,{"$f":"Simulador!I87","v":9830.1615699850954},null,{"$f":"Simulador!K87","v":0},null,{"$f":"Simulador!M87","v":221.4572986821554},null,{"$f":"Simulador!O87","v":66.400000000000006},null,{"$f":"Simulador!Q87","v":10409.403044788731},null,{"$f":"Simulador!S87","v":1011682.4974059177}]
[null,{"$f":"Simulador!A88","v":"2030-11-02"},null,{"$f":"Simulador!C88","v":55},null,{"$f":"Simulador!E88","v":"Retorno"},null,{"$f":"Simulador!G88","v":294.21463803589904},null,{"$f":"Simulador!I88","v":9827.3311080706771},null,{"$f":"Simulador!K88","v":0},null,{"$f":"Simulador!M88","v":221.39289509788935},null,{"$f":"Simulador!O88","v":66.400000000000006},null,{"$f":"Simulador!Q88","v":10409.338641204466},null,{"$f":"Simulador!S88","v":1011388.2827678819}]
[null,{"$f":"Simulador!A89","v":"2030-12-02"},null,{"$f":"Simulador!C89","v":56},null,{"$f":"Simulador!E89","v":"Retorno"},null,{"$f":"Simulador!G89","v":297.07259463022092},null,{"$f":"Simulador!I89","v":9824.4731514763553},null,{"$f":"Simulador!K89","v":0},null,{"$f":"Simulador!M89","v":221.32786590692481},null,{"$f":"Simulador!O89","v":66.400000000000006},null,{"$f":"Simulador!Q89","v":10409.273612013501},null,{"$f":"Simulador!S89","v":1011091.2101732517}]
[null,{"$f":"Simulador!A90","v":"2031-01-02"},null,{"$f":"Simulador!C90","v":57},null,{"$f":"Simulador!E90","v":"Retorno"},null,{"$f":"Simulador!G90","v":299.95831298366284},null,{"$f":"Simulador!I90","v":9821.5874331229134},null,{"$f":"Simulador!K90","v":0},null,{"$f":"Simulador!M90","v":221.26220503221268},null,{"$f":"Simulador!O90","v":66.400000000000006},null,{"$f":"Simulador!Q90","v":10409.207951138789},null,{"$f":"Simulador!S90","v":1010791.2518602681}]
[null,{"$f":"Simulador!A91","v":"2031-02-02"},null,{"$f":"Simulador!C91","v":58},null,{"$f":"Simulador!E91","v":"Retorno"},null,{"$f":"Simulador!G91","v":302.87206276964025},null,{"$f":"Simulador!I91","v":9818.6736833369359},null,{"$f":"Simulador!K91","v":0},null,{"$f":"Simulador!M91","v":221.19590633767243},null,{"$f":"Simulador!O91","v":66.400000000000006},null,{"$f":"Simulador!Q91","v":10409.141652444248},null,{"$f":"Simulador!S91","v":1010488.3797974985}]
[null,{"$f":"Simulador!A92","v":"2031-03-02"},null,{"$f":"Simulador!C92","v":59},null,{"$f":"Simulador!E92","v":"Retorno"},null,{"$f":"Simulador!G92","v":305.81411628137903},null,{"$f":"Simulador!I92","v":9815.7316298251972},null,{"$f":"Simulador!K92","v":0},null,{"$f":"Simulador!M92","v":221.12896362761845},null,{"$f":"Simulador!O92","v":66.400000000000006},null,{"$f":"Simulador!Q92","v":10409.074709734194},null,{"$f":"Simulador!S92","v":1010182.5656812171}]
[null,{"$f":"Simulador!A93","v":"2031-04-02"},null,{"$f":"Simulador!C93","v":60},null,{"$f":"Simulador!E93","v":"Retorno"},null,{"$f":"Simulador!G93","v":308.78474845694473},null,{"$f":"Simulador!I93","v":9812.7609976496315},null,{"$f":"Simulador!K93","v":0},null,{"$f":"Simulador!M93","v":221.06137064618122},null,{"$f":"Simulador!O93","v":66.400000000000006},null,{"$f":"Simulador!Q93","v":10409.007116752757},null,{"$f":"Simulador!S93","v":1009873.7809327602}]
[null,{"$f":"Simulador!A94","v":"2031-05-02"},null,{"$f":"Simulador!C94","v":61},null,{"$f":"Simulador!E94","v":"Retorno"},null,{"$f":"Simulador!G94","v":311.7842369050868},null,{"$f":"Simulador!I94","v":9809.7615092014894},null,{"$f":"Simulador!K94","v":0},null,{"$f":"Simulador!M94","v":220.9931210767227},null,{"$f":"Simulador!O94","v":66.400000000000006},null,{"$f":"Simulador!Q94","v":10408.938867183298},null,{"$f":"Simulador!S94","v":1009561.9966958552}]
[null,{"$f":"Simulador!A95","v":"2031-06-02"},null,{"$f":"Simulador!C95","v":62},null,{"$f":"Simulador!E95","v":"Retorno"},null,{"$f":"Simulador!G95","v":314.81286193143205},null,{"$f":"Simulador!I95","v":9806.7328841751441},null,{"$f":"Simulador!K95","v":0},null,{"$f":"Simulador!M95","v":220.92420854124592},null,{"$f":"Simulador!O95","v":66.400000000000006},null,{"$f":"Simulador!Q95","v":10408.869954647822},null,{"$f":"Simulador!S95","v":1009247.1838339238}]
[null,{"$f":"Simulador!A96","v":"2031-07-02"},null,{"$f":"Simulador!C96","v":63},null,{"$f":"Simulador!E96","v":"Retorno"},null,{"$f":"Simulador!G96","v":317.87090656421242},null,{"$f":"Simulador!I96","v":9803.6748395423638},null,{"$f":"Simulador!K96","v":0},null,{"$f":"Simulador!M96","v":220.85462659979902},null,{"$f":"Simulador!O96","v":66.400000000000006},null,{"$f":"Simulador!Q96","v":10408.800372706375},null,{"$f":"Simulador!S96","v":1008929.3129273596}]
[null,{"$f":"Simulador!A97","v":"2031-08-02"},null,{"$f":"Simulador!C97","v":64},null,{"$f":"Simulador!E97","v":"Retorno"},null,{"$f":"Simulador!G97","v":320.95865658104049},null,{"$f":"Simulador!I97","v":9800.5870895255357},null,{"$f":"Simulador!K97","v":0},null,{"$f":"Simulador!M97","v":220.78436874987344},null,{"$f":"Simulador!O97","v":66.400000000000006},null,{"$f":"Simulador!Q97","v":10408.730114856449},null,{"$f":"Simulador!S97","v":1008608.3542707786}]
[null,{"$f":"Simulador!A98","v":"2031-09-02"},null,{"$f":"Simulador!C98","v":65},null,{"$f":"Simulador!E98","v":"Retorno"},null,{"$f":"Simulador!G98","v":324.07640053568502},null,{"$f":"Simulador!I98","v":9797.4693455708912},null,{"$f":"Simulador!K98","v":0},null,{"$f":"Simulador!M98","v":220.7134284257962},null,{"$f":"Simulador!O98","v":66.400000000000006},null,{"$f":"Simulador!Q98","v":10408.659174532371},null,{"$f":"Simulador!S98","v":1008284.2778702429}]
[null,{"$f":"Simulador!A99","v":"2031-10-02"},null,{"$f":"Simulador!C99","v":66},null,{"$f":"Simulador!E99","v":"Retorno"},null,{"$f":"Simulador!G99","v":327.22442978449726},null,{"$f":"Simulador!I99","v":9794.3213163220789},null,{"$f":"Simulador!K99","v":0},null,{"$f":"Simulador!M99","v":312.8698693879183},null,{"$f":"Simulador!O99","v":66.400000000000006},null,{"$f":"Simulador!Q99","v":10500.815615494494},null,{"$f":"Simulador!S99","v":1007957.0534404585}]
[null,{"$f":"Simulador!A100","v":"2031-11-02"},null,{"$f":"Simulador!C100","v":67},null,{"$f":"Simulador!E100","v":"Retorno"},null,{"$f":"Simulador!G100","v":330.40303851435056},null,{"$f":"Simulador!I100","v":9791.1427075922256},null,{"$f":"Simulador!K100","v":0},null,{"$f":"Simulador!M100","v":312.76731228476348},null,{"$f":"Simulador!O100","v":66.400000000000006},null,{"$f":"Simulador!Q100","v":10500.713058391339},null,{"$f":"Simulador!S100","v":1007626.6504019442}]
[null,{"$f":"Simulador!A101","v":"2031-12-02"},null,{"$f":"Simulador!C101","v":68},null,{"$f":"Simulador!E101","v":"Retorno"},null,{"$f":"Simulador!G101","v":333.61252376976518},null,{"$f":"Simulador!I101","v":9787.933222336811},null,{"$f":"Simulador!K101","v":0},null,{"$f":"Simulador!M101","v":312.66375895738537},null,{"$f":"Simulador!O101","v":66.400000000000006},null,{"$f":"Simulador!Q101","v":10500.609505063961},null,{"$f":"Simulador!S101","v":1007293.0378781745}]
[null,{"$f":"Simulador!A102","v":"2032-01-02"},null,{"$f":"Simulador!C102","v":69},null,{"$f":"Simulador!E102","v":"Retorno"},null,{"$f":"Simulador!G102","v":336.85318548061514},null,{"$f":"Simulador!I102","v":9784.6925606259611},null,{"$f":"Simulador!K102","v":0},null,{"$f":"Simulador!M102","v":312.55919972861221},null,{"$f":"Simulador!O102","v":66.400000000000006},null,{"$f":"Simulador!Q102","v":10500.504945835188},null,{"$f":"Simulador!S102","v":1006956.1846926939}]
[null,{"$f":"Simulador!A103","v":"2032-02-02"},null,{"$f":"Simulador!C103","v":70},null,{"$f":"Simulador!E103","v":"Retorno"},null,{"$f":"Simulador!G103","v":340.12532649030072},null,{"$f":"Simulador!I103","v":9781.4204196162755},null,{"$f":"Simulador!K103","v":0},null,{"$f":"Simulador!M103","v":312.45362482726961},null,{"$f":"Simulador!O103","v":66.400000000000006},null,{"$f":"Simulador!Q103","v":10500.399370933845},null,{"$f":"Simulador!S103","v":1006616.0593662036}]
[null,{"$f":"Simulador!A104","v":"2032-03-02"},null,{"$f":"Simulador!C104","v":71},null,{"$f":"Simulador!E104","v":"Retorno"},null,{"$f":"Simulador!G104","v":343.42925258392097},null,{"$f":"Simulador!I104","v":9778.1164935226552},null,{"$f":"Simulador!K104","v":0},null,{"$f":"Simulador!M104","v":312.3470243872676},null,{"$f":"Simulador!O104","v":66.400000000000006},null,{"$f":"Simulador!Q104","v":10500.292770493843},null,{"$f":"Simulador!S104","v":1006272.6301136197}]
[null,{"$f":"Simulador!A105","v":"2032-04-02"},null,{"$f":"Simulador!C105","v":72},null,{"$f":"Simulador!E105","v":"Retorno"},null,{"$f":"Simulador!G105","v":346.76527251702828},null,{"$f":"Simulador!I105","v":9774.7804735895479},null,{"$f":"Simulador!K105","v":0},null,{"$f":"Simulador!M105","v":312.23938844667828},null,{"$f":"Simulador!O105","v":66.400000000000006},null,{"$f":"Simulador!Q105","v":10500.185134553254},null,{"$f":"Simulador!S105","v":1005925.8648411027}]
[null,{"$f":"Simulador!A106","v":"2032-05-02"},null,{"$f":"Simulador!C106","v":73},null,{"$f":"Simulador!E106","v":"Retorno"},null,{"$f":"Simulador!G106","v":350.13369804438298},null,{"$f":"Simulador!I106","v":9771.4120480621932},null,{"$f":"Simulador!K106","v":0},null,{"$f":"Simulador!M106","v":312.13070694680533},null,{"$f":"Simulador!O106","v":66.400000000000006},null,{"$f":"Simulador!Q106","v":10500.076453053382},null,{"$f":"Simulador!S106","v":1005575.7311430584}]
[null,{"$f":"Simulador!A107","v":"2032-06-02"},null,{"$f":"Simulador!C107","v":74},null,{"$f":"Simulador!E107","v":"Retorno"},null,{"$f":"Simulador!G107","v":353.53484394894076},null,{"$f":"Simulador!I107","v":9768.0109021576354},null,{"$f":"Simulador!K107","v":0},null,{"$f":"Simulador!M107","v":312.02096973124361},null,{"$f":"Simulador!O107","v":66.400000000000006},null,{"$f":"Simulador!Q107","v":10499.96671583782},null,{"$f":"Simulador!S107","v":1005222.1962991095}]
[null,{"$f":"Simulador!A108","v":"2032-07-02"},null,{"$f":"Simulador!C108","v":75},null,{"$f":"Simulador!E108","v":"Retorno"},null,{"$f":"Simulador!G108","v":356.96902807153856},null,{"$f":"Simulador!I108","v":9764.5767180350376},null,{"$f":"Simulador!K108","v":0},null,{"$f":"Simulador!M108","v":311.91016654493018},null,{"$f":"Simulador!O108","v":66.400000000000006},null,{"$f":"Simulador!Q108","v":10499.855912651507},null,{"$f":"Simulador!S108","v":1004865.227271038}]
[null,{"$f":"Simulador!A109","v":"2032-08-02"},null,{"$f":"Simulador!C109","v":76},null,{"$f":"Simulador!E109","v":"Retorno"},null,{"$f":"Simulador!G109","v":360.43657134058049},null,{"$f":"Simulador!I109","v":9761.1091747659957},null,{"$f":"Simulador!K109","v":0},null,{"$f":"Simulador!M109","v":311.79828703318611},null,{"$f":"Simulador!O109","v":66.400000000000006},null,{"$f":"Simulador!Q109","v":10499.744033139761},null,{"$f":"Simulador!S109","v":1004504.7906996974}]
[null,{"$f":"Simulador!A110","v":"2032-09-02"},null,{"$f":"Simulador!C110","v":77},null,{"$f":"Simulador!E110","v":"Retorno"},null,{"$f":"Simulador!G110","v":363.93779780149089},null,{"$f":"Simulador!I110","v":9757.6079483050853},null,{"$f":"Simulador!K110","v":0},null,{"$f":"Simulador!M110","v":311.68532074074852},null,{"$f":"Simulador!O110","v":66.400000000000006},null,{"$f":"Simulador!Q110","v":10499.631066847325},null,{"$f":"Simulador!S110","v":1004140.852901896}]
[null,{"$f":"Simulador!A111","v":"2032-10-02"},null,{"$f":"Simulador!C111","v":78},null,{"$f":"Simulador!E111","v":"Retorno"},null,{"$f":"Simulador!G111","v":367.47303464791366},null,{"$f":"Simulador!I111","v":9754.0727114586625},null,{"$f":"Simulador!K111","v":0},null,{"$f":"Simulador!M111","v":311.57125711079385},null,{"$f":"Simulador!O111","v":66.400000000000006},null,{"$f":"Simulador!Q111","v":10499.51700321737},null,{"$f":"Simulador!S111","v":1003773.3798672481}]
[null,{"$f":"Simulador!A112","v":"2032-11-02"},null,{"$f":"Simulador!C112","v":79},null,{"$f":"Simulador!E112","v":"Retorno"},null,{"$f":"Simulador!G112","v":371.042612251631},null,{"$f":"Simulador!I112","v":9750.5031338549452},null,{"$f":"Simulador!K112","v":0},null,{"$f":"Simulador!M112","v":311.45608548395091},null,{"$f":"Simulador!O112","v":66.400000000000006},null,{"$f":"Simulador!Q112","v":10499.401831590527},null,{"$f":"Simulador!S112","v":1003402.3372549965}]
[null,{"$f":"Simulador!A113","v":"2032-12-02"},null,{"$f":"Simulador!C113","v":80},null,{"$f":"Simulador!E113","v":"Retorno"},null,{"$f":"Simulador!G113","v":374.64686419341342},null,{"$f":"Simulador!I113","v":9746.8988819131628},null,{"$f":"Simulador!K113","v":0},null,{"$f":"Simulador!M113","v":311.33979509730528},null,{"$f":"Simulador!O113","v":66.400000000000006},null,{"$f":"Simulador!Q113","v":10499.285541203881},null,{"$f":"Simulador!S113","v":1003027.6903908032}]
[null,{"$f":"Simulador!A114","v":"2033-01-02"},null,{"$f":"Simulador!C114","v":81},null,{"$f":"Simulador!E114","v":"Retorno"},null,{"$f":"Simulador!G114","v":378.28612729480119},null,{"$f":"Simulador!I114","v":9743.259618811775},null,{"$f":"Simulador!K114","v":0},null,{"$f":"Simulador!M114","v":311.22237508339299},null,{"$f":"Simulador!O114","v":66.400000000000006},null,{"$f":"Simulador!Q114","v":10499.168121189969},null,{"$f":"Simulador!S114","v":1002649.4042635084}]
[null,{"$f":"Simulador!A115","v":"2033-02-02"},null,{"$f":"Simulador!C115","v":82},null,{"$f":"Simulador!E115","v":"Retorno"},null,{"$f":"Simulador!G115","v":381.96074164860511},null,{"$f":"Simulador!I115","v":9739.5850044579711},null,{"$f":"Simulador!K115","v":0},null,{"$f":"Simulador!M115","v":311.10381446918529},null,{"$f":"Simulador!O115","v":66.400000000000006},null,{"$f":"Simulador!Q115","v":10499.049560575761},null,{"$f":"Simulador!S115","v":1002267.4435218598}]
[null,{"$f":"Simulador!A116","v":"2033-03-02"},null,{"$f":"Simulador!C116","v":83},null,{"$f":"Simulador!E116","v":"Retorno"},null,{"$f":"Simulador!G116","v":385.67105065173564},null,{"$f":"Simulador!I116","v":9735.8746954548405},null,{"$f":"Simulador!K116","v":0},null,{"$f":"Simulador!M116","v":310.98410217506301},null,{"$f":"Simulador!O116","v":66.400000000000006},null,{"$f":"Simulador!Q116","v":10498.929848281639},null,{"$f":"Simulador!S116","v":1001881.7724712081}]
[null,{"$f":"Simulador!A117","v":"2033-04-02"},null,{"$f":"Simulador!C117","v":84},null,{"$f":"Simulador!E117","v":"Retorno"},null,{"$f":"Simulador!G117","v":389.41740103663506},null,{"$f":"Simulador!I117","v":9732.1283450699411},null,{"$f":"Simulador!K117","v":0},null,{"$f":"Simulador!M117","v":310.86322701378123},null,{"$f":"Simulador!O117","v":66.400000000000006},null,{"$f":"Simulador!Q117","v":10498.808973120356},null,{"$f":"Simulador!S117","v":1001492.3550701715}]
[null,{"$f":"Simulador!A118","v":"2033-05-02"},null,{"$f":"Simulador!C118","v":85},null,{"$f":"Simulador!E118","v":"Retorno"},null,{"$f":"Simulador!G118","v":393.20014290387371},null,{"$f":"Simulador!I118","v":9728.3456032027025},null,{"$f":"Simulador!K118","v":0},null,{"$f":"Simulador!M118","v":310.74117768942392},null,{"$f":"Simulador!O118","v":66.400000000000006},null,{"$f":"Simulador!Q118","v":10498.686923796},null,{"$f":"Simulador!S118","v":1001099.1549272677}]
[null,{"$f":"Simulador!A119","v":"2033-06-02"},null,{"$f":"Simulador!C119","v":86},null,{"$f":"Simulador!E119","v":"Retorno"},null,{"$f":"Simulador!G119","v":397.01962975462993},null,{"$f":"Simulador!I119","v":9724.5261163519463},null,{"$f":"Simulador!K119","v":0},null,{"$f":"Simulador!M119","v":310.61794279634807},null,{"$f":"Simulador!O119","v":66.400000000000006},null,{"$f":"Simulador!Q119","v":10498.563688902925},null,{"$f":"Simulador!S119","v":1000702.1352975131}]
[null,{"$f":"Simulador!A120","v":"2033-07-02"},null,{"$f":"Simulador!C120","v":87},null,{"$f":"Simulador!E120","v":"Retorno"},null,{"$f":"Simulador!G120","v":400.87621852433404},null,{"$f":"Simulador!I120","v":9720.6695275822422},null,{"$f":"Simulador!K120","v":0},null,{"$f":"Simulador!M120","v":310.49351081811812},null,{"$f":"Simulador!O120","v":66.400000000000006},null,{"$f":"Simulador!Q120","v":10498.439256924694},null,{"$f":"Simulador!S120","v":1000301.2590789888}]
[null,{"$f":"Simulador!A121","v":"2033-08-02"},null,{"$f":"Simulador!C121","v":88},null,{"$f":"Simulador!E121","v":"Retorno"},null,{"$f":"Simulador!G121","v":404.77026961538104},null,{"$f":"Simulador!I121","v":9716.7754764911951},null,{"$f":"Simulador!K121","v":0},null,{"$f":"Simulador!M121","v":310.36787012642952},null,{"$f":"Simulador!O121","v":66.400000000000006},null,{"$f":"Simulador!Q121","v":10498.313616233005},null,{"$f":"Simulador!S121","v":999896.48880937346}]
[null,{"$f":"Simulador!A122","v":"2033-09-02"},null,{"$f":"Simulador!C122","v":89},null,{"$f":"Simulador!E122","v":"Retorno"},null,{"$f":"Simulador!G122","v":408.70214693112393},null,{"$f":"Simulador!I122","v":9712.8435991754523},null,{"$f":"Simulador!K122","v":0},null,{"$f":"Simulador!M122","v":310.24100898002212},null,{"$f":"Simulador!O122","v":66.400000000000006},null,{"$f":"Simulador!Q122","v":10498.186755086597},null,{"$f":"Simulador!S122","v":999487.78666244238}]
[null,{"$f":"Simulador!A123","v":"2033-10-02"},null,{"$f":"Simulador!C123","v":90},null,{"$f":"Simulador!E123","v":"Retorno"},null,{"$f":"Simulador!G123","v":412.67221790963413},null,{"$f":"Simulador!I123","v":9708.8735281969421},null,{"$f":"Simulador!K123","v":0},null,{"$f":"Simulador!M123","v":310.11291552358301},null,{"$f":"Simulador!O123","v":66.400000000000006},null,{"$f":"Simulador!Q123","v":10498.058661630159},null,{"$f":"Simulador!S123","v":999075.11444453278}]
[null,{"$f":"Simulador!A124","v":"2033-11-02"},null,{"$f":"Simulador!C124","v":91},null,{"$f":"Simulador!E124","v":"Retorno"},null,{"$f":"Simulador!G124","v":416.68085355862604},null,{"$f":"Simulador!I124","v":9704.8648925479501},null,{"$f":"Simulador!K124","v":0},null,{"$f":"Simulador!M124","v":309.98357778663842},null,{"$f":"Simulador!O124","v":66.400000000000006},null,{"$f":"Simulador!Q124","v":10497.929323893215},null,{"$f":"Simulador!S124","v":998658.43359097419}]
[null,{"$f":"Simulador!A125","v":"2033-12-02"},null,{"$f":"Simulador!C125","v":92},null,{"$f":"Simulador!E125","v":"Retorno"},null,{"$f":"Simulador!G125","v":420.72842848921755},null,{"$f":"Simulador!I125","v":9700.8173176173586},null,{"$f":"Simulador!K125","v":0},null,{"$f":"Simulador!M125","v":309.85298368243537},null,{"$f":"Simulador!O125","v":66.400000000000006},null,{"$f":"Simulador!Q125","v":10497.79872978901},null,{"$f":"Simulador!S125","v":998237.70516248501}]
[null,{"$f":"Simulador!A126","v":"2034-01-02"},null,{"$f":"Simulador!C126","v":93},null,{"$f":"Simulador!E126","v":"Retorno"},null,{"$f":"Simulador!G126","v":424.81532095201874},null,{"$f":"Simulador!I126","v":9696.7304251545575},null,{"$f":"Simulador!K126","v":0},null,{"$f":"Simulador!M126","v":309.72112100681187},null,{"$f":"Simulador!O126","v":66.400000000000006},null,{"$f":"Simulador!Q126","v":10497.666867113388},null,{"$f":"Simulador!S126","v":997812.88984153303}]
[null,{"$f":"Simulador!A127","v":"2034-02-02"},null,{"$f":"Simulador!C127","v":94},null,{"$f":"Simulador!E127","v":"Retorno"},null,{"$f":"Simulador!G127","v":428.941912871358},null,{"$f":"Simulador!I127","v":9692.6038332352182},null,{"$f":"Simulador!K127","v":0},null,{"$f":"Simulador!M127","v":309.58797743705662},null,{"$f":"Simulador!O127","v":66.400000000000006},null,{"$f":"Simulador!Q127","v":10497.533723543633},null,{"$f":"Simulador!S127","v":997383.94792866171}]
[null,{"$f":"Simulador!A128","v":"2034-03-02"},null,{"$f":"Simulador!C128","v":95},null,{"$f":"Simulador!E128","v":"Retorno"},null,{"$f":"Simulador!G128","v":433.10858988195287},null,{"$f":"Simulador!I128","v":9688.4371562246233},null,{"$f":"Simulador!K128","v":0},null,{"$f":"Simulador!M128","v":309.45354053075727},null,{"$f":"Simulador!O128","v":66.400000000000006},null,{"$f":"Simulador!Q128","v":10497.399286637334},null,{"$f":"Simulador!S128","v":996950.8393387798}]
[null,{"$f":"Simulador!A129","v":"2034-04-02"},null,{"$f":"Simulador!C129","v":96},null,{"$f":"Simulador!E129","v":"Retorno"},null,{"$f":"Simulador!G129","v":437.31574136418385},null,{"$f":"Simulador!I129","v":9684.2300047423923},null,{"$f":"Simulador!K129","v":0},null,{"$f":"Simulador!M129","v":309.31779772463784},null,{"$f":"Simulador!O129","v":66.400000000000006},null,{"$f":"Simulador!Q129","v":10497.263543831214},null,{"$f":"Simulador!S129","v":996513.52359741565}]
[null,{"$f":"Simulador!A130","v":"2034-05-02"},null,{"$f":"Simulador!C130","v":97},null,{"$f":"Simulador!E130","v":"Retorno"},null,{"$f":"Simulador!G130","v":441.5637604809981},null,{"$f":"Simulador!I130","v":9679.9819856255781},null,{"$f":"Simulador!K130","v":0},null,{"$f":"Simulador!M130","v":309.18073633338452},null,{"$f":"Simulador!O130","v":66.400000000000006},null,{"$f":"Simulador!Q130","v":10497.12648243996},null,{"$f":"Simulador!S130","v":996071.95983693469}]
[null,{"$f":"Simulador!A131","v":"2034-06-02"},null,{"$f":"Simulador!C131","v":98},null,{"$f":"Simulador!E131","v":"Retorno"},null,{"$f":"Simulador!G131","v":445.85304421446381},null,{"$f":"Simulador!I131","v":9675.6927018921124},null,{"$f":"Simulador!K131","v":0},null,{"$f":"Simulador!M131","v":309.04234354846039},null,{"$f":"Simulador!O131","v":66.400000000000006},null,{"$f":"Simulador!Q131","v":10496.988089655037},null,{"$f":"Simulador!S131","v":995626.10679272027}]
[null,{"$f":"Simulador!A132","v":"2034-07-02"},null,{"$f":"Simulador!C132","v":99},null,{"$f":"Simulador!E132","v":"Retorno"},null,{"$f":"Simulador!G132","v":450.18399340290671},null,{"$f":"Simulador!I132","v":9671.3617527036695},null,{"$f":"Simulador!K132","v":0},null,{"$f":"Simulador!M132","v":308.90260643690812},null,{"$f":"Simulador!O132","v":66.400000000000006},null,{"$f":"Simulador!Q132","v":10496.848352543484},null,{"$f":"Simulador!S132","v":995175.9227993174}]
[null,{"$f":"Simulador!A133","v":"2034-08-02"},null,{"$f":"Simulador!C133","v":100},null,{"$f":"Simulador!E133","v":"Retorno"},null,{"$f":"Simulador!G133","v":454.55701277804656},null,{"$f":"Simulador!I133","v":9666.9887333285296},null,{"$f":"Simulador!K133","v":0},null,{"$f":"Simulador!M133","v":308.76151194014182},null,{"$f":"Simulador!O133","v":66.400000000000006},null,{"$f":"Simulador!Q133","v":10496.707258046717},null,{"$f":"Simulador!S133","v":994721.36578653939}]
[null,{"$f":"Simulador!A134","v":"2034-09-02"},null,{"$f":"Simulador!C134","v":101},null,{"$f":"Simulador!E134","v":"Retorno"},null,{"$f":"Simulador!G134","v":458.97251100364701},null,{"$f":"Simulador!I134","v":9662.5732351029292},null,{"$f":"Simulador!K134","v":0},null,{"$f":"Simulador!M134","v":308.6190468727263},null,{"$f":"Simulador!O134","v":66.400000000000006},null,{"$f":"Simulador!Q134","v":10496.564792979301},null,{"$f":"Simulador!S134","v":994262.39327553578}]
[null,{"$f":"Simulador!A135","v":"2034-10-02"},null,{"$f":"Simulador!C135","v":102},null,{"$f":"Simulador!E135","v":"Retorno"},null,{"$f":"Simulador!G135","v":463.43090071253573},null,{"$f":"Simulador!I135","v":9658.1148453940405},null,{"$f":"Simulador!K135","v":0},null,{"$f":"Simulador!M135","v":423.55711776414967},null,{"$f":"Simulador!O135","v":66.400000000000006},null,{"$f":"Simulador!Q135","v":10611.502863870726},null,{"$f":"Simulador!S135","v":993798.96237482328}]
[null,{"$f":"Simulador!A136","v":"2034-11-02"},null,{"$f":"Simulador!C136","v":103},null,{"$f":"Simulador!E136","v":"Retorno"},null,{"$f":"Simulador!G136","v":467.93259854630196},null,{"$f":"Simulador!I136","v":9653.6131475602742},null,{"$f":"Simulador!K136","v":0},null,{"$f":"Simulador!M136","v":423.3576848906493},null,{"$f":"Simulador!O136","v":66.400000000000006},null,{"$f":"Simulador!Q136","v":10611.303430997224},null,{"$f":"Simulador!S136","v":993331.02977627702}]
[null,{"$f":"Simulador!A137","v":"2034-12-02"},null,{"$f":"Simulador!C137","v":104},null,{"$f":"Simulador!E137","v":"Retorno"},null,{"$f":"Simulador!G137","v":472.47802519348079},null,{"$f":"Simulador!I137","v":9649.0677209130954},null,{"$f":"Simulador!K137","v":0},null,{"$f":"Simulador!M137","v":423.15631475631182},null,{"$f":"Simulador!O137","v":66.400000000000006},null,{"$f":"Simulador!Q137","v":10611.102060862888},null,{"$f":"Simulador!S137","v":992858.55175108358}]
[null,{"$f":"Simulador!A138","v":"2035-01-02"},null,{"$f":"Simulador!C138","v":105},null,{"$f":"Simulador!E138","v":"Retorno"},null,{"$f":"Simulador!G138","v":477.06760542913435},null,{"$f":"Simulador!I138","v":9644.4781406774418},null,{"$f":"Simulador!K138","v":0},null,{"$f":"Simulador!M138","v":422.95298854287796},null,{"$f":"Simulador!O138","v":66.400000000000006},null,{"$f":"Simulador!Q138","v":10610.898734649454},null,{"$f":"Simulador!S138","v":992381.48414565448}]
[null,{"$f":"Simulador!A139","v":"2035-02-02"},null,{"$f":"Simulador!C139","v":106},null,{"$f":"Simulador!E139","v":"Retorno"},null,{"$f":"Simulador!G139","v":481.70176815454943},null,{"$f":"Simulador!I139","v":9639.8439779520268},null,{"$f":"Simulador!K139","v":0},null,{"$f":"Simulador!M139","v":422.74768724929049},null,{"$f":"Simulador!O139","v":66.400000000000006},null,{"$f":"Simulador!Q139","v":10610.693433355866},null,{"$f":"Simulador!S139","v":991899.78237749997}]
[null,{"$f":"Simulador!A140","v":"2035-03-02"},null,{"$f":"Simulador!C140","v":107},null,{"$f":"Simulador!E140","v":"Retorno"},null,{"$f":"Simulador!G140","v":486.38094643740078},null,{"$f":"Simulador!I140","v":9635.1647996691754},null,{"$f":"Simulador!K140","v":0},null,{"$f":"Simulador!M140","v":422.54039168991886},null,{"$f":"Simulador!O140","v":66.400000000000006},null,{"$f":"Simulador!Q140","v":10610.486137796495},null,{"$f":"Simulador!S140","v":991413.40143106261}]
[null,{"$f":"Simulador!A141","v":"2035-04-02"},null,{"$f":"Simulador!C141","v":108},null,{"$f":"Simulador!E141","v":"Retorno"},null,{"$f":"Simulador!G141","v":491.10557755191439},null,{"$f":"Simulador!I141","v":9630.4401685546618},null,{"$f":"Simulador!K141","v":0},null,{"$f":"Simulador!M141","v":422.33108249276626},null,{"$f":"Simulador!O141","v":66.400000000000006},null,{"$f":"Simulador!Q141","v":10610.276828599342},null,{"$f":"Simulador!S141","v":990922.29585351073}]
[null,{"$f":"Simulador!A142","v":"2035-05-02"},null,{"$f":"Simulador!C142","v":109},null,{"$f":"Simulador!E142","v":"Retorno"},null,{"$f":"Simulador!G142","v":495.87610302019493},null,{"$f":"Simulador!I142","v":9625.6696430863813},null,{"$f":"Simulador!K142","v":0},null,{"$f":"Simulador!M142","v":422.11974009765908},null,{"$f":"Simulador!O142","v":66.400000000000006},null,{"$f":"Simulador!Q142","v":10610.065486204236},null,{"$f":"Simulador!S142","v":990426.41975049058}]
[null,{"$f":"Simulador!A143","v":"2035-06-02"},null,{"$f":"Simulador!C143","v":110},null,{"$f":"Simulador!E143","v":"Retorno"},null,{"$f":"Simulador!G143","v":500.69296865285469},null,{"$f":"Simulador!I143","v":9620.8527774537215},null,{"$f":"Simulador!K143","v":0},null,{"$f":"Simulador!M143","v":421.90634475441925},null,{"$f":"Simulador!O143","v":66.400000000000006},null,{"$f":"Simulador!Q143","v":10609.852090860995},null,{"$f":"Simulador!S143","v":989925.72678183776}]
[null,{"$f":"Simulador!A144","v":"2035-07-02"},null,{"$f":"Simulador!C144","v":111},null,{"$f":"Simulador!E144","v":"Retorno"},null,{"$f":"Simulador!G144","v":505.55662459138875},null,{"$f":"Simulador!I144","v":9615.9891215151874},null,{"$f":"Simulador!K144","v":0},null,{"$f":"Simulador!M144","v":421.69087652101842},null,{"$f":"Simulador!O144","v":66.400000000000006},null,{"$f":"Simulador!Q144","v":10609.636622627595},null,{"$f":"Simulador!S144","v":989420.17015724641}]
[null,{"$f":"Simulador!A145","v":"2035-08-02"},null,{"$f":"Simulador!C145","v":112},null,{"$f":"Simulador!E145","v":"Retorno"},null,{"$f":"Simulador!G145","v":510.46752534985171},null,{"$f":"Simulador!I145","v":9611.0782207567245},null,{"$f":"Simulador!K145","v":0},null,{"$f":"Simulador!M145","v":421.47331526171433},null,{"$f":"Simulador!O145","v":66.400000000000006},null,{"$f":"Simulador!Q145","v":10609.419061368289},null,{"$f":"Simulador!S145","v":988909.70263189659}]
[null,{"$f":"Simulador!A146","v":"2035-09-02"},null,{"$f":"Simulador!C146","v":113},null,{"$f":"Simulador!E146","v":"Retorno"},null,{"$f":"Simulador!G146","v":515.42612985699998},null,{"$f":"Simulador!I146","v":9606.1196162495762},null,{"$f":"Simulador!K146","v":0},null,{"$f":"Simulador!M146","v":421.2536406451693},null,{"$f":"Simulador!O146","v":66.400000000000006},null,{"$f":"Simulador!Q146","v":10609.199386751745},null,{"$f":"Simulador!S146","v":988394.27650203963}]
[null,{"$f":"Simulador!A147","v":"2035-10-02"},null,{"$f":"Simulador!C147","v":114},null,{"$f":"Simulador!E147","v":"Retorno"},null,{"$f":"Simulador!G147","v":520.43290150018038},null,{"$f":"Simulador!I147","v":9601.1128446063958},null,{"$f":"Simulador!K147","v":0},null,{"$f":"Simulador!M147","v":421.03183214254994},null,{"$f":"Simulador!O147","v":66.400000000000006},null,{"$f":"Simulador!Q147","v":10608.977578249125},null,{"$f":"Simulador!S147","v":987873.84360053949}]
[null,{"$f":"Simulador!A148","v":"2035-11-02"},null,{"$f":"Simulador!C148","v":115},null,{"$f":"Simulador!E148","v":"Retorno"},null,{"$f":"Simulador!G148","v":525.4883081674725},null,{"$f":"Simulador!I148","v":9596.0574379391037},null,{"$f":"Simulador!K148","v":0},null,{"$f":"Simulador!M148","v":420.80786902560897},null,{"$f":"Simulador!O148","v":66.400000000000006},null,{"$f":"Simulador!Q148","v":10608.753615132186},null,{"$f":"Simulador!S148","v":987348.35529237206}]
[null,{"$f":"Simulador!A149","v":"2035-12-02"},null,{"$f":"Simulador!C149","v":116},null,{"$f":"Simulador!E149","v":"Retorno"},null,{"$f":"Simulador!G149","v":530.59282229227574},null,{"$f":"Simulador!I149","v":9590.9529238143004},null,{"$f":"Simulador!K149","v":0},null,{"$f":"Simulador!M149","v":420.58173036474801},null,{"$f":"Simulador!O149","v":66.400000000000006},null,{"$f":"Simulador!Q149","v":10608.527476471323},null,{"$f":"Simulador!S149","v":986817.76247007982}]
[null,{"$f":"Simulador!A150","v":"2036-01-02"},null,{"$f":"Simulador!C150","v":117},null,{"$f":"Simulador!E150","v":"Retorno"},null,{"$f":"Simulador!G150","v":535.74692089684868},null,{"$f":"Simulador!I150","v":9585.7988252097275},null,{"$f":"Simulador!K150","v":0},null,{"$f":"Simulador!M150","v":420.35339502706182},null,{"$f":"Simulador!O150","v":66.400000000000006},null,{"$f":"Simulador!Q150","v":10608.299141133637},null,{"$f":"Simulador!S150","v":986282.01554918301}]
[null,{"$f":"Simulador!A151","v":"2036-02-02"},null,{"$f":"Simulador!C151","v":118},null,{"$f":"Simulador!E151","v":"Retorno"},null,{"$f":"Simulador!G151","v":540.95108563759459},null,{"$f":"Simulador!I151","v":9580.5946604689816},null,{"$f":"Simulador!K151","v":0},null,{"$f":"Simulador!M151","v":420.12284167436309},null,{"$f":"Simulador!O151","v":66.400000000000006},null,{"$f":"Simulador!Q151","v":10608.068587780939},null,{"$f":"Simulador!S151","v":985741.06446354545}]
[null,{"$f":"Simulador!A152","v":"2036-03-02"},null,{"$f":"Simulador!C152","v":119},null,{"$f":"Simulador!E152","v":"Retorno"},null,{"$f":"Simulador!G152","v":546.20580284918287},null,{"$f":"Simulador!I152","v":9575.3399432573933},null,{"$f":"Simulador!K152","v":0},null,{"$f":"Simulador!M152","v":419.89004876118878},null,{"$f":"Simulador!O152","v":66.400000000000006},null,{"$f":"Simulador!Q152","v":10607.835794867764},null,{"$f":"Simulador!S152","v":985194.85866069631}]
[null,{"$f":"Simulador!A153","v":"2036-04-02"},null,{"$f":"Simulador!C153","v":120},null,{"$f":"Simulador!E153","v":"Retorno"},null,{"$f":"Simulador!G153","v":551.51156359088236},null,{"$f":"Simulador!I153","v":9570.0341825156938},null,{"$f":"Simulador!K153","v":0},null,{"$f":"Simulador!M153","v":419.65499453278636},null,{"$f":"Simulador!O153","v":66.400000000000006},null,{"$f":"Simulador!Q153","v":10607.600740639362},null,{"$f":"Simulador!S153","v":984643.34709710546}]
[null,{"$f":"Simulador!A154","v":"2036-05-02"},null,{"$f":"Simulador!C154","v":121},null,{"$f":"Simulador!E154","v":"Retorno"},null,{"$f":"Simulador!G154","v":556.86886369161402},null,{"$f":"Simulador!I154","v":9564.6768824149622},null,{"$f":"Simulador!K154","v":0},null,{"$f":"Simulador!M154","v":419.41765702308101},null,{"$f":"Simulador!O154","v":66.400000000000006},null,{"$f":"Simulador!Q154","v":10607.363403129657},null,{"$f":"Simulador!S154","v":984086.47823341389}]
[null,{"$f":"Simulador!A155","v":"2036-06-02"},null,{"$f":"Simulador!C155","v":122},null,{"$f":"Simulador!E155","v":"Retorno"},null,{"$f":"Simulador!G155","v":562.27820379721561},null,{"$f":"Simulador!I155","v":9559.2675423093606},null,{"$f":"Simulador!K155","v":0},null,{"$f":"Simulador!M155","v":419.17801405262264},null,{"$f":"Simulador!O155","v":66.400000000000006},null,{"$f":"Simulador!Q155","v":10607.123760159198},null,{"$f":"Simulador!S155","v":983524.20002961671}]
[null,{"$f":"Simulador!A156","v":"2036-07-02"},null,{"$f":"Simulador!C156","v":123},null,{"$f":"Simulador!E156","v":"Retorno"},null,{"$f":"Simulador!G156","v":567.74008941619286},null,{"$f":"Simulador!I156","v":9553.8056566903833},null,{"$f":"Simulador!K156","v":0},null,{"$f":"Simulador!M156","v":418.9360432265135},null,{"$f":"Simulador!O156","v":66.400000000000006},null,{"$f":"Simulador!Q156","v":10606.881789333089},null,{"$f":"Simulador!S156","v":982956.45994020056}]
[null,{"$f":"Simulador!A157","v":"2036-08-02"},null,{"$f":"Simulador!C157","v":124},null,{"$f":"Simulador!E157","v":"Retorno"},null,{"$f":"Simulador!G157","v":573.25503096779903},null,{"$f":"Simulador!I157","v":9548.2907151387772},null,{"$f":"Simulador!K157","v":0},null,{"$f":"Simulador!M157","v":418.69172193231503},null,{"$f":"Simulador!O157","v":66.400000000000006},null,{"$f":"Simulador!Q157","v":10606.637468038891},null,{"$f":"Simulador!S157","v":982383.20490923279}]
[null,{"$f":"Simulador!A158","v":"2036-09-02"},null,{"$f":"Simulador!C158","v":125},null,{"$f":"Simulador!E158","v":"Retorno"},null,{"$f":"Simulador!G158","v":578.82354382941594},null,{"$f":"Simulador!I158","v":9542.7222022771602},null,{"$f":"Simulador!K158","v":0},null,{"$f":"Simulador!M158","v":418.44502733793496},null,{"$f":"Simulador!O158","v":66.400000000000006},null,{"$f":"Simulador!Q158","v":10606.390773444511},null,{"$f":"Simulador!S158","v":981804.38136540342}]
[null,{"$f":"Simulador!A159","v":"2036-10-02"},null,{"$f":"Simulador!C159","v":126},null,{"$f":"Simulador!E159","v":"Retorno"},null,{"$f":"Simulador!G159","v":584.44614838463349},null,{"$f":"Simulador!I159","v":9537.0995977219427},null,{"$f":"Simulador!K159","v":0},null,{"$f":"Simulador!M159","v":418.19593638949345},null,{"$f":"Simulador!O159","v":66.400000000000006},null,{"$f":"Simulador!Q159","v":10606.141682496069},null,{"$f":"Simulador!S159","v":981219.93521701882}]
[null,{"$f":"Simulador!A160","v":"2036-11-02"},null,{"$f":"Simulador!C160","v":127},null,{"$f":"Simulador!E160","v":"Retorno"},null,{"$f":"Simulador!G160","v":590.12337007202768},null,{"$f":"Simulador!I160","v":9531.4223760345485},null,{"$f":"Simulador!K160","v":0},null,{"$f":"Simulador!M160","v":417.94442580916876},null,{"$f":"Simulador!O160","v":66.400000000000006},null,{"$f":"Simulador!Q160","v":10605.890171915744},null,{"$f":"Simulador!S160","v":980629.81184694683}]
[null,{"$f":"Simulador!A161","v":"2036-12-02"},null,{"$f":"Simulador!C161","v":128},null,{"$f":"Simulador!E161","v":"Retorno"},null,{"$f":"Simulador!G161","v":595.85573943417148},null,{"$f":"Simulador!I161","v":9525.6900066724047},null,{"$f":"Simulador!K161","v":0},null,{"$f":"Simulador!M161","v":417.69047209302192},null,{"$f":"Simulador!O161","v":66.400000000000006},null,{"$f":"Simulador!Q161","v":10605.636218199597},null,{"$f":"Simulador!S161","v":980033.9561075127}]
[null,{"$f":"Simulador!A162","v":"2037-01-02"},null,{"$f":"Simulador!C162","v":129},null,{"$f":"Simulador!E162","v":"Retorno"},null,{"$f":"Simulador!G162","v":601.64379216722773},null,{"$f":"Simulador!I162","v":9519.9019539393485},null,{"$f":"Simulador!K162","v":0},null,{"$f":"Simulador!M162","v":417.43405150880028},null,{"$f":"Simulador!O162","v":66.400000000000006},null,{"$f":"Simulador!Q162","v":10605.379797615376},null,{"$f":"Simulador!S162","v":979432.31231534551}]
[null,{"$f":"Simulador!A163","v":"2037-02-02"},null,{"$f":"Simulador!C163","v":130},null,{"$f":"Simulador!E163","v":"Retorno"},null,{"$f":"Simulador!G163","v":607.48806917100774},null,{"$f":"Simulador!I163","v":9514.0576769355685},null,{"$f":"Simulador!K163","v":0},null,{"$f":"Simulador!M163","v":417.17514009371962},null,{"$f":"Simulador!O163","v":66.400000000000006},null,{"$f":"Simulador!Q163","v":10605.120886200295},null,{"$f":"Simulador!S163","v":978824.82424617454}]
[null,{"$f":"Simulador!A164","v":"2037-03-02"},null,{"$f":"Simulador!C164","v":131},null,{"$f":"Simulador!E164","v":"Retorno"},null,{"$f":"Simulador!G164","v":613.38911659961195},null,{"$f":"Simulador!I164","v":9508.1566295069642},null,{"$f":"Simulador!K164","v":0},null,{"$f":"Simulador!M164","v":416.91371365222483},null,{"$f":"Simulador!O164","v":66.400000000000006},null,{"$f":"Simulador!Q164","v":10604.8594597588},null,{"$f":"Simulador!S164","v":978211.43512957497}]
[null,{"$f":"Simulador!A165","v":"2037-04-02"},null,{"$f":"Simulador!C165","v":132},null,{"$f":"Simulador!E165","v":"Retorno"},null,{"$f":"Simulador!G165","v":619.34748591253629},null,{"$f":"Simulador!I165","v":9502.1982601940399},null,{"$f":"Simulador!K165","v":0},null,{"$f":"Simulador!M165","v":416.64974775372895},null,{"$f":"Simulador!O165","v":66.400000000000006},null,{"$f":"Simulador!Q165","v":10604.595493860304},null,{"$f":"Simulador!S165","v":977592.08764366247}]
[null,{"$f":"Simulador!A166","v":"2037-05-02"},null,{"$f":"Simulador!C166","v":133},null,{"$f":"Simulador!E166","v":"Retorno"},null,{"$f":"Simulador!G166","v":625.36373392577843},null,{"$f":"Simulador!I166","v":9496.1820121807978},null,{"$f":"Simulador!K166","v":0},null,{"$f":"Simulador!M166","v":416.38321773032982},null,{"$f":"Simulador!O166","v":66.400000000000006},null,{"$f":"Simulador!Q166","v":10604.328963836906},null,{"$f":"Simulador!S166","v":976966.72390973673}]
[null,{"$f":"Simulador!A167","v":"2037-06-02"},null,{"$f":"Simulador!C167","v":134},null,{"$f":"Simulador!E167","v":"Retorno"},null,{"$f":"Simulador!G167","v":631.43842286422478},null,{"$f":"Simulador!I167","v":9490.1073232423514},null,{"$f":"Simulador!K167","v":0},null,{"$f":"Simulador!M167","v":416.1140986745051},null,{"$f":"Simulador!O167","v":66.400000000000006},null,{"$f":"Simulador!Q167","v":10604.059844781081},null,{"$f":"Simulador!S167","v":976335.28548687254}]
[null,{"$f":"Simulador!A168","v":"2037-07-02"},null,{"$f":"Simulador!C168","v":135},null,{"$f":"Simulador!E168","v":"Retorno"},null,{"$f":"Simulador!G168","v":637.57212041438652},null,{"$f":"Simulador!I168","v":9483.9736256921897},null,{"$f":"Simulador!K168","v":0},null,{"$f":"Simulador!M168","v":415.84236543678446},null,{"$f":"Simulador!O168","v":66.400000000000006},null,{"$f":"Simulador!Q168","v":10603.788111543361},null,{"$f":"Simulador!S168","v":975697.71336645819}]
[null,{"$f":"Simulador!A169","v":"2037-08-02"},null,{"$f":"Simulador!C169","v":136},null,{"$f":"Simulador!E169","v":"Retorno"},null,{"$f":"Simulador!G169","v":643.765399776903},null,{"$f":"Simulador!I169","v":9477.7803463296732},null,{"$f":"Simulador!K169","v":0},null,{"$f":"Simulador!M169","v":415.56799262339956},null,{"$f":"Simulador!O169","v":66.400000000000006},null,{"$f":"Simulador!Q169","v":10603.513738729975},null,{"$f":"Simulador!S169","v":975053.94796668133}]
[null,{"$f":"Simulador!A170","v":"2037-09-02"},null,{"$f":"Simulador!C170","v":137},null,{"$f":"Simulador!E170","v":"Retorno"},null,{"$f":"Simulador!G170","v":650.01883972044197},null,{"$f":"Simulador!I170","v":9471.5269063861342},null,{"$f":"Simulador!K170","v":0},null,{"$f":"Simulador!M170","v":560.37969964091531},null,{"$f":"Simulador!O170","v":66.400000000000006},null,{"$f":"Simulador!Q170","v":10748.32544574749},null,{"$f":"Simulador!S170","v":974403.92912696092}]
[null,{"$f":"Simulador!A171","v":"2037-10-02"},null,{"$f":"Simulador!C171","v":138},null,{"$f":"Simulador!E171","v":"Retorno"},null,{"$f":"Simulador!G171","v":656.33302463594919},null,{"$f":"Simulador!I171","v":9465.212721470627},null,{"$f":"Simulador!K171","v":0},null,{"$f":"Simulador!M171","v":560.00224251844713},null,{"$f":"Simulador!O171","v":66.400000000000006},null,{"$f":"Simulador!Q171","v":10747.947988625023},null,{"$f":"Simulador!S171","v":973747.59610232501}]
[null,{"$f":"Simulador!A172","v":"2037-11-02"},null,{"$f":"Simulador!C172","v":139},null,{"$f":"Simulador!E172","v":"Retorno"},null,{"$f":"Simulador!G172","v":662.70854459089787},null,{"$f":"Simulador!I172","v":9458.8372015156783},null,{"$f":"Simulador!K172","v":0},null,{"$f":"Simulador!M172","v":559.621118834453},null,{"$f":"Simulador!O172","v":66.400000000000006},null,{"$f":"Simulador!Q172","v":10747.566864941029},null,{"$f":"Simulador!S172","v":973084.88755773415}]
[null,{"$f":"Simulador!A173","v":"2037-12-02"},null,{"$f":"Simulador!C173","v":140},null,{"$f":"Simulador!E173","v":"Retorno"},null,{"$f":"Simulador!G173","v":669.14599538458606},null,{"$f":"Simulador!I173","v":9452.3997507219901},null,{"$f":"Simulador!K173","v":0},null,{"$f":"Simulador!M173","v":559.23629297250727},null,{"$f":"Simulador!O173","v":66.400000000000006},null,{"$f":"Simulador!Q173","v":10747.182039079084},null,{"$f":"Simulador!S173","v":972415.74156234961}]
[null,{"$f":"Simulador!A174","v":"2038-01-02"},null,{"$f":"Simulador!C174","v":141},null,{"$f":"Simulador!E174","v":"Retorno"},null,{"$f":"Simulador!G174","v":675.6459786037849},null,{"$f":"Simulador!I174","v":9445.8997675027931},null,{"$f":"Simulador!K174","v":0},null,{"$f":"Simulador!M174","v":558.8477289702123},null,{"$f":"Simulador!O174","v":66.400000000000006},null,{"$f":"Simulador!Q174","v":10746.793475076789},null,{"$f":"Simulador!S174","v":971740.09558374586}]
[null,{"$f":"Simulador!A175","v":"2038-02-02"},null,{"$f":"Simulador!C175","v":142},null,{"$f":"Simulador!E175","v":"Retorno"},null,{"$f":"Simulador!G175","v":682.20910167907459},null,{"$f":"Simulador!I175","v":9439.3366444275016},null,{"$f":"Simulador!K175","v":0},null,{"$f":"Simulador!M175","v":558.45539051583671},null,{"$f":"Simulador!O175","v":66.400000000000006},null,{"$f":"Simulador!Q175","v":10746.401136622413},null,{"$f":"Simulador!S175","v":971057.88648206682}]
[null,{"$f":"Simulador!A176","v":"2038-03-02"},null,{"$f":"Simulador!C176","v":143},null,{"$f":"Simulador!E176","v":"Retorno"},null,{"$f":"Simulador!G176","v":688.83597794144043},null,{"$f":"Simulador!I176","v":9432.7097681651358},null,{"$f":"Simulador!K176","v":0},null,{"$f":"Simulador!M176","v":558.05924094492252},null,{"$f":"Simulador!O176","v":66.400000000000006},null,{"$f":"Simulador!Q176","v":10746.004987051498},null,{"$f":"Simulador!S176","v":970369.05050412542}]
[null,{"$f":"Simulador!A177","v":"2038-04-02"},null,{"$f":"Simulador!C177","v":144},null,{"$f":"Simulador!E177","v":"Retorno"},null,{"$f":"Simulador!G177","v":695.52722667976377},null,{"$f":"Simulador!I177","v":9426.0185194268124},null,{"$f":"Simulador!K177","v":0},null,{"$f":"Simulador!M177","v":557.65924323685908},null,{"$f":"Simulador!O177","v":66.400000000000006},null,{"$f":"Simulador!Q177","v":10745.604989343436},null,{"$f":"Simulador!S177","v":969673.5232774457}]
[null,{"$f":"Simulador!A178","v":"2038-05-02"},null,{"$f":"Simulador!C178","v":145},null,{"$f":"Simulador!E178","v":"Retorno"},null,{"$f":"Simulador!G178","v":702.28347319857312},null,{"$f":"Simulador!I178","v":9419.2622729080031},null,{"$f":"Simulador!K178","v":0},null,{"$f":"Simulador!M178","v":557.25536001142257},null,{"$f":"Simulador!O178","v":66.400000000000006},null,{"$f":"Simulador!Q178","v":10745.201106117998},null,{"$f":"Simulador!S178","v":968971.23980424716}]
[null,{"$f":"Simulador!A179","v":"2038-06-02"},null,{"$f":"Simulador!C179","v":146},null,{"$f":"Simulador!E179","v":"Retorno"},null,{"$f":"Simulador!G179","v":709.10534887648282},null,{"$f":"Simulador!I179","v":9412.4403972300934},null,{"$f":"Simulador!K179","v":0},null,{"$f":"Simulador!M179","v":556.84755352528373},null,{"$f":"Simulador!O179","v":66.400000000000006},null,{"$f":"Simulador!Q179","v":10744.79329963186},null,{"$f":"Simulador!S179","v":968262.13445537072}]
[null,{"$f":"Simulador!A180","v":"2038-07-02"},null,{"$f":"Simulador!C180","v":147},null,{"$f":"Simulador!E180","v":"Retorno"},null,{"$f":"Simulador!G180","v":715.99349122533204},null,{"$f":"Simulador!I180","v":9405.5522548812442},null,{"$f":"Simulador!K180","v":0},null,{"$f":"Simulador!M180","v":556.43578566848009},null,{"$f":"Simulador!O180","v":66.400000000000006},null,{"$f":"Simulador!Q180","v":10744.381531775056},null,{"$f":"Simulador!S180","v":967546.14096414542}]
[null,{"$f":"Simulador!A181","v":"2038-08-02"},null,{"$f":"Simulador!C181","v":148},null,{"$f":"Simulador!E181","v":"Retorno"},null,{"$f":"Simulador!G181","v":722.94854394944014},null,{"$f":"Simulador!I181","v":9398.5972021571361},null,{"$f":"Simulador!K181","v":0},null,{"$f":"Simulador!M181","v":556.02001796085483},null,{"$f":"Simulador!O181","v":66.400000000000006},null,{"$f":"Simulador!Q181","v":10743.96576406743},null,{"$f":"Simulador!S181","v":966823.19242019602}]
[null,{"$f":"Simulador!A182","v":"2038-09-02"},null,{"$f":"Simulador!C182","v":149},null,{"$f":"Simulador!E182","v":"Retorno"},null,{"$f":"Simulador!G182","v":729.97115700602626},null,{"$f":"Simulador!I182","v":9391.5745891005499},null,{"$f":"Simulador!K182","v":0},null,{"$f":"Simulador!M182","v":555.60021154846061},null,{"$f":"Simulador!O182","v":66.400000000000006},null,{"$f":"Simulador!Q182","v":10743.545957655037},null,{"$f":"Simulador!S182","v":966093.22126319003}]
[null,{"$f":"Simulador!A183","v":"2038-10-02"},null,{"$f":"Simulador!C183","v":150},null,{"$f":"Simulador!E183","v":"Retorno"},null,{"$f":"Simulador!G183","v":737.06198666621276},null,{"$f":"Simulador!I183","v":9384.4837594403652},null,{"$f":"Simulador!K183","v":0},null,{"$f":"Simulador!M183","v":555.17632719992889},null,{"$f":"Simulador!O183","v":66.400000000000006},null,{"$f":"Simulador!Q183","v":10743.122073306506},null,{"$f":"Simulador!S183","v":965356.15927652386}]
[null,{"$f":"Simulador!A184","v":"2038-11-02"},null,{"$f":"Simulador!C184","v":151},null,{"$f":"Simulador!E184","v":"Retorno"},null,{"$f":"Simulador!G184","v":744.22169557555208},null,{"$f":"Simulador!I184","v":9377.3240505310241},null,{"$f":"Simulador!K184","v":0},null,{"$f":"Simulador!M184","v":554.74832530280344},null,{"$f":"Simulador!O184","v":66.400000000000006},null,{"$f":"Simulador!Q184","v":10742.69407140938},null,{"$f":"Simulador!S184","v":964611.93758094835}]
[null,{"$f":"Simulador!A185","v":"2038-12-02"},null,{"$f":"Simulador!C185","v":152},null,{"$f":"Simulador!E185","v":"Retorno"},null,{"$f":"Simulador!G185","v":751.45095281690919},null,{"$f":"Simulador!I185","v":9370.094793289667},null,{"$f":"Simulador!K185","v":0},null,{"$f":"Simulador!M185","v":554.31616585983841},null,{"$f":"Simulador!O185","v":66.400000000000006},null,{"$f":"Simulador!Q185","v":10742.261911966414},null,{"$f":"Simulador!S185","v":963860.48662813148}]
[null,{"$f":"Simulador!A186","v":"2039-01-02"},null,{"$f":"Simulador!C186","v":153},null,{"$f":"Simulador!E186","v":"Retorno"},null,{"$f":"Simulador!G186","v":758.75043397202717},null,{"$f":"Simulador!I186","v":9362.795312134549},null,{"$f":"Simulador!K186","v":0},null,{"$f":"Simulador!M186","v":553.87980848526115},null,{"$f":"Simulador!O186","v":66.400000000000006},null,{"$f":"Simulador!Q186","v":10741.825554591836},null,{"$f":"Simulador!S186","v":963101.73619415949}]
[null,{"$f":"Simulador!A187","v":"2039-02-02"},null,{"$f":"Simulador!C187","v":154},null,{"$f":"Simulador!E187","v":"Retorno"},null,{"$f":"Simulador!G187","v":766.12082118556464},null,{"$f":"Simulador!I187","v":9355.4249249210116},null,{"$f":"Simulador!K187","v":0},null,{"$f":"Simulador!M187","v":553.43921240099735},null,{"$f":"Simulador!O187","v":66.400000000000006},null,{"$f":"Simulador!Q187","v":10741.384958507573},null,{"$f":"Simulador!S187","v":962335.61537297396}]
[null,{"$f":"Simulador!A188","v":"2039-03-02"},null,{"$f":"Simulador!C188","v":155},null,{"$f":"Simulador!E188","v":"Retorno"},null,{"$f":"Simulador!G188","v":773.56280322819111},null,{"$f":"Simulador!I188","v":9347.9829428783851},null,{"$f":"Simulador!K188","v":0},null,{"$f":"Simulador!M188","v":552.99433643286091},null,{"$f":"Simulador!O188","v":66.400000000000006},null,{"$f":"Simulador!Q188","v":10740.940082539437},null,{"$f":"Simulador!S188","v":961562.05256974581}]
[null,{"$f":"Simulador!A189","v":"2039-04-02"},null,{"$f":"Simulador!C189","v":156},null,{"$f":"Simulador!E189","v":"Retorno"},null,{"$f":"Simulador!G189","v":781.07707556143214},null,{"$f":"Simulador!I189","v":9340.4686705451459},null,{"$f":"Simulador!K189","v":0},null,{"$f":"Simulador!M189","v":552.54513900670554},null,{"$f":"Simulador!O189","v":66.400000000000006},null,{"$f":"Simulador!Q189","v":10740.490885113282},null,{"$f":"Simulador!S189","v":960780.97549418441}]
[null,{"$f":"Simulador!A190","v":"2039-05-02"},null,{"$f":"Simulador!C190","v":157},null,{"$f":"Simulador!E190","v":"Retorno"},null,{"$f":"Simulador!G190","v":788.66434040203785},null,{"$f":"Simulador!I190","v":9332.8814057045383},null,{"$f":"Simulador!K190","v":0},null,{"$f":"Simulador!M190","v":552.09157814454034},null,{"$f":"Simulador!O190","v":66.400000000000006},null,{"$f":"Simulador!Q190","v":10740.037324251116},null,{"$f":"Simulador!S190","v":959992.31115378242}]
[null,{"$f":"Simulador!A191","v":"2039-06-02"},null,{"$f":"Simulador!C191","v":158},null,{"$f":"Simulador!E191","v":"Retorno"},null,{"$f":"Simulador!G191","v":796.32530678835792},null,{"$f":"Simulador!I191","v":9325.2204393182183},null,{"$f":"Simulador!K191","v":0},null,{"$f":"Simulador!M191","v":551.6336114606064},null,{"$f":"Simulador!O191","v":66.400000000000006},null,{"$f":"Simulador!Q191","v":10739.579357567181},null,{"$f":"Simulador!S191","v":959195.9858469941}]
[null,{"$f":"Simulador!A192","v":"2039-07-02"},null,{"$f":"Simulador!C192","v":159},null,{"$f":"Simulador!E192","v":"Retorno"},null,{"$f":"Simulador!G192","v":804.06069064598159},null,{"$f":"Simulador!I192","v":9317.4850554605946},null,{"$f":"Simulador!K192","v":0},null,{"$f":"Simulador!M192","v":551.17119615741592},null,{"$f":"Simulador!O192","v":66.400000000000006},null,{"$f":"Simulador!Q192","v":10739.116942263992},null,{"$f":"Simulador!S192","v":958391.92515634815}]
[null,{"$f":"Simulador!A193","v":"2039-08-02"},null,{"$f":"Simulador!C193","v":160},null,{"$f":"Simulador!E193","v":"Retorno"},null,{"$f":"Simulador!G193","v":811.87121485515127},null,{"$f":"Simulador!I193","v":9309.6745312514249},null,{"$f":"Simulador!K193","v":0},null,{"$f":"Simulador!M193","v":550.70428902175274},null,{"$f":"Simulador!O193","v":66.400000000000006},null,{"$f":"Simulador!Q193","v":10738.650035128328},null,{"$f":"Simulador!S193","v":957580.05394149304}]
[null,{"$f":"Simulador!A194","v":"2039-09-02"},null,{"$f":"Simulador!C194","v":161},null,{"$f":"Simulador!E194","v":"Retorno"},null,{"$f":"Simulador!G194","v":819.75760931781588},null,{"$f":"Simulador!I194","v":9301.7881367887603},null,{"$f":"Simulador!K194","v":0},null,{"$f":"Simulador!M194","v":550.23284642063402},null,{"$f":"Simulador!O194","v":66.400000000000006},null,{"$f":"Simulador!Q194","v":10738.178592527211},null,{"$f":"Simulador!S194","v":956760.29633217526}]
[null,{"$f":"Simulador!A195","v":"2039-10-02"},null,{"$f":"Simulador!C195","v":162},null,{"$f":"Simulador!E195","v":"Retorno"},null,{"$f":"Simulador!G195","v":827.72061102620137},null,{"$f":"Simulador!I195","v":9293.8251350803766},null,{"$f":"Simulador!K195","v":0},null,{"$f":"Simulador!M195","v":549.75682429723292},null,{"$f":"Simulador!O195","v":66.400000000000006},null,{"$f":"Simulador!Q195","v":10737.70257040381},null,{"$f":"Simulador!S195","v":955932.5757211491}]
[null,{"$f":"Simulador!A196","v":"2039-11-02"},null,{"$f":"Simulador!C196","v":163},null,{"$f":"Simulador!E196","v":"Retorno"},null,{"$f":"Simulador!G196","v":835.7609641313702},null,{"$f":"Simulador!I196","v":9285.784781975206},null,{"$f":"Simulador!K196","v":0},null,{"$f":"Simulador!M196","v":549.27617816676093},null,{"$f":"Simulador!O196","v":66.400000000000006},null,{"$f":"Simulador!Q196","v":10737.221924273337},null,{"$f":"Simulador!S196","v":955096.81475701777}]
[null,{"$f":"Simulador!A197","v":"2039-12-02"},null,{"$f":"Simulador!C197","v":164},null,{"$f":"Simulador!E197","v":"Retorno"},null,{"$f":"Simulador!G197","v":843.87942001332158},null,{"$f":"Simulador!I197","v":9277.6663260932546},null,{"$f":"Simulador!K197","v":0},null,{"$f":"Simulador!M197","v":548.79086311231129},null,{"$f":"Simulador!O197","v":66.400000000000006},null,{"$f":"Simulador!Q197","v":10736.736609218888},null,{"$f":"Simulador!S197","v":954252.93533700448}]
[null,{"$f":"Simulador!A198","v":"2040-01-02"},null,{"$f":"Simulador!C198","v":165},null,{"$f":"Simulador!E198","v":"Retorno"},null,{"$f":"Simulador!G198","v":852.07673735058961},null,{"$f":"Simulador!I198","v":9269.4690087559866},null,{"$f":"Simulador!K198","v":0},null,{"$f":"Simulador!M198","v":548.30083378066104},null,{"$f":"Simulador!O198","v":66.400000000000006},null,{"$f":"Simulador!Q198","v":10736.246579887236},null,{"$f":"Simulador!S198","v":953400.85859965393}]
[null,{"$f":"Simulador!A199","v":"2040-02-02"},null,{"$f":"Simulador!C199","v":166},null,{"$f":"Simulador!E199","v":"Retorno"},null,{"$f":"Simulador!G199","v":860.35368219138218},null,{"$f":"Simulador!I199","v":9261.192063915194},null,{"$f":"Simulador!K199","v":0},null,{"$f":"Simulador!M199","v":547.80604437803277},null,{"$f":"Simulador!O199","v":66.400000000000006},null,{"$f":"Simulador!Q199","v":10735.751790484608},null,{"$f":"Simulador!S199","v":952540.50491746259}]
[null,{"$f":"Simulador!A200","v":"2040-03-02"},null,{"$f":"Simulador!C200","v":167},null,{"$f":"Simulador!E200","v":"Retorno"},null,{"$f":"Simulador!G200","v":868.71102802529094},null,{"$f":"Simulador!I200","v":9252.8347180812852},null,{"$f":"Simulador!K200","v":0},null,{"$f":"Simulador!M200","v":547.30644866581542},null,{"$f":"Simulador!O200","v":66.400000000000006},null,{"$f":"Simulador!Q200","v":10735.252194772391},null,{"$f":"Simulador!S200","v":951671.79388943734}]
[null,{"$f":"Simulador!A201","v":"2040-04-02"},null,{"$f":"Simulador!C201","v":168},null,{"$f":"Simulador!E201","v":"Retorno"},null,{"$f":"Simulador!G201","v":877.14955585546704},null,{"$f":"Simulador!I201","v":9244.3961902511073},null,{"$f":"Simulador!K201","v":0},null,{"$f":"Simulador!M201","v":546.80199995624298},null,{"$f":"Simulador!O201","v":66.400000000000006},null,{"$f":"Simulador!Q201","v":10734.747746062818},null,{"$f":"Simulador!S201","v":950794.64433358191}]
[null,{"$f":"Simulador!A202","v":"2040-05-02"},null,{"$f":"Simulador!C202","v":169},null,{"$f":"Simulador!E202","v":"Retorno"},null,{"$f":"Simulador!G202","v":885.67005427150616},null,{"$f":"Simulador!I202","v":9235.87569183507},null,{"$f":"Simulador!K202","v":0},null,{"$f":"Simulador!M202","v":546.29265110803146},null,{"$f":"Simulador!O202","v":66.400000000000006},null,{"$f":"Simulador!Q202","v":10734.238397214607},null,{"$f":"Simulador!S202","v":949908.97427931044}]
[null,{"$f":"Simulador!A203","v":"2040-06-02"},null,{"$f":"Simulador!C203","v":170},null,{"$f":"Simulador!E203","v":"Retorno"},null,{"$f":"Simulador!G203","v":894.27331952335408},null,{"$f":"Simulador!I203","v":9227.2724265832221},null,{"$f":"Simulador!K203","v":0},null,{"$f":"Simulador!M203","v":545.7783545219736},null,{"$f":"Simulador!O203","v":66.400000000000006},null,{"$f":"Simulador!Q203","v":10733.724100628549},null,{"$f":"Simulador!S203","v":949014.70095978712}]
[null,{"$f":"Simulador!A204","v":"2040-07-02"},null,{"$f":"Simulador!C204","v":171},null,{"$f":"Simulador!E204","v":"Retorno"},null,{"$f":"Simulador!G204","v":902.96015559548141},null,{"$f":"Simulador!I204","v":9218.5855905110948},null,{"$f":"Simulador!K204","v":0},null,{"$f":"Simulador!M204","v":545.25906213649068},null,{"$f":"Simulador!O204","v":66.400000000000006},null,{"$f":"Simulador!Q204","v":10733.204808243067},null,{"$f":"Simulador!S204","v":948111.74080419168}]
[null,{"$f":"Simulador!A205","v":"2040-08-02"},null,{"$f":"Simulador!C205","v":172},null,{"$f":"Simulador!E205","v":"Retorno"},null,{"$f":"Simulador!G205","v":911.73137428242808},null,{"$f":"Simulador!I205","v":9209.8143718241481},null,{"$f":"Simulador!K205","v":0},null,{"$f":"Simulador!M205","v":544.73472542314084},null,{"$f":"Simulador!O205","v":66.400000000000006},null,{"$f":"Simulador!Q205","v":10732.680471529717},null,{"$f":"Simulador!S205","v":947200.00942990929}]
[null,{"$f":"Simulador!A206","v":"2040-09-02"},null,{"$f":"Simulador!C206","v":173},null,{"$f":"Simulador!E206","v":"Retorno"},null,{"$f":"Simulador!G206","v":920.58779526389299},null,{"$f":"Simulador!I206","v":9200.9579508426832},null,{"$f":"Simulador!K206","v":0},null,{"$f":"Simulador!M206","v":697.21867786040673},null,{"$f":"Simulador!O206","v":66.400000000000006},null,{"$f":"Simulador!Q206","v":10885.164423966982},null,{"$f":"Simulador!S206","v":946279.42163464543}]
[null,{"$f":"Simulador!A207","v":"2040-10-02"},null,{"$f":"Simulador!C207","v":174},null,{"$f":"Simulador!E207","v":"Retorno"},null,{"$f":"Simulador!G207","v":929.53024618238305},null,{"$f":"Simulador!I207","v":9192.0154999241931},null,{"$f":"Simulador!K207","v":0},null,{"$f":"Simulador!M207","v":696.53379997501963},null,{"$f":"Simulador!O207","v":66.400000000000006},null,{"$f":"Simulador!Q207","v":10884.479546081595},null,{"$f":"Simulador!S207","v":945349.89138846309}]
[null,{"$f":"Simulador!A208","v":"2040-11-02"},null,{"$f":"Simulador!C208","v":175},null,{"$f":"Simulador!E208","v":"Retorno"},null,{"$f":"Simulador!G208","v":938.55956271958166},null,{"$f":"Simulador!I208","v":9182.9861833869945},null,{"$f":"Simulador!K208","v":0},null,{"$f":"Simulador!M208","v":695.84226928920782},null,{"$f":"Simulador!O208","v":66.400000000000006},null,{"$f":"Simulador!Q208","v":10883.788015395783},null,{"$f":"Simulador!S208","v":944411.33182574355}]
[null,{"$f":"Simulador!A209","v":"2040-12-02"},null,{"$f":"Simulador!C209","v":176},null,{"$f":"Simulador!E209","v":"Retorno"},null,{"$f":"Simulador!G209","v":947.67658867492901},null,{"$f":"Simulador!I209","v":9173.8691574316472},null,{"$f":"Simulador!K209","v":0},null,{"$f":"Simulador!M209","v":695.14402117867223},null,{"$f":"Simulador!O209","v":66.400000000000006},null,{"$f":"Simulador!Q209","v":10883.089767285248},null,{"$f":"Simulador!S209","v":943463.65523706865}]
[null,{"$f":"Simulador!A210","v":"2041-01-02"},null,{"$f":"Simulador!C210","v":177},null,{"$f":"Simulador!E210","v":"Retorno"},null,{"$f":"Simulador!G210","v":956.88217604466627},null,{"$f":"Simulador!I210","v":9164.6635700619081},null,{"$f":"Simulador!K210","v":0},null,{"$f":"Simulador!M210","v":694.43899039136249},null,{"$f":"Simulador!O210","v":66.400000000000006},null,{"$f":"Simulador!Q210","v":10882.384736497937},null,{"$f":"Simulador!S210","v":942506.77306102403}]
[null,{"$f":"Simulador!A211","v":"2041-02-02"},null,{"$f":"Simulador!C211","v":178},null,{"$f":"Simulador!E211","v":"Retorno"},null,{"$f":"Simulador!G211","v":966.17718510089071},null,{"$f":"Simulador!I211","v":9155.3685610056855},null,{"$f":"Simulador!K211","v":0},null,{"$f":"Simulador!M211","v":693.72711104138023},null,{"$f":"Simulador!O211","v":66.400000000000006},null,{"$f":"Simulador!Q211","v":10881.672857147956},null,{"$f":"Simulador!S211","v":941540.59587592317}]
[null,{"$f":"Simulador!A212","v":"2041-03-02"},null,{"$f":"Simulador!C212","v":179},null,{"$f":"Simulador!E212","v":"Retorno"},null,{"$f":"Simulador!G212","v":975.56248447232974},null,{"$f":"Simulador!I212","v":9145.9832616342464},null,{"$f":"Simulador!K212","v":0},null,{"$f":"Simulador!M212","v":693.00831660282108},null,{"$f":"Simulador!O212","v":66.400000000000006},null,{"$f":"Simulador!Q212","v":10880.954062709397},null,{"$f":"Simulador!S212","v":940565.03339145088}]
[null,{"$f":"Simulador!A213","v":"2041-04-02"},null,{"$f":"Simulador!C213","v":180},null,{"$f":"Simulador!E213","v":"Retorno"},null,{"$f":"Simulador!G213","v":985.03895122561698},null,{"$f":"Simulador!I213","v":9136.5067948809592},null,{"$f":"Simulador!K213","v":0},null,{"$f":"Simulador!M213","v":692.28253990355802},null,{"$f":"Simulador!O213","v":66.400000000000006},null,{"$f":"Simulador!Q213","v":10880.228286010133},null,{"$f":"Simulador!S213","v":939579.9944402253}]
[null,{"$f":"Simulador!A214","v":"2041-05-02"},null,{"$f":"Simulador!C214","v":181},null,{"$f":"Simulador!E214","v":"Retorno"},null,{"$f":"Simulador!G214","v":994.60747094689032},null,{"$f":"Simulador!I214","v":9126.9382751596859},null,{"$f":"Simulador!K214","v":0},null,{"$f":"Simulador!M214","v":691.54971311896441},null,{"$f":"Simulador!O214","v":66.400000000000006},null,{"$f":"Simulador!Q214","v":10879.49545922554},null,{"$f":"Simulador!S214","v":938585.38696927845}]
[null,{"$f":"Simulador!A215","v":"2041-06-02"},null,{"$f":"Simulador!C215","v":182},null,{"$f":"Simulador!E215","v":"Retorno"},null,{"$f":"Simulador!G215","v":1004.2689378246814},null,{"$f":"Simulador!I215","v":9117.2768082818948},null,{"$f":"Simulador!K215","v":0},null,{"$f":"Simulador!M215","v":690.8097677655752},null,{"$f":"Simulador!O215","v":66.400000000000006},null,{"$f":"Simulador!Q215","v":10878.755513872151},null,{"$f":"Simulador!S215","v":937581.11803145381}]
[null,{"$f":"Simulador!A216","v":"2041-07-02"},null,{"$f":"Simulador!C216","v":183},null,{"$f":"Simulador!E216","v":"Retorno"},null,{"$f":"Simulador!G216","v":1014.0242547337366},null,{"$f":"Simulador!I216","v":9107.5214913728414},null,{"$f":"Simulador!K216","v":0},null,{"$f":"Simulador!M216","v":690.0626346946874},null,{"$f":"Simulador!O216","v":66.400000000000006},null,{"$f":"Simulador!Q216","v":10878.008380801264},null,{"$f":"Simulador!S216","v":936567.09377672011}]
[null,{"$f":"Simulador!A217","v":"2041-08-02"},null,{"$f":"Simulador!C217","v":184},null,{"$f":"Simulador!E217","v":"Retorno"},null,{"$f":"Simulador!G217","v":1023.8743333190596},null,{"$f":"Simulador!I217","v":9097.6714127875166},null,{"$f":"Simulador!K217","v":0},null,{"$f":"Simulador!M217","v":689.30824408589797},null,{"$f":"Simulador!O217","v":66.400000000000006},null,{"$f":"Simulador!Q217","v":10877.253990192474},null,{"$f":"Simulador!S217","v":935543.21944340109}]
[null,{"$f":"Simulador!A218","v":"2041-09-02"},null,{"$f":"Simulador!C218","v":185},null,{"$f":"Simulador!E218","v":"Retorno"},null,{"$f":"Simulador!G218","v":1033.8200940813786},null,{"$f":"Simulador!I218","v":9087.7256520251976},null,{"$f":"Simulador!K218","v":0},null,{"$f":"Simulador!M218","v":688.54652544057876},null,{"$f":"Simulador!O218","v":66.400000000000006},null,{"$f":"Simulador!Q218","v":10876.492271547155},null,{"$f":"Simulador!S218","v":934509.39934931975}]
[null,{"$f":"Simulador!A219","v":"2041-10-02"},null,{"$f":"Simulador!C219","v":186},null,{"$f":"Simulador!E219","v":"Retorno"},null,{"$f":"Simulador!G219","v":1043.8624664628096},null,{"$f":"Simulador!I219","v":9077.6832796437666},null,{"$f":"Simulador!K219","v":0},null,{"$f":"Simulador!M219","v":687.77740757528909},null,{"$f":"Simulador!O219","v":66.400000000000006},null,{"$f":"Simulador!Q219","v":10875.723153681865},null,{"$f":"Simulador!S219","v":933465.53688285698}]
[null,{"$f":"Simulador!A220","v":"2041-11-02"},null,{"$f":"Simulador!C220","v":187},null,{"$f":"Simulador!E220","v":"Retorno"},null,{"$f":"Simulador!G220","v":1054.0023889340609},null,{"$f":"Simulador!I220","v":9067.5433571725152},null,{"$f":"Simulador!K220","v":0},null,{"$f":"Simulador!M220","v":687.0008186151224},null,{"$f":"Simulador!O220","v":66.400000000000006},null,{"$f":"Simulador!Q220","v":10874.946564721698},null,{"$f":"Simulador!S220","v":932411.53449392295}]
[null,{"$f":"Simulador!A221","v":"2041-12-02"},null,{"$f":"Simulador!C221","v":188},null,{"$f":"Simulador!E221","v":"Retorno"},null,{"$f":"Simulador!G221","v":1064.2408090819754},null,{"$f":"Simulador!I221","v":9057.3049370246008},null,{"$f":"Simulador!K221","v":0},null,{"$f":"Simulador!M221","v":686.21668598699091},null,{"$f":"Simulador!O221","v":66.400000000000006},null,{"$f":"Simulador!Q221","v":10874.162432093566},null,{"$f":"Simulador!S221","v":931347.29368484102}]
[null,{"$f":"Simulador!A222","v":"2042-01-02"},null,{"$f":"Simulador!C222","v":189},null,{"$f":"Simulador!E222","v":"Retorno"},null,{"$f":"Simulador!G222","v":1074.5786836981224},null,{"$f":"Simulador!I222","v":9046.9670624084538},null,{"$f":"Simulador!K222","v":0},null,{"$f":"Simulador!M222","v":685.42493641284216},null,{"$f":"Simulador!O222","v":66.400000000000006},null,{"$f":"Simulador!Q222","v":10873.370682519419},null,{"$f":"Simulador!S222","v":930272.71500114293}]
[null,{"$f":"Simulador!A223","v":"2042-02-02"},null,{"$f":"Simulador!C223","v":190},null,{"$f":"Simulador!E223","v":"Retorno"},null,{"$f":"Simulador!G223","v":1085.0169788683215},null,{"$f":"Simulador!I223","v":9036.5287672382547},null,{"$f":"Simulador!K223","v":0},null,{"$f":"Simulador!M223","v":684.62549590281196},null,{"$f":"Simulador!O223","v":66.400000000000006},null,{"$f":"Simulador!Q223","v":10872.571242009388},null,{"$f":"Simulador!S223","v":929187.69802227465}]
[null,{"$f":"Simulador!A224","v":"2042-03-02"},null,{"$f":"Simulador!C224","v":191},null,{"$f":"Simulador!E224","v":"Retorno"},null,{"$f":"Simulador!G224","v":1095.556670062515},null,{"$f":"Simulador!I224","v":9025.9890760440612},null,{"$f":"Simulador!K224","v":0},null,{"$f":"Simulador!M224","v":683.81828974830989},null,{"$f":"Simulador!O224","v":66.400000000000006},null,{"$f":"Simulador!Q224","v":10871.764035854885},null,{"$f":"Simulador!S224","v":928092.14135221217}]
[null,{"$f":"Simulador!A225","v":"2042-04-02"},null,{"$f":"Simulador!C225","v":192},null,{"$f":"Simulador!E225","v":"Retorno"},null,{"$f":"Simulador!G225","v":1106.1987422263883},null,{"$f":"Simulador!I225","v":9015.3470038801897},null,{"$f":"Simulador!K225","v":0},null,{"$f":"Simulador!M225","v":683.00324251503753},null,{"$f":"Simulador!O225","v":66.400000000000006},null,{"$f":"Simulador!Q225","v":10870.948988621614},null,{"$f":"Simulador!S225","v":926985.94260998582}]
[null,{"$f":"Simulador!A226","v":"2042-05-02"},null,{"$f":"Simulador!C226","v":193},null,{"$f":"Simulador!E226","v":"Retorno"},null,{"$f":"Simulador!G226","v":1116.9441898733294},null,{"$f":"Simulador!I226","v":9004.6015562332468},null,{"$f":"Simulador!K226","v":0},null,{"$f":"Simulador!M226","v":682.18027803593895},null,{"$f":"Simulador!O226","v":66.400000000000006},null,{"$f":"Simulador!Q226","v":10870.126024142515},null,{"$f":"Simulador!S226","v":925868.99842011253}]
[null,{"$f":"Simulador!A227","v":"2042-06-02"},null,{"$f":"Simulador!C227","v":194},null,{"$f":"Simulador!E227","v":"Retorno"},null,{"$f":"Simulador!G227","v":1127.7940171771133},null,{"$f":"Simulador!I227","v":8993.7517289294628},null,{"$f":"Simulador!K227","v":0},null,{"$f":"Simulador!M227","v":681.34931940408285},null,{"$f":"Simulador!O227","v":66.400000000000006},null,{"$f":"Simulador!Q227","v":10869.295065510658},null,{"$f":"Simulador!S227","v":924741.20440293546}]
[null,{"$f":"Simulador!A228","v":"2042-07-02"},null,{"$f":"Simulador!C228","v":195},null,{"$f":"Simulador!E228","v":"Retorno"},null,{"$f":"Simulador!G228","v":1138.7492380659478},null,{"$f":"Simulador!I228","v":8982.7965080406284},null,{"$f":"Simulador!K228","v":0},null,{"$f":"Simulador!M228","v":680.51028896547587},null,{"$f":"Simulador!O228","v":66.400000000000006},null,{"$f":"Simulador!Q228","v":10868.456035072051},null,{"$f":"Simulador!S228","v":923602.45516486955}]
[null,{"$f":"Simulador!A229","v":"2042-08-02"},null,{"$f":"Simulador!C229","v":196},null,{"$f":"Simulador!E229","v":"Retorno"},null,{"$f":"Simulador!G229","v":1149.8108763173605},null,{"$f":"Simulador!I229","v":8971.7348697892157},null,{"$f":"Simulador!K229","v":0},null,{"$f":"Simulador!M229","v":679.66310831180533},null,{"$f":"Simulador!O229","v":66.400000000000006},null,{"$f":"Simulador!Q229","v":10867.60885441838},null,{"$f":"Simulador!S229","v":922452.64428855223}]
[null,{"$f":"Simulador!A230","v":"2042-09-02"},null,{"$f":"Simulador!C230","v":197},null,{"$f":"Simulador!E230","v":"Retorno"},null,{"$f":"Simulador!G230","v":1160.9799656534251},null,{"$f":"Simulador!I230","v":8960.5657804531511},null,{"$f":"Simulador!K230","v":0},null,{"$f":"Simulador!M230","v":678.8076982731119},null,{"$f":"Simulador!O230","v":66.400000000000006},null,{"$f":"Simulador!Q230","v":10866.753444379689},null,{"$f":"Simulador!S230","v":921291.66432289884}]
[null,{"$f":"Simulador!A231","v":"2042-10-02"},null,{"$f":"Simulador!C231","v":198},null,{"$f":"Simulador!E231","v":"Retorno"},null,{"$f":"Simulador!G231","v":1172.2575498377355},null,{"$f":"Simulador!I231","v":8949.2881962688407},null,{"$f":"Simulador!K231","v":0},null,{"$f":"Simulador!M231","v":677.94397891039148},null,{"$f":"Simulador!O231","v":66.400000000000006},null,{"$f":"Simulador!Q231","v":10865.889725016967},null,{"$f":"Simulador!S231","v":920119.40677306114}]
[null,{"$f":"Simulador!A232","v":"2042-11-02"},null,{"$f":"Simulador!C232","v":199},null,{"$f":"Simulador!E232","v":"Retorno"},null,{"$f":"Simulador!G232","v":1183.6446827729615},null,{"$f":"Simulador!I232","v":8937.9010633336147},null,{"$f":"Simulador!K232","v":0},null,{"$f":"Simulador!M232","v":677.07186950812434},null,{"$f":"Simulador!O232","v":66.400000000000006},null,{"$f":"Simulador!Q232","v":10865.017615614701},null,{"$f":"Simulador!S232","v":918935.76209028822}]
[null,{"$f":"Simulador!A233","v":"2042-12-02"},null,{"$f":"Simulador!C233","v":200},null,{"$f":"Simulador!E233","v":"Retorno"},null,{"$f":"Simulador!G233","v":1195.1424285991034},null,{"$f":"Simulador!I233","v":8926.4033175074728},null,{"$f":"Simulador!K233","v":0},null,{"$f":"Simulador!M233","v":676.19128856673262},null,{"$f":"Simulador!O233","v":66.400000000000006},null,{"$f":"Simulador!Q233","v":10864.137034673309},null,{"$f":"Simulador!S233","v":917740.61966168915}]
[null,{"$f":"Simulador!A234","v":"2043-01-02"},null,{"$f":"Simulador!C234","v":201},null,{"$f":"Simulador!E234","v":"Retorno"},null,{"$f":"Simulador!G234","v":1206.7518617930291},null,{"$f":"Simulador!I234","v":8914.7938843135489},null,{"$f":"Simulador!K234","v":0},null,{"$f":"Simulador!M234","v":675.30215379496349},null,{"$f":"Simulador!O234","v":66.400000000000006},null,{"$f":"Simulador!Q234","v":10863.24789990154},null,{"$f":"Simulador!S234","v":916533.86779989616}]
[null,{"$f":"Simulador!A235","v":"2043-02-02"},null,{"$f":"Simulador!C235","v":202},null,{"$f":"Simulador!E235","v":"Retorno"},null,{"$f":"Simulador!G235","v":1218.4740672690477},null,{"$f":"Simulador!I235","v":8903.0716788375285},null,{"$f":"Simulador!K235","v":0},null,{"$f":"Simulador!M235","v":674.40438210219975},null,{"$f":"Simulador!O235","v":66.400000000000006},null,{"$f":"Simulador!Q235","v":10862.350128208776},null,{"$f":"Simulador!S235","v":915315.39373262716}]
[null,{"$f":"Simulador!A236","v":"2043-03-02"},null,{"$f":"Simulador!C236","v":203},null,{"$f":"Simulador!E236","v":"Retorno"},null,{"$f":"Simulador!G236","v":1230.3101404802092},null,{"$f":"Simulador!I236","v":8891.235605626367},null,{"$f":"Simulador!K236","v":0},null,{"$f":"Simulador!M236","v":673.49788959069394},null,{"$f":"Simulador!O236","v":66.400000000000006},null,{"$f":"Simulador!Q236","v":10861.443635697269},null,{"$f":"Simulador!S236","v":914085.08359214698}]
[null,{"$f":"Simulador!A237","v":"2043-04-02"},null,{"$f":"Simulador!C237","v":204},null,{"$f":"Simulador!E237","v":"Retorno"},null,{"$f":"Simulador!G237","v":1242.2611875202656},null,{"$f":"Simulador!I237","v":8879.2845585863106},null,{"$f":"Simulador!K237","v":0},null,{"$f":"Simulador!M237","v":672.58259154772907},null,{"$f":"Simulador!O237","v":66.400000000000006},null,{"$f":"Simulador!Q237","v":10860.528337654305},null,{"$f":"Simulador!S237","v":912842.82240462676}]
[null,{"$f":"Simulador!A238","v":"2043-05-02"},null,{"$f":"Simulador!C238","v":205},null,{"$f":"Simulador!E238","v":"Retorno"},null,{"$f":"Simulador!G238","v":1254.3283252277561},null,{"$f":"Simulador!I238","v":8867.2174208788201},null,{"$f":"Simulador!K238","v":0},null,{"$f":"Simulador!M238","v":671.65840243770128},null,{"$f":"Simulador!O238","v":66.400000000000006},null,{"$f":"Simulador!Q238","v":10859.604148544277},null,{"$f":"Simulador!S238","v":911588.49407939904}]
[null,{"$f":"Simulador!A239","v":"2043-06-02"},null,{"$f":"Simulador!C239","v":206},null,{"$f":"Simulador!E239","v":"Retorno"},null,{"$f":"Simulador!G239","v":1266.5126812898452},null,{"$f":"Simulador!I239","v":8855.0330648167292},null,{"$f":"Simulador!K239","v":0},null,{"$f":"Simulador!M239","v":670.72523589412685},null,{"$f":"Simulador!O239","v":66.400000000000006},null,{"$f":"Simulador!Q239","v":10858.670982000702},null,{"$f":"Simulador!S239","v":910321.98139810923}]
[null,{"$f":"Simulador!A240","v":"2043-07-02"},null,{"$f":"Simulador!C240","v":207},null,{"$f":"Simulador!E240","v":"Retorno"},null,{"$f":"Simulador!G240","v":1278.8153943481539},null,{"$f":"Simulador!I240","v":8842.7303517584223},null,{"$f":"Simulador!K240","v":0},null,{"$f":"Simulador!M240","v":669.78300471157115},null,{"$f":"Simulador!O240","v":66.400000000000006},null,{"$f":"Simulador!Q240","v":10857.728750818147},null,{"$f":"Simulador!S240","v":909043.16600376111}]
[null,{"$f":"Simulador!A241","v":"2043-08-02"},null,{"$f":"Simulador!C241","v":208},null,{"$f":"Simulador!E241","v":"Retorno"},null,{"$f":"Simulador!G241","v":1291.2376141043296},null,{"$f":"Simulador!I241","v":8830.3081320022466},null,{"$f":"Simulador!K241","v":0},null,{"$f":"Simulador!M241","v":668.83162083749914},null,{"$f":"Simulador!O241","v":66.400000000000006},null,{"$f":"Simulador!Q241","v":10856.777366944076},null,{"$f":"Simulador!S241","v":907751.92838965682}]
[null,{"$f":"Simulador!A242","v":"2043-09-02"},null,{"$f":"Simulador!C242","v":209},null,{"$f":"Simulador!E242","v":"Retorno"},null,{"$f":"Simulador!G242","v":1303.7805014287969},null,{"$f":"Simulador!I242","v":8817.7652446777793},null,{"$f":"Simulador!K242","v":0},null,{"$f":"Simulador!M242","v":822.3297597642005},null,{"$f":"Simulador!O242","v":66.400000000000006},null,{"$f":"Simulador!Q242","v":11010.275505870777},null,{"$f":"Simulador!S242","v":906448.14788822806}]
[null,{"$f":"Simulador!A243","v":"2043-10-02"},null,{"$f":"Simulador!C243","v":210},null,{"$f":"Simulador!E243","v":"Retorno"},null,{"$f":"Simulador!G243","v":1316.4452284677336},null,{"$f":"Simulador!I243","v":8805.1005176388426},null,{"$f":"Simulador!K243","v":0},null,{"$f":"Simulador!M243","v":821.13548065293469},null,{"$f":"Simulador!O243","v":66.400000000000006},null,{"$f":"Simulador!Q243","v":11009.08122675951},null,{"$f":"Simulador!S243","v":905131.70265976037}]
[null,{"$f":"Simulador!A244","v":"2043-11-02"},null,{"$f":"Simulador!C244","v":211},null,{"$f":"Simulador!E244","v":"Retorno"},null,{"$f":"Simulador!G244","v":1329.2329787540148},null,{"$f":"Simulador!I244","v":8792.3127673525596},null,{"$f":"Simulador!K244","v":0},null,{"$f":"Simulador!M244","v":819.92960049460908},null,{"$f":"Simulador!O244","v":66.400000000000006},null,{"$f":"Simulador!Q244","v":11007.875346601184},null,{"$f":"Simulador!S244","v":903802.46968100639}]
[null,{"$f":"Simulador!A245","v":"2043-12-02"},null,{"$f":"Simulador!C245","v":212},null,{"$f":"Simulador!E245","v":"Retorno"},null,{"$f":"Simulador!G245","v":1342.1449473167686},null,{"$f":"Simulador!I245","v":8779.4007987898076},null,{"$f":"Simulador!K245","v":0},null,{"$f":"Simulador!M245","v":818.71200659840326},null,{"$f":"Simulador!O245","v":66.400000000000006},null,{"$f":"Simulador!Q245","v":11006.657752704979},null,{"$f":"Simulador!S245","v":902460.32473368966}]
[null,{"$f":"Simulador!A246","v":"2044-01-02"},null,{"$f":"Simulador!C246","v":213},null,{"$f":"Simulador!E246","v":"Retorno"},null,{"$f":"Simulador!G246","v":1355.1823407935826},null,{"$f":"Simulador!I246","v":8766.3634053129936},null,{"$f":"Simulador!K246","v":0},null,{"$f":"Simulador!M246","v":817.48258517883539},null,{"$f":"Simulador!O246","v":66.400000000000006},null,{"$f":"Simulador!Q246","v":11005.428331285411},null,{"$f":"Simulador!S246","v":901105.14239289612}]
[null,{"$f":"Simulador!A247","v":"2044-02-02"},null,{"$f":"Simulador!C247","v":214},null,{"$f":"Simulador!E247","v":"Retorno"},null,{"$f":"Simulador!G247","v":1368.3463775432119},null,{"$f":"Simulador!I247","v":8753.1993685633643},null,{"$f":"Simulador!K247","v":0},null,{"$f":"Simulador!M247","v":816.24122134512822},null,{"$f":"Simulador!O247","v":66.400000000000006},null,{"$f":"Simulador!Q247","v":11004.186967451704},null,{"$f":"Simulador!S247","v":899736.79601535294}]
[null,{"$f":"Simulador!A248","v":"2044-03-02"},null,{"$f":"Simulador!C248","v":215},null,{"$f":"Simulador!E248","v":"Retorno"},null,{"$f":"Simulador!G248","v":1381.6382877591914},null,{"$f":"Simulador!I248","v":8739.9074583473848},null,{"$f":"Simulador!K248","v":0},null,{"$f":"Simulador!M248","v":814.98779909047312},null,{"$f":"Simulador!O248","v":66.400000000000006},null,{"$f":"Simulador!Q248","v":11002.933545197049},null,{"$f":"Simulador!S248","v":898355.15772759379}]
[null,{"$f":"Simulador!A249","v":"2044-04-02"},null,{"$f":"Simulador!C249","v":216},null,{"$f":"Simulador!E249","v":"Retorno"},null,{"$f":"Simulador!G249","v":1395.059313585205},null,{"$f":"Simulador!I249","v":8726.4864325213712},null,{"$f":"Simulador!K249","v":0},null,{"$f":"Simulador!M249","v":813.72220128118863},null,{"$f":"Simulador!O249","v":66.400000000000006},null,{"$f":"Simulador!Q249","v":11001.667947387765},null,{"$f":"Simulador!S249","v":896960.09841400862}]
[null,{"$f":"Simulador!A250","v":"2044-05-02"},null,{"$f":"Simulador!C250","v":217},null,{"$f":"Simulador!E250","v":"Retorno"},null,{"$f":"Simulador!G250","v":1408.6107092306866},null,{"$f":"Simulador!I250","v":8712.9350368758896},null,{"$f":"Simulador!K250","v":0},null,{"$f":"Simulador!M250","v":812.44430964577464},null,{"$f":"Simulador!O250","v":66.400000000000006},null,{"$f":"Simulador!Q250","v":11000.39005575235},null,{"$f":"Simulador!S250","v":895551.48770477797}]
[null,{"$f":"Simulador!A251","v":"2044-06-02"},null,{"$f":"Simulador!C251","v":218},null,{"$f":"Simulador!E251","v":"Retorno"},null,{"$f":"Simulador!G251","v":1422.2937410885152},null,{"$f":"Simulador!I251","v":8699.252005018061},null,{"$f":"Simulador!K251","v":0},null,{"$f":"Simulador!M251","v":811.15400476385912},null,{"$f":"Simulador!O251","v":66.400000000000006},null,{"$f":"Simulador!Q251","v":10999.099750870435},null,{"$f":"Simulador!S251","v":894129.1939636895}]
[null,{"$f":"Simulador!A252","v":"2044-07-02"},null,{"$f":"Simulador!C252","v":219},null,{"$f":"Simulador!E252","v":"Retorno"},null,{"$f":"Simulador!G252","v":1436.1096878529443},null,{"$f":"Simulador!I252","v":8685.4360582536319},null,{"$f":"Simulador!K252","v":0},null,{"$f":"Simulador!M252","v":809.85116605503902},null,{"$f":"Simulador!O252","v":66.400000000000006},null,{"$f":"Simulador!Q252","v":10997.796912161615},null,{"$f":"Simulador!S252","v":892693.08427583659}]
[null,{"$f":"Simulador!A253","v":"2044-08-02"},null,{"$f":"Simulador!C253","v":220},null,{"$f":"Simulador!E253","v":"Retorno"},null,{"$f":"Simulador!G253","v":1450.05984063916},null,{"$f":"Simulador!I253","v":8671.4859054674162},null,{"$f":"Simulador!K253","v":0},null,{"$f":"Simulador!M253","v":808.53567176761123},null,{"$f":"Simulador!O253","v":66.400000000000006},null,{"$f":"Simulador!Q253","v":10996.481417874187},null,{"$f":"Simulador!S253","v":891243.02443519747}]
[null,{"$f":"Simulador!A254","v":"2044-09-02"},null,{"$f":"Simulador!C254","v":221},null,{"$f":"Simulador!E254","v":"Retorno"},null,{"$f":"Simulador!G254","v":1464.1455031044698},null,{"$f":"Simulador!I254","v":8657.4002430021064},null,{"$f":"Simulador!K254","v":0},null,{"$f":"Simulador!M254","v":807.20739896719488},null,{"$f":"Simulador!O254","v":66.400000000000006},null,{"$f":"Simulador!Q254","v":10995.153145073771},null,{"$f":"Simulador!S254","v":889778.87893209304}]
[null,{"$f":"Simulador!A255","v":"2044-10-02"},null,{"$f":"Simulador!C255","v":222},null,{"$f":"Simulador!E255","v":"Retorno"},null,{"$f":"Simulador!G255","v":1478.3679915692574},null,{"$f":"Simulador!I255","v":8643.1777545373188},null,{"$f":"Simulador!K255","v":0},null,{"$f":"Simulador!M255","v":805.8662235252433},null,{"$f":"Simulador!O255","v":66.400000000000006},null,{"$f":"Simulador!Q255","v":10993.811969631819},null,{"$f":"Simulador!S255","v":888300.51094052382}]
[null,{"$f":"Simulador!A256","v":"2044-11-02"},null,{"$f":"Simulador!C256","v":223},null,{"$f":"Simulador!E256","v":"Retorno"},null,{"$f":"Simulador!G256","v":1492.7286351407329},null,{"$f":"Simulador!I256","v":8628.8171109658433},null,{"$f":"Simulador!K256","v":0},null,{"$f":"Simulador!M256","v":804.51202010744362},null,{"$f":"Simulador!O256","v":66.400000000000006},null,{"$f":"Simulador!Q256","v":10992.45776621402},null,{"$f":"Simulador!S256","v":886807.78230538312}]
[null,{"$f":"Simulador!A257","v":"2044-12-02"},null,{"$f":"Simulador!C257","v":224},null,{"$f":"Simulador!E257","v":"Retorno"},null,{"$f":"Simulador!G257","v":1507.228775836682},null,{"$f":"Simulador!I257","v":8614.3169702698942},null,{"$f":"Simulador!K257","v":0},null,{"$f":"Simulador!M257","v":803.14466216200458},null,{"$f":"Simulador!O257","v":66.400000000000006},null,{"$f":"Simulador!Q257","v":10991.090408268581},null,{"$f":"Simulador!S257","v":885300.55352954648}]
[null,{"$f":"Simulador!A258","v":"2045-01-02"},null,{"$f":"Simulador!C258","v":225},null,{"$f":"Simulador!E258","v":"Retorno"},null,{"$f":"Simulador!G258","v":1521.8697687111944},null,{"$f":"Simulador!I258","v":8599.6759773953818},null,{"$f":"Simulador!K258","v":0},null,{"$f":"Simulador!M258","v":801.76402190782983},null,{"$f":"Simulador!O258","v":66.400000000000006},null,{"$f":"Simulador!Q258","v":10989.709768014405},null,{"$f":"Simulador!S258","v":883778.68376083532}]
[null,{"$f":"Simulador!A259","v":"2045-02-02"},null,{"$f":"Simulador!C259","v":226},null,{"$f":"Simulador!E259","v":"Retorno"},null,{"$f":"Simulador!G259","v":1536.6529819809748},null,{"$f":"Simulador!I259","v":8584.8927641256014},null,{"$f":"Simulador!K259","v":0},null,{"$f":"Simulador!M259","v":800.36997032257671},null,{"$f":"Simulador!O259","v":66.400000000000006},null,{"$f":"Simulador!Q259","v":10988.315716429153},null,{"$f":"Simulador!S259","v":882242.03077885439}]
[null,{"$f":"Simulador!A260","v":"2045-03-02"},null,{"$f":"Simulador!C260","v":227},null,{"$f":"Simulador!E260","v":"Retorno"},null,{"$f":"Simulador!G260","v":1551.5797971536322},null,{"$f":"Simulador!I260","v":8569.965948952944},null,{"$f":"Simulador!K260","v":0},null,{"$f":"Simulador!M260","v":798.96237713059895},null,{"$f":"Simulador!O260","v":66.400000000000006},null,{"$f":"Simulador!Q260","v":10986.908123237175},null,{"$f":"Simulador!S260","v":880690.45098170079}]
[null,{"$f":"Simulador!A261","v":"2045-04-02"},null,{"$f":"Simulador!C261","v":228},null,{"$f":"Simulador!E261","v":"Retorno"},null,{"$f":"Simulador!G261","v":1566.6516091562025},null,{"$f":"Simulador!I261","v":8554.8941369503736},null,{"$f":"Simulador!K261","v":0},null,{"$f":"Simulador!M261","v":797.54111079077256},null,{"$f":"Simulador!O261","v":66.400000000000006},null,{"$f":"Simulador!Q261","v":10985.486856897349},null,{"$f":"Simulador!S261","v":879123.79937254463}]
[null,{"$f":"Simulador!A262","v":"2045-05-02"},null,{"$f":"Simulador!C262","v":229},null,{"$f":"Simulador!E262","v":"Retorno"},null,{"$f":"Simulador!G262","v":1581.8698264661161},null,{"$f":"Simulador!I262","v":8539.6759196404601},null,{"$f":"Simulador!K262","v":0},null,{"$f":"Simulador!M262","v":796.10603848420249},null,{"$f":"Simulador!O262","v":66.400000000000006},null,{"$f":"Simulador!Q262","v":10984.051784590778},null,{"$f":"Simulador!S262","v":877541.92954607855}]
[null,{"$f":"Simulador!A263","v":"2045-06-02"},null,{"$f":"Simulador!C263","v":230},null,{"$f":"Simulador!E263","v":"Retorno"},null,{"$f":"Simulador!G263","v":1597.2358712423975},null,{"$f":"Simulador!I263","v":8524.3098748641787},null,{"$f":"Simulador!K263","v":0},null,{"$f":"Simulador!M263","v":794.65702610181143},null,{"$f":"Simulador!O263","v":66.400000000000006},null,{"$f":"Simulador!Q263","v":10982.602772208387},null,{"$f":"Simulador!S263","v":875944.69367483619}]
[null,{"$f":"Simulador!A264","v":"2045-07-02"},null,{"$f":"Simulador!C264","v":231},null,{"$f":"Simulador!E264","v":"Retorno"},null,{"$f":"Simulador!G264","v":1612.7511794588445},null,{"$f":"Simulador!I264","v":8508.7945666477317},null,{"$f":"Simulador!K264","v":0},null,{"$f":"Simulador!M264","v":793.19393823180644},null,{"$f":"Simulador!O264","v":66.400000000000006},null,{"$f":"Simulador!Q264","v":10981.139684338383},null,{"$f":"Simulador!S264","v":874331.94249537739}]
[null,{"$f":"Simulador!A265","v":"2045-08-02"},null,{"$f":"Simulador!C265","v":232},null,{"$f":"Simulador!E265","v":"Retorno"},null,{"$f":"Simulador!G265","v":1628.4172010377897},null,{"$f":"Simulador!I265","v":8493.1285450687865},null,{"$f":"Simulador!K265","v":0},null,{"$f":"Simulador!M265","v":791.71663814702492},null,{"$f":"Simulador!O265","v":66.400000000000006},null,{"$f":"Simulador!Q265","v":10979.662384253601},null,{"$f":"Simulador!S265","v":872703.52529433963}]
[null,{"$f":"Simulador!A266","v":"2045-09-02"},null,{"$f":"Simulador!C266","v":233},null,{"$f":"Simulador!E266","v":"Retorno"},null,{"$f":"Simulador!G266","v":1644.2353999863062},null,{"$f":"Simulador!I266","v":8477.31034612027},null,{"$f":"Simulador!K266","v":0},null,{"$f":"Simulador!M266","v":790.22498779215744},null,{"$f":"Simulador!O266","v":66.400000000000006},null,{"$f":"Simulador!Q266","v":10978.170733898733},null,{"$f":"Simulador!S266","v":871059.28989435337}]
[null,{"$f":"Simulador!A267","v":"2045-10-02"},null,{"$f":"Simulador!C267","v":234},null,{"$f":"Simulador!E267","v":"Retorno"},null,{"$f":"Simulador!G267","v":1660.2072545322972},null,{"$f":"Simulador!I267","v":8461.338491574279},null,{"$f":"Simulador!K267","v":0},null,{"$f":"Simulador!M267","v":788.71884777084574},null,{"$f":"Simulador!O267","v":66.400000000000006},null,{"$f":"Simulador!Q267","v":10976.664593877422},null,{"$f":"Simulador!S267","v":869399.08263982111}]
[null,{"$f":"Simulador!A268","v":"2045-11-02"},null,{"$f":"Simulador!C268","v":235},null,{"$f":"Simulador!E268","v":"Retorno"},null,{"$f":"Simulador!G268","v":1676.3342572630318},null,{"$f":"Simulador!I268","v":8445.2114888435462},null,{"$f":"Simulador!K268","v":0},null,{"$f":"Simulador!M268","v":787.19807733265679},null,{"$f":"Simulador!O268","v":66.400000000000006},null,{"$f":"Simulador!Q268","v":10975.143823439234},null,{"$f":"Simulador!S268","v":867722.74838255811}]
[null,{"$f":"Simulador!A269","v":"2045-12-02"},null,{"$f":"Simulador!C269","v":236},null,{"$f":"Simulador!E269","v":"Retorno"},null,{"$f":"Simulador!G269","v":1692.6179152646018},null,{"$f":"Simulador!I269","v":8428.9278308419744},null,{"$f":"Simulador!K269","v":0},null,{"$f":"Simulador!M269","v":785.66253435992871},null,{"$f":"Simulador!O269","v":66.400000000000006},null,{"$f":"Simulador!Q269","v":10973.608280466504},null,{"$f":"Simulador!S269","v":866030.13046729355}]
[null,{"$f":"Simulador!A270","v":"2046-01-02"},null,{"$f":"Simulador!C270","v":237},null,{"$f":"Simulador!E270","v":"Retorno"},null,{"$f":"Simulador!G270","v":1709.0597502626861},null,{"$f":"Simulador!I270","v":8412.4859958438901},null,{"$f":"Simulador!K270","v":0},null,{"$f":"Simulador!M270","v":784.11207535449046},null,{"$f":"Simulador!O270","v":66.400000000000006},null,{"$f":"Simulador!Q270","v":10972.057821461067},null,{"$f":"Simulador!S270","v":864321.0707170309}]
[null,{"$f":"Simulador!A271","v":"2046-02-02"},null,{"$f":"Simulador!C271","v":238},null,{"$f":"Simulador!E271","v":"Retorno"},null,{"$f":"Simulador!G271","v":1725.6612987646749},null,{"$f":"Simulador!I271","v":8395.8844473419013},null,{"$f":"Simulador!K271","v":0},null,{"$f":"Simulador!M271","v":782.54655542425121},null,{"$f":"Simulador!O271","v":66.400000000000006},null,{"$f":"Simulador!Q271","v":10970.492301530827},null,{"$f":"Simulador!S271","v":862595.40941826627}]
[null,{"$f":"Simulador!A272","v":"2046-03-02"},null,{"$f":"Simulador!C272","v":239},null,{"$f":"Simulador!E272","v":"Retorno"},null,{"$f":"Simulador!G272","v":1742.4241122034528},null,{"$f":"Simulador!I272","v":8379.1216339031234},null,{"$f":"Simulador!K272","v":0},null,{"$f":"Simulador!M272","v":780.96582826966028},null,{"$f":"Simulador!O272","v":66.400000000000006},null,{"$f":"Simulador!Q272","v":10968.911574376236},null,{"$f":"Simulador!S272","v":860852.98530606285}]
[null,{"$f":"Simulador!A273","v":"2046-04-02"},null,{"$f":"Simulador!C273","v":240},null,{"$f":"Simulador!E273","v":"Retorno"},null,{"$f":"Simulador!G273","v":1759.3497570824493},null,{"$f":"Simulador!I273","v":8362.1959890241269},null,{"$f":"Simulador!K273","v":0},null,{"$f":"Simulador!M273","v":779.36974617003511},null,{"$f":"Simulador!O273","v":66.400000000000006},null,{"$f":"Simulador!Q273","v":10967.315492276612},null,{"$f":"Simulador!S273","v":859093.63554898044}]
[null,{"$f":"Simulador!A274","v":"2046-05-02"},null,{"$f":"Simulador!C274","v":241},null,{"$f":"Simulador!E274","v":"Retorno"},null,{"$f":"Simulador!G274","v":1776.4398151213918},null,{"$f":"Simulador!I274","v":8345.1059309851844},null,{"$f":"Simulador!K274","v":0},null,{"$f":"Simulador!M274","v":777.758159969757},null,{"$f":"Simulador!O274","v":66.400000000000006},null,{"$f":"Simulador!Q274","v":10965.703906076333},null,{"$f":"Simulador!S274","v":857317.19573385909}]
[null,{"$f":"Simulador!A275","v":"2046-06-02"},null,{"$f":"Simulador!C275","v":242},null,{"$f":"Simulador!E275","v":"Retorno"},null,{"$f":"Simulador!G275","v":1793.6958834052002},null,{"$f":"Simulador!I275","v":8327.849862701376},null,{"$f":"Simulador!K275","v":0},null,{"$f":"Simulador!M275","v":776.13091906433181},null,{"$f":"Simulador!O275","v":66.400000000000006},null,{"$f":"Simulador!Q275","v":10964.076665170907},null,{"$f":"Simulador!S275","v":855523.49985045393}]
[null,{"$f":"Simulador!A276","v":"2046-07-02"},null,{"$f":"Simulador!C276","v":243},null,{"$f":"Simulador!E276","v":"Retorno"},null,{"$f":"Simulador!G276","v":1811.1195745323002},null,{"$f":"Simulador!I276","v":8310.4261715742759},null,{"$f":"Simulador!K276","v":0},null,{"$f":"Simulador!M276","v":774.48787138631621},null,{"$f":"Simulador!O276","v":66.400000000000006},null,{"$f":"Simulador!Q276","v":10962.433617492892},null,{"$f":"Simulador!S276","v":853712.38027592166}]
[null,{"$f":"Simulador!A277","v":"2046-08-02"},null,{"$f":"Simulador!C277","v":244},null,{"$f":"Simulador!E277","v":"Retorno"},null,{"$f":"Simulador!G277","v":1828.7125167654976},null,{"$f":"Simulador!I277","v":8292.8332293410785},null,{"$f":"Simulador!K277","v":0},null,{"$f":"Simulador!M277","v":772.82886339110655},null,{"$f":"Simulador!O277","v":66.400000000000006},null,{"$f":"Simulador!Q277","v":10960.774609497683},null,{"$f":"Simulador!S277","v":851883.6677591562}]
[null,{"$f":"Simulador!A278","v":"2046-09-02"},null,{"$f":"Simulador!C278","v":245},null,{"$f":"Simulador!E278","v":"Retorno"},null,{"$f":"Simulador!G278","v":1846.4763541845987},null,{"$f":"Simulador!I278","v":8275.0693919219775},null,{"$f":"Simulador!K278","v":0},null,{"$f":"Simulador!M278","v":941.41618948100609},null,{"$f":"Simulador!O278","v":66.400000000000006},null,{"$f":"Simulador!Q278","v":11129.361935587582},null,{"$f":"Simulador!S278","v":850037.19140497164}]
[null,{"$f":"Simulador!A279","v":"2046-10-02"},null,{"$f":"Simulador!C279","v":246},null,{"$f":"Simulador!E279","v":"Retorno"},null,{"$f":"Simulador!G279","v":1864.4127468397292},null,{"$f":"Simulador!I279","v":8257.132999266847},null,{"$f":"Simulador!K279","v":0},null,{"$f":"Simulador!M279","v":939.35135236388112},null,{"$f":"Simulador!O279","v":66.400000000000006},null,{"$f":"Simulador!Q279","v":11127.297098470457},null,{"$f":"Simulador!S279","v":848172.77865813195}]
[null,{"$f":"Simulador!A280","v":"2046-11-02"},null,{"$f":"Simulador!C280","v":247},null,{"$f":"Simulador!E280","v":"Retorno"},null,{"$f":"Simulador!G280","v":1882.5233709063996},null,{"$f":"Simulador!I280","v":8239.0223752001766},null,{"$f":"Simulador!K280","v":0},null,{"$f":"Simulador!M280","v":937.26645773060227},null,{"$f":"Simulador!O280","v":66.400000000000006},null,{"$f":"Simulador!Q280","v":11125.212203837178},null,{"$f":"Simulador!S280","v":846290.25528722559}]
[null,{"$f":"Simulador!A281","v":"2046-12-02"},null,{"$f":"Simulador!C281","v":248},null,{"$f":"Simulador!E281","v":"Retorno"},null,{"$f":"Simulador!G281","v":1900.8099188422002},null,{"$f":"Simulador!I281","v":8220.735827264376},null,{"$f":"Simulador!K281","v":0},null,{"$f":"Simulador!M281","v":935.16131074548468},null,{"$f":"Simulador!O281","v":66.400000000000006},null,{"$f":"Simulador!Q281","v":11123.107056852061},null,{"$f":"Simulador!S281","v":844389.44536838343}]
[null,{"$f":"Simulador!A282","v":"2047-01-02"},null,{"$f":"Simulador!C282","v":249},null,{"$f":"Simulador!E282","v":"Retorno"},null,{"$f":"Simulador!G282","v":1919.274099544893},null,{"$f":"Simulador!I282","v":8202.2716465616832},null,{"$f":"Simulador!K282","v":0},null,{"$f":"Simulador!M282","v":933.0357146802387},null,{"$f":"Simulador!O282","v":66.400000000000006},null,{"$f":"Simulador!Q282","v":11120.981460786814},null,{"$f":"Simulador!S282","v":842470.17126883857}]
[null,{"$f":"Simulador!A283","v":"2047-02-02"},null,{"$f":"Simulador!C283","v":250},null,{"$f":"Simulador!E283","v":"Retorno"},null,{"$f":"Simulador!G283","v":1937.9176385127139},null,{"$f":"Simulador!I283","v":8183.6281075938605},null,{"$f":"Simulador!K283","v":0},null,{"$f":"Simulador!M283","v":930.88947089558587},null,{"$f":"Simulador!O283","v":66.400000000000006},null,{"$f":"Simulador!Q283","v":11118.835217002161},null,{"$f":"Simulador!S283","v":840532.2536303259}]
[null,{"$f":"Simulador!A284","v":"2047-03-02"},null,{"$f":"Simulador!C284","v":251},null,{"$f":"Simulador!E284","v":"Retorno"},null,{"$f":"Simulador!G284","v":1956.7422780044526},null,{"$f":"Simulador!I284","v":8164.8034681021236},null,{"$f":"Simulador!K284","v":0},null,{"$f":"Simulador!M284","v":928.72237882269599},null,{"$f":"Simulador!O284","v":66.400000000000006},null,{"$f":"Simulador!Q284","v":11116.668124929272},null,{"$f":"Simulador!S284","v":838575.51135232148}]
[null,{"$f":"Simulador!A285","v":"2047-04-02"},null,{"$f":"Simulador!C285","v":252},null,{"$f":"Simulador!E285","v":"Retorno"},null,{"$f":"Simulador!G285","v":1975.7497772035804},null,{"$f":"Simulador!I285","v":8145.7959689029958},null,{"$f":"Simulador!K285","v":0},null,{"$f":"Simulador!M285","v":926.53423594444314},null,{"$f":"Simulador!O285","v":66.400000000000006},null,{"$f":"Simulador!Q285","v":11114.47998205102},null,{"$f":"Simulador!S285","v":836599.76157511794}]
[null,{"$f":"Simulador!A286","v":"2047-05-02"},null,{"$f":"Simulador!C286","v":253},null,{"$f":"Simulador!E286","v":"Retorno"},null,{"$f":"Simulador!G286","v":1994.9419123813659},null,{"$f":"Simulador!I286","v":8126.6038337252103},null,{"$f":"Simulador!K286","v":0},null,{"$f":"Simulador!M286","v":924.32483777648076},null,{"$f":"Simulador!O286","v":66.400000000000006},null,{"$f":"Simulador!Q286","v":11112.270583883057},null,{"$f":"Simulador!S286","v":834604.81966273661}]
[null,{"$f":"Simulador!A287","v":"2047-06-02"},null,{"$f":"Simulador!C287","v":254},null,{"$f":"Simulador!E287","v":"Retorno"},null,{"$f":"Simulador!G287","v":2014.3204770640405},null,{"$f":"Simulador!I287","v":8107.2252690425375},null,{"$f":"Simulador!K287","v":0},null,{"$f":"Simulador!M287","v":922.09397784813245},null,{"$f":"Simulador!O287","v":66.400000000000006},null,{"$f":"Simulador!Q287","v":11110.039723954709},null,{"$f":"Simulador!S287","v":832590.49918567261}]
[null,{"$f":"Simulador!A288","v":"2047-07-02"},null,{"$f":"Simulador!C288","v":255},null,{"$f":"Simulador!E288","v":"Retorno"},null,{"$f":"Simulador!G288","v":2033.8872821997302},null,{"$f":"Simulador!I288","v":8087.658463906846},null,{"$f":"Simulador!K288","v":0},null,{"$f":"Simulador!M288","v":919.84144768309625},null,{"$f":"Simulador!O288","v":66.400000000000006},null,{"$f":"Simulador!Q288","v":11107.787193789673},null,{"$f":"Simulador!S288","v":830556.61190347292}]
[null,{"$f":"Simulador!A289","v":"2047-08-02"},null,{"$f":"Simulador!C289","v":256},null,{"$f":"Simulador!E289","v":"Retorno"},null,{"$f":"Simulador!G289","v":2053.6441563276258},null,{"$f":"Simulador!I289","v":8067.9015897789504},null,{"$f":"Simulador!K289","v":0},null,{"$f":"Simulador!M289","v":917.56703677996347},null,{"$f":"Simulador!O289","v":66.400000000000006},null,{"$f":"Simulador!Q289","v":11105.512782886539},null,{"$f":"Simulador!S289","v":828502.96774714533}]
[null,{"$f":"Simulador!A290","v":"2047-09-02"},null,{"$f":"Simulador!C290","v":257},null,{"$f":"Simulador!E290","v":"Retorno"},null,{"$f":"Simulador!G290","v":2073.5929457493276},null,{"$f":"Simulador!I290","v":8047.9528003572486},null,{"$f":"Simulador!K290","v":0},null,{"$f":"Simulador!M290","v":915.27053259254615},null,{"$f":"Simulador!O290","v":66.400000000000006},null,{"$f":"Simulador!Q290","v":11103.216278699121},null,{"$f":"Simulador!S290","v":826429.37480139604}]
[null,{"$f":"Simulador!A291","v":"2047-10-02"},null,{"$f":"Simulador!C291","v":258},null,{"$f":"Simulador!E291","v":"Retorno"},null,{"$f":"Simulador!G291","v":2093.735514701033},null,{"$f":"Simulador!I291","v":8027.8102314055432},null,{"$f":"Simulador!K291","v":0},null,{"$f":"Simulador!M291","v":912.95172051001475},null,{"$f":"Simulador!O291","v":66.400000000000006},null,{"$f":"Simulador!Q291","v":11100.89746661659},null,{"$f":"Simulador!S291","v":824335.63928669505}]
[null,{"$f":"Simulador!A292","v":"2047-11-02"},null,{"$f":"Simulador!C292","v":259},null,{"$f":"Simulador!E292","v":"Retorno"},null,{"$f":"Simulador!G292","v":2114.0737455279268},null,{"$f":"Simulador!I292","v":8007.4720005786512},null,{"$f":"Simulador!K292","v":0},null,{"$f":"Simulador!M292","v":910.61038383684263},null,{"$f":"Simulador!O292","v":66.400000000000006},null,{"$f":"Simulador!Q292","v":11098.556129943419},null,{"$f":"Simulador!S292","v":822221.56554116716}]
[null,{"$f":"Simulador!A293","v":"2047-12-02"},null,{"$f":"Simulador!C293","v":260},null,{"$f":"Simulador!E293","v":"Retorno"},null,{"$f":"Simulador!G293","v":2134.6095388597259},null,{"$f":"Simulador!I293","v":7986.9362072468502},null,{"$f":"Simulador!K293","v":0},null,{"$f":"Simulador!M293","v":908.24630377255551},null,{"$f":"Simulador!O293","v":66.400000000000006},null,{"$f":"Simulador!Q293","v":11096.192049879131},null,{"$f":"Simulador!S293","v":820086.95600230747}]
[null,{"$f":"Simulador!A294","v":"2048-01-02"},null,{"$f":"Simulador!C294","v":261},null,{"$f":"Simulador!E294","v":"Retorno"},null,{"$f":"Simulador!G294","v":2155.34481378893},null,{"$f":"Simulador!I294","v":7966.2009323176462},null,{"$f":"Simulador!K294","v":0},null,{"$f":"Simulador!M294","v":905.85925939128435},null,{"$f":"Simulador!O294","v":66.400000000000006},null,{"$f":"Simulador!Q294","v":11093.805005497859},null,{"$f":"Simulador!S294","v":817931.61118851858}]
[null,{"$f":"Simulador!A295","v":"2048-02-02"},null,{"$f":"Simulador!C295","v":262},null,{"$f":"Simulador!E295","v":"Retorno"},null,{"$f":"Simulador!G295","v":2176.281508049733},null,{"$f":"Simulador!I295","v":7945.2642380568432},null,{"$f":"Simulador!K295","v":0},null,{"$f":"Simulador!M295","v":903.44902762111928},null,{"$f":"Simulador!O295","v":66.400000000000006},null,{"$f":"Simulador!Q295","v":11091.394773727696},null,{"$f":"Simulador!S295","v":815755.32968046889}]
[null,{"$f":"Simulador!A296","v":"2048-03-02"},null,{"$f":"Simulador!C296","v":263},null,{"$f":"Simulador!E296","v":"Retorno"},null,{"$f":"Simulador!G296","v":2197.4215781990588},null,{"$f":"Simulador!I296","v":7924.1241679075174},null,{"$f":"Simulador!K296","v":0},null,{"$f":"Simulador!M296","v":901.01538322326383},null,{"$f":"Simulador!O296","v":66.400000000000006},null,{"$f":"Simulador!Q296","v":11088.96112932984},null,{"$f":"Simulador!S296","v":813557.90810226987}]
[null,{"$f":"Simulador!A297","v":"2048-04-02"},null,{"$f":"Simulador!C297","v":264},null,{"$f":"Simulador!E297","v":"Retorno"},null,{"$f":"Simulador!G297","v":2218.7669997995636},null,{"$f":"Simulador!I297","v":7902.7787463070126},null,{"$f":"Simulador!K297","v":0},null,{"$f":"Simulador!M297","v":898.55809877098591},null,{"$f":"Simulador!O297","v":66.400000000000006},null,{"$f":"Simulador!Q297","v":11086.503844877561},null,{"$f":"Simulador!S297","v":811339.14110247034}]
[null,{"$f":"Simulador!A298","v":"2048-05-02"},null,{"$f":"Simulador!C298","v":265},null,{"$f":"Simulador!E298","v":"Retorno"},null,{"$f":"Simulador!G298","v":2240.319767604271},null,{"$f":"Simulador!I298","v":7881.2259785023052},null,{"$f":"Simulador!K298","v":0},null,{"$f":"Simulador!M298","v":896.07694462836423},null,{"$f":"Simulador!O298","v":66.400000000000006},null,{"$f":"Simulador!Q298","v":11084.022690734941},null,{"$f":"Simulador!S298","v":809098.82133486611}]
[null,{"$f":"Simulador!A299","v":"2048-06-02"},null,{"$f":"Simulador!C299","v":266},null,{"$f":"Simulador!E299","v":"Retorno"},null,{"$f":"Simulador!G299","v":2262.0818957429528},null,{"$f":"Simulador!I299","v":7859.4638503636234},null,{"$f":"Simulador!K299","v":0},null,{"$f":"Simulador!M299","v":893.57168892882896},null,{"$f":"Simulador!O299","v":66.400000000000006},null,{"$f":"Simulador!Q299","v":11081.517435035405},null,{"$f":"Simulador!S299","v":806836.73943912319}]
[null,{"$f":"Simulador!A300","v":"2048-07-02"},null,{"$f":"Simulador!C300","v":267},null,{"$f":"Simulador!E300","v":"Retorno"},null,{"$f":"Simulador!G300","v":2284.0554179102564},null,{"$f":"Simulador!I300","v":7837.4903281963198},null,{"$f":"Simulador!K300","v":0},null,{"$f":"Simulador!M300","v":891.04209755349336},null,{"$f":"Simulador!O300","v":66.400000000000006},null,{"$f":"Simulador!Q300","v":11078.987843660068},null,{"$f":"Simulador!S300","v":804552.68402121298}]
[null,{"$f":"Simulador!A301","v":"2048-08-02"},null,{"$f":"Simulador!C301","v":268},null,{"$f":"Simulador!E301","v":"Retorno"},null,{"$f":"Simulador!G301","v":2306.2423875559271},null,{"$f":"Simulador!I301","v":7815.3033585506491},null,{"$f":"Simulador!K301","v":0},null,{"$f":"Simulador!M301","v":888.48793410927522},null,{"$f":"Simulador!O301","v":66.400000000000006},null,{"$f":"Simulador!Q301","v":11076.43368021585},null,{"$f":"Simulador!S301","v":802246.44163365709}]
[null,{"$f":"Simulador!A302","v":"2048-09-02"},null,{"$f":"Simulador!C302","v":269},null,{"$f":"Simulador!E302","v":"Retorno"},null,{"$f":"Simulador!G302","v":2328.644878076544},null,{"$f":"Simulador!I302","v":7792.9008680300321},null,{"$f":"Simulador!K302","v":0},null,{"$f":"Simulador!M302","v":885.90895990680542},null,{"$f":"Simulador!O302","v":66.400000000000006},null,{"$f":"Simulador!Q302","v":11073.854706013381},null,{"$f":"Simulador!S302","v":799917.79675558058}]
[null,{"$f":"Simulador!A303","v":"2048-10-02"},null,{"$f":"Simulador!C303","v":270},null,{"$f":"Simulador!E303","v":"Retorno"},null,{"$f":"Simulador!G303","v":2351.2649830092359},null,{"$f":"Simulador!I303","v":7770.2807630973402},null,{"$f":"Simulador!K303","v":0},null,{"$f":"Simulador!M303","v":883.30493393812276},null,{"$f":"Simulador!O303","v":66.400000000000006},null,{"$f":"Simulador!Q303","v":11071.250680044699},null,{"$f":"Simulador!S303","v":797566.53177257138}]
[null,{"$f":"Simulador!A304","v":"2048-11-02"},null,{"$f":"Simulador!C304","v":271},null,{"$f":"Simulador!E304","v":"Retorno"},null,{"$f":"Simulador!G304","v":2374.1048162278403},null,{"$f":"Simulador!I304","v":7747.4409298787359},null,{"$f":"Simulador!K304","v":0},null,{"$f":"Simulador!M304","v":880.67561285415047},null,{"$f":"Simulador!O304","v":66.400000000000006},null,{"$f":"Simulador!Q304","v":11068.621358960727},null,{"$f":"Simulador!S304","v":795192.42695634358}]
[null,{"$f":"Simulador!A305","v":"2048-12-02"},null,{"$f":"Simulador!C305","v":272},null,{"$f":"Simulador!E305","v":"Retorno"},null,{"$f":"Simulador!G305","v":2397.1665121394126},null,{"$f":"Simulador!I305","v":7724.3792339671636},null,{"$f":"Simulador!K305","v":0},null,{"$f":"Simulador!M305","v":878.02075094195618},null,{"$f":"Simulador!O305","v":66.400000000000006},null,{"$f":"Simulador!Q305","v":11065.966497048532},null,{"$f":"Simulador!S305","v":792795.26044420421}]
[null,{"$f":"Simulador!A306","v":"2049-01-02"},null,{"$f":"Simulador!C306","v":273},null,{"$f":"Simulador!E306","v":"Retorno"},null,{"$f":"Simulador!G306","v":2420.4522258850429},null,{"$f":"Simulador!I306","v":7701.0935202215333},null,{"$f":"Simulador!K306","v":0},null,{"$f":"Simulador!M306","v":875.34010010178849},null,{"$f":"Simulador!O306","v":66.400000000000006},null,{"$f":"Simulador!Q306","v":11063.285846208364},null,{"$f":"Simulador!S306","v":790374.8082183192}]
[null,{"$f":"Simulador!A307","v":"2049-02-02"},null,{"$f":"Simulador!C307","v":274},null,{"$f":"Simulador!E307","v":"Retorno"},null,{"$f":"Simulador!G307","v":2443.9641335398574},null,{"$f":"Simulador!I307","v":7677.5816125667188},null,{"$f":"Simulador!K307","v":0},null,{"$f":"Simulador!M307","v":872.6334098238932},null,{"$f":"Simulador!O307","v":66.400000000000006},null,{"$f":"Simulador!Q307","v":11060.579155930469},null,{"$f":"Simulador!S307","v":787930.84408477938}]
[null,{"$f":"Simulador!A308","v":"2049-03-02"},null,{"$f":"Simulador!C308","v":275},null,{"$f":"Simulador!E308","v":"Retorno"},null,{"$f":"Simulador!G308","v":2467.7044323175596},null,{"$f":"Simulador!I308","v":7653.8413137890166},null,{"$f":"Simulador!K308","v":0},null,{"$f":"Simulador!M308","v":869.90042716510152},null,{"$f":"Simulador!O308","v":66.400000000000006},null,{"$f":"Simulador!Q308","v":11057.846173271677},null,{"$f":"Simulador!S308","v":785463.13965246186}]
[null,{"$f":"Simulador!A309","v":"2049-04-02"},null,{"$f":"Simulador!C309","v":276},null,{"$f":"Simulador!E309","v":"Retorno"},null,{"$f":"Simulador!G309","v":2491.6753407748565},null,{"$f":"Simulador!I309","v":7629.8704053317197},null,{"$f":"Simulador!K309","v":0},null,{"$f":"Simulador!M309","v":867.14089672519333},null,{"$f":"Simulador!O309","v":66.400000000000006},null,{"$f":"Simulador!Q309","v":11055.086642831769},null,{"$f":"Simulador!S309","v":782971.46431168704}]
[null,{"$f":"Simulador!A310","v":"2049-05-02"},null,{"$f":"Simulador!C310","v":277},null,{"$f":"Simulador!E310","v":"Retorno"},null,{"$f":"Simulador!G310","v":2515.8790990196085},null,{"$f":"Simulador!I310","v":7605.6666470869677},null,{"$f":"Simulador!K310","v":0},null,{"$f":"Simulador!M310","v":864.35456062302922},null,{"$f":"Simulador!O310","v":66.400000000000006},null,{"$f":"Simulador!Q310","v":11052.300306729605},null,{"$f":"Simulador!S310","v":780455.58521266747}]
[null,{"$f":"Simulador!A311","v":"2049-06-02"},null,{"$f":"Simulador!C311","v":278},null,{"$f":"Simulador!E311","v":"Retorno"},null,{"$f":"Simulador!G311","v":2540.3179689193294},null,{"$f":"Simulador!I311","v":7581.2277771872468},null,{"$f":"Simulador!K311","v":0},null,{"$f":"Simulador!M311","v":861.54115847245112},null,{"$f":"Simulador!O311","v":66.400000000000006},null,{"$f":"Simulador!Q311","v":11049.486904579027},null,{"$f":"Simulador!S311","v":777915.26724374818}]
[null,{"$f":"Simulador!A312","v":"2049-07-02"},null,{"$f":"Simulador!C312","v":279},null,{"$f":"Simulador!E312","v":"Retorno"},null,{"$f":"Simulador!G312","v":2564.9942343131788},null,{"$f":"Simulador!I312","v":7556.5515117933974},null,{"$f":"Simulador!K312","v":0},null,{"$f":"Simulador!M312","v":858.70042735794925},null,{"$f":"Simulador!O312","v":66.400000000000006},null,{"$f":"Simulador!Q312","v":11046.646173464525},null,{"$f":"Simulador!S312","v":775350.27300943504}]
[null,{"$f":"Simulador!A313","v":"2049-08-02"},null,{"$f":"Simulador!C313","v":280},null,{"$f":"Simulador!E313","v":"Retorno"},null,{"$f":"Simulador!G313","v":2589.9102012253516},null,{"$f":"Simulador!I313","v":7531.6355448812246},null,{"$f":"Simulador!K313","v":0},null,{"$f":"Simulador!M313","v":855.83210181009224},null,{"$f":"Simulador!O313","v":66.400000000000006},null,{"$f":"Simulador!Q313","v":11043.777847916668},null,{"$f":"Simulador!S313","v":772760.36280820973}]
[null,{"$f":"Simulador!A314","v":"2049-09-02"},null,{"$f":"Simulador!C314","v":281},null,{"$f":"Simulador!E314","v":"Retorno"},null,{"$f":"Simulador!G314","v":2615.0681980798636},null,{"$f":"Simulador!I314","v":7506.4775480267126},null,{"$f":"Simulador!K314","v":0},null,{"$f":"Simulador!M314","v":1042.6997143726549},null,{"$f":"Simulador!O314","v":66.400000000000006},null,{"$f":"Simulador!Q314","v":11230.645460479231},null,{"$f":"Simulador!S314","v":770145.2946101299}]
[null,{"$f":"Simulador!A315","v":"2049-10-02"},null,{"$f":"Simulador!C315","v":282},null,{"$f":"Simulador!E315","v":"Retorno"},null,{"$f":"Simulador!G315","v":2640.470575919413},null,{"$f":"Simulador!I315","v":7481.0751701871632},null,{"$f":"Simulador!K315","v":0},null,{"$f":"Simulador!M315","v":1039.1247812599177},null,{"$f":"Simulador!O315","v":66.400000000000006},null,{"$f":"Simulador!Q315","v":11227.070527366493},null,{"$f":"Simulador!S315","v":767504.82403421053}]
[null,{"$f":"Simulador!A316","v":"2049-11-02"},null,{"$f":"Simulador!C316","v":283},null,{"$f":"Simulador!E316","v":"Retorno"},null,{"$f":"Simulador!G316","v":2666.1197086237753},null,{"$f":"Simulador!I316","v":7455.4260374828009},null,{"$f":"Simulador!K316","v":0},null,{"$f":"Simulador!M316","v":1035.5151217864118},null,{"$f":"Simulador!O316","v":66.400000000000006},null,{"$f":"Simulador!Q316","v":11223.460867892987},null,{"$f":"Simulador!S316","v":764838.70432558679}]
[null,{"$f":"Simulador!A317","v":"2049-12-02"},null,{"$f":"Simulador!C317","v":284},null,{"$f":"Simulador!E317","v":"Retorno"},null,{"$f":"Simulador!G317","v":2692.017993132622},null,{"$f":"Simulador!I317","v":7429.5277529739542},null,{"$f":"Simulador!K317","v":0},null,{"$f":"Simulador!M317","v":1031.8703986255098},null,{"$f":"Simulador!O317","v":66.400000000000006},null,{"$f":"Simulador!Q317","v":11219.816144732085},null,{"$f":"Simulador!S317","v":762146.68633245421}]
[null,{"$f":"Simulador!A318","v":"2050-01-02"},null,{"$f":"Simulador!C318","v":285},null,{"$f":"Simulador!E318","v":"Retorno"},null,{"$f":"Simulador!G318","v":2718.1678496689237},null,{"$f":"Simulador!I318","v":7403.3778964376543},null,{"$f":"Simulador!K318","v":0},null,{"$f":"Simulador!M318","v":1028.190271173843},null,{"$f":"Simulador!O318","v":66.400000000000006},null,{"$f":"Simulador!Q318","v":11216.13601728042},null,{"$f":"Simulador!S318","v":759428.51848278532}]
[null,{"$f":"Simulador!A319","v":"2050-02-02"},null,{"$f":"Simulador!C319","v":286},null,{"$f":"Simulador!E319","v":"Retorno"},null,{"$f":"Simulador!G319","v":2744.5717219652524},null,{"$f":"Simulador!I319","v":7376.9740241413238},null,{"$f":"Simulador!K319","v":0},null,{"$f":"Simulador!M319","v":1024.4743955194742},null,{"$f":"Simulador!O319","v":66.400000000000006},null,{"$f":"Simulador!Q319","v":11212.420141626049},null,{"$f":"Simulador!S319","v":756683.94676082011}]
[null,{"$f":"Simulador!A320","v":"2050-03-02"},null,{"$f":"Simulador!C320","v":287},null,{"$f":"Simulador!E320","v":"Retorno"},null,{"$f":"Simulador!G320","v":2771.2320774925556},null,{"$f":"Simulador!I320","v":7350.3136686140206},null,{"$f":"Simulador!K320","v":0},null,{"$f":"Simulador!M320","v":1020.7224244097572},null,{"$f":"Simulador!O320","v":66.400000000000006},null,{"$f":"Simulador!Q320","v":11208.668170516334},null,{"$f":"Simulador!S320","v":753912.71468332759}]
[null,{"$f":"Simulador!A321","v":"2050-04-02"},null,{"$f":"Simulador!C321","v":288},null,{"$f":"Simulador!E321","v":"Retorno"},null,{"$f":"Simulador!G321","v":2798.1514076901749},null,{"$f":"Simulador!I321","v":7323.3943384164013},null,{"$f":"Simulador!K321","v":0},null,{"$f":"Simulador!M321","v":1016.9340072188854},null,{"$f":"Simulador!O321","v":66.400000000000006},null,{"$f":"Simulador!Q321","v":11204.879753325462},null,{"$f":"Simulador!S321","v":751114.56327563745}]
[null,{"$f":"Simulador!A322","v":"2050-05-02"},null,{"$f":"Simulador!C322","v":289},null,{"$f":"Simulador!E322","v":"Retorno"},null,{"$f":"Simulador!G322","v":2825.3322281990349},null,{"$f":"Simulador!I322","v":7296.2135179075412},null,{"$f":"Simulador!K322","v":0},null,{"$f":"Simulador!M322","v":1013.1087899151269},null,{"$f":"Simulador!O322","v":66.400000000000006},null,{"$f":"Simulador!Q322","v":11201.054536021702},null,{"$f":"Simulador!S322","v":748289.23104743846}]
[null,{"$f":"Simulador!A323","v":"2050-06-02"},null,{"$f":"Simulador!C323","v":290},null,{"$f":"Simulador!E323","v":"Retorno"},null,{"$f":"Simulador!G323","v":2852.7770790964514},null,{"$f":"Simulador!I323","v":7268.7686670101248},null,{"$f":"Simulador!K323","v":0},null,{"$f":"Simulador!M323","v":1009.2464150277382},null,{"$f":"Simulador!O323","v":66.400000000000006},null,{"$f":"Simulador!Q323","v":11197.192161134313},null,{"$f":"Simulador!S323","v":745436.45396834204}]
[null,{"$f":"Simulador!A324","v":"2050-07-02"},null,{"$f":"Simulador!C324","v":291},null,{"$f":"Simulador!E324","v":"Retorno"},null,{"$f":"Simulador!G324","v":2880.4885251337346},null,{"$f":"Simulador!I324","v":7241.0572209728416},null,{"$f":"Simulador!K324","v":0},null,{"$f":"Simulador!M324","v":1005.3465216135597},null,{"$f":"Simulador!O324","v":66.400000000000006},null,{"$f":"Simulador!Q324","v":11193.292267720135},null,{"$f":"Simulador!S324","v":742555.96544320835}]
[null,{"$f":"Simulador!A325","v":"2050-08-02"},null,{"$f":"Simulador!C325","v":292},null,{"$f":"Simulador!E325","v":"Retorno"},null,{"$f":"Simulador!G325","v":2908.4691559760049},null,{"$f":"Simulador!I325","v":7213.0765901305713},null,{"$f":"Simulador!K325","v":0},null,{"$f":"Simulador!M325","v":1001.4087452232839},null,{"$f":"Simulador!O325","v":66.400000000000006},null,{"$f":"Simulador!Q325","v":11189.354491329859},null,{"$f":"Simulador!S325","v":739647.49628723238}]
[null,{"$f":"Simulador!A326","v":"2050-09-02"},null,{"$f":"Simulador!C326","v":293},null,{"$f":"Simulador!E326","v":"Retorno"},null,{"$f":"Simulador!G326","v":2936.7215864437549},null,{"$f":"Simulador!I326","v":7184.8241596628213},null,{"$f":"Simulador!K326","v":0},null,{"$f":"Simulador!M326","v":997.43271786739774},null,{"$f":"Simulador!O326","v":66.400000000000006},null,{"$f":"Simulador!Q326","v":11185.378463973973},null,{"$f":"Simulador!S326","v":736710.77470078866}]
[null,{"$f":"Simulador!A327","v":"2050-10-02"},null,{"$f":"Simulador!C327","v":294},null,{"$f":"Simulador!E327","v":"Retorno"},null,{"$f":"Simulador!G327","v":2965.2484567575557},null,{"$f":"Simulador!I327","v":7156.2972893490223},null,{"$f":"Simulador!K327","v":0},null,{"$f":"Simulador!M327","v":993.41806798179368},null,{"$f":"Simulador!O327","v":66.400000000000006},null,{"$f":"Simulador!Q327","v":11181.36381408837},null,{"$f":"Simulador!S327","v":733745.52624403115}]
[null,{"$f":"Simulador!A328","v":"2050-11-02"},null,{"$f":"Simulador!C328","v":295},null,{"$f":"Simulador!E328","v":"Retorno"},null,{"$f":"Simulador!G328","v":2994.0524327844996},null,{"$f":"Simulador!I328","v":7127.4933133220766},null,{"$f":"Simulador!K328","v":0},null,{"$f":"Simulador!M328","v":989.36442039304677},null,{"$f":"Simulador!O328","v":66.400000000000006},null,{"$f":"Simulador!Q328","v":11177.310166499623},null,{"$f":"Simulador!S328","v":730751.47381124669}]
[null,{"$f":"Simulador!A329","v":"2050-12-02"},null,{"$f":"Simulador!C329","v":296},null,{"$f":"Simulador!E329","v":"Retorno"},null,{"$f":"Simulador!G329","v":3023.1362062879289},null,{"$f":"Simulador!I329","v":7098.4095398186473},null,{"$f":"Simulador!K329","v":0},null,{"$f":"Simulador!M329","v":985.27139628335362},null,{"$f":"Simulador!O329","v":66.400000000000006},null,{"$f":"Simulador!Q329","v":11173.217142389929},null,{"$f":"Simulador!S329","v":727728.3376049588}]
[null,{"$f":"Simulador!A330","v":"2051-01-02"},null,{"$f":"Simulador!C330","v":297},null,{"$f":"Simulador!E330","v":"Retorno"},null,{"$f":"Simulador!G330","v":3052.5024951781761},null,{"$f":"Simulador!I330","v":7069.0432509284001},null,{"$f":"Simulador!K330","v":0},null,{"$f":"Simulador!M330","v":981.13861315513191},null,{"$f":"Simulador!O330","v":66.400000000000006},null,{"$f":"Simulador!Q330","v":11169.084359261708},null,{"$f":"Simulador!S330","v":724675.83510978066}]
[null,{"$f":"Simulador!A331","v":"2051-02-02"},null,{"$f":"Simulador!C331","v":298},null,{"$f":"Simulador!E331","v":"Retorno"},null,{"$f":"Simulador!G331","v":3082.154043766941},null,{"$f":"Simulador!I331","v":7039.3917023396352},null,{"$f":"Simulador!K331","v":0},null,{"$f":"Simulador!M331","v":976.96568479527593},null,{"$f":"Simulador!O331","v":66.400000000000006},null,{"$f":"Simulador!Q331","v":11164.911430901851},null,{"$f":"Simulador!S331","v":721593.68106601376}]
[null,{"$f":"Simulador!A332","v":"2051-03-02"},null,{"$f":"Simulador!C332","v":299},null,{"$f":"Simulador!E332","v":"Retorno"},null,{"$f":"Simulador!G332","v":3112.0936230242169},null,{"$f":"Simulador!I332","v":7009.4521230823593},null,{"$f":"Simulador!K332","v":0},null,{"$f":"Simulador!M332","v":972.75222123906349},null,{"$f":"Simulador!O332","v":66.400000000000006},null,{"$f":"Simulador!Q332","v":11160.697967345639},null,{"$f":"Simulador!S332","v":718481.58744298958}]
[null,{"$f":"Simulador!A333","v":"2051-04-02"},null,{"$f":"Simulador!C333","v":300},null,{"$f":"Simulador!E333","v":"Retorno"},null,{"$f":"Simulador!G333","v":3142.324030836151},null,{"$f":"Simulador!I333","v":6979.2217152704252},null,{"$f":"Simulador!K333","v":0},null,{"$f":"Simulador!M333","v":968.49782873371453},null,{"$f":"Simulador!O333","v":66.400000000000006},null,{"$f":"Simulador!Q333","v":11156.44357484029},null,{"$f":"Simulador!S333","v":715339.26341215346}]
[null,{"$f":"Simulador!A334","v":"2051-05-02"},null,{"$f":"Simulador!C334","v":301},null,{"$f":"Simulador!E334","v":"Retorno"},null,{"$f":"Simulador!G334","v":3172.8480922674444},null,{"$f":"Simulador!I334","v":6948.6976538391318},null,{"$f":"Simulador!K334","v":0},null,{"$f":"Simulador!M334","v":964.20210970159371},null,{"$f":"Simulador!O334","v":66.400000000000006},null,{"$f":"Simulador!Q334","v":11152.147855808169},null,{"$f":"Simulador!S334","v":712166.41531988606}]
[null,{"$f":"Simulador!A335","v":"2051-06-02"},null,{"$f":"Simulador!C335","v":302},null,{"$f":"Simulador!E335","v":"Retorno"},null,{"$f":"Simulador!G335","v":3203.6686598252654},null,{"$f":"Simulador!I335","v":6917.8770862813108},null,{"$f":"Simulador!K335","v":0},null,{"$f":"Simulador!M335","v":959.8646627030563},null,{"$f":"Simulador!O335","v":66.400000000000006},null,{"$f":"Simulador!Q335","v":11147.810408809632},null,{"$f":"Simulador!S335","v":708962.74666006083}]
[null,{"$f":"Simulador!A336","v":"2051-07-02"},null,{"$f":"Simulador!C336","v":303},null,{"$f":"Simulador!E336","v":"Retorno"},null,{"$f":"Simulador!G336","v":3234.7886137251426},null,{"$f":"Simulador!I336","v":6886.7571323814336},null,{"$f":"Simulador!K336","v":0},null,{"$f":"Simulador!M336","v":955.48508239893386},null,{"$f":"Simulador!O336","v":66.400000000000006},null,{"$f":"Simulador!Q336","v":11143.43082850551},null,{"$f":"Simulador!S336","v":705727.95804633573}]
[null,{"$f":"Simulador!A337","v":"2051-08-02"},null,{"$f":"Simulador!C337","v":304},null,{"$f":"Simulador!E337","v":"Retorno"},null,{"$f":"Simulador!G337","v":3266.2108621610478},null,{"$f":"Simulador!I337","v":6855.3348839455284},null,{"$f":"Simulador!K337","v":0},null,{"$f":"Simulador!M337","v":951.06295951265406},null,{"$f":"Simulador!O337","v":66.400000000000006},null,{"$f":"Simulador!Q337","v":11139.00870561923},null,{"$f":"Simulador!S337","v":702461.74718417472}]
[null,{"$f":"Simulador!A338","v":"2051-09-02"},null,{"$f":"Simulador!C338","v":305},null,{"$f":"Simulador!E338","v":"Retorno"},null,{"$f":"Simulador!G338","v":3297.938341576295},null,{"$f":"Simulador!I338","v":6823.6074045302812},null,{"$f":"Simulador!K338","v":0},null,{"$f":"Simulador!M338","v":946.59788079199393},null,{"$f":"Simulador!O338","v":66.400000000000006},null,{"$f":"Simulador!Q338","v":11134.54362689857},null,{"$f":"Simulador!S338","v":699163.80884259846}]
[null,{"$f":"Simulador!A339","v":"2051-10-02"},null,{"$f":"Simulador!C339","v":306},null,{"$f":"Simulador!E339","v":"Retorno"},null,{"$f":"Simulador!G339","v":3329.9740169386296},null,{"$f":"Simulador!I339","v":6791.5717291679466},null,{"$f":"Simulador!K339","v":0},null,{"$f":"Simulador!M339","v":942.08942897046086},null,{"$f":"Simulador!O339","v":66.400000000000006},null,{"$f":"Simulador!Q339","v":11130.035175077037},null,{"$f":"Simulador!S339","v":695833.83482565987}]
[null,{"$f":"Simulador!A340","v":"2051-11-02"},null,{"$f":"Simulador!C340","v":307},null,{"$f":"Simulador!E340","v":"Retorno"},null,{"$f":"Simulador!G340","v":3362.3208820170639},null,{"$f":"Simulador!I340","v":6759.2248640895123},null,{"$f":"Simulador!K340","v":0},null,{"$f":"Simulador!M340","v":937.53718272829792},null,{"$f":"Simulador!O340","v":66.400000000000006},null,{"$f":"Simulador!Q340","v":11125.482928834874},null,{"$f":"Simulador!S340","v":692471.51394364284}]
[null,{"$f":"Simulador!A341","v":"2051-12-02"},null,{"$f":"Simulador!C341","v":308},null,{"$f":"Simulador!E341","v":"Retorno"},null,{"$f":"Simulador!G341","v":3394.9819596613906},null,{"$f":"Simulador!I341","v":6726.5637864451855},null,{"$f":"Simulador!K341","v":0},null,{"$f":"Simulador!M341","v":932.94071665311242},null,{"$f":"Simulador!O341","v":66.400000000000006},null,{"$f":"Simulador!Q341","v":11120.886462759689},null,{"$f":"Simulador!S341","v":689076.53198398149}]
[null,{"$f":"Simulador!A342","v":"2052-01-02"},null,{"$f":"Simulador!C342","v":309},null,{"$f":"Simulador!E342","v":"Retorno"},null,{"$f":"Simulador!G342","v":3427.9603020850718},null,{"$f":"Simulador!I342","v":6693.5854440215044},null,{"$f":"Simulador!K342","v":0},null,{"$f":"Simulador!M342","v":928.29960120011958},null,{"$f":"Simulador!O342","v":66.400000000000006},null,{"$f":"Simulador!Q342","v":11116.245347306696},null,{"$f":"Simulador!S342","v":685648.57168189646}]
[null,{"$f":"Simulador!A343","v":"2052-02-02"},null,{"$f":"Simulador!C343","v":310},null,{"$f":"Simulador!E343","v":"Retorno"},null,{"$f":"Simulador!G343","v":3461.2589911503401},null,{"$f":"Simulador!I343","v":6660.2867549562361},null,{"$f":"Simulador!K343","v":0},null,{"$f":"Simulador!M343","v":923.61340265200113},null,{"$f":"Simulador!O343","v":66.400000000000006},null,{"$f":"Simulador!Q343","v":11111.559148758577},null,{"$f":"Simulador!S343","v":682187.31269074616}]
[null,{"$f":"Simulador!A344","v":"2052-03-02"},null,{"$f":"Simulador!C344","v":311},null,{"$f":"Simulador!E344","v":"Retorno"},null,{"$f":"Simulador!G344","v":3494.8811386560938},null,{"$f":"Simulador!I344","v":6626.6646074504824},null,{"$f":"Simulador!K344","v":0},null,{"$f":"Simulador!M344","v":918.88168307837475},null,{"$f":"Simulador!O344","v":66.400000000000006},null,{"$f":"Simulador!Q344","v":11106.82742918495},null,{"$f":"Simulador!S344","v":678692.4315520901}]
[null,{"$f":"Simulador!A345","v":"2052-04-02"},null,{"$f":"Simulador!C345","v":312},null,{"$f":"Simulador!E345","v":"Retorno"},null,{"$f":"Simulador!G345","v":3528.8298866289351},null,{"$f":"Simulador!I345","v":6592.7158594776411},null,{"$f":"Simulador!K345","v":0},null,{"$f":"Simulador!M345","v":914.10400029486789},null,{"$f":"Simulador!O345","v":66.400000000000006},null,{"$f":"Simulador!Q345","v":11102.049746401444},null,{"$f":"Simulador!S345","v":675163.6016654612}]
[null,{"$f":"Simulador!A346","v":"2052-05-02"},null,{"$f":"Simulador!C346","v":313},null,{"$f":"Simulador!E346","v":"Retorno"},null,{"$f":"Simulador!G346","v":3563.1084076164207},null,{"$f":"Simulador!I346","v":6558.4373384901555},null,{"$f":"Simulador!K346","v":0},null,{"$f":"Simulador!M346","v":909.27990782179609},null,{"$f":"Simulador!O346","v":66.400000000000006},null,{"$f":"Simulador!Q346","v":11097.225653928372},null,{"$f":"Simulador!S346","v":671600.49325784482}]
[null,{"$f":"Simulador!A347","v":"2052-06-02"},null,{"$f":"Simulador!C347","v":314},null,{"$f":"Simulador!E347","v":"Retorno"},null,{"$f":"Simulador!G347","v":3597.7199049838036},null,{"$f":"Simulador!I347","v":6523.8258411227725},null,{"$f":"Simulador!K347","v":0},null,{"$f":"Simulador!M347","v":904.40895484243856},null,{"$f":"Simulador!O347","v":66.400000000000006},null,{"$f":"Simulador!Q347","v":11092.354700949014},null,{"$f":"Simulador!S347","v":668002.77335286106}]
[null,{"$f":"Simulador!A348","v":"2052-07-02"},null,{"$f":"Simulador!C348","v":315},null,{"$f":"Simulador!E348","v":"Retorno"},null,{"$f":"Simulador!G348","v":3632.667613213338},null,{"$f":"Simulador!I348","v":6488.8781328932382},null,{"$f":"Simulador!K348","v":0},null,{"$f":"Simulador!M348","v":899.49068616090904},null,{"$f":"Simulador!O348","v":66.400000000000006},null,{"$f":"Simulador!Q348","v":11087.436432267485},null,{"$f":"Simulador!S348","v":664370.10573964776}]
[null,{"$f":"Simulador!A349","v":"2052-08-02"},null,{"$f":"Simulador!C349","v":316},null,{"$f":"Simulador!E349","v":"Retorno"},null,{"$f":"Simulador!G349","v":3667.9547982068416},null,{"$f":"Simulador!I349","v":6453.5909478997346},null,{"$f":"Simulador!K349","v":0},null,{"$f":"Simulador!M349","v":894.52464215961686},null,{"$f":"Simulador!O349","v":66.400000000000006},null,{"$f":"Simulador!Q349","v":11082.470388266192},null,{"$f":"Simulador!S349","v":660702.15094144095}]
[null,{"$f":"Simulador!A350","v":"2052-09-02"},null,{"$f":"Simulador!C350","v":317},null,{"$f":"Simulador!E350","v":"Retorno"},null,{"$f":"Simulador!G350","v":3703.584757590239},null,{"$f":"Simulador!I350","v":6417.9609885163372},null,{"$f":"Simulador!K350","v":0},null,{"$f":"Simulador!M350","v":1146.5938977040562},null,{"$f":"Simulador!O350","v":66.400000000000006},null,{"$f":"Simulador!Q350","v":11334.539643810633},null,{"$f":"Simulador!S350","v":656998.56618385075}]
[null,{"$f":"Simulador!A351","v":"2052-10-02"},null,{"$f":"Simulador!C351","v":318},null,{"$f":"Simulador!E351","v":"Retorno"},null,{"$f":"Simulador!G351","v":3739.5608210221781},null,{"$f":"Simulador!I351","v":6381.9849250843981},null,{"$f":"Simulador!K351","v":0},null,{"$f":"Simulador!M351","v":1140.0676161592085},null,{"$f":"Simulador!O351","v":66.400000000000006},null,{"$f":"Simulador!Q351","v":11328.013362265785},null,{"$f":"Simulador!S351","v":653259.00536282861}]
[null,{"$f":"Simulador!A352","v":"2052-11-02"},null,{"$f":"Simulador!C352","v":319},null,{"$f":"Simulador!E352","v":"Retorno"},null,{"$f":"Simulador!G352","v":3775.8863505050922},null,{"$f":"Simulador!I352","v":6345.659395601484},null,{"$f":"Simulador!K352","v":0},null,{"$f":"Simulador!M352","v":1133.4779393003071},null,{"$f":"Simulador!O352","v":66.400000000000006},null,{"$f":"Simulador!Q352","v":11321.423685406882},null,{"$f":"Simulador!S352","v":649483.11901232356}]
[null,{"$f":"Simulador!A353","v":"2052-12-02"},null,{"$f":"Simulador!C353","v":320},null,{"$f":"Simulador!E353","v":"Retorno"},null,{"$f":"Simulador!G353","v":3812.5647406996377},null,{"$f":"Simulador!I353","v":6308.9810054069385},null,{"$f":"Simulador!K353","v":0},null,{"$f":"Simulador!M353","v":1126.8242513148382},null,{"$f":"Simulador!O353","v":66.400000000000006},null,{"$f":"Simulador!Q353","v":11314.769997421414},null,{"$f":"Simulador!S353","v":645670.55427162396}]
[null,{"$f":"Simulador!A354","v":"2053-01-02"},null,{"$f":"Simulador!C354","v":321},null,{"$f":"Simulador!E354","v":"Retorno"},null,{"$f":"Simulador!G354","v":3849.5994192414601},null,{"$f":"Simulador!I354","v":6271.9463268651161},null,{"$f":"Simulador!K354","v":0},null,{"$f":"Simulador!M354","v":1120.1059304083778},null,{"$f":"Simulador!O354","v":66.400000000000006},null,{"$f":"Simulador!Q354","v":11308.051676514953},null,{"$f":"Simulador!S354","v":641820.95485238254}]
[null,{"$f":"Simulador!A355","v":"2053-02-02"},null,{"$f":"Simulador!C355","v":322},null,{"$f":"Simulador!E355","v":"Retorno"},null,{"$f":"Simulador!G355","v":3886.9938470618017},null,{"$f":"Simulador!I355","v":6234.5518990447745},null,{"$f":"Simulador!K355","v":0},null,{"$f":"Simulador!M355","v":1113.3223487464857},null,{"$f":"Simulador!O355","v":66.400000000000006},null,{"$f":"Simulador!Q355","v":11301.268094853061},null,{"$f":"Simulador!S355","v":637933.96100532077}]
[null,{"$f":"Simulador!A356","v":"2053-03-02"},null,{"$f":"Simulador!C356","v":323},null,{"$f":"Simulador!E356","v":"Retorno"},null,{"$f":"Simulador!G356","v":3924.7515187107874},null,{"$f":"Simulador!I356","v":6196.7942273957888},null,{"$f":"Simulador!K356","v":0},null,{"$f":"Simulador!M356","v":1106.4728723960318},null,{"$f":"Simulador!O356","v":66.400000000000006},null,{"$f":"Simulador!Q356","v":11294.418618502608},null,{"$f":"Simulador!S356","v":634009.20948661002}]
[null,{"$f":"Simulador!A357","v":"2053-04-02"},null,{"$f":"Simulador!C357","v":324},null,{"$f":"Simulador!E357","v":"Retorno"},null,{"$f":"Simulador!G357","v":3962.8759626843184},null,{"$f":"Simulador!I357","v":6158.6697834222578},null,{"$f":"Simulador!K357","v":0},null,{"$f":"Simulador!M357","v":1099.5568612659551},null,{"$f":"Simulador!O357","v":66.400000000000006},null,{"$f":"Simulador!Q357","v":11287.502607372531},null,{"$f":"Simulador!S357","v":630046.33352392574}]
[null,{"$f":"Simulador!A358","v":"2053-05-02"},null,{"$f":"Simulador!C358","v":325},null,{"$f":"Simulador!E358","v":"Retorno"},null,{"$f":"Simulador!G358","v":4001.3707417531787},null,{"$f":"Simulador!I358","v":6120.1750043533975},null,{"$f":"Simulador!K358","v":0},null,{"$f":"Simulador!M358","v":1092.5736690474475},null,{"$f":"Simulador!O358","v":66.400000000000006},null,{"$f":"Simulador!Q358","v":11280.519415154024},null,{"$f":"Simulador!S358","v":626044.9627821726}]
[null,{"$f":"Simulador!A359","v":"2053-06-02"},null,{"$f":"Simulador!C359","v":326},null,{"$f":"Simulador!E359","v":"Retorno"},null,{"$f":"Simulador!G359","v":4040.2394532967974},null,{"$f":"Simulador!I359","v":6081.3062928097788},null,{"$f":"Simulador!K359","v":0},null,{"$f":"Simulador!M359","v":1085.5226431535541},null,{"$f":"Simulador!O359","v":66.400000000000006},null,{"$f":"Simulador!Q359","v":11273.46838926013},null,{"$f":"Simulador!S359","v":622004.72332887584}]
[null,{"$f":"Simulador!A360","v":"2053-07-02"},null,{"$f":"Simulador!C360","v":327},null,{"$f":"Simulador!E360","v":"Retorno"},null,{"$f":"Simulador!G360","v":4079.4857296386417},null,{"$f":"Simulador!I360","v":6042.0600164679345},null,{"$f":"Simulador!K360","v":0},null,{"$f":"Simulador!M360","v":1078.4031246581887},null,{"$f":"Simulador!O360","v":66.400000000000006},null,{"$f":"Simulador!Q360","v":11266.348870764765},null,{"$f":"Simulador!S360","v":617925.23759923724}]
[null,{"$f":"Simulador!A361","v":"2053-08-02"},null,{"$f":"Simulador!C361","v":328},null,{"$f":"Simulador!E361","v":"Retorno"},null,{"$f":"Simulador!G361","v":4119.1132383862659},null,{"$f":"Simulador!I361","v":6002.4325077203102},null,{"$f":"Simulador!K361","v":0},null,{"$f":"Simulador!M361","v":1071.214448234557},null,{"$f":"Simulador!O361","v":66.400000000000006},null,{"$f":"Simulador!Q361","v":11259.160194341133},null,{"$f":"Simulador!S361","v":613806.12436085101}]
[null,{"$f":"Simulador!A362","v":"2053-09-02"},null,{"$f":"Simulador!C362","v":329},null,{"$f":"Simulador!E362","v":"Retorno"},null,{"$f":"Simulador!G362","v":4159.1256827738052},null,{"$f":"Simulador!I362","v":5962.420063332771},null,{"$f":"Simulador!K362","v":0},null,{"$f":"Simulador!M362","v":1063.9559420929804},null,{"$f":"Simulador!O362","v":66.400000000000006},null,{"$f":"Simulador!Q362","v":11251.901688199556},null,{"$f":"Simulador!S362","v":609646.99867807725}]
[null,{"$f":"Simulador!A363","v":"2053-10-02"},null,{"$f":"Simulador!C363","v":330},null,{"$f":"Simulador!E363","v":"Retorno"},null,{"$f":"Simulador!G363","v":4199.5268020078456},null,{"$f":"Simulador!I363","v":5922.0189440987306},null,{"$f":"Simulador!K363","v":0},null,{"$f":"Simulador!M363","v":1056.6269279181163},null,{"$f":"Simulador!O363","v":66.400000000000006},null,{"$f":"Simulador!Q363","v":11244.572674024692},null,{"$f":"Simulador!S363","v":605447.47187606944}]
[null,{"$f":"Simulador!A364","v":"2053-11-02"},null,{"$f":"Simulador!C364","v":331},null,{"$f":"Simulador!E364","v":"Retorno"},null,{"$f":"Simulador!G364","v":4240.3203716172538},null,{"$f":"Simulador!I364","v":5881.2253744893242},null,{"$f":"Simulador!K364","v":0},null,{"$f":"Simulador!M364","v":1049.22672080557},null,{"$f":"Simulador!O364","v":66.400000000000006},null,{"$f":"Simulador!Q364","v":11237.172466912147},null,{"$f":"Simulador!S364","v":601207.15150445222}]
[null,{"$f":"Simulador!A365","v":"2053-12-02"},null,{"$f":"Simulador!C365","v":332},null,{"$f":"Simulador!E365","v":"Retorno"},null,{"$f":"Simulador!G365","v":4281.5102038057903},null,{"$f":"Simulador!I365","v":5840.0355423007859},null,{"$f":"Simulador!K365","v":0},null,{"$f":"Simulador!M365","v":1041.7546291978881},null,{"$f":"Simulador!O365","v":66.400000000000006},null,{"$f":"Simulador!Q365","v":11229.700375304465},null,{"$f":"Simulador!S365","v":596925.64130064647}]
[null,{"$f":"Simulador!A366","v":"2054-01-02"},null,{"$f":"Simulador!C366","v":333},null,{"$f":"Simulador!E366","v":"Retorno"},null,{"$f":"Simulador!G366","v":4323.1001478082417},null,{"$f":"Simulador!I366","v":5798.4455982983345},null,{"$f":"Simulador!K366","v":0},null,{"$f":"Simulador!M366","v":1034.2099548199333},null,{"$f":"Simulador!O366","v":66.400000000000006},null,{"$f":"Simulador!Q366","v":11222.155700926509},null,{"$f":"Simulador!S366","v":592602.54115283827}]
[null,{"$f":"Simulador!A367","v":"2054-02-02"},null,{"$f":"Simulador!C367","v":334},null,{"$f":"Simulador!E367","v":"Retorno"},null,{"$f":"Simulador!G367","v":4365.0940902504753},null,{"$f":"Simulador!I367","v":5756.4516558561008},null,{"$f":"Simulador!K367","v":0},null,{"$f":"Simulador!M367","v":1026.5919926136282},null,{"$f":"Simulador!O367","v":66.400000000000006},null,{"$f":"Simulador!Q367","v":11214.537738720204},null,{"$f":"Simulador!S367","v":588237.44706258783}]
[null,{"$f":"Simulador!A368","v":"2054-03-02"},null,{"$f":"Simulador!C368","v":335},null,{"$f":"Simulador!E368","v":"Retorno"},null,{"$f":"Simulador!G368","v":4407.495955512315},null,{"$f":"Simulador!I368","v":5714.0497905942611},null,{"$f":"Simulador!K368","v":0},null,{"$f":"Simulador!M368","v":1018.9000306720682},null,{"$f":"Simulador!O368","v":66.400000000000006},null,{"$f":"Simulador!Q368","v":11206.845776778644},null,{"$f":"Simulador!S368","v":583829.95110707555}]
[null,{"$f":"Simulador!A369","v":"2054-04-02"},null,{"$f":"Simulador!C369","v":336},null,{"$f":"Simulador!E369","v":"Retorno"},null,{"$f":"Simulador!G369","v":4450.3097060944801},null,{"$f":"Simulador!I369","v":5671.2360400120961},null,{"$f":"Simulador!K369","v":0},null,{"$f":"Simulador!M369","v":1011.1333501729922},null,{"$f":"Simulador!O369","v":66.400000000000006},null,{"$f":"Simulador!Q369","v":11199.079096279567},null,{"$f":"Simulador!S369","v":579379.64140098111}]
[null,{"$f":"Simulador!A370","v":"2054-05-02"},null,{"$f":"Simulador!C370","v":337},null,{"$f":"Simulador!E370","v":"Retorno"},null,{"$f":"Simulador!G370","v":4493.5393429887863},null,{"$f":"Simulador!I370","v":5628.0064031177899},null,{"$f":"Simulador!K370","v":0},null,{"$f":"Simulador!M370","v":1003.2912253116082},null,{"$f":"Simulador!O370","v":66.400000000000006},null,{"$f":"Simulador!Q370","v":11191.236971418184},null,{"$f":"Simulador!S370","v":574886.10205799236}]
[null,{"$f":"Simulador!A371","v":"2054-06-02"},null,{"$f":"Simulador!C371","v":338},null,{"$f":"Simulador!E371","v":"Retorno"},null,{"$f":"Simulador!G371","v":4537.1889060523044},null,{"$f":"Simulador!I371","v":5584.3568400542717},null,{"$f":"Simulador!K371","v":0},null,{"$f":"Simulador!M371","v":995.37292323276586},null,{"$f":"Simulador!O371","v":66.400000000000006},null,{"$f":"Simulador!Q371","v":11183.318669339342},null,{"$f":"Simulador!S371","v":570348.9131519401}]
[null,{"$f":"Simulador!A372","v":"2054-07-02"},null,{"$f":"Simulador!C372","v":339},null,{"$f":"Simulador!E372","v":"Retorno"},null,{"$f":"Simulador!G372","v":4581.262474384197},null,{"$f":"Simulador!I372","v":5540.2832717223791},null,{"$f":"Simulador!K372","v":0},null,{"$f":"Simulador!M372","v":987.3777039624706},null,{"$f":"Simulador!O372","v":66.400000000000006},null,{"$f":"Simulador!Q372","v":11175.323450069047},null,{"$f":"Simulador!S372","v":565767.65067755594}]
[null,{"$f":"Simulador!A373","v":"2054-08-02"},null,{"$f":"Simulador!C373","v":340},null,{"$f":"Simulador!E373","v":"Retorno"},null,{"$f":"Simulador!G373","v":4625.7641667077933},null,{"$f":"Simulador!I373","v":5495.7815793987829},null,{"$f":"Simulador!K373","v":0},null,{"$f":"Simulador!M373","v":979.30482033873216},null,{"$f":"Simulador!O373","v":66.400000000000006},null,{"$f":"Simulador!Q373","v":11167.250566445307},null,{"$f":"Simulador!S373","v":561141.88651084818}]
[null,{"$f":"Simulador!A374","v":"2054-09-02"},null,{"$f":"Simulador!C374","v":341},null,{"$f":"Simulador!E374","v":"Retorno"},null,{"$f":"Simulador!G374","v":4670.6981417549905},null,{"$f":"Simulador!I374","v":5450.8476043515839},null,{"$f":"Simulador!K374","v":0},null,{"$f":"Simulador!M374","v":971.15351794174148},null,{"$f":"Simulador!O374","v":66.400000000000006},null,{"$f":"Simulador!Q374","v":11159.099264048316},null,{"$f":"Simulador!S374","v":556471.18836909323}]
[null,{"$f":"Simulador!A375","v":"2054-10-02"},null,{"$f":"Simulador!C375","v":342},null,{"$f":"Simulador!E375","v":"Retorno"},null,{"$f":"Simulador!G375","v":4716.0685986548579},null,{"$f":"Simulador!I375","v":5405.4771474517183},null,{"$f":"Simulador!K375","v":0},null,{"$f":"Simulador!M375","v":962.92303502336904},null,{"$f":"Simulador!O375","v":66.400000000000006},null,{"$f":"Simulador!Q375","v":11150.868781129944},null,{"$f":"Simulador!S375","v":551755.11977043841}]
[null,{"$f":"Simulador!A376","v":"2054-11-02"},null,{"$f":"Simulador!C376","v":343},null,{"$f":"Simulador!E376","v":"Retorno"},null,{"$f":"Simulador!G376","v":4761.8797773261704},null,{"$f":"Simulador!I376","v":5359.6659687804058},null,{"$f":"Simulador!K376","v":0},null,{"$f":"Simulador!M376","v":954.61260243597951},null,{"$f":"Simulador!O376","v":66.400000000000006},null,{"$f":"Simulador!Q376","v":11142.558348542556},null,{"$f":"Simulador!S376","v":546993.23999311228}]
[null,{"$f":"Simulador!A377","v":"2054-12-02"},null,{"$f":"Simulador!C377","v":344},null,{"$f":"Simulador!E377","v":"Retorno"},null,{"$f":"Simulador!G377","v":4808.1359588738214},null,{"$f":"Simulador!I377","v":5313.4097872327548},null,{"$f":"Simulador!K377","v":0},null,{"$f":"Simulador!M377","v":946.22144356055298},null,{"$f":"Simulador!O377","v":66.400000000000006},null,{"$f":"Simulador!Q377","v":11134.167189667129},null,{"$f":"Simulador!S377","v":542185.10403423849}]
[null,{"$f":"Simulador!A378","v":"2055-01-02"},null,{"$f":"Simulador!C378","v":345},null,{"$f":"Simulador!E378","v":"Retorno"},null,{"$f":"Simulador!G378","v":4854.8414659885839},null,{"$f":"Simulador!I378","v":5266.7042801179923},null,{"$f":"Simulador!K378","v":0},null,{"$f":"Simulador!M378","v":937.74877423410976},null,{"$f":"Simulador!O378","v":66.400000000000006},null,{"$f":"Simulador!Q378","v":11125.694520340685},null,{"$f":"Simulador!S378","v":537330.26256824995}]
[null,{"$f":"Simulador!A379","v":"2055-02-02"},null,{"$f":"Simulador!C379","v":346},null,{"$f":"Simulador!E379","v":"Retorno"},null,{"$f":"Simulador!G379","v":4902.0006633511894},null,{"$f":"Simulador!I379","v":5219.5450827553868},null,{"$f":"Simulador!K379","v":0},null,{"$f":"Simulador!M379","v":929.1938026764293},null,{"$f":"Simulador!O379","v":66.400000000000006},null,{"$f":"Simulador!Q379","v":11117.139548783005},null,{"$f":"Simulador!S379","v":532428.2619048988}]
[null,{"$f":"Simulador!A380","v":"2055-03-02"},null,{"$f":"Simulador!C380","v":347},null,{"$f":"Simulador!E380","v":"Retorno"},null,{"$f":"Simulador!G380","v":4949.6179580402477},null,{"$f":"Simulador!I380","v":5171.9277880663285},null,{"$f":"Simulador!K380","v":0},null,{"$f":"Simulador!M380","v":920.5557294160576},null,{"$f":"Simulador!O380","v":66.400000000000006},null,{"$f":"Simulador!Q380","v":11108.501475522633},null,{"$f":"Simulador!S380","v":527478.64394685859}]
[null,{"$f":"Simulador!A381","v":"2055-04-02"},null,{"$f":"Simulador!C381","v":348},null,{"$f":"Simulador!E381","v":"Retorno"},null,{"$f":"Simulador!G381","v":4997.6977999440078},null,{"$f":"Simulador!I381","v":5123.8479461625684},null,{"$f":"Simulador!K381","v":0},null,{"$f":"Simulador!M381","v":911.83374721559528},null,{"$f":"Simulador!O381","v":66.400000000000006},null,{"$f":"Simulador!Q381","v":11099.77949332217},null,{"$f":"Simulador!S381","v":522480.94614691456}]
[null,{"$f":"Simulador!A382","v":"2055-05-02"},null,{"$f":"Simulador!C382","v":349},null,{"$f":"Simulador!E382","v":"Retorno"},null,{"$f":"Simulador!G382","v":5046.2446821764843},null,{"$f":"Simulador!I382","v":5075.3010639300919},null,{"$f":"Simulador!K382","v":0},null,{"$f":"Simulador!M382","v":903.02704099626078},null,{"$f":"Simulador!O382","v":66.400000000000006},null,{"$f":"Simulador!Q382","v":11090.972787102837},null,{"$f":"Simulador!S382","v":517434.70146473806}]
[null,{"$f":"Simulador!A383","v":"2055-06-02"},null,{"$f":"Simulador!C383","v":350},null,{"$f":"Simulador!E383","v":"Retorno"},null,{"$f":"Simulador!G383","v":5095.263141496669},null,{"$f":"Simulador!I383","v":5026.2826046099071},null,{"$f":"Simulador!K383","v":0},null,{"$f":"Simulador!M383","v":894.13478776172076},null,{"$f":"Simulador!O383","v":66.400000000000006},null,{"$f":"Simulador!Q383","v":11082.080533868297},null,{"$f":"Simulador!S383","v":512339.43832324137}]
[null,{"$f":"Simulador!A384","v":"2055-07-02"},null,{"$f":"Simulador!C384","v":351},null,{"$f":"Simulador!E384","v":"Retorno"},null,{"$f":"Simulador!G384","v":5144.7577587334472},null,{"$f":"Simulador!I384","v":4976.787987373129},null,{"$f":"Simulador!K384","v":0},null,{"$f":"Simulador!M384","v":885.15615652117913},null,{"$f":"Simulador!O384","v":66.400000000000006},null,{"$f":"Simulador!Q384","v":11073.101902627755},null,{"$f":"Simulador!S384","v":507194.6805645079}]
[null,{"$f":"Simulador!A385","v":"2055-08-02"},null,{"$f":"Simulador!C385","v":352},null,{"$f":"Simulador!E385","v":"Retorno"},null,{"$f":"Simulador!G385","v":5194.7331592128994},null,{"$f":"Simulador!I385","v":4926.8125868936768},null,{"$f":"Simulador!K385","v":0},null,{"$f":"Simulador!M385","v":876.09030821172075},null,{"$f":"Simulador!O385","v":66.400000000000006},null,{"$f":"Simulador!Q385","v":11064.036054318296},null,{"$f":"Simulador!S385","v":501999.94740529498}]
[null,{"$f":"Simulador!A386","v":"2055-09-02"},null,{"$f":"Simulador!C386","v":353},null,{"$f":"Simulador!E386","v":"Retorno"},null,{"$f":"Simulador!G386","v":5245.1940131908432},null,{"$f":"Simulador!I386","v":4876.351732915733},null,{"$f":"Simulador!K386","v":0},null,{"$f":"Simulador!M386","v":1072.543188048892},null,{"$f":"Simulador!O386","v":66.400000000000006},null,{"$f":"Simulador!Q386","v":11260.488934155468},null,{"$f":"Simulador!S386","v":496754.75339210412}]
[null,{"$f":"Simulador!A387","v":"2055-10-02"},null,{"$f":"Simulador!C387","v":354},null,{"$f":"Simulador!E387","v":"Retorno"},null,{"$f":"Simulador!G387","v":5296.145036289332},null,{"$f":"Simulador!I387","v":4825.4007098172442},null,{"$f":"Simulador!K387","v":0},null,{"$f":"Simulador!M387","v":1061.1082813010398},null,{"$f":"Simulador!O387","v":66.400000000000006},null,{"$f":"Simulador!Q387","v":11249.054027407616},null,{"$f":"Simulador!S387","v":491458.60835581477}]
[null,{"$f":"Simulador!A388","v":"2055-11-02"},null,{"$f":"Simulador!C388","v":355},null,{"$f":"Simulador!E388","v":"Retorno"},null,{"$f":"Simulador!G388","v":5347.5909899372873},null,{"$f":"Simulador!I388","v":4773.9547561692889},null,{"$f":"Simulador!K388","v":0},null,{"$f":"Simulador!M388","v":1049.562297594666},null,{"$f":"Simulador!O388","v":66.400000000000006},null,{"$f":"Simulador!Q388","v":11237.508043701242},null,{"$f":"Simulador!S388","v":486111.01736587746}]
[null,{"$f":"Simulador!A389","v":"2055-12-02"},null,{"$f":"Simulador!C389","v":356},null,{"$f":"Simulador!E389","v":"Retorno"},null,{"$f":"Simulador!G389","v":5399.5366818153216},null,{"$f":"Simulador!I389","v":4722.0090642912546},null,{"$f":"Simulador!K389","v":0},null,{"$f":"Simulador!M389","v":1037.9041579449586},null,{"$f":"Simulador!O389","v":66.400000000000006},null,{"$f":"Simulador!Q389","v":11225.849904051534},null,{"$f":"Simulador!S389","v":480711.48068406212}]
[null,{"$f":"Simulador!A390","v":"2056-01-02"},null,{"$f":"Simulador!C390","v":357},null,{"$f":"Simulador!E390","v":"Retorno"},null,{"$f":"Simulador!G390","v":5451.9869663052177},null,{"$f":"Simulador!I390","v":4669.5587798013585},null,{"$f":"Simulador!K390","v":0},null,{"$f":"Simulador!M390","v":1026.132772886009},null,{"$f":"Simulador!O390","v":66.400000000000006},null,{"$f":"Simulador!Q390","v":11214.078518992585},null,{"$f":"Simulador!S390","v":475259.49371775688}]
[null,{"$f":"Simulador!A391","v":"2056-02-02"},null,{"$f":"Simulador!C391","v":358},null,{"$f":"Simulador!E391","v":"Retorno"},null,{"$f":"Simulador!G391","v":5504.9467449434251},null,{"$f":"Simulador!I391","v":4616.5990011631511},null,{"$f":"Simulador!K391","v":0},null,{"$f":"Simulador!M391","v":1014.2470423690015},null,{"$f":"Simulador!O391","v":66.400000000000006},null,{"$f":"Simulador!Q391","v":11202.192788475577},null,{"$f":"Simulador!S391","v":469754.54697281343}]
[null,{"$f":"Simulador!A392","v":"2056-03-02"},null,{"$f":"Simulador!C392","v":359},null,{"$f":"Simulador!E392","v":"Retorno"},null,{"$f":"Simulador!G392","v":5558.4209668792118},null,{"$f":"Simulador!I392","v":4563.1247792273643},null,{"$f":"Simulador!K392","v":0},null,{"$f":"Simulador!M392","v":1002.2458556594127},null,{"$f":"Simulador!O392","v":66.400000000000006},null,{"$f":"Simulador!Q392","v":11190.191601765988},null,{"$f":"Simulador!S392","v":464196.1260059342}]
[null,{"$f":"Simulador!A393","v":"2056-04-02"},null,{"$f":"Simulador!C393","v":360},null,{"$f":"Simulador!E393","v":"Retorno"},null,{"$f":"Simulador!G393","v":5612.4146293371832},null,{"$f":"Simulador!I393","v":4509.131116769393},null,{"$f":"Simulador!K393","v":0},null,{"$f":"Simulador!M393","v":990.12809123321063},null,{"$f":"Simulador!O393","v":66.400000000000006},null,{"$f":"Simulador!Q393","v":11178.073837339787},null,{"$f":"Simulador!S393","v":458583.711376597}]
[null,{"$f":"Simulador!A394","v":"2056-05-02"},null,{"$f":"Simulador!C394","v":361},null,{"$f":"Simulador!E394","v":"Retorno"},null,{"$f":"Simulador!G394","v":5666.932778084165},null,{"$f":"Simulador!I394","v":4454.6129680224112},null,{"$f":"Simulador!K394","v":0},null,{"$f":"Simulador!M394","v":977.89261667204914},null,{"$f":"Simulador!O394","v":66.400000000000006},null,{"$f":"Simulador!Q394","v":11165.838362778624},null,{"$f":"Simulador!S394","v":452916.77859851281}]
[null,{"$f":"Simulador!A395","v":"2056-06-02"},null,{"$f":"Simulador!C395","v":362},null,{"$f":"Simulador!E395","v":"Retorno"},null,{"$f":"Simulador!G395","v":5721.980507900802},null,{"$f":"Simulador!I395","v":4399.5652382057742},null,{"$f":"Simulador!K395","v":0},null,{"$f":"Simulador!M395","v":965.53828855744041},null,{"$f":"Simulador!O395","v":66.400000000000006},null,{"$f":"Simulador!Q395","v":11153.484034664016},null,{"$f":"Simulador!S395","v":447194.79809061199}]
[null,{"$f":"Simulador!A396","v":"2056-07-02"},null,{"$f":"Simulador!C396","v":363},null,{"$f":"Simulador!E396","v":"Retorno"},null,{"$f":"Simulador!G396","v":5777.5629630576386},null,{"$f":"Simulador!I396","v":4343.9827830489376},null,{"$f":"Simulador!K396","v":0},null,{"$f":"Simulador!M396","v":953.06395236390267},null,{"$f":"Simulador!O396","v":66.400000000000006},null,{"$f":"Simulador!Q396","v":11141.009698470478},null,{"$f":"Simulador!S396","v":441417.23512755433}]
[null,{"$f":"Simulador!A397","v":"2056-08-02"},null,{"$f":"Simulador!C397","v":364},null,{"$f":"Simulador!E397","v":"Retorno"},null,{"$f":"Simulador!G397","v":5833.685337796087},null,{"$f":"Simulador!I397","v":4287.8604083104874},null,{"$f":"Simulador!K397","v":0},null,{"$f":"Simulador!M397","v":940.4684423510671},null,{"$f":"Simulador!O397","v":66.400000000000006},null,{"$f":"Simulador!Q397","v":11128.414188457642},null,{"$f":"Simulador!S397","v":435583.54978975822}]
[null,{"$f":"Simulador!A398","v":"2056-09-02"},null,{"$f":"Simulador!C398","v":365},null,{"$f":"Simulador!E398","v":"Retorno"},null,{"$f":"Simulador!G398","v":5890.3528768133074},null,{"$f":"Simulador!I398","v":4231.1928692932706},null,{"$f":"Simulador!K398","v":0},null,{"$f":"Simulador!M398","v":927.7505814547394},null,{"$f":"Simulador!O398","v":66.400000000000006},null,{"$f":"Simulador!Q398","v":11115.696327561316},null,{"$f":"Simulador!S398","v":429693.1969129449}]
[null,{"$f":"Simulador!A399","v":"2056-10-02"},null,{"$f":"Simulador!C399","v":366},null,{"$f":"Simulador!E399","v":"Retorno"},null,{"$f":"Simulador!G399","v":5947.5708757529301},null,{"$f":"Simulador!I399","v":4173.9748703536461},null,{"$f":"Simulador!K399","v":0},null,{"$f":"Simulador!M399","v":914.90918117690126},null,{"$f":"Simulador!O399","v":66.400000000000006},null,{"$f":"Simulador!Q399","v":11102.854927283477},null,{"$f":"Simulador!S399","v":423745.62603719195}]
[null,{"$f":"Simulador!A400","v":"2056-11-02"},null,{"$f":"Simulador!C400","v":367},null,{"$f":"Simulador!E400","v":"Retorno"},null,{"$f":"Simulador!G400","v":6005.3446816995656},null,{"$f":"Simulador!I400","v":4116.2010644070106},null,{"$f":"Simulador!K400","v":0},null,{"$f":"Simulador!M400","v":901.94304147464368},null,{"$f":"Simulador!O400","v":66.400000000000006},null,{"$f":"Simulador!Q400","v":11089.88878758122},null,{"$f":"Simulador!S400","v":417740.28135549236}]
[null,{"$f":"Simulador!A401","v":"2056-12-02"},null,{"$f":"Simulador!C401","v":368},null,{"$f":"Simulador!E401","v":"Retorno"},null,{"$f":"Simulador!G401","v":6063.6796936786068},null,{"$f":"Simulador!I401","v":4057.8660524279694},null,{"$f":"Simulador!K401","v":0},null,{"$f":"Simulador!M401","v":888.85095064802215},null,{"$f":"Simulador!O401","v":66.400000000000006},null,{"$f":"Simulador!Q401","v":11076.796696754598},null,{"$f":"Simulador!S401","v":411676.60166181374}]
[null,{"$f":"Simulador!A402","v":"2057-01-02"},null,{"$f":"Simulador!C402","v":369},null,{"$f":"Simulador!E402","v":"Retorno"},null,{"$f":"Simulador!G402","v":6122.5813631607834},null,{"$f":"Simulador!I402","v":3998.9643829457927},null,{"$f":"Simulador!K402","v":0},null,{"$f":"Simulador!M402","v":875.63168522682156},null,{"$f":"Simulador!O402","v":66.400000000000006},null,{"$f":"Simulador!Q402","v":11063.577431333397},null,{"$f":"Simulador!S402","v":405554.02029865293}]
[null,{"$f":"Simulador!A403","v":"2057-02-02"},null,{"$f":"Simulador!C403","v":370},null,{"$f":"Simulador!E403","v":"Retorno"},null,{"$f":"Simulador!G403","v":6182.0551945714778},null,{"$f":"Simulador!I403","v":3939.4905515350983},null,{"$f":"Simulador!K403","v":0},null,{"$f":"Simulador!M403","v":862.28400985622227},null,{"$f":"Simulador!O403","v":66.400000000000006},null,{"$f":"Simulador!Q403","v":11050.229755962799},null,{"$f":"Simulador!S403","v":399371.96510408144}]
[null,{"$f":"Simulador!A404","v":"2057-03-02"},null,{"$f":"Simulador!C404","v":371},null,{"$f":"Simulador!E404","v":"Retorno"},null,{"$f":"Simulador!G404","v":6242.1067458053967},null,{"$f":"Simulador!I404","v":3879.4390003011795},null,{"$f":"Simulador!K404","v":0},null,{"$f":"Simulador!M404","v":848.80667718135385},null,{"$f":"Simulador!O404","v":66.400000000000006},null,{"$f":"Simulador!Q404","v":11036.75242328793},null,{"$f":"Simulador!S404","v":393129.85835827602}]
[null,{"$f":"Simulador!A405","v":"2057-04-02"},null,{"$f":"Simulador!C405","v":372},null,{"$f":"Simulador!E405","v":"Retorno"},null,{"$f":"Simulador!G405","v":6302.7416287456672},null,{"$f":"Simulador!I405","v":3818.804117360909},null,{"$f":"Simulador!K405","v":0},null,{"$f":"Simulador!M405","v":835.19842773072901},null,{"$f":"Simulador!O405","v":66.400000000000006},null,{"$f":"Simulador!Q405","v":11023.144173837305},null,{"$f":"Simulador!S405","v":386827.11672953033}]
[null,{"$f":"Simulador!A406","v":"2057-05-02"},null,{"$f":"Simulador!C406","v":373},null,{"$f":"Simulador!E406","v":"Retorno"},null,{"$f":"Simulador!G406","v":6363.9655097885206},null,{"$f":"Simulador!I406","v":3757.5802363180555},null,{"$f":"Simulador!K406","v":0},null,{"$f":"Simulador!M406","v":821.45798979854453},null,{"$f":"Simulador!O406","v":66.400000000000006},null,{"$f":"Simulador!Q406","v":11009.40373590512},null,{"$f":"Simulador!S406","v":380463.15121974179}]
[null,{"$f":"Simulador!A407","v":"2057-06-02"},null,{"$f":"Simulador!C407","v":374},null,{"$f":"Simulador!E407","v":"Retorno"},null,{"$f":"Simulador!G407","v":6425.784110372575},null,{"$f":"Simulador!I407","v":3695.7616357340012},null,{"$f":"Simulador!K407","v":0},null,{"$f":"Simulador!M407","v":807.58407932583907},null,{"$f":"Simulador!O407","v":66.400000000000006},null,{"$f":"Simulador!Q407","v":10995.529825432415},null,{"$f":"Simulador!S407","v":374037.3671093692}]
[null,{"$f":"Simulador!A408","v":"2057-07-02"},null,{"$f":"Simulador!C408","v":375},null,{"$f":"Simulador!E408","v":"Retorno"},null,{"$f":"Simulador!G408","v":6488.2032075137631},null,{"$f":"Simulador!I408","v":3633.3425385928131},null,{"$f":"Simulador!K408","v":0},null,{"$f":"Simulador!M408","v":793.57539978049613},null,{"$f":"Simulador!O408","v":66.400000000000006},null,{"$f":"Simulador!Q408","v":10981.521145887073},null,{"$f":"Simulador!S408","v":367549.16390185541}]
[null,{"$f":"Simulador!A409","v":"2057-08-02"},null,{"$f":"Simulador!C409","v":376},null,{"$f":"Simulador!E409","v":"Retorno"},null,{"$f":"Simulador!G409","v":6551.2286343449759},null,{"$f":"Simulador!I409","v":3570.3171117616002},null,{"$f":"Simulador!K409","v":0},null,{"$f":"Simulador!M409","v":779.43064203608185},null,{"$f":"Simulador!O409","v":66.400000000000006},null,{"$f":"Simulador!Q409","v":10967.376388142658},null,{"$f":"Simulador!S409","v":360997.93526751042}]
[null,{"$f":"Simulador!A410","v":"2057-09-02"},null,{"$f":"Simulador!C410","v":377},null,{"$f":"Simulador!E410","v":"Retorno"},null,{"$f":"Simulador!G410","v":6614.866280661352},null,{"$f":"Simulador!I410","v":3506.6794654452242},null,{"$f":"Simulador!K410","v":0},null,{"$f":"Simulador!M410","v":765.14848424950583},null,{"$f":"Simulador!O410","v":66.400000000000006},null,{"$f":"Simulador!Q410","v":10953.094230356082},null,{"$f":"Simulador!S410","v":354383.06898684904}]
[null,{"$f":"Simulador!A411","v":"2057-10-02"},null,{"$f":"Simulador!C411","v":378},null,{"$f":"Simulador!E411","v":"Retorno"},null,{"$f":"Simulador!G411","v":6679.1220934705725},null,{"$f":"Simulador!I411","v":3442.4236526360037},null,{"$f":"Simulador!K411","v":0},null,{"$f":"Simulador!M411","v":750.72759173749353},null,{"$f":"Simulador!O411","v":66.400000000000006},null,{"$f":"Simulador!Q411","v":10938.673337844069},null,{"$f":"Simulador!S411","v":347703.94689337845}]
[null,{"$f":"Simulador!A412","v":"2057-11-02"},null,{"$f":"Simulador!C412","v":379},null,{"$f":"Simulador!E412","v":"Retorno"},null,{"$f":"Simulador!G412","v":6744.0020775486282},null,{"$f":"Simulador!I412","v":3377.543668557948},null,{"$f":"Simulador!K412","v":0},null,{"$f":"Simulador!M412","v":736.16661685185818},null,{"$f":"Simulador!O412","v":66.400000000000006},null,{"$f":"Simulador!Q412","v":10924.112362958434},null,{"$f":"Simulador!S412","v":340959.9448158298}]
[null,{"$f":"Simulador!A413","v":"2057-12-02"},null,{"$f":"Simulador!C413","v":380},null,{"$f":"Simulador!E413","v":"Retorno"},null,{"$f":"Simulador!G413","v":6809.5122960011158},null,{"$f":"Simulador!I413","v":3312.0334501054604},null,{"$f":"Simulador!K413","v":0},null,{"$f":"Simulador!M413","v":721.46419885356215},null,{"$f":"Simulador!O413","v":66.400000000000006},null,{"$f":"Simulador!Q413","v":10909.409944960138},null,{"$f":"Simulador!S413","v":334150.43251982867}]
[null,{"$f":"Simulador!A414","v":"2058-01-02"},null,{"$f":"Simulador!C414","v":381},null,{"$f":"Simulador!E414","v":"Retorno"},null,{"$f":"Simulador!G414","v":6875.6588708295403},null,{"$f":"Simulador!I414","v":3245.8868752770359},null,{"$f":"Simulador!K414","v":0},null,{"$f":"Simulador!M414","v":706.618963785554},null,{"$f":"Simulador!O414","v":66.400000000000006},null,{"$f":"Simulador!Q414","v":10894.564709892129},null,{"$f":"Simulador!S414","v":327274.77364899911}]
[null,{"$f":"Simulador!A415","v":"2058-02-02"},null,{"$f":"Simulador!C415","v":382},null,{"$f":"Simulador!E415","v":"Retorno"},null,{"$f":"Simulador!G415","v":6942.4479835037873},null,{"$f":"Simulador!I415","v":3179.0977626027889},null,{"$f":"Simulador!K415","v":0},null,{"$f":"Simulador!M415","v":691.62952434437091},null,{"$f":"Simulador!O415","v":66.400000000000006},null,{"$f":"Simulador!Q415","v":10879.575270450947},null,{"$f":"Simulador!S415","v":320332.3256654953}]
[null,{"$f":"Simulador!A416","v":"2058-03-02"},null,{"$f":"Simulador!C416","v":383},null,{"$f":"Simulador!E416","v":"Retorno"},null,{"$f":"Simulador!G416","v":7009.8858755394267},null,{"$f":"Simulador!I416","v":3111.6598705671495},null,{"$f":"Simulador!K416","v":0},null,{"$f":"Simulador!M416","v":676.49447975049372},null,{"$f":"Simulador!O416","v":66.400000000000006},null,{"$f":"Simulador!Q416","v":10864.44022585707},null,{"$f":"Simulador!S416","v":313322.43978995585}]
[null,{"$f":"Simulador!A417","v":"2058-04-02"},null,{"$f":"Simulador!C417","v":384},null,{"$f":"Simulador!E417","v":"Retorno"},null,{"$f":"Simulador!G417","v":7077.978849081419},null,{"$f":"Simulador!I417","v":3043.5668970251572},null,{"$f":"Simulador!K417","v":0},null,{"$f":"Simulador!M417","v":661.21241561744205},null,{"$f":"Simulador!O417","v":66.400000000000006},null,{"$f":"Simulador!Q417","v":10849.158161724017},null,{"$f":"Simulador!S417","v":306244.46094087441}]
[null,{"$f":"Simulador!A418","v":"2058-05-02"},null,{"$f":"Simulador!C418","v":385},null,{"$f":"Simulador!E418","v":"Retorno"},null,{"$f":"Simulador!G418","v":7146.7332674924783},null,{"$f":"Simulador!I418","v":2974.8124786140979},null,{"$f":"Simulador!K418","v":0},null,{"$f":"Simulador!M418","v":645.78190381959894},null,{"$f":"Simulador!O418","v":66.400000000000006},null,{"$f":"Simulador!Q418","v":10833.727649926175},null,{"$f":"Simulador!S418","v":299097.72767338192}]
[null,{"$f":"Simulador!A419","v":"2058-06-02"},null,{"$f":"Simulador!C419","v":386},null,{"$f":"Simulador!E419","v":"Retorno"},null,{"$f":"Simulador!G419","v":7216.1555559484204},null,{"$f":"Simulador!I419","v":2905.3901901581557},null,{"$f":"Simulador!K419","v":0},null,{"$f":"Simulador!M419","v":630.20150235875064},null,{"$f":"Simulador!O419","v":66.400000000000006},null,{"$f":"Simulador!Q419","v":10818.147248465326},null,{"$f":"Simulador!S419","v":291881.57211743348}]
[null,{"$f":"Simulador!A420","v":"2058-07-02"},null,{"$f":"Simulador!C420","v":387},null,{"$f":"Simulador!E420","v":"Retorno"},null,{"$f":"Simulador!G420","v":7286.2522020379347},null,{"$f":"Simulador!I420","v":2835.2935440686415},null,{"$f":"Simulador!K420","v":0},null,{"$f":"Simulador!M420","v":614.46975522933053},null,{"$f":"Simulador!O420","v":66.400000000000006},null,{"$f":"Simulador!Q420","v":10802.415501335907},null,{"$f":"Simulador!S420","v":284595.31991539552}]
[null,{"$f":"Simulador!A421","v":"2058-08-02"},null,{"$f":"Simulador!C421","v":388},null,{"$f":"Simulador!E421","v":"Retorno"},null,{"$f":"Simulador!G421","v":7357.0297563693985},null,{"$f":"Simulador!I421","v":2764.5159897371777},null,{"$f":"Simulador!K421","v":0},null,{"$f":"Simulador!M421","v":598.58519228235332},null,{"$f":"Simulador!O421","v":66.400000000000006},null,{"$f":"Simulador!Q421","v":10786.530938388929},null,{"$f":"Simulador!S421","v":277238.2901590261}]
[null,{"$f":"Simulador!A422","v":"2058-09-02"},null,{"$f":"Simulador!C422","v":389},null,{"$f":"Simulador!E422","v":"Retorno"},null,{"$f":"Simulador!G422","v":7428.4948331826981},null,{"$f":"Simulador!I422","v":2693.0509129238781},null,{"$f":"Simulador!K422","v":0},null,{"$f":"Simulador!M422","v":788.41120292164692},null,{"$f":"Simulador!O422","v":66.400000000000006},null,{"$f":"Simulador!Q422","v":10976.356949028223},null,{"$f":"Simulador!S422","v":269809.79532584338}]
[null,{"$f":"Simulador!A423","v":"2058-10-02"},null,{"$f":"Simulador!C423","v":390},null,{"$f":"Simulador!E423","v":"Retorno"},null,{"$f":"Simulador!G423","v":7500.6541109674527},null,{"$f":"Simulador!I423","v":2620.8916351391235},null,{"$f":"Simulador!K423","v":0},null,{"$f":"Simulador!M423","v":766.49354154398884},null,{"$f":"Simulador!O423","v":66.400000000000006},null,{"$f":"Simulador!Q423","v":10954.439287650564},null,{"$f":"Simulador!S423","v":262309.14121487591}]
[null,{"$f":"Simulador!A424","v":"2058-11-02"},null,{"$f":"Simulador!C424","v":391},null,{"$f":"Simulador!E424","v":"Retorno"},null,{"$f":"Simulador!G424","v":7573.514333087116},null,{"$f":"Simulador!I424","v":2548.0314130194602},null,{"$f":"Simulador!K424","v":0},null,{"$f":"Simulador!M424","v":744.36297531127502},null,{"$f":"Simulador!O424","v":66.400000000000006},null,{"$f":"Simulador!Q424","v":10932.30872141785},null,{"$f":"Simulador!S424","v":254735.6268817888}]
[null,{"$f":"Simulador!A425","v":"2058-12-02"},null,{"$f":"Simulador!C425","v":392},null,{"$f":"Simulador!E425","v":"Retorno"},null,{"$f":"Simulador!G425","v":7647.0823084092499},null,{"$f":"Simulador!I425","v":2474.4634376973263},null,{"$f":"Simulador!K425","v":0},null,{"$f":"Simulador!M425","v":722.01743609787241},null,{"$f":"Simulador!O425","v":66.400000000000006},null,{"$f":"Simulador!Q425","v":10909.963182204448},null,{"$f":"Simulador!S425","v":247088.54457337956}]
[null,{"$f":"Simulador!A426","v":"2059-01-02"},null,{"$f":"Simulador!C426","v":393},null,{"$f":"Simulador!E426","v":"Retorno"},null,{"$f":"Simulador!G426","v":7721.3649119415877},null,{"$f":"Simulador!I426","v":2400.1808341649885},null,{"$f":"Simulador!K426","v":0},null,{"$f":"Simulador!M426","v":699.45483568868792},null,{"$f":"Simulador!O426","v":66.400000000000006},null,{"$f":"Simulador!Q426","v":10887.400581795264},null,{"$f":"Simulador!S426","v":239367.17966143799}]
[null,{"$f":"Simulador!A427","v":"2059-02-02"},null,{"$f":"Simulador!C427","v":394},null,{"$f":"Simulador!E427","v":"Retorno"},null,{"$f":"Simulador!G427","v":7796.3690854747347},null,{"$f":"Simulador!I427","v":2325.1766606318415},null,{"$f":"Simulador!K427","v":0},null,{"$f":"Simulador!M427","v":676.6730655840222},null,{"$f":"Simulador!O427","v":66.400000000000006},null,{"$f":"Simulador!Q427","v":10864.618811690598},null,{"$f":"Simulador!S427","v":231570.81057596326}]
[null,{"$f":"Simulador!A428","v":"2059-03-02"},null,{"$f":"Simulador!C428","v":395},null,{"$f":"Simulador!E428","v":"Retorno"},null,{"$f":"Simulador!G428","v":7872.1018382308048},null,{"$f":"Simulador!I428","v":2249.4439078757714},null,{"$f":"Simulador!K428","v":0},null,{"$f":"Simulador!M428","v":653.66999680252798},null,{"$f":"Simulador!O428","v":66.400000000000006},null,{"$f":"Simulador!Q428","v":10841.615742909104},null,{"$f":"Simulador!S428","v":223698.70873773246}]
[null,{"$f":"Simulador!A429","v":"2059-04-02"},null,{"$f":"Simulador!C429","v":396},null,{"$f":"Simulador!E429","v":"Retorno"},null,{"$f":"Simulador!G429","v":7948.5702475184025},null,{"$f":"Simulador!I429","v":2172.9754985881737},null,{"$f":"Simulador!K429","v":0},null,{"$f":"Simulador!M429","v":630.44347968225452},null,{"$f":"Simulador!O429","v":66.400000000000006},null,{"$f":"Simulador!Q429","v":10818.389225788831},null,{"$f":"Simulador!S429","v":215750.13849021407}]
[null,{"$f":"Simulador!A430","v":"2059-05-02"},null,{"$f":"Simulador!C430","v":397},null,{"$f":"Simulador!E430","v":"Retorno"},null,{"$f":"Simulador!G430","v":8025.7814593940948},null,{"$f":"Simulador!I430","v":2095.7642867124814},null,{"$f":"Simulador!K430","v":0},null,{"$f":"Simulador!M430","v":606.9913436797591},null,{"$f":"Simulador!O430","v":66.400000000000006},null,{"$f":"Simulador!Q430","v":10794.937089786335},null,{"$f":"Simulador!S430","v":207724.35703081999}]
[null,{"$f":"Simulador!A431","v":"2059-06-02"},null,{"$f":"Simulador!C431","v":398},null,{"$f":"Simulador!E431","v":"Retorno"},null,{"$f":"Simulador!G431","v":8103.7426893300817},null,{"$f":"Simulador!I431","v":2017.8030567764945},null,{"$f":"Simulador!K431","v":0},null,{"$f":"Simulador!M431","v":583.31139716726761},null,{"$f":"Simulador!O431","v":66.400000000000006},null,{"$f":"Simulador!Q431","v":10771.257143273844},null,{"$f":"Simulador!S431","v":199620.61434148991}]
[null,{"$f":"Simulador!A432","v":"2059-07-02"},null,{"$f":"Simulador!C432","v":399},null,{"$f":"Simulador!E432","v":"Retorno"},null,{"$f":"Simulador!G432","v":8182.4612228886199},null,{"$f":"Simulador!I432","v":1939.0845232179563},null,{"$f":"Simulador!K432","v":0},null,{"$f":"Simulador!M432","v":559.40142722786481},null,{"$f":"Simulador!O432","v":66.400000000000006},null,{"$f":"Simulador!Q432","v":10747.347173334441},null,{"$f":"Simulador!S432","v":191438.1531186013}]
[null,{"$f":"Simulador!A433","v":"2059-08-02"},null,{"$f":"Simulador!C433","v":400},null,{"$f":"Simulador!E433","v":"Retorno"},null,{"$f":"Simulador!G433","v":8261.9444164028773},null,{"$f":"Simulador!I433","v":1859.6013297036989},null,{"$f":"Simulador!K433","v":0},null,{"$f":"Simulador!M433","v":535.25919944869406},null,{"$f":"Simulador!O433","v":66.400000000000006},null,{"$f":"Simulador!Q433","v":10723.20494555527},null,{"$f":"Simulador!S433","v":183176.20870219843}]
[null,{"$f":"Simulador!A434","v":"2059-09-02"},null,{"$f":"Simulador!C434","v":401},null,{"$f":"Simulador!E434","v":"Retorno"},null,{"$f":"Simulador!G434","v":8342.1996976641894},null,{"$f":"Simulador!I434","v":1779.3460484423849},null,{"$f":"Simulador!K434","v":0},null,{"$f":"Simulador!M434","v":510.88245771214952},null,{"$f":"Simulador!O434","v":66.400000000000006},null,{"$f":"Simulador!Q434","v":10698.828203818724},null,{"$f":"Simulador!S434","v":174834.00900453425}]
[null,{"$f":"Simulador!A435","v":"2059-10-02"},null,{"$f":"Simulador!C435","v":402},null,{"$f":"Simulador!E435","v":"Retorno"},null,{"$f":"Simulador!G435","v":8423.2345666164565},null,{"$f":"Simulador!I435","v":1698.3111794901197},null,{"$f":"Simulador!K435","v":0},null,{"$f":"Simulador!M435","v":486.26892398503963},null,{"$f":"Simulador!O435","v":66.400000000000006},null,{"$f":"Simulador!Q435","v":10674.214670091615},null,{"$f":"Simulador!S435","v":166410.7744379178}]
[null,{"$f":"Simulador!A436","v":"2059-11-02"},null,{"$f":"Simulador!C436","v":403},null,{"$f":"Simulador!E436","v":"Retorno"},null,{"$f":"Simulador!G436","v":8505.0565960568583},null,{"$f":"Simulador!I436","v":1616.4891500497179},null,{"$f":"Simulador!K436","v":0},null,{"$f":"Simulador!M436","v":461.41629810570191},null,{"$f":"Simulador!O436","v":66.400000000000006},null,{"$f":"Simulador!Q436","v":10649.362044212277},null,{"$f":"Simulador!S436","v":157905.71784186095}]
[null,{"$f":"Simulador!A437","v":"2059-12-02"},null,{"$f":"Simulador!C437","v":404},null,{"$f":"Simulador!E437","v":"Retorno"},null,{"$f":"Simulador!G437","v":8587.6734323435903},null,{"$f":"Simulador!I437","v":1533.8723137629859},null,{"$f":"Simulador!K437","v":0},null,{"$f":"Simulador!M437","v":436.32225756905069},null,{"$f":"Simulador!O437","v":66.400000000000006},null,{"$f":"Simulador!Q437","v":10624.268003675626},null,{"$f":"Simulador!S437","v":149318.04440951737}]
[null,{"$f":"Simulador!A438","v":"2060-01-02"},null,{"$f":"Simulador!C438","v":405},null,{"$f":"Simulador!E438","v":"Retorno"},null,{"$f":"Simulador!G438","v":8671.0927961103826},null,{"$f":"Simulador!I438","v":1450.4529499961936},null,{"$f":"Simulador!K438","v":0},null,{"$f":"Simulador!M438","v":410.98445730953659},null,{"$f":"Simulador!O438","v":66.400000000000006},null,{"$f":"Simulador!Q438","v":10598.930203416112},null,{"$f":"Simulador!S438","v":140646.951613407}]
[null,{"$f":"Simulador!A439","v":"2060-02-02"},null,{"$f":"Simulador!C439","v":406},null,{"$f":"Simulador!E439","v":"Retorno"},null,{"$f":"Simulador!G439","v":8755.322482988131},null,{"$f":"Simulador!I439","v":1366.2232631184452},null,{"$f":"Simulador!K439","v":0},null,{"$f":"Simulador!M439","v":385.40052948199701},null,{"$f":"Simulador!O439","v":66.400000000000006},null,{"$f":"Simulador!Q439","v":10573.346275588572},null,{"$f":"Simulador!S439","v":131891.62913041888}]
[null,{"$f":"Simulador!A440","v":"2060-03-02"},null,{"$f":"Simulador!C440","v":407},null,{"$f":"Simulador!E440","v":"Retorno"},null,{"$f":"Simulador!G440","v":8840.3703643331919},null,{"$f":"Simulador!I440","v":1281.1753817733843},null,{"$f":"Simulador!K440","v":0},null,{"$f":"Simulador!M440","v":359.56808324037894},null,{"$f":"Simulador!O440","v":66.400000000000006},null,{"$f":"Simulador!Q440","v":10547.513829346955},null,{"$f":"Simulador!S440","v":123051.25876608568}]
[null,{"$f":"Simulador!A441","v":"2060-04-02"},null,{"$f":"Simulador!C441","v":408},null,{"$f":"Simulador!E441","v":"Retorno"},null,{"$f":"Simulador!G441","v":8926.2443879631701},null,{"$f":"Simulador!I441","v":1195.3013581434061},null,{"$f":"Simulador!K441","v":0},null,{"$f":"Simulador!M441","v":333.48470451431177},null,{"$f":"Simulador!O441","v":66.400000000000006},null,{"$f":"Simulador!Q441","v":10521.430450620888},null,{"$f":"Simulador!S441","v":114125.01437812251}]
[null,{"$f":"Simulador!A442","v":"2060-05-02"},null,{"$f":"Simulador!C442","v":409},null,{"$f":"Simulador!E442","v":"Retorno"},null,{"$f":"Simulador!G442","v":9012.9525788995616},null,{"$f":"Simulador!I442","v":1108.5931672070146},null,{"$f":"Simulador!K442","v":0},null,{"$f":"Simulador!M442","v":307.14795578350936},null,{"$f":"Simulador!O442","v":66.400000000000006},null,{"$f":"Simulador!Q442","v":10495.093701890086},null,{"$f":"Simulador!S442","v":105112.06179922294}]
[null,{"$f":"Simulador!A443","v":"2060-06-02"},null,{"$f":"Simulador!C443","v":410},null,{"$f":"Simulador!E443","v":"Retorno"},null,{"$f":"Simulador!G443","v":9100.5030401176718},null,{"$f":"Simulador!I443","v":1021.0427059889043},null,{"$f":"Simulador!K443","v":0},null,{"$f":"Simulador!M443","v":280.55537584998149},null,{"$f":"Simulador!O443","v":66.400000000000006},null,{"$f":"Simulador!Q443","v":10468.501121956557},null,{"$f":"Simulador!S443","v":96011.558759105261}]
[null,{"$f":"Simulador!A444","v":"2060-07-02"},null,{"$f":"Simulador!C444","v":411},null,{"$f":"Simulador!E444","v":"Retorno"},null,{"$f":"Simulador!G444","v":9188.9039533039413},null,{"$f":"Simulador!I444","v":932.64179280263488},null,{"$f":"Simulador!K444","v":0},null,{"$f":"Simulador!M444","v":253.70447960803202},null,{"$f":"Simulador!O444","v":66.400000000000006},null,{"$f":"Simulador!Q444","v":10441.650225714608},null,{"$f":"Simulador!S444","v":86822.654805801314}]
[null,{"$f":"Simulador!A445","v":"2060-08-02"},null,{"$f":"Simulador!C445","v":412},null,{"$f":"Simulador!E445","v":"Retorno"},null,{"$f":"Simulador!G445","v":9278.1635796204155},null,{"$f":"Simulador!I445","v":843.38216648616071},null,{"$f":"Simulador!K445","v":0},null,{"$f":"Simulador!M445","v":226.59275781202319},null,{"$f":"Simulador!O445","v":66.400000000000006},null,{"$f":"Simulador!Q445","v":10414.538503918599},null,{"$f":"Simulador!S445","v":77544.491226180893}]
[null,{"$f":"Simulador!A446","v":"2060-09-02"},null,{"$f":"Simulador!C446","v":413},null,{"$f":"Simulador!E446","v":"Retorno"},null,{"$f":"Simulador!G446","v":9368.2902604768842},null,{"$f":"Simulador!I446","v":753.25548562969198},null,{"$f":"Simulador!K446","v":0},null,{"$f":"Simulador!M446","v":199.21767684188367},null,{"$f":"Simulador!O446","v":66.400000000000006},null,{"$f":"Simulador!Q446","v":10387.163422948459},null,{"$f":"Simulador!S446","v":68176.200965704003}]
[null,{"$f":"Simulador!A447","v":"2060-10-02"},null,{"$f":"Simulador!C447","v":414},null,{"$f":"Simulador!E447","v":"Retorno"},null,{"$f":"Simulador!G447","v":9459.2924183102823},null,{"$f":"Simulador!I447","v":662.25332779629389},null,{"$f":"Simulador!K447","v":0},null,{"$f":"Simulador!M447","v":171.57667846633919},null,{"$f":"Simulador!O447","v":66.400000000000006},null,{"$f":"Simulador!Q447","v":10359.522424572915},null,{"$f":"Simulador!S447","v":58716.908547393723}]
[null,{"$f":"Simulador!A448","v":"2060-11-02"},null,{"$f":"Simulador!C448","v":415},null,{"$f":"Simulador!E448","v":"Retorno"},null,{"$f":"Simulador!G448","v":9551.1785573718535},null,{"$f":"Simulador!I448","v":570.36718873472273},null,{"$f":"Simulador!K448","v":0},null,{"$f":"Simulador!M448","v":143.6671796038429},null,{"$f":"Simulador!O448","v":66.400000000000006},null,{"$f":"Simulador!Q448","v":10331.612925710418},null,{"$f":"Simulador!S448","v":49165.729990021871}]
[null,{"$f":"Simulador!A449","v":"2060-12-02"},null,{"$f":"Simulador!C449","v":416},null,{"$f":"Simulador!E449","v":"Retorno"},null,{"$f":"Simulador!G449","v":9643.957264521845},null,{"$f":"Simulador!I449","v":477.5884815847312},null,{"$f":"Simulador!K449","v":0},null,{"$f":"Simulador!M449","v":115.48657208118362},null,{"$f":"Simulador!O449","v":66.400000000000006},null,{"$f":"Simulador!Q449","v":10303.432318187759},null,{"$f":"Simulador!S449","v":39521.772725500028}]
[null,{"$f":"Simulador!A450","v":"2061-01-02"},null,{"$f":"Simulador!C450","v":417},null,{"$f":"Simulador!E450","v":"Retorno"},null,{"$f":"Simulador!G450","v":9737.6372100319732},null,{"$f":"Simulador!I450","v":383.90853607460303},null,{"$f":"Simulador!K450","v":0},null,{"$f":"Simulador!M450","v":87.032222389749208},null,{"$f":"Simulador!O450","v":66.400000000000006},null,{"$f":"Simulador!Q450","v":10274.977968496325},null,{"$f":"Simulador!S450","v":29784.135515468057}]
[null,{"$f":"Simulador!A451","v":"2061-02-02"},null,{"$f":"Simulador!C451","v":418},null,{"$f":"Simulador!E451","v":"Retorno"},null,{"$f":"Simulador!G451","v":9832.2271483956665},null,{"$f":"Simulador!I451","v":289.31859771090967},null,{"$f":"Simulador!K451","v":0},null,{"$f":"Simulador!M451","v":58.301471439422237},null,{"$f":"Simulador!O451","v":66.400000000000006},null,{"$f":"Simulador!Q451","v":10246.247217545999},null,{"$f":"Simulador!S451","v":19951.908367072392}]
[null,{"$f":"Simulador!A452","v":"2061-03-02"},null,{"$f":"Simulador!C452","v":419},null,{"$f":"Simulador!E452","v":"Retorno"},null,{"$f":"Simulador!G452","v":9927.7359191461783},null,{"$f":"Simulador!I452","v":193.80982696039791},null,{"$f":"Simulador!K452","v":0},null,{"$f":"Simulador!M452","v":29.29163431008519},null,{"$f":"Simulador!O452","v":66.400000000000006},null,{"$f":"Simulador!Q452","v":10217.237380416662},null,{"$f":"Simulador!S452","v":10024.172447926214}]
[null,{"$f":"Simulador!A453","v":"2061-04-02"},null,{"$f":"Simulador!C453","v":420},null,{"$f":"Simulador!E453","v":"Retorno"},null,{"$f":"Simulador!G453","v":10024.172447682649},null,{"$f":"Simulador!I453","v":97.373298423926826},null,{"$f":"Simulador!K453","v":0},null,{"$f":"Simulador!M453","v":7.1171982581290652E-10},null,{"$f":"Simulador!O453","v":0},null,{"$f":"Simulador!Q453","v":10121.545746107287},null,{"$f":"Simulador!S453","v":2.4356450012419373E-7}]

{"sheet":"Base de Dados","index":3,"n_rows":485,"n_cols":27,"rows_kept":485,"cut":false,"hidden":true,"merged":[]}
["Seguro MIP",{"$f":"Simulador!G14","v":"1989-09-14"},"Seguro DFI","Encargo","Dt Encargo","Idade na data do encargo","Alíquota que deve ser utilizada","Data do Encargo","Nascimento","Prazo Proposta",null,"Data cálculo CET","Parcela","ID CARTEIRA","CRV","LTV","Poup+Permitido","Tarifa de Avaliação","Prazo Mínimo ","Prazo máximo","Prazo de Construção","Prazo de carência","Taxa","IOF",null,"Permite despesas","MENSAGENS"]
[18,1.149E-4,5.0000000000000002E-5,{"$f":"Simulador!C33","v":0},{"$f":"H2","v":"2026-04-02"},{"$f":"ROUNDDOWN(_xlfn.DAYS(E2,$B$1)/365,0)","v":"1900-02-05"},{"$f":"VLOOKUP(F2&'Simulador Bradesco'!$I$13,$A$2:$B$600,2,FALSE)","v":1.7760000000000001E-4},{"$f":"TODAY()","v":"2026-04-02"},{"$f":"Simulador!G14","v":"1989-09-14"},{"$f":"Simulador!G17","v":420},null,{"$f":"IF(Simulador!A32=\"\",Simulador!$C$8,Simulador!A32)","v":"2026-04-02"},{"$f":"Simulador!O10","v":1024000},"   ",{"$f":"Parâmetros!$H$7","v":0.15},{"$f":"Parâmetros!$F$7","v":0.7},{"$f":"IF(AND(Simulador!E6=Parâmetros!D23,Simulador!C14<>Parâmetros!B2),\"Poup+ só residencial\",\"\")","v":""},{"$f":"Parâmetros!$L$7","v":3400},{"$f":"Parâmetros!$I$7","v":121},{"$f":"Parâmetros!$J$7","v":240},null,null,{"$f":"Parâmetros!$D$7","v":0.1399},"SIM",{"$f":"Parâmetros!$H$4","v":3.3799999999999997E-2},"SIM","SIMULAÇÃO NOK"]
[19,1.149E-4,null,{"$f":"Simulador!C34","v":1},{"$f":"H3","v":"2026-05-02"},{"$f":"ROUNDDOWN(_xlfn.DAYS(E3,$B$1)/365,0)","v":"1900-02-05"},{"$f":"VLOOKUP(F3&'Simulador Bradesco'!$I$13,$A$2:$B$600,2,FALSE)","v":1.7760000000000001E-4},{"$f":"Simulador!A34","v":"2026-05-02"},null,null,null,{"$f":"IF(Simulador!A33=\"\",Simulador!$C$8,Simulador!A33)","v":"2026-04-02"},{"$f":"IF(Simulador!Q33=\"\",0,Simulador!Q33*-1)","v":-2362.2924000000003},{"$f":"CONCATENATE(Parâmetros!$D$22,Parâmetros!$C$8,Parâmetros!$D$3)","v":"Repasse/AquisiçãoRESIDENCIALPRICE"},{"$f":"Parâmetros!$H$8","v":0.25},{"$f":"Parâmetros!$F$8","v":0.8},null,{"$f":"Parâmetros!$L$8","v":1021.25},{"$f":"Parâmetros!$I$8","v":121},{"$f":"Parâmetros!$J$8","v":420},null,null,{"$f":"Parâmetros!$D$8","v":0.123},"NÃO",0,"SIM","LTV NÃO PERMITIDO"]
[20,1.149E-4,null,{"$f":"Simulador!C35","v":2},"2026-06-02",{"$f":"ROUNDDOWN(_xlfn.DAYS(E4,$B$1)/365,0)","v":"1900-02-05"},{"$f":"VLOOKUP(F4&'Simulador Bradesco'!$I$13,$A$2:$B$600,2,FALSE)","v":1.7760000000000001E-4},{"$f":"Simulador!A35","v":"2026-06-02"},null,null,null,{"$f":"IF(Simulador!A34=\"\",Simulador!$C$8,Simulador!A34)","v":"2026-05-02"},{"$f":"IF(Simulador!Q34=\"\",0,Simulador!Q34*-1)","v":-10369.777143491041},{"$f":"CONCATENATE(Parâmetros!$D$22,Parâmetros!$C$9,Parâmetros!D$3)","v":"Repasse/AquisiçãoRESIDENCIAL > 225PRICE"},{"$f":"Parâmetros!$H$9","v":0.25},{"$f":"Parâmetros!$F$9","v":0.8},null,{"$f":"Parâmetros!$L$9","v":2114.0300000000002},{"$f":"Parâmetros!$I$9","v":121},{"$f":"Parâmetros!$J$9","v":420},null,null,{"$f":"Parâmetros!$D$9","v":0.123},"NÃO",0,"SIM"]
[21,1.13E-4,null,{"$f":"Simulador!C36","v":3},"2026-07-02","1900-02-05",{"$f":"VLOOKUP(F5&'Simulador Bradesco'!$I$13,$A$2:$B$600,2,FALSE)","v":1.7760000000000001E-4},{"$f":"Simulador!A36","v":"2026-07-02"},null,null,null,{"$f":"IF(Simulador!A35=\"\",Simulador!$C$8,Simulador!A35)","v":"2026-06-02"},{"$f":"IF(Simulador!Q35=\"\",0,Simulador!Q35*-1)","v":-10369.745839720779},{"$f":"CONCATENATE(Parâmetros!D22,Parâmetros!C11,Parâmetros!$D$3)","v":"Repasse/AquisiçãoCOMERCIALPRICE"},{"$f":"Parâmetros!H11","v":0.25},{"$f":"Parâmetros!F11","v":0.8},null,{"$f":"Parâmetros!L11","v":3400},{"$f":"Parâmetros!I11","v":121},{"$f":"Parâmetros!J11","v":360},null,null,{"$f":"Parâmetros!D11","v":0.1399},"SIM",{"$f":"Parâmetros!H4","v":3.3799999999999997E-2},"SIM"]
[22,1.13E-4,null,{"$f":"Simulador!C37","v":4},"2026-08-02","1900-02-05",{"$f":"VLOOKUP(F6&'Simulador Bradesco'!$I$13,$A$2:$B$600,2,FALSE)","v":1.7760000000000001E-4},{"$f":"Simulador!A37","v":"2026-08-02"},null,null,null,{"$f":"IF(Simulador!A36=\"\",Simulador!$C$8,Simulador!A36)","v":"2026-07-02"},{"$f":"IF(Simulador!Q36=\"\",0,Simulador!Q36*-1)","v":-10369.714231870415},{"$f":"CONCATENATE(Parâmetros!D22,Parâmetros!C7,Parâmetros!$D$2)","v":"Repasse/AquisiçãoLOTESAC"},{"$f":"Parâmetros!G7","v":0.2},{"$f":"Parâmetros!E7","v":0.7},null,{"$f":"Parâmetros!L7","v":3400},{"$f":"Parâmetros!I7","v":121},{"$f":"Parâmetros!J7","v":240},null,null,{"$f":"Parâmetros!D7","v":0.1399},"SIM ",{"$f":"Parâmetros!H4","v":3.3799999999999997E-2},"SIM"]
[23,1.13E-4,null,{"$f":"Simulador!C38","v":5},"2026-09-02","1900-02-05",{"$f":"VLOOKUP(F7&'Simulador Bradesco'!$I$13,$A$2:$B$600,2,FALSE)","v":1.7760000000000001E-4},{"$f":"Simulador!A38","v":"2026-09-02"},null,null,null,{"$f":"IF(Simulador!A37=\"\",Simulador!$C$8,Simulador!A37)","v":"2026-08-02"},{"$f":"IF(Simulador!Q37=\"\",0,Simulador!Q37*-1)","v":-10369.682316986164},{"$f":"CONCATENATE(Parâmetros!$D$22,Parâmetros!$C$8,Parâmetros!$D$2)","v":"Repasse/AquisiçãoRESIDENCIALSAC"},{"$f":"Parâmetros!$G$8","v":0.35},{"$f":"Parâmetros!$E$8","v":0.8},null,{"$f":"Parâmetros!$L$8","v":1021.25},{"$f":"Parâmetros!$I$8","v":121},{"$f":"Parâmetros!$J$8","v":420},null,null,{"$f":"Parâmetros!$D$8","v":0.123},"NÃO",0,"SIM"]
[24,1.193E-4,null,{"$f":"Simulador!C39","v":6},"2026-10-02","1900-02-06",{"$f":"VLOOKUP(F8&'Simulador Bradesco'!$I$13,$A$2:$B$600,2,FALSE)","v":1.7760000000000001E-4},{"$f":"Simulador!A39","v":"2026-10-02"},null,null,null,{"$f":"IF(Simulador!A38=\"\",Simulador!$C$8,Simulador!A38)","v":"2026-09-02"},{"$f":"IF(Simulador!Q38=\"\",0,Simulador!Q38*-1)","v":-10369.650092085543},{"$f":"CONCATENATE(Parâmetros!$D$22,Parâmetros!$C$9,Parâmetros!$D$2)","v":"Repasse/AquisiçãoRESIDENCIAL > 225SAC"},{"$f":"Parâmetros!$G$9","v":0.35},{"$f":"Parâmetros!$E$9","v":0.8},null,{"$f":"Parâmetros!$L$9","v":2114.0300000000002},{"$f":"Parâmetros!$I$9","v":121},{"$f":"Parâmetros!$J$9","v":420},null,null,{"$f":"Parâmetros!$D$9","v":0.123},"NÃO",0,"SIM"]
[25,1.193E-4,null,{"$f":"Simulador!C40","v":7},"2026-11-02","1900-02-06",{"$f":"VLOOKUP(F9&'Simulador Bradesco'!$I$13,$A$2:$B$600,2,FALSE)","v":1.7760000000000001E-4},{"$f":"Simulador!A40","v":"2026-11-02"},null,null,null,{"$f":"IF(Simulador!A39=\"\",Simulador!$C$8,Simulador!A39)","v":"2026-10-02"},{"$f":"IF(Simulador!Q39=\"\",0,Simulador!Q39*-1)","v":-10369.617554157101},{"$f":"CONCATENATE(Parâmetros!D22,Parâmetros!C11,Parâmetros!$D$2)","v":"Repasse/AquisiçãoCOMERCIALSAC"},{"$f":"Parâmetros!G11","v":0.35},{"$f":"Parâmetros!E11","v":0.8},null,{"$f":"Parâmetros!L11","v":3400},{"$f":"Parâmetros!I11","v":121},{"$f":"Parâmetros!J11","v":360},null,null,{"$f":"Parâmetros!D11","v":0.1399},"SIM",{"$f":"Parâmetros!H4","v":3.3799999999999997E-2},"SIM"]
[26,1.193E-4,null,{"$f":"Simulador!C41","v":8},"2026-12-02","1900-02-06",{"$f":"VLOOKUP(F10&'Simulador Bradesco'!$I$13,$A$2:$B$600,2,FALSE)","v":1.7760000000000001E-4},{"$f":"Simulador!A41","v":"2026-12-02"},null,null,null,{"$f":"IF(Simulador!A40=\"\",Simulador!$C$8,Simulador!A40)","v":"2026-11-02"},{"$f":"IF(Simulador!Q40=\"\",0,Simulador!Q40*-1)","v":-10369.584700160131},{"$f":"CONCATENATE(Parâmetros!D22,Parâmetros!C14,Parâmetros!$D$3)","v":"Repasse/AquisiçãoCHH Lote PJPRICE"},"N/A",{"$f":"Parâmetros!F14","v":0.7},null,{"$f":"Parâmetros!L14","v":3400},{"$f":"Parâmetros!I14","v":121},{"$f":"Parâmetros!J14","v":240},null,null,{"$f":"Parâmetros!D14","v":0.1399},"SIM",{"$f":"Parâmetros!I4","v":3.3799999999999997E-2},"NÃO"]
[27,1.304E-4,null,{"$f":"Simulador!C42","v":9},"2027-01-02","1900-02-06",{"$f":"VLOOKUP(F11&'Simulador Bradesco'!$I$13,$A$2:$B$600,2,FALSE)","v":1.7760000000000001E-4},{"$f":"Simulador!A42","v":"2027-01-02"},null,null,null,{"$f":"IF(Simulador!A41=\"\",Simulador!$C$8,Simulador!A41)","v":"2026-12-02"},{"$f":"IF(Simulador!Q41=\"\",0,Simulador!Q41*-1)","v":-10369.551527024394},{"$f":"CONCATENATE(Parâmetros!D22,Parâmetros!C15,Parâmetros!$D$3)","v":"Repasse/AquisiçãoCHH PJPRICE"},"N/A",{"$f":"Parâmetros!F15","v":0.7},null,{"$f":"Parâmetros!L15","v":2114.0300000000002},{"$f":"Parâmetros!I15","v":121},{"$f":"Parâmetros!J15","v":240},null,null,{"$f":"Parâmetros!D15","v":0.1399},"SIM",0,"NÃO"]
[28,1.304E-4,null,{"$f":"Simulador!C43","v":10},"2027-02-02","1900-02-06",{"$f":"VLOOKUP(F12&'Simulador Bradesco'!$I$13,$A$2:$B$600,2,FALSE)","v":1.7760000000000001E-4},{"$f":"Simulador!A43","v":"2027-02-02"},null,null,null,{"$f":"IF(Simulador!A42=\"\",Simulador!$C$8,Simulador!A42)","v":"2027-01-02"},{"$f":"IF(Simulador!Q42=\"\",0,Simulador!Q42*-1)","v":-10369.518031649821},{"$f":"CONCATENATE(Parâmetros!D22,Parâmetros!C16,Parâmetros!$D$3)","v":"Repasse/AquisiçãoCHC PJPRICE"},"N/A",{"$f":"Parâmetros!F16","v":0.6},null,{"$f":"Parâmetros!L16","v":3400},{"$f":"Parâmetros!I16","v":121},{"$f":"Parâmetros!J16","v":240},null,null,{"$f":"Parâmetros!D16","v":0.1399},"SIM",{"$f":"Parâmetros!I4","v":3.3799999999999997E-2},"NÃO"]
[29,1.304E-4,null,{"$f":"Simulador!C44","v":11},"2027-03-02","1900-02-06",{"$f":"VLOOKUP(F13&'Simulador Bradesco'!$I$13,$A$2:$B$600,2,FALSE)","v":1.7760000000000001E-4},{"$f":"Simulador!A44","v":"2027-03-02"},null,null,null,{"$f":"IF(Simulador!A43=\"\",Simulador!$C$8,Simulador!A43)","v":"2027-02-02"},{"$f":"IF(Simulador!Q43=\"\",0,Simulador!Q43*-1)","v":-10369.484210906236},{"$f":"CONCATENATE(Parâmetros!D22,Parâmetros!C14,Parâmetros!$D$2)","v":"Repasse/AquisiçãoCHH Lote PJSAC"},"N/A",{"$f":"Parâmetros!E14","v":0.7},null,{"$f":"Parâmetros!L14","v":3400},{"$f":"Parâmetros!I14","v":121},{"$f":"Parâmetros!J14","v":240},null,null,{"$f":"Parâmetros!D14","v":0.1399},"SIM",{"$f":"Parâmetros!I4","v":3.3799999999999997E-2},"NÃO"]
[30,1.438E-4,null,{"$f":"Simulador!C45","v":12},"2027-04-02","1900-02-06",{"$f":"VLOOKUP(F14&'Simulador Bradesco'!$I$13,$A$2:$B$600,2,FALSE)","v":1.7760000000000001E-4},{"$f":"Simulador!A45","v":"2027-04-02"},null,null,null,{"$f":"IF(Simulador!A44=\"\",Simulador!$C$8,Simulador!A44)","v":"2027-03-02"},{"$f":"IF(Simulador!Q44=\"\",0,Simulador!Q44*-1)","v":-10369.45006163305},{"$f":"CONCATENATE(Parâmetros!D22,Parâmetros!C15,Parâmetros!$D$2)","v":"Repasse/AquisiçãoCHH PJSAC"},"N/A",{"$f":"Parâmetros!E15","v":0.7},null,{"$f":"Parâmetros!L15","v":2114.0300000000002},{"$f":"Parâmetros!I15","v":121},{"$f":"Parâmetros!J15","v":240},null,null,{"$f":"Parâmetros!D15","v":0.1399},"SIM",0,"NÃO"]
[31,1.438E-4,null,{"$f":"Simulador!C46","v":13},"2027-05-02","1900-02-06",{"$f":"VLOOKUP(F15&'Simulador Bradesco'!$I$13,$A$2:$B$600,2,FALSE)","v":1.7760000000000001E-4},{"$f":"Simulador!A46","v":"2027-05-02"},null,null,null,{"$f":"IF(Simulador!A45=\"\",Simulador!$C$8,Simulador!A45)","v":"2027-04-02"},{"$f":"IF(Simulador!Q45=\"\",0,Simulador!Q45*-1)","v":-10369.415580638977},{"$f":"CONCATENATE(Parâmetros!D22,Parâmetros!C16,Parâmetros!$D$2)","v":"Repasse/AquisiçãoCHC PJSAC"},"N/A",{"$f":"Parâmetros!E16","v":0.6},null,{"$f":"Parâmetros!L16","v":3400},{"$f":"Parâmetros!I16","v":121},{"$f":"Parâmetros!J16","v":240},null,null,{"$f":"Parâmetros!D16","v":0.1399},"SIM",{"$f":"Parâmetros!I4","v":3.3799999999999997E-2},"NÃO"]
[32,1.438E-4,null,{"$f":"Simulador!C47","v":14},"2027-06-02","1900-02-06",{"$f":"VLOOKUP(F16&'Simulador Bradesco'!$I$13,$A$2:$B$600,2,FALSE)","v":1.7760000000000001E-4},{"$f":"Simulador!A47","v":"2027-06-02"},null,null,null,{"$f":"IF(Simulador!A46=\"\",Simulador!$C$8,Simulador!A46)","v":"2027-05-02"},{"$f":"IF(Simulador!Q46=\"\",0,Simulador!Q46*-1)","v":-10369.380764701733},{"$f":"CONCATENATE(Parâmetros!D23,Parâmetros!C8,Parâmetros!D2)","v":"Poupança+RESIDENCIALSAC"},0.3,{"$f":"Parâmetros!O8","v":0.8},null,{"$f":"Parâmetros!L8","v":1021.25},240,{"$f":"Parâmetros!J8","v":420},null,null,{"$f":"IF(SUM(Parâmetros!$C$23+Parâmetros!$C$24)>9.17,9.17,SUM(Parâmetros!$C$23+Parâmetros!$C$24))","v":0.1399},"NÃO",0,"SIM"]
[33,1.5679999999999999E-4,null,{"$f":"Simulador!C48","v":15},"2027-07-02","1900-02-06",{"$f":"VLOOKUP(F17&'Simulador Bradesco'!$I$13,$A$2:$B$600,2,FALSE)","v":1.7760000000000001E-4},{"$f":"Simulador!A48","v":"2027-07-02"},null,null,null,{"$f":"IF(Simulador!A47=\"\",Simulador!$C$8,Simulador!A47)","v":"2027-06-02"},{"$f":"IF(Simulador!Q47=\"\",0,Simulador!Q47*-1)","v":-10369.345610567727},{"$f":"CONCATENATE(Parâmetros!D23,Parâmetros!C8,Parâmetros!D3)","v":"Poupança+RESIDENCIALPRICE"},0.15,{"$f":"Parâmetros!F8","v":0.8},null,{"$f":"Parâmetros!L8","v":1021.25},240,{"$f":"Parâmetros!J8","v":420},null,null,{"$f":"IF(SUM(Parâmetros!$C$23+Parâmetros!$C$24)>9.17,9.17,SUM(Parâmetros!$C$23+Parâmetros!$C$24))","v":0.1399},"NÃO",0,"SIM"]
[34,1.5679999999999999E-4,null,{"$f":"Simulador!C49","v":16},"2027-08-02","1900-02-06",{"$f":"VLOOKUP(F18&'Simulador Bradesco'!$I$13,$A$2:$B$600,2,FALSE)","v":1.7760000000000001E-4},{"$f":"Simulador!A49","v":"2027-08-02"},null,null,null,{"$f":"IF(Simulador!A48=\"\",Simulador!$C$8,Simulador!A48)","v":"2027-07-02"},{"$f":"IF(Simulador!Q48=\"\",0,Simulador!Q48*-1)","v":-10369.31011495177},{"$f":"CONCATENATE(Parâmetros!D23,Parâmetros!C9,Parâmetros!D2)","v":"Poupança+RESIDENCIAL > 225SAC"},0.3,{"$f":"Parâmetros!O9","v":0.8},null,{"$f":"Parâmetros!L9","v":2114.0300000000002},240,{"$f":"Parâmetros!J9","v":420},null,null,{"$f":"IF(SUM(Parâmetros!$C$23+Parâmetros!$C$24)>9.17,9.17,SUM(Parâmetros!$C$23+Parâmetros!$C$24))","v":0.1399},"NÃO",0,"SIM"]
[35,1.5679999999999999E-4,null,{"$f":"Simulador!C50","v":17},"2027-09-02","1900-02-06",{"$f":"VLOOKUP(F19&'Simulador Bradesco'!$I$13,$A$2:$B$600,2,FALSE)","v":1.7760000000000001E-4},{"$f":"Simulador!A50","v":"2027-09-02"},null,null,null,{"$f":"IF(Simulador!A49=\"\",Simulador!$C$8,Simulador!A49)","v":"2027-08-02"},{"$f":"IF(Simulador!Q49=\"\",0,Simulador!Q49*-1)","v":-10369.274274536756},{"$f":"CONCATENATE(Parâmetros!D23,Parâmetros!C9,Parâmetros!D3)","v":"Poupança+RESIDENCIAL > 225PRICE"},0.15,{"$f":"Parâmetros!F9","v":0.8},null,{"$f":"Parâmetros!L9","v":2114.0300000000002},240,{"$f":"Parâmetros!J9","v":420},null,null,{"$f":"IF(SUM(Parâmetros!$C$23+Parâmetros!$C$24)>9.17,9.17,SUM(Parâmetros!$C$23+Parâmetros!$C$24))","v":0.1399},"NÃO",0,"SIM"]
[36,1.8139999999999999E-4,null,{"$f":"Simulador!C51","v":18},"2027-10-02","1900-02-07",{"$f":"VLOOKUP(F20&'Simulador Bradesco'!$I$13,$A$2:$B$600,2,FALSE)","v":1.7760000000000001E-4},{"$f":"Simulador!A51","v":"2027-10-02"},null,null,null,{"$f":"IF(Simulador!A50=\"\",Simulador!$C$8,Simulador!A50)","v":"2027-09-02"},{"$f":"IF(Simulador!Q50=\"\",0,Simulador!Q50*-1)","v":-10369.238085973358},{"$f":"CONCATENATE(Parâmetros!D23,Parâmetros!C15,Parâmetros!D2)","v":"Poupança+CHH PJSAC"},"N/A",0.8,null,{"$f":"Parâmetros!L15","v":2114.0300000000002},{"$f":"Parâmetros!I15","v":121},{"$f":"Parâmetros!J15","v":240},null,null,{"$f":"IF(SUM(Parâmetros!$C$23+Parâmetros!$C$24)>9.17,9.17,SUM(Parâmetros!$C$23+Parâmetros!$C$24))","v":0.1399},"SIM",{"$f":"Parâmetros!I4","v":3.3799999999999997E-2},"NÃO"]
[37,1.8139999999999999E-4,null,{"$f":"Simulador!C52","v":19},"2027-11-02","1900-02-07",{"$f":"VLOOKUP(F21&'Simulador Bradesco'!$I$13,$A$2:$B$600,2,FALSE)","v":1.7760000000000001E-4},{"$f":"Simulador!A52","v":"2027-11-02"},null,null,null,{"$f":"IF(Simulador!A51=\"\",Simulador!$C$8,Simulador!A51)","v":"2027-10-02"},{"$f":"IF(Simulador!Q51=\"\",0,Simulador!Q51*-1)","v":-10369.201545879716},{"$f":"CONCATENATE(Parâmetros!D23,Parâmetros!C15,Parâmetros!D3)","v":"Poupança+CHH PJPRICE"},"N/A",0.8,null,{"$f":"Parâmetros!L15","v":2114.0300000000002},{"$f":"Parâmetros!I15","v":121},{"$f":"Parâmetros!J15","v":240},null,null,{"$f":"IF(SUM(Parâmetros!$C$23+Parâmetros!$C$24)>9.17,9.17,SUM(Parâmetros!$C$23+Parâmetros!$C$24))","v":0.1399},"SIM",{"$f":"Parâmetros!I4","v":3.3799999999999997E-2},"NÃO"]
[38,1.8139999999999999E-4,null,{"$f":"Simulador!C53","v":20},"2027-12-02","1900-02-07",{"$f":"VLOOKUP(F22&'Simulador Bradesco'!$I$13,$A$2:$B$600,2,FALSE)","v":1.7760000000000001E-4},{"$f":"Simulador!A53","v":"2027-12-02"},null,null,null,{"$f":"IF(Simulador!A52=\"\",Simulador!$C$8,Simulador!A52)","v":"2027-11-02"},{"$f":"IF(Simulador!Q52=\"\",0,Simulador!Q52*-1)","v":-10369.16465084112},{"$f":"Parâmetros!$D$22&Parâmetros!C7&Parâmetros!$D$2&Parâmetros!$G$22","v":"Repasse/AquisiçãoLOTESACPRIME"},{"$f":"Parâmetros!G7","v":0.2},{"$f":"Parâmetros!$E$7","v":0.7},null,{"$f":"Parâmetros!$L$7","v":3400},{"$f":"Parâmetros!$I$7","v":121},{"$f":"Parâmetros!$J$7","v":240},null,null,{"$f":"Parâmetros!$P$7","v":0.1399},"SIM",{"$f":"IF(X22=\"SIM\",3.38%,0%)","v":3.3799999999999997E-2},"SIM"]
[39,2.2369999999999999E-4,null,{"$f":"Simulador!C54","v":21},"2028-01-02","1900-02-07",{"$f":"VLOOKUP(F23&'Simulador Bradesco'!$I$13,$A$2:$B$600,2,FALSE)","v":1.7760000000000001E-4},{"$f":"Simulador!A54","v":"2028-01-02"},null,null,null,{"$f":"IF(Simulador!A53=\"\",Simulador!$C$8,Simulador!A53)","v":"2027-12-02"},{"$f":"IF(Simulador!Q53=\"\",0,Simulador!Q53*-1)","v":-10369.127397409686},null,{"$f":"Parâmetros!G8","v":0.35},{"$f":"Parâmetros!$E$8","v":0.8},null,{"$f":"Parâmetros!$L$8","v":1021.25},{"$f":"Parâmetros!$I$8","v":121},{"$f":"Parâmetros!$J$8","v":420},null,null,{"$f":"Parâmetros!$P$8","v":0},"NÃO",{"$f":"IF(X23=\"SIM\",3.38%,0%)","v":0},"SIM"]
[40,2.2369999999999999E-4,null,{"$f":"Simulador!C55","v":22},"2028-02-02","1900-02-07",{"$f":"VLOOKUP(F24&'Simulador Bradesco'!$I$13,$A$2:$B$600,2,FALSE)","v":1.7760000000000001E-4},{"$f":"Simulador!A55","v":"2028-02-02"},null,null,null,{"$f":"IF(Simulador!A54=\"\",Simulador!$C$8,Simulador!A54)","v":"2028-01-02"},{"$f":"IF(Simulador!Q54=\"\",0,Simulador!Q54*-1)","v":-10369.089782104042},{"$f":"Parâmetros!$D$22&Parâmetros!C9&Parâmetros!$D$2&Parâmetros!$G$22","v":"Repasse/AquisiçãoRESIDENCIAL > 225SACPRIME"},{"$f":"Parâmetros!G9","v":0.35},{"$f":"Parâmetros!$E$9","v":0.8},null,{"$f":"Parâmetros!$L$9","v":2114.0300000000002},{"$f":"Parâmetros!$I$9","v":121},{"$f":"Parâmetros!$J$9","v":420},null,null,{"$f":"Parâmetros!$P$9","v":0.123},"NÃO",0,"SIM"]
[41,2.2369999999999999E-4,null,{"$f":"Simulador!C56","v":23},"2028-03-02","1900-02-07",{"$f":"VLOOKUP(F25&'Simulador Bradesco'!$I$13,$A$2:$B$600,2,FALSE)","v":1.7760000000000001E-4},{"$f":"Simulador!A56","v":"2028-03-02"},null,null,null,{"$f":"IF(Simulador!A55=\"\",Simulador!$C$8,Simulador!A55)","v":"2028-02-02"},{"$f":"IF(Simulador!Q55=\"\",0,Simulador!Q55*-1)","v":-10369.051801408994},{"$f":"Parâmetros!$D$22&Parâmetros!C10&Parâmetros!$D$2&Parâmetros!$G$22","v":"Repasse/AquisiçãoRESIDENCIALSACPRIME"},{"$f":"Parâmetros!G10","v":0.35},{"$f":"Parâmetros!$E$10","v":0.9},null,{"$f":"Parâmetros!$L$10","v":2114.0300000000002},{"$f":"Parâmetros!$I$10","v":121},{"$f":"Parâmetros!$J$10","v":420},null,null,{"$f":"Parâmetros!$P$10","v":0.123},"NÃO",0,"SIM"]
[42,3.1690000000000001E-4,null,{"$f":"Simulador!C57","v":24},"2028-04-02","1900-02-07",{"$f":"VLOOKUP(F26&'Simulador Bradesco'!$I$13,$A$2:$B$600,2,FALSE)","v":1.7760000000000001E-4},{"$f":"Simulador!A57","v":"2028-04-02"},null,null,null,{"$f":"IF(Simulador!A56=\"\",Simulador!$C$8,Simulador!A56)","v":"2028-03-02"},{"$f":"IF(Simulador!Q56=\"\",0,Simulador!Q56*-1)","v":-10369.013451775207},{"$f":"Parâmetros!$D$22&Parâmetros!C11&Parâmetros!$D$2&Parâmetros!$G$22","v":"Repasse/AquisiçãoCOMERCIALSACPRIME"},{"$f":"Parâmetros!G11","v":0.35},{"$f":"Parâmetros!$E$11","v":0.8},null,{"$f":"Parâmetros!$L$11","v":3400},{"$f":"Parâmetros!$I$11","v":121},{"$f":"Parâmetros!$J$11","v":360},null,null,{"$f":"Parâmetros!$P$11","v":0},"SIM",3.3799999999999997E-2,"SIM"]
[43,3.1690000000000001E-4,null,{"$f":"Simulador!C58","v":25},"2028-05-02","1900-02-07",{"$f":"VLOOKUP(F27&'Simulador Bradesco'!$I$13,$A$2:$B$600,2,FALSE)","v":1.7760000000000001E-4},{"$f":"Simulador!A58","v":"2028-05-02"},null,null,null,{"$f":"IF(Simulador!A57=\"\",Simulador!$C$8,Simulador!A57)","v":"2028-04-02"},{"$f":"IF(Simulador!Q57=\"\",0,Simulador!Q57*-1)","v":-10368.974729618865},{"$f":"Parâmetros!$D$22&Parâmetros!C7&Parâmetros!$D$3&Parâmetros!$G$22","v":"Repasse/AquisiçãoLOTEPRICEPRIME"},{"$f":"Parâmetros!H7","v":0.15},{"$f":"Parâmetros!$F$7","v":0.7},null,{"$f":"Parâmetros!$L$7","v":3400},{"$f":"Parâmetros!$I$7","v":121},{"$f":"Parâmetros!$J$7","v":240},null,null,{"$f":"Parâmetros!$P$7","v":0.1399},"SIM",3.3799999999999997E-2,"SIM"]
[44,3.1690000000000001E-4,null,{"$f":"Simulador!C59","v":26},"2028-06-02","1900-02-07",{"$f":"VLOOKUP(F28&'Simulador Bradesco'!$I$13,$A$2:$B$600,2,FALSE)","v":1.7760000000000001E-4},{"$f":"Simulador!A59","v":"2028-06-02"},null,null,null,{"$f":"IF(Simulador!A58=\"\",Simulador!$C$8,Simulador!A58)","v":"2028-05-02"},{"$f":"IF(Simulador!Q58=\"\",0,Simulador!Q58*-1)","v":-10368.935631321339},null,{"$f":"Parâmetros!H8","v":0.25},{"$f":"Parâmetros!$F$8","v":0.8},null,{"$f":"Parâmetros!$L$8","v":1021.25},{"$f":"Parâmetros!$I$8","v":121},{"$f":"Parâmetros!$J$8","v":420},null,null,{"$f":"Parâmetros!$P$8","v":0},"NÃO",0,"SIM"]
[45,4.3520000000000001E-4,null,{"$f":"Simulador!C60","v":27},"2028-07-02","1900-02-07",{"$f":"VLOOKUP(F29&'Simulador Bradesco'!$I$13,$A$2:$B$600,2,FALSE)","v":1.7760000000000001E-4},{"$f":"Simulador!A60","v":"2028-07-02"},null,null,null,{"$f":"IF(Simulador!A59=\"\",Simulador!$C$8,Simulador!A59)","v":"2028-06-02"},{"$f":"IF(Simulador!Q59=\"\",0,Simulador!Q59*-1)","v":-10368.89615322885},{"$f":"Parâmetros!$D$22&Parâmetros!C9&Parâmetros!$D$3&Parâmetros!$G$22","v":"Repasse/AquisiçãoRESIDENCIAL > 225PRICEPRIME"},{"$f":"Parâmetros!H9","v":0.25},{"$f":"Parâmetros!$F$9","v":0.8},null,{"$f":"Parâmetros!$L$9","v":2114.0300000000002},{"$f":"Parâmetros!$I$9","v":121},{"$f":"Parâmetros!$J$9","v":420},null,null,{"$f":"Parâmetros!$P$9","v":0.123},"NÃO",0,"SIM"]
[46,4.3520000000000001E-4,null,{"$f":"Simulador!C61","v":28},"2028-08-02","1900-02-07",{"$f":"VLOOKUP(F30&'Simulador Bradesco'!$I$13,$A$2:$B$600,2,FALSE)","v":1.7760000000000001E-4},{"$f":"Simulador!A61","v":"2028-08-02"},null,null,null,{"$f":"IF(Simulador!A60=\"\",Simulador!$C$8,Simulador!A60)","v":"2028-07-02"},{"$f":"IF(Simulador!Q60=\"\",0,Simulador!Q60*-1)","v":-10368.85629165213},{"$f":"Parâmetros!$D$22&Parâmetros!C10&Parâmetros!$D$3&Parâmetros!$G$22","v":"Repasse/AquisiçãoRESIDENCIALPRICEPRIME"},{"$f":"Parâmetros!H10","v":0.25},{"$f":"Parâmetros!$F$10","v":0.8},null,{"$f":"Parâmetros!$L$10","v":2114.0300000000002},{"$f":"Parâmetros!$I$10","v":121},{"$f":"Parâmetros!$J$10","v":420},null,null,{"$f":"Parâmetros!$P$10","v":0.123},"NÃO",0,"SIM"]
[47,4.3520000000000001E-4,null,{"$f":"Simulador!C62","v":29},"2028-09-02","1900-02-07",{"$f":"VLOOKUP(F31&'Simulador Bradesco'!$I$13,$A$2:$B$600,2,FALSE)","v":1.7760000000000001E-4},{"$f":"Simulador!A62","v":"2028-09-02"},null,null,null,{"$f":"IF(Simulador!A61=\"\",Simulador!$C$8,Simulador!A61)","v":"2028-08-02"},{"$f":"IF(Simulador!Q61=\"\",0,Simulador!Q61*-1)","v":-10368.816042866069},{"$f":"Parâmetros!$D$22&Parâmetros!C11&Parâmetros!$D$3&Parâmetros!$G$22","v":"Repasse/AquisiçãoCOMERCIALPRICEPRIME"},{"$f":"Parâmetros!H11","v":0.25},{"$f":"Parâmetros!$F$11","v":0.8},null,{"$f":"Parâmetros!$L$11","v":3400},{"$f":"Parâmetros!$I$11","v":121},{"$f":"Parâmetros!$J$11","v":360},null,null,{"$f":"Parâmetros!$P$11","v":0},"SIM",3.3799999999999997E-2,"SIM"]
[48,5.8719999999999996E-4,null,{"$f":"Simulador!C63","v":30},"2028-10-02","1900-02-08",{"$f":"VLOOKUP(F32&'Simulador Bradesco'!$I$13,$A$2:$B$600,2,FALSE)","v":2.1890000000000001E-4},{"$f":"Simulador!A63","v":"2028-10-02"},null,null,null,{"$f":"IF(Simulador!A62=\"\",Simulador!$C$8,Simulador!A62)","v":"2028-09-02"},{"$f":"IF(Simulador!Q62=\"\",0,Simulador!Q62*-1)","v":-10368.775403109374},{"$f":"Parâmetros!$D$22&Parâmetros!C7&Parâmetros!$D$2&Parâmetros!$G$23","v":"Repasse/AquisiçãoLOTESACEXCLUSIVE"},{"$f":"Parâmetros!G7","v":0.2},{"$f":"Parâmetros!$E$7","v":0.7},null,{"$f":"Parâmetros!$L$7","v":3400},{"$f":"Parâmetros!$I$7","v":121},{"$f":"Parâmetros!$J$7","v":240},null,null,{"$f":"Parâmetros!$Q$7","v":0.1399},"SIM",3.3799999999999997E-2,"SIM"]
[49,5.8719999999999996E-4,null,{"$f":"Simulador!C64","v":31},"2028-11-02","1900-02-08",{"$f":"VLOOKUP(F33&'Simulador Bradesco'!$I$13,$A$2:$B$600,2,FALSE)","v":2.1890000000000001E-4},{"$f":"Simulador!A64","v":"2028-11-02"},null,null,null,{"$f":"IF(Simulador!A63=\"\",Simulador!$C$8,Simulador!A63)","v":"2028-10-02"},{"$f":"IF(Simulador!Q63=\"\",0,Simulador!Q63*-1)","v":-10410.775866941909},{"$f":"Parâmetros!$D$22&Parâmetros!C8&Parâmetros!$D$2&Parâmetros!$G$23","v":"Repasse/AquisiçãoRESIDENCIALSACEXCLUSIVE"},{"$f":"Parâmetros!G8","v":0.35},{"$f":"Parâmetros!$E$8","v":0.8},null,{"$f":"Parâmetros!$L$8","v":1021.25},{"$f":"Parâmetros!$I$8","v":121},{"$f":"Parâmetros!$J$8","v":420},null,null,{"$f":"Parâmetros!$Q$10","v":0.123},"NÃO",0,"SIM"]
[50,5.8719999999999996E-4,null,{"$f":"Simulador!C65","v":32},"2028-12-02","1900-02-08",{"$f":"VLOOKUP(F34&'Simulador Bradesco'!$I$13,$A$2:$B$600,2,FALSE)","v":2.1890000000000001E-4},{"$f":"Simulador!A65","v":"2028-12-02"},null,null,null,{"$f":"IF(Simulador!A64=\"\",Simulador!$C$8,Simulador!A64)","v":"2028-11-02"},{"$f":"IF(Simulador!Q64=\"\",0,Simulador!Q64*-1)","v":-10410.724798744868},{"$f":"Parâmetros!$D$22&Parâmetros!C9&Parâmetros!$D$2&Parâmetros!$G$23","v":"Repasse/AquisiçãoRESIDENCIAL > 225SACEXCLUSIVE"},{"$f":"Parâmetros!G9","v":0.35},{"$f":"Parâmetros!$E$9","v":0.8},null,{"$f":"Parâmetros!$L$9","v":2114.0300000000002},{"$f":"Parâmetros!$I$9","v":121},{"$f":"Parâmetros!$J$9","v":420},null,null,{"$f":"Parâmetros!$Q$9","v":0.123},"NÃO",0,"SIM"]
[51,7.6000000000000004E-4,null,{"$f":"Simulador!C66","v":33},"2029-01-02","1900-02-08",{"$f":"VLOOKUP(F35&'Simulador Bradesco'!$I$13,$A$2:$B$600,2,FALSE)","v":2.1890000000000001E-4},{"$f":"Simulador!A66","v":"2029-01-02"},null,null,null,{"$f":"IF(Simulador!A65=\"\",Simulador!$C$8,Simulador!A65)","v":"2028-12-02"},{"$f":"IF(Simulador!Q65=\"\",0,Simulador!Q65*-1)","v":-10410.673234479067},null,{"$f":"Parâmetros!G10","v":0.35},{"$f":"Parâmetros!$E$10","v":0.9},null,{"$f":"Parâmetros!$L$10","v":2114.0300000000002},{"$f":"Parâmetros!$I$10","v":121},{"$f":"Parâmetros!$J$10","v":420},null,null,{"$f":"Parâmetros!#REF!","v":{"$error":"#REF!"}},"NÃO",0,"SIM"]
[52,7.6000000000000004E-4,null,{"$f":"Simulador!C67","v":34},"2029-02-02","1900-02-08",{"$f":"VLOOKUP(F36&'Simulador Bradesco'!$I$13,$A$2:$B$600,2,FALSE)","v":2.1890000000000001E-4},{"$f":"Simulador!A67","v":"2029-02-02"},null,null,null,{"$f":"IF(Simulador!A66=\"\",Simulador!$C$8,Simulador!A66)","v":"2029-01-02"},{"$f":"IF(Simulador!Q66=\"\",0,Simulador!Q66*-1)","v":-10410.62116932577},{"$f":"Parâmetros!$D$22&Parâmetros!C11&Parâmetros!$D$2&Parâmetros!$G$23","v":"Repasse/AquisiçãoCOMERCIALSACEXCLUSIVE"},{"$f":"Parâmetros!G11","v":0.35},{"$f":"Parâmetros!$E$11","v":0.8},null,{"$f":"Parâmetros!$L$11","v":3400},{"$f":"Parâmetros!$I$11","v":121},{"$f":"Parâmetros!$J$11","v":360},null,null,{"$f":"Parâmetros!$Q$11","v":0},"SIM",3.3799999999999997E-2,"SIM"]
[53,7.6000000000000004E-4,null,{"$f":"Simulador!C68","v":35},"2029-03-02","1900-02-08",{"$f":"VLOOKUP(F37&'Simulador Bradesco'!$I$13,$A$2:$B$600,2,FALSE)","v":2.1890000000000001E-4},{"$f":"Simulador!A68","v":"2029-03-02"},null,null,null,{"$f":"IF(Simulador!A67=\"\",Simulador!$C$8,Simulador!A67)","v":"2029-02-02"},{"$f":"IF(Simulador!Q67=\"\",0,Simulador!Q67*-1)","v":-10410.568598419432},{"$f":"Parâmetros!$D$22&Parâmetros!C7&Parâmetros!$D$3&Parâmetros!$G$23","v":"Repasse/AquisiçãoLOTEPRICEEXCLUSIVE"},{"$f":"Parâmetros!H7","v":0.15},{"$f":"Parâmetros!$F$7","v":0.7},null,{"$f":"Parâmetros!$L$7","v":3400},{"$f":"Parâmetros!$I$7","v":121},{"$f":"Parâmetros!$J$7","v":240},null,null,{"$f":"Parâmetros!$Q$7","v":0.1399},"SIM",3.3799999999999997E-2,"SIM"]
[54,9.3590000000000003E-4,null,{"$f":"Simulador!C69","v":36},"2029-04-02","1900-02-08",{"$f":"VLOOKUP(F38&'Simulador Bradesco'!$I$13,$A$2:$B$600,2,FALSE)","v":2.1890000000000001E-4},{"$f":"Simulador!A69","v":"2029-04-02"},null,null,null,{"$f":"IF(Simulador!A68=\"\",Simulador!$C$8,Simulador!A68)","v":"2029-03-02"},{"$f":"IF(Simulador!Q68=\"\",0,Simulador!Q68*-1)","v":-10410.515516847243},{"$f":"Parâmetros!$D$22&Parâmetros!C8&Parâmetros!$D$3&Parâmetros!$G$23","v":"Repasse/AquisiçãoRESIDENCIALPRICEEXCLUSIVE"},{"$f":"Parâmetros!H8","v":0.25},{"$f":"Parâmetros!$F$8","v":0.8},null,{"$f":"Parâmetros!$L$8","v":1021.25},{"$f":"Parâmetros!$I$8","v":121},{"$f":"Parâmetros!$J$8","v":420},null,null,{"$f":"Parâmetros!$Q$10","v":0.123},"NÃO",0,"SIM"]
[55,9.3590000000000003E-4,null,{"$f":"Simulador!C70","v":37},"2029-05-02","1900-02-08",{"$f":"VLOOKUP(F39&'Simulador Bradesco'!$I$13,$A$2:$B$600,2,FALSE)","v":2.1890000000000001E-4},{"$f":"Simulador!A70","v":"2029-05-02"},null,null,null,{"$f":"IF(Simulador!A69=\"\",Simulador!$C$8,Simulador!A69)","v":"2029-04-02"},{"$f":"IF(Simulador!Q69=\"\",0,Simulador!Q69*-1)","v":-10410.461919648671},{"$f":"Parâmetros!$D$22&Parâmetros!C9&Parâmetros!$D$3&Parâmetros!$G$23","v":"Repasse/AquisiçãoRESIDENCIAL > 225PRICEEXCLUSIVE"},{"$f":"Parâmetros!H9","v":0.25},{"$f":"Parâmetros!$F$9","v":0.8},null,{"$f":"Parâmetros!$L$9","v":2114.0300000000002},{"$f":"Parâmetros!$I$9","v":121},{"$f":"Parâmetros!$J$9","v":420},null,null,{"$f":"Parâmetros!$Q$9","v":0.123},"NÃO",0,"SIM"]
[56,9.3590000000000003E-4,null,{"$f":"Simulador!C71","v":38},"2029-06-02","1900-02-08",{"$f":"VLOOKUP(F40&'Simulador Bradesco'!$I$13,$A$2:$B$600,2,FALSE)","v":2.1890000000000001E-4},{"$f":"Simulador!A71","v":"2029-06-02"},null,null,null,{"$f":"IF(Simulador!A70=\"\",Simulador!$C$8,Simulador!A70)","v":"2029-05-02"},{"$f":"IF(Simulador!Q70=\"\",0,Simulador!Q70*-1)","v":-10410.407801815001},null,{"$f":"Parâmetros!H10","v":0.25},{"$f":"Parâmetros!$F$10","v":0.8},null,{"$f":"Parâmetros!$L$10","v":2114.0300000000002},{"$f":"Parâmetros!$I$10","v":121},{"$f":"Parâmetros!$J$10","v":420},null,null,{"$f":"Parâmetros!#REF!","v":{"$error":"#REF!"}},"NÃO",0,"SIM"]
[57,1.1306000000000001E-3,null,{"$f":"Simulador!C72","v":39},"2029-07-02","1900-02-08",{"$f":"VLOOKUP(F41&'Simulador Bradesco'!$I$13,$A$2:$B$600,2,FALSE)","v":2.1890000000000001E-4},{"$f":"Simulador!A72","v":"2029-07-02"},null,null,null,{"$f":"IF(Simulador!A71=\"\",Simulador!$C$8,Simulador!A71)","v":"2029-06-02"},{"$f":"IF(Simulador!Q71=\"\",0,Simulador!Q71*-1)","v":-10410.353158288861},{"$f":"Parâmetros!$D$22&Parâmetros!C11&Parâmetros!$D$3&Parâmetros!$G$23","v":"Repasse/AquisiçãoCOMERCIALPRICEEXCLUSIVE"},{"$f":"Parâmetros!H11","v":0.25},{"$f":"Parâmetros!$F$11","v":0.8},null,{"$f":"Parâmetros!$L$11","v":3400},{"$f":"Parâmetros!$I$11","v":121},{"$f":"Parâmetros!$J$11","v":360},null,null,{"$f":"Parâmetros!$Q$11","v":0},"SIM",3.3799999999999997E-2,"SIM"]
[58,1.1306000000000001E-3,null,{"$f":"Simulador!C73","v":40},"2029-08-02","1900-02-08",{"$f":"VLOOKUP(F42&'Simulador Bradesco'!$I$13,$A$2:$B$600,2,FALSE)","v":2.1890000000000001E-4},{"$f":"Simulador!A73","v":"2029-08-02"},null,null,null,{"$f":"IF(Simulador!A72=\"\",Simulador!$C$8,Simulador!A72)","v":"2029-07-02"},{"$f":"IF(Simulador!Q72=\"\",0,Simulador!Q72*-1)","v":-10410.297983963756},{"$f":"Parâmetros!$D$22&Parâmetros!C7&Parâmetros!$D$2&Parâmetros!$G$24","v":"Repasse/AquisiçãoLOTESACCLASSIC"},{"$f":"Parâmetros!G7","v":0.2},{"$f":"Parâmetros!$E$7","v":0.7},null,{"$f":"Parâmetros!$L$7","v":3400},{"$f":"Parâmetros!$I$7","v":121},{"$f":"Parâmetros!$J$7","v":240},null,null,{"$f":"Parâmetros!$R$7","v":0.1399},"SIM",3.3799999999999997E-2,"SIM"]
[59,1.1306000000000001E-3,null,{"$f":"Simulador!C74","v":41},"2029-09-02","1900-02-08",{"$f":"VLOOKUP(F43&'Simulador Bradesco'!$I$13,$A$2:$B$600,2,FALSE)","v":2.1890000000000001E-4},{"$f":"Simulador!A74","v":"2029-09-02"},null,null,null,{"$f":"IF(Simulador!A73=\"\",Simulador!$C$8,Simulador!A73)","v":"2029-08-02"},{"$f":"IF(Simulador!Q73=\"\",0,Simulador!Q73*-1)","v":-10410.242273683582},{"$f":"Parâmetros!$D$22&Parâmetros!C8&Parâmetros!$D$2&Parâmetros!$G$24","v":"Repasse/AquisiçãoRESIDENCIALSACCLASSIC"},{"$f":"Parâmetros!G8","v":0.35},{"$f":"Parâmetros!$E$8","v":0.8},null,{"$f":"Parâmetros!$L$8","v":1021.25},{"$f":"Parâmetros!$I$8","v":121},{"$f":"Parâmetros!$J$8","v":420},null,null,{"$f":"Parâmetros!$R$10","v":0.123},"NÃO",0,"SIM"]
[60,1.3822000000000001E-3,null,{"$f":"Simulador!C75","v":42},"2029-10-02","1900-02-09",{"$f":"VLOOKUP(F44&'Simulador Bradesco'!$I$13,$A$2:$B$600,2,FALSE)","v":2.1890000000000001E-4},{"$f":"Simulador!A75","v":"2029-10-02"},null,null,null,{"$f":"IF(Simulador!A74=\"\",Simulador!$C$8,Simulador!A74)","v":"2029-09-02"},{"$f":"IF(Simulador!Q74=\"\",0,Simulador!Q74*-1)","v":-10410.186022242153},{"$f":"Parâmetros!$D$22&Parâmetros!C9&Parâmetros!$D$2&Parâmetros!$G$24","v":"Repasse/AquisiçãoRESIDENCIAL > 225SACCLASSIC"},{"$f":"Parâmetros!G9","v":0.35},{"$f":"Parâmetros!$E$9","v":0.8},null,{"$f":"Parâmetros!$L$9","v":2114.0300000000002},{"$f":"Parâmetros!$I$9","v":121},{"$f":"Parâmetros!$J$9","v":420},null,null,{"$f":"Parâmetros!$R$9","v":0.123},"NÃO",0,"SIM"]
[61,1.3822000000000001E-3,null,{"$f":"Simulador!C76","v":43},"2029-11-02","1900-02-09",{"$f":"VLOOKUP(F45&'Simulador Bradesco'!$I$13,$A$2:$B$600,2,FALSE)","v":2.1890000000000001E-4},{"$f":"Simulador!A76","v":"2029-11-02"},null,null,null,{"$f":"IF(Simulador!A75=\"\",Simulador!$C$8,Simulador!A75)","v":"2029-10-02"},{"$f":"IF(Simulador!Q75=\"\",0,Simulador!Q75*-1)","v":-10410.12922438271},null,{"$f":"Parâmetros!G10","v":0.35},{"$f":"Parâmetros!$E$10","v":0.9},null,{"$f":"Parâmetros!$L$10","v":2114.0300000000002},{"$f":"Parâmetros!$I$10","v":121},{"$f":"Parâmetros!$J$10","v":420},null,null,{"$f":"Parâmetros!#REF!","v":{"$error":"#REF!"}},"NÃO",0,"SIM"]
[62,1.3822000000000001E-3,null,{"$f":"Simulador!C77","v":44},"2029-12-02","1900-02-09",{"$f":"VLOOKUP(F46&'Simulador Bradesco'!$I$13,$A$2:$B$600,2,FALSE)","v":2.1890000000000001E-4},{"$f":"Simulador!A77","v":"2029-12-02"},null,null,null,{"$f":"IF(Simulador!A76=\"\",Simulador!$C$8,Simulador!A76)","v":"2029-11-02"},{"$f":"IF(Simulador!Q76=\"\",0,Simulador!Q76*-1)","v":-10410.071874797433},{"$f":"Parâmetros!$D$22&Parâmetros!C11&Parâmetros!$D$2&Parâmetros!$G$24","v":"Repasse/AquisiçãoCOMERCIALSACCLASSIC"},{"$f":"Parâmetros!G11","v":0.35},{"$f":"Parâmetros!$E$11","v":0.8},null,{"$f":"Parâmetros!$L$11","v":3400},{"$f":"Parâmetros!$I$11","v":121},{"$f":"Parâmetros!$J$11","v":360},null,null,{"$f":"Parâmetros!$R$11","v":0},"SIM",3.3799999999999997E-2,"SIM"]
[63,1.7815999999999999E-3,null,{"$f":"Simulador!C78","v":45},"2030-01-02","1900-02-09",{"$f":"VLOOKUP(F47&'Simulador Bradesco'!$I$13,$A$2:$B$600,2,FALSE)","v":2.1890000000000001E-4},{"$f":"Simulador!A78","v":"2030-01-02"},null,null,null,{"$f":"IF(Simulador!A77=\"\",Simulador!$C$8,Simulador!A77)","v":"2029-12-02"},{"$f":"IF(Simulador!Q77=\"\",0,Simulador!Q77*-1)","v":-10410.013968126939},{"$f":"Parâmetros!$D$22&Parâmetros!C7&Parâmetros!$D$3&Parâmetros!$G$24","v":"Repasse/AquisiçãoLOTEPRICECLASSIC"},{"$f":"Parâmetros!H7","v":0.15},{"$f":"Parâmetros!$F$7","v":0.7},null,{"$f":"Parâmetros!$L$7","v":3400},{"$f":"Parâmetros!$I$7","v":121},{"$f":"Parâmetros!$J$7","v":240},null,null,{"$f":"Parâmetros!$R$7","v":0.1399},"SIM",3.3799999999999997E-2,"SIM"]
[64,1.7815999999999999E-3,null,{"$f":"Simulador!C79","v":46},"2030-02-02","1900-02-09",{"$f":"VLOOKUP(F48&'Simulador Bradesco'!$I$13,$A$2:$B$600,2,FALSE)","v":2.1890000000000001E-4},{"$f":"Simulador!A79","v":"2030-02-02"},null,null,null,{"$f":"IF(Simulador!A78=\"\",Simulador!$C$8,Simulador!A78)","v":"2030-01-02"},{"$f":"IF(Simulador!Q78=\"\",0,Simulador!Q78*-1)","v":-10409.955498959787},{"$f":"Parâmetros!$D$22&Parâmetros!C8&Parâmetros!$D$3&Parâmetros!$G$24","v":"Repasse/AquisiçãoRESIDENCIALPRICECLASSIC"},{"$f":"Parâmetros!H8","v":0.25},{"$f":"Parâmetros!$F$8","v":0.8},null,{"$f":"Parâmetros!$L$8","v":1021.25},{"$f":"Parâmetros!$I$8","v":121},{"$f":"Parâmetros!$J$8","v":420},null,null,{"$f":"Parâmetros!$R$10","v":0.123},"NÃO",0,"SIM"]
[65,1.7815999999999999E-3,null,{"$f":"Simulador!C80","v":47},"2030-03-02","1900-02-09",{"$f":"VLOOKUP(F49&'Simulador Bradesco'!$I$13,$A$2:$B$600,2,FALSE)","v":2.1890000000000001E-4},{"$f":"Simulador!A80","v":"2030-03-02"},null,null,null,{"$f":"IF(Simulador!A79=\"\",Simulador!$C$8,Simulador!A79)","v":"2030-02-02"},{"$f":"IF(Simulador!Q79=\"\",0,Simulador!Q79*-1)","v":-10409.89646183197},{"$f":"Parâmetros!$D$22&Parâmetros!C9&Parâmetros!$D$3&Parâmetros!$G$24","v":"Repasse/AquisiçãoRESIDENCIAL > 225PRICECLASSIC"},{"$f":"Parâmetros!H9","v":0.25},{"$f":"Parâmetros!$F$9","v":0.8},null,{"$f":"Parâmetros!$L$9","v":2114.0300000000002},{"$f":"Parâmetros!$I$9","v":121},{"$f":"Parâmetros!$J$9","v":420},null,null,{"$f":"Parâmetros!$R$9","v":0.123},"NÃO",0,"SIM"]
[66,2.2041000000000001E-3,null,{"$f":"Simulador!C81","v":48},"2030-04-02","1900-02-09",{"$f":"VLOOKUP(F50&'Simulador Bradesco'!$I$13,$A$2:$B$600,2,FALSE)","v":2.1890000000000001E-4},{"$f":"Simulador!A81","v":"2030-04-02"},null,null,null,{"$f":"IF(Simulador!A80=\"\",Simulador!$C$8,Simulador!A80)","v":"2030-03-02"},{"$f":"IF(Simulador!Q80=\"\",0,Simulador!Q80*-1)","v":-10409.836851226401},null,{"$f":"Parâmetros!H10","v":0.25},{"$f":"Parâmetros!$F$10","v":0.8},null,{"$f":"Parâmetros!$L$10","v":2114.0300000000002},{"$f":"Parâmetros!$I$10","v":121},{"$f":"Parâmetros!$J$10","v":420},null,null,{"$f":"Parâmetros!#REF!","v":{"$error":"#REF!"}},"NÃO",0,"SIM"]
[67,2.2041000000000001E-3,null,{"$f":"Simulador!C82","v":49},"2030-05-02","1900-02-09",{"$f":"VLOOKUP(F51&'Simulador Bradesco'!$I$13,$A$2:$B$600,2,FALSE)","v":2.1890000000000001E-4},{"$f":"Simulador!A82","v":"2030-05-02"},null,null,null,{"$f":"IF(Simulador!A81=\"\",Simulador!$C$8,Simulador!A81)","v":"2030-04-02"},{"$f":"IF(Simulador!Q81=\"\",0,Simulador!Q81*-1)","v":-10409.776661572405},{"$f":"Parâmetros!$D$22&Parâmetros!C11&Parâmetros!$D$3&Parâmetros!$G$24","v":"Repasse/AquisiçãoCOMERCIALPRICECLASSIC"},{"$f":"Parâmetros!H11","v":0.25},{"$f":"Parâmetros!$F$11","v":0.8},null,{"$f":"Parâmetros!$L$11","v":3400},{"$f":"Parâmetros!$I$11","v":121},{"$f":"Parâmetros!$J$11","v":360},null,null,{"$f":"Parâmetros!$R$11","v":0},"SIM",3.3799999999999997E-2,"SIM"]
[68,2.2041000000000001E-3,null,{"$f":"Simulador!C83","v":50},"2030-06-02","1900-02-09",{"$f":"VLOOKUP(F52&'Simulador Bradesco'!$I$13,$A$2:$B$600,2,FALSE)","v":2.1890000000000001E-4},{"$f":"Simulador!A83","v":"2030-06-02"},null,null,null,{"$f":"IF(Simulador!A82=\"\",Simulador!$C$8,Simulador!A82)","v":"2030-05-02"},{"$f":"IF(Simulador!Q82=\"\",0,Simulador!Q82*-1)","v":-10409.715887245193},{"$f":"Parâmetros!$D$22&Parâmetros!C7&Parâmetros!$D$2&Parâmetros!$G$25","v":"Repasse/AquisiçãoLOTESACPRINCIPAL"},{"$f":"Parâmetros!G7","v":0.2},{"$f":"Parâmetros!$E$7","v":0.7},null,{"$f":"Parâmetros!$L$7","v":3400},{"$f":"Parâmetros!$I$7","v":121},{"$f":"Parâmetros!$J$7","v":240},null,null,{"$f":"Parâmetros!$S$7","v":0.1399},"SIM",3.3799999999999997E-2,"SIM"]
[69,2.983E-3,null,{"$f":"Simulador!C84","v":51},"2030-07-02","1900-02-09",{"$f":"VLOOKUP(F53&'Simulador Bradesco'!$I$13,$A$2:$B$600,2,FALSE)","v":2.1890000000000001E-4},{"$f":"Simulador!A84","v":"2030-07-02"},null,null,null,{"$f":"IF(Simulador!A83=\"\",Simulador!$C$8,Simulador!A83)","v":"2030-06-02"},{"$f":"IF(Simulador!Q83=\"\",0,Simulador!Q83*-1)","v":-10409.654522565339},null,{"$f":"Parâmetros!G8","v":0.35},{"$f":"Parâmetros!$E$8","v":0.8},null,{"$f":"Parâmetros!$L$8","v":1021.25},{"$f":"Parâmetros!$I$8","v":121},{"$f":"Parâmetros!$J$8","v":420},null,null,{"$f":"Parâmetros!$S$8","v":0},"NÃO",0,"SIM"]
[70,2.983E-3,null,{"$f":"Simulador!C85","v":52},"2030-08-02","1900-02-09",{"$f":"VLOOKUP(F54&'Simulador Bradesco'!$I$13,$A$2:$B$600,2,FALSE)","v":2.1890000000000001E-4},{"$f":"Simulador!A85","v":"2030-08-02"},null,null,null,{"$f":"IF(Simulador!A84=\"\",Simulador!$C$8,Simulador!A84)","v":"2030-07-02"},{"$f":"IF(Simulador!Q84=\"\",0,Simulador!Q84*-1)","v":-10409.592561798243},{"$f":"Parâmetros!$D$22&Parâmetros!C9&Parâmetros!$D$2&Parâmetros!$G$25","v":"Repasse/AquisiçãoRESIDENCIAL > 225SACPRINCIPAL"},{"$f":"Parâmetros!G9","v":0.35},{"$f":"Parâmetros!$E$9","v":0.8},null,{"$f":"Parâmetros!$L$9","v":2114.0300000000002},{"$f":"Parâmetros!$I$9","v":121},{"$f":"Parâmetros!$J$9","v":420},null,null,{"$f":"Parâmetros!$S$9","v":0.123},"NÃO",0,"SIM"]
[71,2.983E-3,null,{"$f":"Simulador!C86","v":53},"2030-09-02","1900-02-09",{"$f":"VLOOKUP(F55&'Simulador Bradesco'!$I$13,$A$2:$B$600,2,FALSE)","v":2.1890000000000001E-4},{"$f":"Simulador!A86","v":"2030-09-02"},null,null,null,{"$f":"IF(Simulador!A85=\"\",Simulador!$C$8,Simulador!A85)","v":"2030-08-02"},{"$f":"IF(Simulador!Q85=\"\",0,Simulador!Q85*-1)","v":-10409.529999153609},{"$f":"Parâmetros!$D$22&Parâmetros!C10&Parâmetros!$D$2&Parâmetros!$G$25","v":"Repasse/AquisiçãoRESIDENCIALSACPRINCIPAL"},{"$f":"Parâmetros!G10","v":0.35},{"$f":"Parâmetros!$E$10","v":0.9},null,{"$f":"Parâmetros!$L$10","v":2114.0300000000002},{"$f":"Parâmetros!$I$10","v":121},{"$f":"Parâmetros!$J$10","v":420},null,null,{"$f":"Parâmetros!$S$10","v":0.123},"NÃO",0,"SIM"]
[72,4.0109000000000004E-3,null,{"$f":"Simulador!C87","v":54},"2030-10-02","1900-02-10",{"$f":"VLOOKUP(F56&'Simulador Bradesco'!$I$13,$A$2:$B$600,2,FALSE)","v":2.1890000000000001E-4},{"$f":"Simulador!A87","v":"2030-10-02"},null,null,null,{"$f":"IF(Simulador!A86=\"\",Simulador!$C$8,Simulador!A86)","v":"2030-09-02"},{"$f":"IF(Simulador!Q86=\"\",0,Simulador!Q86*-1)","v":-10409.466828784884},{"$f":"Parâmetros!$D$22&Parâmetros!C11&Parâmetros!$D$2&Parâmetros!$G$25","v":"Repasse/AquisiçãoCOMERCIALSACPRINCIPAL"},{"$f":"Parâmetros!G11","v":0.35},{"$f":"Parâmetros!$E$11","v":0.8},null,{"$f":"Parâmetros!$L$11","v":3400},{"$f":"Parâmetros!$I$11","v":121},{"$f":"Parâmetros!$J$11","v":360},null,null,{"$f":"Parâmetros!$S$11","v":0},"SIM",3.3799999999999997E-2,"SIM"]
[73,4.0109000000000004E-3,null,{"$f":"Simulador!C88","v":55},"2030-11-02","1900-02-10",{"$f":"VLOOKUP(F57&'Simulador Bradesco'!$I$13,$A$2:$B$600,2,FALSE)","v":2.1890000000000001E-4},{"$f":"Simulador!A88","v":"2030-11-02"},null,null,null,{"$f":"IF(Simulador!A87=\"\",Simulador!$C$8,Simulador!A87)","v":"2030-10-02"},{"$f":"IF(Simulador!Q87=\"\",0,Simulador!Q87*-1)","v":-10409.403044788731},{"$f":"Parâmetros!$D$22&Parâmetros!C7&Parâmetros!$D$3&Parâmetros!$G$25","v":"Repasse/AquisiçãoLOTEPRICEPRINCIPAL"},{"$f":"Parâmetros!H7","v":0.15},{"$f":"Parâmetros!$F$7","v":0.7},null,{"$f":"Parâmetros!$L$7","v":3400},{"$f":"Parâmetros!$I$7","v":121},{"$f":"Parâmetros!$J$7","v":240},null,null,{"$f":"Parâmetros!$S$7","v":0.1399},"SIM",3.3799999999999997E-2,"SIM"]
[74,4.0109000000000004E-3,null,{"$f":"Simulador!C89","v":56},"2030-12-02","1900-02-10",{"$f":"VLOOKUP(F58&'Simulador Bradesco'!$I$13,$A$2:$B$600,2,FALSE)","v":2.1890000000000001E-4},{"$f":"Simulador!A89","v":"2030-12-02"},null,null,null,{"$f":"IF(Simulador!A88=\"\",Simulador!$C$8,Simulador!A88)","v":"2030-11-02"},{"$f":"IF(Simulador!Q88=\"\",0,Simulador!Q88*-1)","v":-10409.338641204466},null,{"$f":"Parâmetros!H8","v":0.25},{"$f":"Parâmetros!$F$8","v":0.8},null,{"$f":"Parâmetros!$L$8","v":1021.25},{"$f":"Parâmetros!$I$8","v":121},{"$f":"Parâmetros!$J$8","v":420},null,null,{"$f":"Parâmetros!$S$8","v":0},"NÃO",0,"SIM"]
[75,8.1247999999999997E-3,null,{"$f":"Simulador!C90","v":57},"2031-01-02","1900-02-10",{"$f":"VLOOKUP(F59&'Simulador Bradesco'!$I$13,$A$2:$B$600,2,FALSE)","v":2.1890000000000001E-4},{"$f":"Simulador!A90","v":"2031-01-02"},null,null,null,{"$f":"IF(Simulador!A89=\"\",Simulador!$C$8,Simulador!A89)","v":"2030-12-02"},{"$f":"IF(Simulador!Q89=\"\",0,Simulador!Q89*-1)","v":-10409.273612013501},{"$f":"Parâmetros!$D$22&Parâmetros!C9&Parâmetros!$D$3&Parâmetros!$G$25","v":"Repasse/AquisiçãoRESIDENCIAL > 225PRICEPRINCIPAL"},{"$f":"Parâmetros!H9","v":0.25},{"$f":"Parâmetros!$F$9","v":0.8},null,{"$f":"Parâmetros!$L$9","v":2114.0300000000002},{"$f":"Parâmetros!$I$9","v":121},{"$f":"Parâmetros!$J$9","v":420},null,null,{"$f":"Parâmetros!$S$9","v":0.123},"NÃO",0,"SIM"]
[76,8.1247999999999997E-3,null,{"$f":"Simulador!C91","v":58},"2031-02-02","1900-02-10",{"$f":"VLOOKUP(F60&'Simulador Bradesco'!$I$13,$A$2:$B$600,2,FALSE)","v":2.1890000000000001E-4},{"$f":"Simulador!A91","v":"2031-02-02"},null,null,null,{"$f":"IF(Simulador!A90=\"\",Simulador!$C$8,Simulador!A90)","v":"2031-01-02"},{"$f":"IF(Simulador!Q90=\"\",0,Simulador!Q90*-1)","v":-10409.207951138789},{"$f":"Parâmetros!$D$22&Parâmetros!C10&Parâmetros!$D$3&Parâmetros!$G$25","v":"Repasse/AquisiçãoRESIDENCIALPRICEPRINCIPAL"},{"$f":"Parâmetros!H10","v":0.25},{"$f":"Parâmetros!$F$10","v":0.8},null,{"$f":"Parâmetros!$L$10","v":2114.0300000000002},{"$f":"Parâmetros!$I$10","v":121},{"$f":"Parâmetros!$J$10","v":420},null,null,{"$f":"Parâmetros!$S$10","v":0.123},"NÃO",0,"SIM"]
[77,8.1247999999999997E-3,null,{"$f":"Simulador!C92","v":59},"2031-03-02","1900-02-10",{"$f":"VLOOKUP(F61&'Simulador Bradesco'!$I$13,$A$2:$B$600,2,FALSE)","v":2.1890000000000001E-4},{"$f":"Simulador!A92","v":"2031-03-02"},null,null,null,{"$f":"IF(Simulador!A91=\"\",Simulador!$C$8,Simulador!A91)","v":"2031-02-02"},{"$f":"IF(Simulador!Q91=\"\",0,Simulador!Q91*-1)","v":-10409.141652444248},{"$f":"Parâmetros!$D$22&Parâmetros!C11&Parâmetros!$D$3&Parâmetros!$G$25","v":"Repasse/AquisiçãoCOMERCIALPRICEPRINCIPAL"},{"$f":"Parâmetros!H11","v":0.25},{"$f":"Parâmetros!$F$11","v":0.8},null,{"$f":"Parâmetros!$L$11","v":3400},{"$f":"Parâmetros!$I$11","v":121},{"$f":"Parâmetros!$J$11","v":360},null,null,{"$f":"Parâmetros!$S$11","v":0},"SIM",3.3799999999999997E-2,"SIM"]
[78,9.5271999999999996E-3,null,{"$f":"Simulador!C93","v":60},"2031-04-02","1900-02-10",{"$f":"VLOOKUP(F62&'Simulador Bradesco'!$I$13,$A$2:$B$600,2,FALSE)","v":2.1890000000000001E-4},{"$f":"Simulador!A93","v":"2031-04-02"},null,null,null,{"$f":"IF(Simulador!A92=\"\",Simulador!$C$8,Simulador!A92)","v":"2031-03-02"},{"$f":"IF(Simulador!Q92=\"\",0,Simulador!Q92*-1)","v":-10409.074709734194},{"$f":"Parâmetros!$D$22&Parâmetros!C7&Parâmetros!$D$2&Parâmetros!$G$26","v":"Repasse/AquisiçãoLOTESACPRIVATE"},{"$f":"Parâmetros!G7","v":0.2},{"$f":"Parâmetros!$E$7","v":0.7},null,{"$f":"Parâmetros!$L$7","v":3400},{"$f":"Parâmetros!$I$7","v":121},{"$f":"Parâmetros!$J$7","v":240},null,null,{"$f":"Parâmetros!$T$7","v":0.1399},"SIM",3.3799999999999997E-2,"SIM"]
[79,9.5271999999999996E-3,null,{"$f":"Simulador!C94","v":61},"2031-05-02","1900-02-10",{"$f":"VLOOKUP(F63&'Simulador Bradesco'!$I$13,$A$2:$B$600,2,FALSE)","v":2.1890000000000001E-4},{"$f":"Simulador!A94","v":"2031-05-02"},null,null,null,{"$f":"IF(Simulador!A93=\"\",Simulador!$C$8,Simulador!A93)","v":"2031-04-02"},{"$f":"IF(Simulador!Q93=\"\",0,Simulador!Q93*-1)","v":-10409.007116752757},null,{"$f":"Parâmetros!G8","v":0.35},{"$f":"Parâmetros!$E$8","v":0.8},null,{"$f":"Parâmetros!$L$8","v":1021.25},{"$f":"Parâmetros!$I$8","v":121},{"$f":"Parâmetros!$J$8","v":420},null,null,{"$f":"Parâmetros!$T$8","v":0},"NÃO",0,"SIM"]
[80,9.5271999999999996E-3,null,{"$f":"Simulador!C95","v":62},"2031-06-02","1900-02-10",{"$f":"VLOOKUP(F64&'Simulador Bradesco'!$I$13,$A$2:$B$600,2,FALSE)","v":2.1890000000000001E-4},{"$f":"Simulador!A95","v":"2031-06-02"},null,null,null,{"$f":"IF(Simulador!A94=\"\",Simulador!$C$8,Simulador!A94)","v":"2031-05-02"},{"$f":"IF(Simulador!Q94=\"\",0,Simulador!Q94*-1)","v":-10408.938867183298},{"$f":"Parâmetros!$D$22&Parâmetros!C9&Parâmetros!$D$2&Parâmetros!$G$26","v":"Repasse/AquisiçãoRESIDENCIAL > 225SACPRIVATE"},{"$f":"Parâmetros!G9","v":0.35},{"$f":"Parâmetros!$E$9","v":0.8},null,{"$f":"Parâmetros!$L$9","v":2114.0300000000002},{"$f":"Parâmetros!$I$9","v":121},{"$f":"Parâmetros!$J$9","v":420},null,null,{"$f":"Parâmetros!$T$9","v":0.123},"NÃO",0,"SIM"]
["18PRIME",1.026E-4,null,{"$f":"Simulador!C96","v":63},"2031-07-02","1900-02-10",{"$f":"VLOOKUP(F65&'Simulador Bradesco'!$I$13,$A$2:$B$600,2,FALSE)","v":2.1890000000000001E-4},{"$f":"Simulador!A96","v":"2031-07-02"},null,null,null,{"$f":"IF(Simulador!A95=\"\",Simulador!$C$8,Simulador!A95)","v":"2031-06-02"},{"$f":"IF(Simulador!Q95=\"\",0,Simulador!Q95*-1)","v":-10408.869954647822},{"$f":"Parâmetros!$D$22&Parâmetros!C10&Parâmetros!$D$2&Parâmetros!$G$26","v":"Repasse/AquisiçãoRESIDENCIALSACPRIVATE"},{"$f":"Parâmetros!G10","v":0.35},{"$f":"Parâmetros!$E$10","v":0.9},null,{"$f":"Parâmetros!$L$10","v":2114.0300000000002},{"$f":"Parâmetros!$I$10","v":121},{"$f":"Parâmetros!$J$10","v":420},null,null,{"$f":"Parâmetros!$T$10","v":0.123},"NÃO",0,"SIM"]
["19PRIME",1.026E-4,null,{"$f":"Simulador!C97","v":64},"2031-08-02","1900-02-10",{"$f":"VLOOKUP(F66&'Simulador Bradesco'!$I$13,$A$2:$B$600,2,FALSE)","v":2.1890000000000001E-4},{"$f":"Simulador!A97","v":"2031-08-02"},null,null,null,{"$f":"IF(Simulador!A96=\"\",Simulador!$C$8,Simulador!A96)","v":"2031-07-02"},{"$f":"IF(Simulador!Q96=\"\",0,Simulador!Q96*-1)","v":-10408.800372706375},{"$f":"Parâmetros!$D$22&Parâmetros!C11&Parâmetros!$D$2&Parâmetros!$G$26","v":"Repasse/AquisiçãoCOMERCIALSACPRIVATE"},{"$f":"Parâmetros!G11","v":0.35},{"$f":"Parâmetros!$E$11","v":0.8},null,{"$f":"Parâmetros!$L$11","v":3400},{"$f":"Parâmetros!$I$11","v":121},{"$f":"Parâmetros!$J$11","v":360},null,null,{"$f":"Parâmetros!$T$11","v":0},"SIM",3.3799999999999997E-2,"SIM"]
["20PRIME",1.026E-4,null,{"$f":"Simulador!C98","v":65},{"$f":"H67","v":"2031-09-02"},"1900-02-10",{"$f":"VLOOKUP(F67&'Simulador Bradesco'!$I$13,$A$2:$B$600,2,FALSE)","v":2.1890000000000001E-4},{"$f":"Simulador!A98","v":"2031-09-02"},null,null,null,{"$f":"IF(Simulador!A97=\"\",Simulador!$C$8,Simulador!A97)","v":"2031-08-02"},{"$f":"IF(Simulador!Q97=\"\",0,Simulador!Q97*-1)","v":-10408.730114856449},{"$f":"Parâmetros!$D$22&Parâmetros!C7&Parâmetros!$D$3&Parâmetros!$G$26","v":"Repasse/AquisiçãoLOTEPRICEPRIVATE"},{"$f":"Parâmetros!H7","v":0.15},{"$f":"Parâmetros!$F$7","v":0.7},null,{"$f":"Parâmetros!$L$7","v":3400},{"$f":"Parâmetros!$I$7","v":121},{"$f":"Parâmetros!$J$7","v":240},null,null,{"$f":"Parâmetros!$T$7","v":0.1399},"SIM",3.3799999999999997E-2,"SIM"]
["21PRIME",1.105E-4,null,{"$f":"Simulador!C99","v":66},"2031-10-02",{"$f":"ROUNDDOWN(_xlfn.DAYS(E68,$B$1)/365,0)","v":"1900-02-11"},{"$f":"VLOOKUP(F68&'Simulador Bradesco'!$I$13,$A$2:$B$600,2,FALSE)","v":3.1040000000000001E-4},{"$f":"Simulador!A99","v":"2031-10-02"},null,null,null,{"$f":"IF(Simulador!A98=\"\",Simulador!$C$8,Simulador!A98)","v":"2031-09-02"},{"$f":"IF(Simulador!Q98=\"\",0,Simulador!Q98*-1)","v":-10408.659174532371},null,{"$f":"Parâmetros!H8","v":0.25},{"$f":"Parâmetros!$F$8","v":0.8},null,{"$f":"Parâmetros!$L$8","v":1021.25},{"$f":"Parâmetros!$I$8","v":121},{"$f":"Parâmetros!$J$8","v":420},null,null,{"$f":"Parâmetros!$T$8","v":0},"NÃO",0,"SIM"]
["22PRIME",1.105E-4,null,{"$f":"Simulador!C100","v":67},"2031-11-02","1900-02-11",{"$f":"VLOOKUP(F69&'Simulador Bradesco'!$I$13,$A$2:$B$600,2,FALSE)","v":3.1040000000000001E-4},{"$f":"Simulador!A100","v":"2031-11-02"},null,null,null,{"$f":"IF(Simulador!A99=\"\",Simulador!$C$8,Simulador!A99)","v":"2031-10-02"},{"$f":"IF(Simulador!Q99=\"\",0,Simulador!Q99*-1)","v":-10500.815615494494},{"$f":"Parâmetros!$D$22&Parâmetros!C9&Parâmetros!$D$3&Parâmetros!$G$26","v":"Repasse/AquisiçãoRESIDENCIAL > 225PRICEPRIVATE"},{"$f":"Parâmetros!H9","v":0.25},{"$f":"Parâmetros!$F$9","v":0.8},null,{"$f":"Parâmetros!$L$9","v":2114.0300000000002},{"$f":"Parâmetros!$I$9","v":121},{"$f":"Parâmetros!$J$9","v":420},null,null,{"$f":"Parâmetros!$T$9","v":0.123},"NÃO",0,"SIM"]
["23PRIME",1.105E-4,null,{"$f":"Simulador!C101","v":68},"2031-12-02","1900-02-11",{"$f":"VLOOKUP(F70&'Simulador Bradesco'!$I$13,$A$2:$B$600,2,FALSE)","v":3.1040000000000001E-4},{"$f":"Simulador!A101","v":"2031-12-02"},null,null,null,{"$f":"IF(Simulador!A100=\"\",Simulador!$C$8,Simulador!A100)","v":"2031-11-02"},{"$f":"IF(Simulador!Q100=\"\",0,Simulador!Q100*-1)","v":-10500.713058391339},{"$f":"Parâmetros!$D$22&Parâmetros!C10&Parâmetros!$D$3&Parâmetros!$G$26","v":"Repasse/AquisiçãoRESIDENCIALPRICEPRIVATE"},{"$f":"Parâmetros!H10","v":0.25},{"$f":"Parâmetros!$F$10","v":0.8},null,{"$f":"Parâmetros!$L$10","v":2114.0300000000002},{"$f":"Parâmetros!$I$10","v":121},{"$f":"Parâmetros!$J$10","v":420},null,null,{"$f":"Parâmetros!$T$10","v":0.123},"NÃO",0,"SIM"]
["24PRIME",1.167E-4,null,{"$f":"Simulador!C102","v":69},"2032-01-02","1900-02-11",{"$f":"VLOOKUP(F71&'Simulador Bradesco'!$I$13,$A$2:$B$600,2,FALSE)","v":3.1040000000000001E-4},{"$f":"Simulador!A102","v":"2032-01-02"},null,null,null,{"$f":"IF(Simulador!A101=\"\",Simulador!$C$8,Simulador!A101)","v":"2031-12-02"},{"$f":"IF(Simulador!Q101=\"\",0,Simulador!Q101*-1)","v":-10500.609505063961},{"$f":"Parâmetros!$D$22&Parâmetros!C11&Parâmetros!$D$3&Parâmetros!$G$26","v":"Repasse/AquisiçãoCOMERCIALPRICEPRIVATE"},{"$f":"Parâmetros!H11","v":0.25},{"$f":"Parâmetros!$F$11","v":0.8},null,{"$f":"Parâmetros!$L$11","v":3400},{"$f":"Parâmetros!$I$11","v":121},{"$f":"Parâmetros!$J$11","v":360},null,null,{"$f":"Parâmetros!$T$11","v":0},"SIM",3.3799999999999997E-2,"SIM"]
["25PRIME",1.167E-4,null,{"$f":"Simulador!C103","v":70},"2032-02-02","1900-02-11",{"$f":"VLOOKUP(F72&'Simulador Bradesco'!$I$13,$A$2:$B$600,2,FALSE)","v":3.1040000000000001E-4},{"$f":"Simulador!A103","v":"2032-02-02"},null,null,null,{"$f":"IF(Simulador!A102=\"\",Simulador!$C$8,Simulador!A102)","v":"2032-01-02"},{"$f":"IF(Simulador!Q102=\"\",0,Simulador!Q102*-1)","v":-10500.504945835188}]
["26PRIME",1.167E-4,null,{"$f":"Simulador!C104","v":71},"2032-03-02","1900-02-11",{"$f":"VLOOKUP(F73&'Simulador Bradesco'!$I$13,$A$2:$B$600,2,FALSE)","v":3.1040000000000001E-4},{"$f":"Simulador!A104","v":"2032-03-02"},null,null,null,{"$f":"IF(Simulador!A103=\"\",Simulador!$C$8,Simulador!A103)","v":"2032-02-02"},{"$f":"IF(Simulador!Q103=\"\",0,Simulador!Q103*-1)","v":-10500.399370933845}]
["27PRIME",1.2760000000000001E-4,null,{"$f":"Simulador!C105","v":72},"2032-04-02","1900-02-11",{"$f":"VLOOKUP(F74&'Simulador Bradesco'!$I$13,$A$2:$B$600,2,FALSE)","v":3.1040000000000001E-4},{"$f":"Simulador!A105","v":"2032-04-02"},null,null,null,{"$f":"IF(Simulador!A104=\"\",Simulador!$C$8,Simulador!A104)","v":"2032-03-02"},{"$f":"IF(Simulador!Q104=\"\",0,Simulador!Q104*-1)","v":-10500.292770493843}]
["28PRIME",1.2760000000000001E-4,null,{"$f":"Simulador!C106","v":73},"2032-05-02","1900-02-11",{"$f":"VLOOKUP(F75&'Simulador Bradesco'!$I$13,$A$2:$B$600,2,FALSE)","v":3.1040000000000001E-4},{"$f":"Simulador!A106","v":"2032-05-02"},null,null,null,{"$f":"IF(Simulador!A105=\"\",Simulador!$C$8,Simulador!A105)","v":"2032-04-02"},{"$f":"IF(Simulador!Q105=\"\",0,Simulador!Q105*-1)","v":-10500.185134553254}]
["29PRIME",1.2760000000000001E-4,null,{"$f":"Simulador!C107","v":74},"2032-06-02","1900-02-11",{"$f":"VLOOKUP(F76&'Simulador Bradesco'!$I$13,$A$2:$B$600,2,FALSE)","v":3.1040000000000001E-4},{"$f":"Simulador!A107","v":"2032-06-02"},null,null,null,{"$f":"IF(Simulador!A106=\"\",Simulador!$C$8,Simulador!A106)","v":"2032-05-02"},{"$f":"IF(Simulador!Q106=\"\",0,Simulador!Q106*-1)","v":-10500.076453053382}]
["30PRIME",1.4080000000000001E-4,null,{"$f":"Simulador!C108","v":75},"2032-07-02","1900-02-11",{"$f":"VLOOKUP(F77&'Simulador Bradesco'!$I$13,$A$2:$B$600,2,FALSE)","v":3.1040000000000001E-4},{"$f":"Simulador!A108","v":"2032-07-02"},null,null,null,{"$f":"IF(Simulador!A107=\"\",Simulador!$C$8,Simulador!A107)","v":"2032-06-02"},{"$f":"IF(Simulador!Q107=\"\",0,Simulador!Q107*-1)","v":-10499.96671583782}]
["31PRIME",1.4080000000000001E-4,null,{"$f":"Simulador!C109","v":76},"2032-08-02","1900-02-11",{"$f":"VLOOKUP(F78&'Simulador Bradesco'!$I$13,$A$2:$B$600,2,FALSE)","v":3.1040000000000001E-4},{"$f":"Simulador!A109","v":"2032-08-02"},null,null,null,{"$f":"IF(Simulador!A108=\"\",Simulador!$C$8,Simulador!A108)","v":"2032-07-02"},{"$f":"IF(Simulador!Q108=\"\",0,Simulador!Q108*-1)","v":-10499.855912651507}]
["32PRIME",1.4080000000000001E-4,null,{"$f":"Simulador!C110","v":77},"2032-09-02","1900-02-11",{"$f":"VLOOKUP(F79&'Simulador Bradesco'!$I$13,$A$2:$B$600,2,FALSE)","v":3.1040000000000001E-4},{"$f":"Simulador!A110","v":"2032-09-02"},null,null,null,{"$f":"IF(Simulador!A109=\"\",Simulador!$C$8,Simulador!A109)","v":"2032-08-02"},{"$f":"IF(Simulador!Q109=\"\",0,Simulador!Q109*-1)","v":-10499.744033139761}]
["33PRIME",1.5349999999999999E-4,null,{"$f":"Simulador!C111","v":78},"2032-10-02","1900-02-12",{"$f":"VLOOKUP(F80&'Simulador Bradesco'!$I$13,$A$2:$B$600,2,FALSE)","v":3.1040000000000001E-4},{"$f":"Simulador!A111","v":"2032-10-02"},null,null,null,{"$f":"IF(Simulador!A110=\"\",Simulador!$C$8,Simulador!A110)","v":"2032-09-02"},{"$f":"IF(Simulador!Q110=\"\",0,Simulador!Q110*-1)","v":-10499.631066847325}]
["34PRIME",1.5349999999999999E-4,null,{"$f":"Simulador!C112","v":79},"2032-11-02","1900-02-12",{"$f":"VLOOKUP(F81&'Simulador Bradesco'!$I$13,$A$2:$B$600,2,FALSE)","v":3.1040000000000001E-4},{"$f":"Simulador!A112","v":"2032-11-02"},null,null,null,{"$f":"IF(Simulador!A111=\"\",Simulador!$C$8,Simulador!A111)","v":"2032-10-02"},{"$f":"IF(Simulador!Q111=\"\",0,Simulador!Q111*-1)","v":-10499.51700321737}]
["35PRIME",1.5349999999999999E-4,null,{"$f":"Simulador!C113","v":80},"2032-12-02","1900-02-12",{"$f":"VLOOKUP(F82&'Simulador Bradesco'!$I$13,$A$2:$B$600,2,FALSE)","v":3.1040000000000001E-4},{"$f":"Simulador!A113","v":"2032-12-02"},null,null,null,{"$f":"IF(Simulador!A112=\"\",Simulador!$C$8,Simulador!A112)","v":"2032-11-02"},{"$f":"IF(Simulador!Q112=\"\",0,Simulador!Q112*-1)","v":-10499.401831590527}]
["36PRIME",1.7760000000000001E-4,null,{"$f":"Simulador!C114","v":81},"2033-01-02","1900-02-12",{"$f":"VLOOKUP(F83&'Simulador Bradesco'!$I$13,$A$2:$B$600,2,FALSE)","v":3.1040000000000001E-4},{"$f":"Simulador!A114","v":"2033-01-02"},null,null,null,{"$f":"IF(Simulador!A113=\"\",Simulador!$C$8,Simulador!A113)","v":"2032-12-02"},{"$f":"IF(Simulador!Q113=\"\",0,Simulador!Q113*-1)","v":-10499.285541203881}]
["37PRIME",1.7760000000000001E-4,null,{"$f":"Simulador!C115","v":82},"2033-02-02","1900-02-12",{"$f":"VLOOKUP(F84&'Simulador Bradesco'!$I$13,$A$2:$B$600,2,FALSE)","v":3.1040000000000001E-4},{"$f":"Simulador!A115","v":"2033-02-02"},null,null,null,{"$f":"IF(Simulador!A114=\"\",Simulador!$C$8,Simulador!A114)","v":"2033-01-02"},{"$f":"IF(Simulador!Q114=\"\",0,Simulador!Q114*-1)","v":-10499.168121189969}]
["38PRIME",1.7760000000000001E-4,null,{"$f":"Simulador!C116","v":83},"2033-03-02","1900-02-12",{"$f":"VLOOKUP(F85&'Simulador Bradesco'!$I$13,$A$2:$B$600,2,FALSE)","v":3.1040000000000001E-4},{"$f":"Simulador!A116","v":"2033-03-02"},null,null,null,{"$f":"IF(Simulador!A115=\"\",Simulador!$C$8,Simulador!A115)","v":"2033-02-02"},{"$f":"IF(Simulador!Q115=\"\",0,Simulador!Q115*-1)","v":-10499.049560575761}]
["39PRIME",2.1890000000000001E-4,null,{"$f":"Simulador!C117","v":84},"2033-04-02","1900-02-12",{"$f":"VLOOKUP(F86&'Simulador Bradesco'!$I$13,$A$2:$B$600,2,FALSE)","v":3.1040000000000001E-4},{"$f":"Simulador!A117","v":"2033-04-02"},null,null,null,{"$f":"IF(Simulador!A116=\"\",Simulador!$C$8,Simulador!A116)","v":"2033-03-02"},{"$f":"IF(Simulador!Q116=\"\",0,Simulador!Q116*-1)","v":-10498.929848281639}]
["40PRIME",2.1890000000000001E-4,null,{"$f":"Simulador!C118","v":85},"2033-05-02","1900-02-12",{"$f":"VLOOKUP(F87&'Simulador Bradesco'!$I$13,$A$2:$B$600,2,FALSE)","v":3.1040000000000001E-4},{"$f":"Simulador!A118","v":"2033-05-02"},null,null,null,{"$f":"IF(Simulador!A117=\"\",Simulador!$C$8,Simulador!A117)","v":"2033-04-02"},{"$f":"IF(Simulador!Q117=\"\",0,Simulador!Q117*-1)","v":-10498.808973120356}]
["41PRIME",2.1890000000000001E-4,null,{"$f":"Simulador!C119","v":86},"2033-06-02","1900-02-12",{"$f":"VLOOKUP(F88&'Simulador Bradesco'!$I$13,$A$2:$B$600,2,FALSE)","v":3.1040000000000001E-4},{"$f":"Simulador!A119","v":"2033-06-02"},null,null,null,{"$f":"IF(Simulador!A118=\"\",Simulador!$C$8,Simulador!A118)","v":"2033-05-02"},{"$f":"IF(Simulador!Q118=\"\",0,Simulador!Q118*-1)","v":-10498.686923796}]
["42PRIME",3.1040000000000001E-4,null,{"$f":"Simulador!C120","v":87},"2033-07-02","1900-02-12",{"$f":"VLOOKUP(F89&'Simulador Bradesco'!$I$13,$A$2:$B$600,2,FALSE)","v":3.1040000000000001E-4},{"$f":"Simulador!A120","v":"2033-07-02"},null,null,null,{"$f":"IF(Simulador!A119=\"\",Simulador!$C$8,Simulador!A119)","v":"2033-06-02"},{"$f":"IF(Simulador!Q119=\"\",0,Simulador!Q119*-1)","v":-10498.563688902925}]
["43PRIME",3.1040000000000001E-4,null,{"$f":"Simulador!C121","v":88},"2033-08-02","1900-02-12",{"$f":"VLOOKUP(F90&'Simulador Bradesco'!$I$13,$A$2:$B$600,2,FALSE)","v":3.1040000000000001E-4},{"$f":"Simulador!A121","v":"2033-08-02"},null,null,null,{"$f":"IF(Simulador!A120=\"\",Simulador!$C$8,Simulador!A120)","v":"2033-07-02"},{"$f":"IF(Simulador!Q120=\"\",0,Simulador!Q120*-1)","v":-10498.439256924694}]
["44PRIME",3.1040000000000001E-4,null,{"$f":"Simulador!C122","v":89},"2033-09-02","1900-02-12",{"$f":"VLOOKUP(F91&'Simulador Bradesco'!$I$13,$A$2:$B$600,2,FALSE)","v":3.1040000000000001E-4},{"$f":"Simulador!A122","v":"2033-09-02"},null,null,null,{"$f":"IF(Simulador!A121=\"\",Simulador!$C$8,Simulador!A121)","v":"2033-08-02"},{"$f":"IF(Simulador!Q121=\"\",0,Simulador!Q121*-1)","v":-10498.313616233005}]
["45PRIME",4.2620000000000001E-4,null,{"$f":"Simulador!C123","v":90},"2033-10-02","1900-02-13",{"$f":"VLOOKUP(F92&'Simulador Bradesco'!$I$13,$A$2:$B$600,2,FALSE)","v":3.1040000000000001E-4},{"$f":"Simulador!A123","v":"2033-10-02"},null,null,null,{"$f":"IF(Simulador!A122=\"\",Simulador!$C$8,Simulador!A122)","v":"2033-09-02"},{"$f":"IF(Simulador!Q122=\"\",0,Simulador!Q122*-1)","v":-10498.186755086597}]
["46PRIME",4.2620000000000001E-4,null,{"$f":"Simulador!C124","v":91},"2033-11-02","1900-02-13",{"$f":"VLOOKUP(F93&'Simulador Bradesco'!$I$13,$A$2:$B$600,2,FALSE)","v":3.1040000000000001E-4},{"$f":"Simulador!A124","v":"2033-11-02"},null,null,null,{"$f":"IF(Simulador!A123=\"\",Simulador!$C$8,Simulador!A123)","v":"2033-10-02"},{"$f":"IF(Simulador!Q123=\"\",0,Simulador!Q123*-1)","v":-10498.058661630159}]
["47PRIME",4.2620000000000001E-4,null,{"$f":"Simulador!C125","v":92},"2033-12-02","1900-02-13",{"$f":"VLOOKUP(F94&'Simulador Bradesco'!$I$13,$A$2:$B$600,2,FALSE)","v":3.1040000000000001E-4},{"$f":"Simulador!A125","v":"2033-12-02"},null,null,null,{"$f":"IF(Simulador!A124=\"\",Simulador!$C$8,Simulador!A124)","v":"2033-11-02"},{"$f":"IF(Simulador!Q124=\"\",0,Simulador!Q124*-1)","v":-10497.929323893215}]
["48PRIME",5.7510000000000005E-4,null,{"$f":"Simulador!C126","v":93},"2034-01-02","1900-02-13",{"$f":"VLOOKUP(F95&'Simulador Bradesco'!$I$13,$A$2:$B$600,2,FALSE)","v":3.1040000000000001E-4},{"$f":"Simulador!A126","v":"2034-01-02"},null,null,null,{"$f":"IF(Simulador!A125=\"\",Simulador!$C$8,Simulador!A125)","v":"2033-12-02"},{"$f":"IF(Simulador!Q125=\"\",0,Simulador!Q125*-1)","v":-10497.79872978901}]
["49PRIME",5.7510000000000005E-4,null,{"$f":"Simulador!C127","v":94},"2034-02-02","1900-02-13",{"$f":"VLOOKUP(F96&'Simulador Bradesco'!$I$13,$A$2:$B$600,2,FALSE)","v":3.1040000000000001E-4},{"$f":"Simulador!A127","v":"2034-02-02"},null,null,null,{"$f":"IF(Simulador!A126=\"\",Simulador!$C$8,Simulador!A126)","v":"2034-01-02"},{"$f":"IF(Simulador!Q126=\"\",0,Simulador!Q126*-1)","v":-10497.666867113388}]
["50PRIME",5.7510000000000005E-4,null,{"$f":"Simulador!C128","v":95},"2034-03-02","1900-02-13",{"$f":"VLOOKUP(F97&'Simulador Bradesco'!$I$13,$A$2:$B$600,2,FALSE)","v":3.1040000000000001E-4},{"$f":"Simulador!A128","v":"2034-03-02"},null,null,null,{"$f":"IF(Simulador!A127=\"\",Simulador!$C$8,Simulador!A127)","v":"2034-02-02"},{"$f":"IF(Simulador!Q127=\"\",0,Simulador!Q127*-1)","v":-10497.533723543633}]
["51PRIME",7.3680000000000002E-4,null,{"$f":"Simulador!C129","v":96},"2034-04-02","1900-02-13",{"$f":"VLOOKUP(F98&'Simulador Bradesco'!$I$13,$A$2:$B$600,2,FALSE)","v":3.1040000000000001E-4},{"$f":"Simulador!A129","v":"2034-04-02"},null,null,null,{"$f":"IF(Simulador!A128=\"\",Simulador!$C$8,Simulador!A128)","v":"2034-03-02"},{"$f":"IF(Simulador!Q128=\"\",0,Simulador!Q128*-1)","v":-10497.399286637334}]
["52PRIME",7.3680000000000002E-4,null,{"$f":"Simulador!C130","v":97},"2034-05-02","1900-02-13",{"$f":"VLOOKUP(F99&'Simulador Bradesco'!$I$13,$A$2:$B$600,2,FALSE)","v":3.1040000000000001E-4},{"$f":"Simulador!A130","v":"2034-05-02"},null,null,null,{"$f":"IF(Simulador!A129=\"\",Simulador!$C$8,Simulador!A129)","v":"2034-04-02"},{"$f":"IF(Simulador!Q129=\"\",0,Simulador!Q129*-1)","v":-10497.263543831214}]
["53PRIME",7.3680000000000002E-4,null,{"$f":"Simulador!C131","v":98},"2034-06-02","1900-02-13",{"$f":"VLOOKUP(F100&'Simulador Bradesco'!$I$13,$A$2:$B$600,2,FALSE)","v":3.1040000000000001E-4},{"$f":"Simulador!A131","v":"2034-06-02"},null,null,null,{"$f":"IF(Simulador!A130=\"\",Simulador!$C$8,Simulador!A130)","v":"2034-05-02"},{"$f":"IF(Simulador!Q130=\"\",0,Simulador!Q130*-1)","v":-10497.12648243996}]
["54PRIME",9.0720000000000004E-4,null,{"$f":"Simulador!C132","v":99},"2034-07-02","1900-02-13",{"$f":"VLOOKUP(F101&'Simulador Bradesco'!$I$13,$A$2:$B$600,2,FALSE)","v":3.1040000000000001E-4},{"$f":"Simulador!A132","v":"2034-07-02"},null,null,null,{"$f":"IF(Simulador!A131=\"\",Simulador!$C$8,Simulador!A131)","v":"2034-06-02"},{"$f":"IF(Simulador!Q131=\"\",0,Simulador!Q131*-1)","v":-10496.988089655037}]
["55PRIME",9.0720000000000004E-4,null,{"$f":"Simulador!C133","v":100},"2034-08-02","1900-02-13",{"$f":"VLOOKUP(F102&'Simulador Bradesco'!$I$13,$A$2:$B$600,2,FALSE)","v":3.1040000000000001E-4},{"$f":"Simulador!A133","v":"2034-08-02"},null,null,null,{"$f":"IF(Simulador!A132=\"\",Simulador!$C$8,Simulador!A132)","v":"2034-07-02"},{"$f":"IF(Simulador!Q132=\"\",0,Simulador!Q132*-1)","v":-10496.848352543484}]
["56PRIME",9.0720000000000004E-4,null,{"$f":"Simulador!C134","v":101},"2034-09-02","1900-02-13",{"$f":"VLOOKUP(F103&'Simulador Bradesco'!$I$13,$A$2:$B$600,2,FALSE)","v":3.1040000000000001E-4},{"$f":"Simulador!A134","v":"2034-09-02"},null,null,null,{"$f":"IF(Simulador!A133=\"\",Simulador!$C$8,Simulador!A133)","v":"2034-08-02"},{"$f":"IF(Simulador!Q133=\"\",0,Simulador!Q133*-1)","v":-10496.707258046717}]
["57PRIME",1.1075E-3,null,{"$f":"Simulador!C135","v":102},"2034-10-02","1900-02-14",{"$f":"VLOOKUP(F104&'Simulador Bradesco'!$I$13,$A$2:$B$600,2,FALSE)","v":4.2620000000000001E-4},{"$f":"Simulador!A135","v":"2034-10-02"},null,null,null,{"$f":"IF(Simulador!A134=\"\",Simulador!$C$8,Simulador!A134)","v":"2034-09-02"},{"$f":"IF(Simulador!Q134=\"\",0,Simulador!Q134*-1)","v":-10496.564792979301}]
["58PRIME",1.1075E-3,null,{"$f":"Simulador!C136","v":103},"2034-11-02","1900-02-14",{"$f":"VLOOKUP(F105&'Simulador Bradesco'!$I$13,$A$2:$B$600,2,FALSE)","v":4.2620000000000001E-4},{"$f":"Simulador!A136","v":"2034-11-02"},null,null,null,{"$f":"IF(Simulador!A135=\"\",Simulador!$C$8,Simulador!A135)","v":"2034-10-02"},{"$f":"IF(Simulador!Q135=\"\",0,Simulador!Q135*-1)","v":-10611.502863870726}]
["59PRIME",1.1075E-3,null,{"$f":"Simulador!C137","v":104},"2034-12-02","1900-02-14",{"$f":"VLOOKUP(F106&'Simulador Bradesco'!$I$13,$A$2:$B$600,2,FALSE)","v":4.2620000000000001E-4},{"$f":"Simulador!A137","v":"2034-12-02"},null,null,null,{"$f":"IF(Simulador!A136=\"\",Simulador!$C$8,Simulador!A136)","v":"2034-11-02"},{"$f":"IF(Simulador!Q136=\"\",0,Simulador!Q136*-1)","v":-10611.303430997224}]
["60PRIME",1.3538999999999999E-3,null,{"$f":"Simulador!C138","v":105},"2035-01-02","1900-02-14",{"$f":"VLOOKUP(F107&'Simulador Bradesco'!$I$13,$A$2:$B$600,2,FALSE)","v":4.2620000000000001E-4},{"$f":"Simulador!A138","v":"2035-01-02"},null,null,null,{"$f":"IF(Simulador!A137=\"\",Simulador!$C$8,Simulador!A137)","v":"2034-12-02"},{"$f":"IF(Simulador!Q137=\"\",0,Simulador!Q137*-1)","v":-10611.102060862888}]
["61PRIME",1.3538999999999999E-3,null,{"$f":"Simulador!C139","v":106},"2035-02-02","1900-02-14",{"$f":"VLOOKUP(F108&'Simulador Bradesco'!$I$13,$A$2:$B$600,2,FALSE)","v":4.2620000000000001E-4},{"$f":"Simulador!A139","v":"2035-02-02"},null,null,null,{"$f":"IF(Simulador!A138=\"\",Simulador!$C$8,Simulador!A138)","v":"2035-01-02"},{"$f":"IF(Simulador!Q138=\"\",0,Simulador!Q138*-1)","v":-10610.898734649454}]
["62PRIME",1.3538999999999999E-3,null,{"$f":"Simulador!C140","v":107},"2035-03-02","1900-02-14",{"$f":"VLOOKUP(F109&'Simulador Bradesco'!$I$13,$A$2:$B$600,2,FALSE)","v":4.2620000000000001E-4},{"$f":"Simulador!A140","v":"2035-03-02"},null,null,null,{"$f":"IF(Simulador!A139=\"\",Simulador!$C$8,Simulador!A139)","v":"2035-02-02"},{"$f":"IF(Simulador!Q139=\"\",0,Simulador!Q139*-1)","v":-10610.693433355866}]
["63PRIME",1.7451999999999999E-3,null,{"$f":"Simulador!C141","v":108},"2035-04-02","1900-02-14",{"$f":"VLOOKUP(F110&'Simulador Bradesco'!$I$13,$A$2:$B$600,2,FALSE)","v":4.2620000000000001E-4},{"$f":"Simulador!A141","v":"2035-04-02"},null,null,null,{"$f":"IF(Simulador!A140=\"\",Simulador!$C$8,Simulador!A140)","v":"2035-03-02"},{"$f":"IF(Simulador!Q140=\"\",0,Simulador!Q140*-1)","v":-10610.486137796495}]
["64PRIME",1.7451999999999999E-3,null,{"$f":"Simulador!C142","v":109},"2035-05-02","1900-02-14",{"$f":"VLOOKUP(F111&'Simulador Bradesco'!$I$13,$A$2:$B$600,2,FALSE)","v":4.2620000000000001E-4},{"$f":"Simulador!A142","v":"2035-05-02"},null,null,null,{"$f":"IF(Simulador!A141=\"\",Simulador!$C$8,Simulador!A141)","v":"2035-04-02"},{"$f":"IF(Simulador!Q141=\"\",0,Simulador!Q141*-1)","v":-10610.276828599342}]
["65PRIME",1.7451999999999999E-3,null,{"$f":"Simulador!C143","v":110},"2035-06-02","1900-02-14",{"$f":"VLOOKUP(F112&'Simulador Bradesco'!$I$13,$A$2:$B$600,2,FALSE)","v":4.2620000000000001E-4},{"$f":"Simulador!A143","v":"2035-06-02"},null,null,null,{"$f":"IF(Simulador!A142=\"\",Simulador!$C$8,Simulador!A142)","v":"2035-05-02"},{"$f":"IF(Simulador!Q142=\"\",0,Simulador!Q142*-1)","v":-10610.065486204236}]
["66PRIME",2.1591000000000002E-3,null,{"$f":"Simulador!C144","v":111},"2035-07-02","1900-02-14",{"$f":"VLOOKUP(F113&'Simulador Bradesco'!$I$13,$A$2:$B$600,2,FALSE)","v":4.2620000000000001E-4},{"$f":"Simulador!A144","v":"2035-07-02"},null,null,null,{"$f":"IF(Simulador!A143=\"\",Simulador!$C$8,Simulador!A143)","v":"2035-06-02"},{"$f":"IF(Simulador!Q143=\"\",0,Simulador!Q143*-1)","v":-10609.852090860995}]
["67PRIME",2.1591000000000002E-3,null,{"$f":"Simulador!C145","v":112},"2035-08-02","1900-02-14",{"$f":"VLOOKUP(F114&'Simulador Bradesco'!$I$13,$A$2:$B$600,2,FALSE)","v":4.2620000000000001E-4},{"$f":"Simulador!A145","v":"2035-08-02"},null,null,null,{"$f":"IF(Simulador!A144=\"\",Simulador!$C$8,Simulador!A144)","v":"2035-07-02"},{"$f":"IF(Simulador!Q144=\"\",0,Simulador!Q144*-1)","v":-10609.636622627595}]
["68PRIME",2.1591000000000002E-3,null,{"$f":"Simulador!C146","v":113},"2035-09-02","1900-02-14",{"$f":"VLOOKUP(F115&'Simulador Bradesco'!$I$13,$A$2:$B$600,2,FALSE)","v":4.2620000000000001E-4},{"$f":"Simulador!A146","v":"2035-09-02"},null,null,null,{"$f":"IF(Simulador!A145=\"\",Simulador!$C$8,Simulador!A145)","v":"2035-08-02"},{"$f":"IF(Simulador!Q145=\"\",0,Simulador!Q145*-1)","v":-10609.419061368289}]
["69PRIME",2.9221E-3,null,{"$f":"Simulador!C147","v":114},"2035-10-02","1900-02-15",{"$f":"VLOOKUP(F116&'Simulador Bradesco'!$I$13,$A$2:$B$600,2,FALSE)","v":4.2620000000000001E-4},{"$f":"Simulador!A147","v":"2035-10-02"},null,null,null,{"$f":"IF(Simulador!A146=\"\",Simulador!$C$8,Simulador!A146)","v":"2035-09-02"},{"$f":"IF(Simulador!Q146=\"\",0,Simulador!Q146*-1)","v":-10609.199386751745}]
["70PRIME",2.9221E-3,null,{"$f":"Simulador!C148","v":115},"2035-11-02","1900-02-15",{"$f":"VLOOKUP(F117&'Simulador Bradesco'!$I$13,$A$2:$B$600,2,FALSE)","v":4.2620000000000001E-4},{"$f":"Simulador!A148","v":"2035-11-02"},null,null,null,{"$f":"IF(Simulador!A147=\"\",Simulador!$C$8,Simulador!A147)","v":"2035-10-02"},{"$f":"IF(Simulador!Q147=\"\",0,Simulador!Q147*-1)","v":-10608.977578249125}]
["71PRIME",2.9221E-3,null,{"$f":"Simulador!C149","v":116},"2035-12-02","1900-02-15",{"$f":"VLOOKUP(F118&'Simulador Bradesco'!$I$13,$A$2:$B$600,2,FALSE)","v":4.2620000000000001E-4},{"$f":"Simulador!A149","v":"2035-12-02"},null,null,null,{"$f":"IF(Simulador!A148=\"\",Simulador!$C$8,Simulador!A148)","v":"2035-11-02"},{"$f":"IF(Simulador!Q148=\"\",0,Simulador!Q148*-1)","v":-10608.753615132186}]
["72PRIME",3.9290000000000002E-3,null,{"$f":"Simulador!C150","v":117},"2036-01-02","1900-02-15",{"$f":"VLOOKUP(F119&'Simulador Bradesco'!$I$13,$A$2:$B$600,2,FALSE)","v":4.2620000000000001E-4},{"$f":"Simulador!A150","v":"2036-01-02"},null,null,null,{"$f":"IF(Simulador!A149=\"\",Simulador!$C$8,Simulador!A149)","v":"2035-12-02"},{"$f":"IF(Simulador!Q149=\"\",0,Simulador!Q149*-1)","v":-10608.527476471323}]
["73PRIME",3.9290000000000002E-3,null,{"$f":"Simulador!C151","v":118},"2036-02-02","1900-02-15",{"$f":"VLOOKUP(F120&'Simulador Bradesco'!$I$13,$A$2:$B$600,2,FALSE)","v":4.2620000000000001E-4},{"$f":"Simulador!A151","v":"2036-02-02"},null,null,null,{"$f":"IF(Simulador!A150=\"\",Simulador!$C$8,Simulador!A150)","v":"2036-01-02"},{"$f":"IF(Simulador!Q150=\"\",0,Simulador!Q150*-1)","v":-10608.299141133637}]
["74PRIME",3.9290000000000002E-3,null,{"$f":"Simulador!C152","v":119},"2036-03-02","1900-02-15",{"$f":"VLOOKUP(F121&'Simulador Bradesco'!$I$13,$A$2:$B$600,2,FALSE)","v":4.2620000000000001E-4},{"$f":"Simulador!A152","v":"2036-03-02"},null,null,null,{"$f":"IF(Simulador!A151=\"\",Simulador!$C$8,Simulador!A151)","v":"2036-02-02"},{"$f":"IF(Simulador!Q151=\"\",0,Simulador!Q151*-1)","v":-10608.068587780939}]
["75PRIME",6.9794000000000002E-3,null,{"$f":"Simulador!C153","v":120},"2036-04-02","1900-02-15",{"$f":"VLOOKUP(F122&'Simulador Bradesco'!$I$13,$A$2:$B$600,2,FALSE)","v":4.2620000000000001E-4},{"$f":"Simulador!A153","v":"2036-04-02"},null,null,null,{"$f":"IF(Simulador!A152=\"\",Simulador!$C$8,Simulador!A152)","v":"2036-03-02"},{"$f":"IF(Simulador!Q152=\"\",0,Simulador!Q152*-1)","v":-10607.835794867764}]
["76PRIME",6.9794000000000002E-3,null,{"$f":"Simulador!C154","v":121},"2036-05-02","1900-02-15",{"$f":"VLOOKUP(F123&'Simulador Bradesco'!$I$13,$A$2:$B$600,2,FALSE)","v":4.2620000000000001E-4},{"$f":"Simulador!A154","v":"2036-05-02"},null,null,null,{"$f":"IF(Simulador!A153=\"\",Simulador!$C$8,Simulador!A153)","v":"2036-04-02"},{"$f":"IF(Simulador!Q153=\"\",0,Simulador!Q153*-1)","v":-10607.600740639362}]
["77PRIME",6.9794000000000002E-3,null,{"$f":"Simulador!C155","v":122},"2036-06-02","1900-02-15",{"$f":"VLOOKUP(F124&'Simulador Bradesco'!$I$13,$A$2:$B$600,2,FALSE)","v":4.2620000000000001E-4},{"$f":"Simulador!A155","v":"2036-06-02"},null,null,null,{"$f":"IF(Simulador!A154=\"\",Simulador!$C$8,Simulador!A154)","v":"2036-05-02"},{"$f":"IF(Simulador!Q154=\"\",0,Simulador!Q154*-1)","v":-10607.363403129657}]
["78PRIME",9.3326999999999993E-3,null,{"$f":"Simulador!C156","v":123},"2036-07-02","1900-02-15",{"$f":"VLOOKUP(F125&'Simulador Bradesco'!$I$13,$A$2:$B$600,2,FALSE)","v":4.2620000000000001E-4},{"$f":"Simulador!A156","v":"2036-07-02"},null,null,null,{"$f":"IF(Simulador!A155=\"\",Simulador!$C$8,Simulador!A155)","v":"2036-06-02"},{"$f":"IF(Simulador!Q155=\"\",0,Simulador!Q155*-1)","v":-10607.123760159198}]
["79PRIME",9.3326999999999993E-3,null,{"$f":"Simulador!C157","v":124},"2036-08-02","1900-02-15",{"$f":"VLOOKUP(F126&'Simulador Bradesco'!$I$13,$A$2:$B$600,2,FALSE)","v":4.2620000000000001E-4},{"$f":"Simulador!A157","v":"2036-08-02"},null,null,null,{"$f":"IF(Simulador!A156=\"\",Simulador!$C$8,Simulador!A156)","v":"2036-07-02"},{"$f":"IF(Simulador!Q156=\"\",0,Simulador!Q156*-1)","v":-10606.881789333089}]
["80PRIME",9.3326999999999993E-3,null,{"$f":"Simulador!C158","v":125},"2036-09-02","1900-02-16",{"$f":"VLOOKUP(F127&'Simulador Bradesco'!$I$13,$A$2:$B$600,2,FALSE)","v":4.2620000000000001E-4},{"$f":"Simulador!A158","v":"2036-09-02"},null,null,null,{"$f":"IF(Simulador!A157=\"\",Simulador!$C$8,Simulador!A157)","v":"2036-08-02"},{"$f":"IF(Simulador!Q157=\"\",0,Simulador!Q157*-1)","v":-10606.637468038891}]
["18EXCLUSIVE",1.037E-4,null,{"$f":"Simulador!C159","v":126},"2036-10-02","1900-02-16",{"$f":"VLOOKUP(F128&'Simulador Bradesco'!$I$13,$A$2:$B$600,2,FALSE)","v":4.2620000000000001E-4},{"$f":"Simulador!A159","v":"2036-10-02"},null,null,null,{"$f":"IF(Simulador!A158=\"\",Simulador!$C$8,Simulador!A158)","v":"2036-09-02"},{"$f":"IF(Simulador!Q158=\"\",0,Simulador!Q158*-1)","v":-10606.390773444511}]
["19EXCLUSIVE",1.037E-4,null,{"$f":"Simulador!C160","v":127},"2036-11-02","1900-02-16",{"$f":"VLOOKUP(F129&'Simulador Bradesco'!$I$13,$A$2:$B$600,2,FALSE)","v":4.2620000000000001E-4},{"$f":"Simulador!A160","v":"2036-11-02"},null,null,null,{"$f":"IF(Simulador!A159=\"\",Simulador!$C$8,Simulador!A159)","v":"2036-10-02"},{"$f":"IF(Simulador!Q159=\"\",0,Simulador!Q159*-1)","v":-10606.141682496069}]
["20EXCLUSIVE",1.037E-4,null,{"$f":"Simulador!C161","v":128},"2036-12-02","1900-02-16",{"$f":"VLOOKUP(F130&'Simulador Bradesco'!$I$13,$A$2:$B$600,2,FALSE)","v":4.2620000000000001E-4},{"$f":"Simulador!A161","v":"2036-12-02"},null,null,null,{"$f":"IF(Simulador!A160=\"\",Simulador!$C$8,Simulador!A160)","v":"2036-11-02"},{"$f":"IF(Simulador!Q160=\"\",0,Simulador!Q160*-1)","v":-10605.890171915744}]
["21EXCLUSIVE",1.1179999999999999E-4,null,{"$f":"Simulador!C162","v":129},{"$f":"H131","v":"2037-01-02"},"1900-02-16",{"$f":"VLOOKUP(F131&'Simulador Bradesco'!$I$13,$A$2:$B$600,2,FALSE)","v":4.2620000000000001E-4},{"$f":"Simulador!A162","v":"2037-01-02"},null,null,null,{"$f":"IF(Simulador!A161=\"\",Simulador!$C$8,Simulador!A161)","v":"2036-12-02"},{"$f":"IF(Simulador!Q161=\"\",0,Simulador!Q161*-1)","v":-10605.636218199597}]
["22EXCLUSIVE",1.1179999999999999E-4,null,{"$f":"Simulador!C163","v":130},"2037-02-02",{"$f":"ROUNDDOWN(_xlfn.DAYS(E132,$B$1)/365,0)","v":"1900-02-16"},{"$f":"VLOOKUP(F132&'Simulador Bradesco'!$I$13,$A$2:$B$600,2,FALSE)","v":4.2620000000000001E-4},{"$f":"Simulador!A163","v":"2037-02-02"},null,null,null,{"$f":"IF(Simulador!A162=\"\",Simulador!$C$8,Simulador!A162)","v":"2037-01-02"},{"$f":"IF(Simulador!Q162=\"\",0,Simulador!Q162*-1)","v":-10605.379797615376}]
["23EXCLUSIVE",1.1179999999999999E-4,null,{"$f":"Simulador!C164","v":131},"2037-03-02","1900-02-16",{"$f":"VLOOKUP(F133&'Simulador Bradesco'!$I$13,$A$2:$B$600,2,FALSE)","v":4.2620000000000001E-4},{"$f":"Simulador!A164","v":"2037-03-02"},null,null,null,{"$f":"IF(Simulador!A163=\"\",Simulador!$C$8,Simulador!A163)","v":"2037-02-02"},{"$f":"IF(Simulador!Q163=\"\",0,Simulador!Q163*-1)","v":-10605.120886200295}]
["24EXCLUSIVE",1.18E-4,null,{"$f":"Simulador!C165","v":132},"2037-04-02","1900-02-16",{"$f":"VLOOKUP(F134&'Simulador Bradesco'!$I$13,$A$2:$B$600,2,FALSE)","v":4.2620000000000001E-4},{"$f":"Simulador!A165","v":"2037-04-02"},null,null,null,{"$f":"IF(Simulador!A164=\"\",Simulador!$C$8,Simulador!A164)","v":"2037-03-02"},{"$f":"IF(Simulador!Q164=\"\",0,Simulador!Q164*-1)","v":-10604.8594597588}]
["25EXCLUSIVE",1.18E-4,null,{"$f":"Simulador!C166","v":133},"2037-05-02","1900-02-16",{"$f":"VLOOKUP(F135&'Simulador Bradesco'!$I$13,$A$2:$B$600,2,FALSE)","v":4.2620000000000001E-4},{"$f":"Simulador!A166","v":"2037-05-02"},null,null,null,{"$f":"IF(Simulador!A165=\"\",Simulador!$C$8,Simulador!A165)","v":"2037-04-02"},{"$f":"IF(Simulador!Q165=\"\",0,Simulador!Q165*-1)","v":-10604.595493860304}]
["26EXCLUSIVE",1.18E-4,null,{"$f":"Simulador!C167","v":134},"2037-06-02","1900-02-16",{"$f":"VLOOKUP(F136&'Simulador Bradesco'!$I$13,$A$2:$B$600,2,FALSE)","v":4.2620000000000001E-4},{"$f":"Simulador!A167","v":"2037-06-02"},null,null,null,{"$f":"IF(Simulador!A166=\"\",Simulador!$C$8,Simulador!A166)","v":"2037-05-02"},{"$f":"IF(Simulador!Q166=\"\",0,Simulador!Q166*-1)","v":-10604.328963836906}]
["27EXCLUSIVE",1.2899999999999999E-4,null,{"$f":"Simulador!C168","v":135},"2037-07-02","1900-02-16",{"$f":"VLOOKUP(F137&'Simulador Bradesco'!$I$13,$A$2:$B$600,2,FALSE)","v":4.2620000000000001E-4},{"$f":"Simulador!A168","v":"2037-07-02"},null,null,null,{"$f":"IF(Simulador!A167=\"\",Simulador!$C$8,Simulador!A167)","v":"2037-06-02"},{"$f":"IF(Simulador!Q167=\"\",0,Simulador!Q167*-1)","v":-10604.059844781081}]
["28EXCLUSIVE",1.2899999999999999E-4,null,{"$f":"Simulador!C169","v":136},"2037-08-02","1900-02-16",{"$f":"VLOOKUP(F138&'Simulador Bradesco'!$I$13,$A$2:$B$600,2,FALSE)","v":4.2620000000000001E-4},{"$f":"Simulador!A169","v":"2037-08-02"},null,null,null,{"$f":"IF(Simulador!A168=\"\",Simulador!$C$8,Simulador!A168)","v":"2037-07-02"},{"$f":"IF(Simulador!Q168=\"\",0,Simulador!Q168*-1)","v":-10603.788111543361}]
["29EXCLUSIVE",1.2899999999999999E-4,null,{"$f":"Simulador!C170","v":137},"2037-09-02","1900-02-17",{"$f":"VLOOKUP(F139&'Simulador Bradesco'!$I$13,$A$2:$B$600,2,FALSE)","v":5.7510000000000005E-4},{"$f":"Simulador!A170","v":"2037-09-02"},null,null,null,{"$f":"IF(Simulador!A169=\"\",Simulador!$C$8,Simulador!A169)","v":"2037-08-02"},{"$f":"IF(Simulador!Q169=\"\",0,Simulador!Q169*-1)","v":-10603.513738729975}]
["30EXCLUSIVE",1.4229999999999999E-4,null,{"$f":"Simulador!C171","v":138},"2037-10-02","1900-02-17",{"$f":"VLOOKUP(F140&'Simulador Bradesco'!$I$13,$A$2:$B$600,2,FALSE)","v":5.7510000000000005E-4},{"$f":"Simulador!A171","v":"2037-10-02"},null,null,null,{"$f":"IF(Simulador!A170=\"\",Simulador!$C$8,Simulador!A170)","v":"2037-09-02"},{"$f":"IF(Simulador!Q170=\"\",0,Simulador!Q170*-1)","v":-10748.32544574749}]
["31EXCLUSIVE",1.4229999999999999E-4,null,{"$f":"Simulador!C172","v":139},"2037-11-02","1900-02-17",{"$f":"VLOOKUP(F141&'Simulador Bradesco'!$I$13,$A$2:$B$600,2,FALSE)","v":5.7510000000000005E-4},{"$f":"Simulador!A172","v":"2037-11-02"},null,null,null,{"$f":"IF(Simulador!A171=\"\",Simulador!$C$8,Simulador!A171)","v":"2037-10-02"},{"$f":"IF(Simulador!Q171=\"\",0,Simulador!Q171*-1)","v":-10747.947988625023}]
["32EXCLUSIVE",1.4229999999999999E-4,null,{"$f":"Simulador!C173","v":140},"2037-12-02","1900-02-17",{"$f":"VLOOKUP(F142&'Simulador Bradesco'!$I$13,$A$2:$B$600,2,FALSE)","v":5.7510000000000005E-4},{"$f":"Simulador!A173","v":"2037-12-02"},null,null,null,{"$f":"IF(Simulador!A172=\"\",Simulador!$C$8,Simulador!A172)","v":"2037-11-02"},{"$f":"IF(Simulador!Q172=\"\",0,Simulador!Q172*-1)","v":-10747.566864941029}]
["33EXCLUSIVE",1.552E-4,null,{"$f":"Simulador!C174","v":141},"2038-01-02","1900-02-17",{"$f":"VLOOKUP(F143&'Simulador Bradesco'!$I$13,$A$2:$B$600,2,FALSE)","v":5.7510000000000005E-4},{"$f":"Simulador!A174","v":"2038-01-02"},null,null,null,{"$f":"IF(Simulador!A173=\"\",Simulador!$C$8,Simulador!A173)","v":"2037-12-02"},{"$f":"IF(Simulador!Q173=\"\",0,Simulador!Q173*-1)","v":-10747.182039079084}]
["34EXCLUSIVE",1.552E-4,null,{"$f":"Simulador!C175","v":142},"2038-02-02","1900-02-17",{"$f":"VLOOKUP(F144&'Simulador Bradesco'!$I$13,$A$2:$B$600,2,FALSE)","v":5.7510000000000005E-4},{"$f":"Simulador!A175","v":"2038-02-02"},null,null,null,{"$f":"IF(Simulador!A174=\"\",Simulador!$C$8,Simulador!A174)","v":"2038-01-02"},{"$f":"IF(Simulador!Q174=\"\",0,Simulador!Q174*-1)","v":-10746.793475076789}]
["35EXCLUSIVE",1.552E-4,null,{"$f":"Simulador!C176","v":143},"2038-03-02","1900-02-17",{"$f":"VLOOKUP(F145&'Simulador Bradesco'!$I$13,$A$2:$B$600,2,FALSE)","v":5.7510000000000005E-4},{"$f":"Simulador!A176","v":"2038-03-02"},null,null,null,{"$f":"IF(Simulador!A175=\"\",Simulador!$C$8,Simulador!A175)","v":"2038-02-02"},{"$f":"IF(Simulador!Q175=\"\",0,Simulador!Q175*-1)","v":-10746.401136622413}]
["36EXCLUSIVE",1.795E-4,null,{"$f":"Simulador!C177","v":144},"2038-04-02","1900-02-17",{"$f":"VLOOKUP(F146&'Simulador Bradesco'!$I$13,$A$2:$B$600,2,FALSE)","v":5.7510000000000005E-4},{"$f":"Simulador!A177","v":"2038-04-02"},null,null,null,{"$f":"IF(Simulador!A176=\"\",Simulador!$C$8,Simulador!A176)","v":"2038-03-02"},{"$f":"IF(Simulador!Q176=\"\",0,Simulador!Q176*-1)","v":-10746.004987051498}]
["37EXCLUSIVE",1.795E-4,null,{"$f":"Simulador!C178","v":145},"2038-05-02","1900-02-17",{"$f":"VLOOKUP(F147&'Simulador Bradesco'!$I$13,$A$2:$B$600,2,FALSE)","v":5.7510000000000005E-4},{"$f":"Simulador!A178","v":"2038-05-02"},null,null,null,{"$f":"IF(Simulador!A177=\"\",Simulador!$C$8,Simulador!A177)","v":"2038-04-02"},{"$f":"IF(Simulador!Q177=\"\",0,Simulador!Q177*-1)","v":-10745.604989343436}]
["38EXCLUSIVE",1.795E-4,null,{"$f":"Simulador!C179","v":146},"2038-06-02","1900-02-17",{"$f":"VLOOKUP(F148&'Simulador Bradesco'!$I$13,$A$2:$B$600,2,FALSE)","v":5.7510000000000005E-4},{"$f":"Simulador!A179","v":"2038-06-02"},null,null,null,{"$f":"IF(Simulador!A178=\"\",Simulador!$C$8,Simulador!A178)","v":"2038-05-02"},{"$f":"IF(Simulador!Q178=\"\",0,Simulador!Q178*-1)","v":-10745.201106117998}]
["39EXCLUSIVE",2.2130000000000001E-4,null,{"$f":"Simulador!C180","v":147},"2038-07-02","1900-02-17",{"$f":"VLOOKUP(F149&'Simulador Bradesco'!$I$13,$A$2:$B$600,2,FALSE)","v":5.7510000000000005E-4},{"$f":"Simulador!A180","v":"2038-07-02"},null,null,null,{"$f":"IF(Simulador!A179=\"\",Simulador!$C$8,Simulador!A179)","v":"2038-06-02"},{"$f":"IF(Simulador!Q179=\"\",0,Simulador!Q179*-1)","v":-10744.79329963186}]
["40EXCLUSIVE",2.2130000000000001E-4,null,{"$f":"Simulador!C181","v":148},"2038-08-02","1900-02-17",{"$f":"VLOOKUP(F150&'Simulador Bradesco'!$I$13,$A$2:$B$600,2,FALSE)","v":5.7510000000000005E-4},{"$f":"Simulador!A181","v":"2038-08-02"},null,null,null,{"$f":"IF(Simulador!A180=\"\",Simulador!$C$8,Simulador!A180)","v":"2038-07-02"},{"$f":"IF(Simulador!Q180=\"\",0,Simulador!Q180*-1)","v":-10744.381531775056}]
["41EXCLUSIVE",2.2130000000000001E-4,null,{"$f":"Simulador!C182","v":149},"2038-09-02","1900-02-18",{"$f":"VLOOKUP(F151&'Simulador Bradesco'!$I$13,$A$2:$B$600,2,FALSE)","v":5.7510000000000005E-4},{"$f":"Simulador!A182","v":"2038-09-02"},null,null,null,{"$f":"IF(Simulador!A181=\"\",Simulador!$C$8,Simulador!A181)","v":"2038-08-02"},{"$f":"IF(Simulador!Q181=\"\",0,Simulador!Q181*-1)","v":-10743.96576406743}]
["42EXCLUSIVE",3.1359999999999998E-4,null,{"$f":"Simulador!C183","v":150},"2038-10-02","1900-02-18",{"$f":"VLOOKUP(F152&'Simulador Bradesco'!$I$13,$A$2:$B$600,2,FALSE)","v":5.7510000000000005E-4},{"$f":"Simulador!A183","v":"2038-10-02"},null,null,null,{"$f":"IF(Simulador!A182=\"\",Simulador!$C$8,Simulador!A182)","v":"2038-09-02"},{"$f":"IF(Simulador!Q182=\"\",0,Simulador!Q182*-1)","v":-10743.545957655037}]
["43EXCLUSIVE",3.1359999999999998E-4,null,{"$f":"Simulador!C184","v":151},"2038-11-02","1900-02-18",{"$f":"VLOOKUP(F153&'Simulador Bradesco'!$I$13,$A$2:$B$600,2,FALSE)","v":5.7510000000000005E-4},{"$f":"Simulador!A184","v":"2038-11-02"},null,null,null,{"$f":"IF(Simulador!A183=\"\",Simulador!$C$8,Simulador!A183)","v":"2038-10-02"},{"$f":"IF(Simulador!Q183=\"\",0,Simulador!Q183*-1)","v":-10743.122073306506}]
["44EXCLUSIVE",3.1359999999999998E-4,null,{"$f":"Simulador!C185","v":152},"2038-12-02","1900-02-18",{"$f":"VLOOKUP(F154&'Simulador Bradesco'!$I$13,$A$2:$B$600,2,FALSE)","v":5.7510000000000005E-4},{"$f":"Simulador!A185","v":"2038-12-02"},null,null,null,{"$f":"IF(Simulador!A184=\"\",Simulador!$C$8,Simulador!A184)","v":"2038-11-02"},{"$f":"IF(Simulador!Q184=\"\",0,Simulador!Q184*-1)","v":-10742.69407140938}]
["45EXCLUSIVE",4.3070000000000001E-4,null,{"$f":"Simulador!C186","v":153},"2039-01-02","1900-02-18",{"$f":"VLOOKUP(F155&'Simulador Bradesco'!$I$13,$A$2:$B$600,2,FALSE)","v":5.7510000000000005E-4},{"$f":"Simulador!A186","v":"2039-01-02"},null,null,null,{"$f":"IF(Simulador!A185=\"\",Simulador!$C$8,Simulador!A185)","v":"2038-12-02"},{"$f":"IF(Simulador!Q185=\"\",0,Simulador!Q185*-1)","v":-10742.261911966414}]
["46EXCLUSIVE",4.3070000000000001E-4,null,{"$f":"Simulador!C187","v":154},"2039-02-02","1900-02-18",{"$f":"VLOOKUP(F156&'Simulador Bradesco'!$I$13,$A$2:$B$600,2,FALSE)","v":5.7510000000000005E-4},{"$f":"Simulador!A187","v":"2039-02-02"},null,null,null,{"$f":"IF(Simulador!A186=\"\",Simulador!$C$8,Simulador!A186)","v":"2039-01-02"},{"$f":"IF(Simulador!Q186=\"\",0,Simulador!Q186*-1)","v":-10741.825554591836}]
["47EXCLUSIVE",4.3070000000000001E-4,null,{"$f":"Simulador!C188","v":155},"2039-03-02","1900-02-18",{"$f":"VLOOKUP(F157&'Simulador Bradesco'!$I$13,$A$2:$B$600,2,FALSE)","v":5.7510000000000005E-4},{"$f":"Simulador!A188","v":"2039-03-02"},null,null,null,{"$f":"IF(Simulador!A187=\"\",Simulador!$C$8,Simulador!A187)","v":"2039-02-02"},{"$f":"IF(Simulador!Q187=\"\",0,Simulador!Q187*-1)","v":-10741.384958507573}]
["48EXCLUSIVE",5.8109999999999998E-4,null,{"$f":"Simulador!C189","v":156},"2039-04-02","1900-02-18",{"$f":"VLOOKUP(F158&'Simulador Bradesco'!$I$13,$A$2:$B$600,2,FALSE)","v":5.7510000000000005E-4},{"$f":"Simulador!A189","v":"2039-04-02"},null,null,null,{"$f":"IF(Simulador!A188=\"\",Simulador!$C$8,Simulador!A188)","v":"2039-03-02"},{"$f":"IF(Simulador!Q188=\"\",0,Simulador!Q188*-1)","v":-10740.940082539437}]
["49EXCLUSIVE",5.8109999999999998E-4,null,{"$f":"Simulador!C190","v":157},"2039-05-02","1900-02-18",{"$f":"VLOOKUP(F159&'Simulador Bradesco'!$I$13,$A$2:$B$600,2,FALSE)","v":5.7510000000000005E-4},{"$f":"Simulador!A190","v":"2039-05-02"},null,null,null,{"$f":"IF(Simulador!A189=\"\",Simulador!$C$8,Simulador!A189)","v":"2039-04-02"},{"$f":"IF(Simulador!Q189=\"\",0,Simulador!Q189*-1)","v":-10740.490885113282}]
["50EXCLUSIVE",5.8109999999999998E-4,null,{"$f":"Simulador!C191","v":158},"2039-06-02","1900-02-18",{"$f":"VLOOKUP(F160&'Simulador Bradesco'!$I$13,$A$2:$B$600,2,FALSE)","v":5.7510000000000005E-4},{"$f":"Simulador!A191","v":"2039-06-02"},null,null,null,{"$f":"IF(Simulador!A190=\"\",Simulador!$C$8,Simulador!A190)","v":"2039-05-02"},{"$f":"IF(Simulador!Q190=\"\",0,Simulador!Q190*-1)","v":-10740.037324251116}]
["51EXCLUSIVE",7.5230000000000002E-4,null,{"$f":"Simulador!C192","v":159},"2039-07-02","1900-02-18",{"$f":"VLOOKUP(F161&'Simulador Bradesco'!$I$13,$A$2:$B$600,2,FALSE)","v":5.7510000000000005E-4},{"$f":"Simulador!A192","v":"2039-07-02"},null,null,null,{"$f":"IF(Simulador!A191=\"\",Simulador!$C$8,Simulador!A191)","v":"2039-06-02"},{"$f":"IF(Simulador!Q191=\"\",0,Simulador!Q191*-1)","v":-10739.579357567181}]
["52EXCLUSIVE",7.5230000000000002E-4,null,{"$f":"Simulador!C193","v":160},"2039-08-02","1900-02-18",{"$f":"VLOOKUP(F162&'Simulador Bradesco'!$I$13,$A$2:$B$600,2,FALSE)","v":5.7510000000000005E-4},{"$f":"Simulador!A193","v":"2039-08-02"},null,null,null,{"$f":"IF(Simulador!A192=\"\",Simulador!$C$8,Simulador!A192)","v":"2039-07-02"},{"$f":"IF(Simulador!Q192=\"\",0,Simulador!Q192*-1)","v":-10739.116942263992}]
["53EXCLUSIVE",7.5230000000000002E-4,null,{"$f":"Simulador!C194","v":161},"2039-09-02","1900-02-19",{"$f":"VLOOKUP(F163&'Simulador Bradesco'!$I$13,$A$2:$B$600,2,FALSE)","v":5.7510000000000005E-4},{"$f":"Simulador!A194","v":"2039-09-02"},null,null,null,{"$f":"IF(Simulador!A193=\"\",Simulador!$C$8,Simulador!A193)","v":"2039-08-02"},{"$f":"IF(Simulador!Q193=\"\",0,Simulador!Q193*-1)","v":-10738.650035128328}]
["54EXCLUSIVE",9.2630000000000002E-4,null,{"$f":"Simulador!C195","v":162},"2039-10-02","1900-02-19",{"$f":"VLOOKUP(F164&'Simulador Bradesco'!$I$13,$A$2:$B$600,2,FALSE)","v":5.7510000000000005E-4},{"$f":"Simulador!A195","v":"2039-10-02"},null,null,null,{"$f":"IF(Simulador!A194=\"\",Simulador!$C$8,Simulador!A194)","v":"2039-09-02"},{"$f":"IF(Simulador!Q194=\"\",0,Simulador!Q194*-1)","v":-10738.178592527211}]
["55EXCLUSIVE",9.2630000000000002E-4,null,{"$f":"Simulador!C196","v":163},"2039-11-02","1900-02-19",{"$f":"VLOOKUP(F165&'Simulador Bradesco'!$I$13,$A$2:$B$600,2,FALSE)","v":5.7510000000000005E-4},{"$f":"Simulador!A196","v":"2039-11-02"},null,null,null,{"$f":"IF(Simulador!A195=\"\",Simulador!$C$8,Simulador!A195)","v":"2039-10-02"},{"$f":"IF(Simulador!Q195=\"\",0,Simulador!Q195*-1)","v":-10737.70257040381}]
["56EXCLUSIVE",9.2630000000000002E-4,null,{"$f":"Simulador!C197","v":164},"2039-12-02","1900-02-19",{"$f":"VLOOKUP(F166&'Simulador Bradesco'!$I$13,$A$2:$B$600,2,FALSE)","v":5.7510000000000005E-4},{"$f":"Simulador!A197","v":"2039-12-02"},null,null,null,{"$f":"IF(Simulador!A196=\"\",Simulador!$C$8,Simulador!A196)","v":"2039-11-02"},{"$f":"IF(Simulador!Q196=\"\",0,Simulador!Q196*-1)","v":-10737.221924273337}]
["57EXCLUSIVE",1.1191E-3,null,{"$f":"Simulador!C198","v":165},"2040-01-02","1900-02-19",{"$f":"VLOOKUP(F167&'Simulador Bradesco'!$I$13,$A$2:$B$600,2,FALSE)","v":5.7510000000000005E-4},{"$f":"Simulador!A198","v":"2040-01-02"},null,null,null,{"$f":"IF(Simulador!A197=\"\",Simulador!$C$8,Simulador!A197)","v":"2039-12-02"},{"$f":"IF(Simulador!Q197=\"\",0,Simulador!Q197*-1)","v":-10736.736609218888}]
["58EXCLUSIVE",1.1191E-3,null,{"$f":"Simulador!C199","v":166},"2040-02-02","1900-02-19",{"$f":"VLOOKUP(F168&'Simulador Bradesco'!$I$13,$A$2:$B$600,2,FALSE)","v":5.7510000000000005E-4},{"$f":"Simulador!A199","v":"2040-02-02"},null,null,null,{"$f":"IF(Simulador!A198=\"\",Simulador!$C$8,Simulador!A198)","v":"2040-01-02"},{"$f":"IF(Simulador!Q198=\"\",0,Simulador!Q198*-1)","v":-10736.246579887236}]
["59EXCLUSIVE",1.1191E-3,null,{"$f":"Simulador!C200","v":167},"2040-03-02","1900-02-19",{"$f":"VLOOKUP(F169&'Simulador Bradesco'!$I$13,$A$2:$B$600,2,FALSE)","v":5.7510000000000005E-4},{"$f":"Simulador!A200","v":"2040-03-02"},null,null,null,{"$f":"IF(Simulador!A199=\"\",Simulador!$C$8,Simulador!A199)","v":"2040-02-02"},{"$f":"IF(Simulador!Q199=\"\",0,Simulador!Q199*-1)","v":-10735.751790484608}]
["60EXCLUSIVE",1.3680000000000001E-3,null,{"$f":"Simulador!C201","v":168},"2040-04-02","1900-02-19",{"$f":"VLOOKUP(F170&'Simulador Bradesco'!$I$13,$A$2:$B$600,2,FALSE)","v":5.7510000000000005E-4},{"$f":"Simulador!A201","v":"2040-04-02"},null,null,null,{"$f":"IF(Simulador!A200=\"\",Simulador!$C$8,Simulador!A200)","v":"2040-03-02"},{"$f":"IF(Simulador!Q200=\"\",0,Simulador!Q200*-1)","v":-10735.252194772391}]
["61EXCLUSIVE",1.3680000000000001E-3,null,{"$f":"Simulador!C202","v":169},"2040-05-02","1900-02-19",{"$f":"VLOOKUP(F171&'Simulador Bradesco'!$I$13,$A$2:$B$600,2,FALSE)","v":5.7510000000000005E-4},{"$f":"Simulador!A202","v":"2040-05-02"},null,null,null,{"$f":"IF(Simulador!A201=\"\",Simulador!$C$8,Simulador!A201)","v":"2040-04-02"},{"$f":"IF(Simulador!Q201=\"\",0,Simulador!Q201*-1)","v":-10734.747746062818}]
["62EXCLUSIVE",1.3680000000000001E-3,null,{"$f":"Simulador!C203","v":170},"2040-06-02","1900-02-19",{"$f":"VLOOKUP(F172&'Simulador Bradesco'!$I$13,$A$2:$B$600,2,FALSE)","v":5.7510000000000005E-4},{"$f":"Simulador!A203","v":"2040-06-02"},null,null,null,{"$f":"IF(Simulador!A202=\"\",Simulador!$C$8,Simulador!A202)","v":"2040-05-02"},{"$f":"IF(Simulador!Q202=\"\",0,Simulador!Q202*-1)","v":-10734.238397214607}]
["63EXCLUSIVE",1.7634E-3,null,{"$f":"Simulador!C204","v":171},"2040-07-02","1900-02-19",{"$f":"VLOOKUP(F173&'Simulador Bradesco'!$I$13,$A$2:$B$600,2,FALSE)","v":5.7510000000000005E-4},{"$f":"Simulador!A204","v":"2040-07-02"},null,null,null,{"$f":"IF(Simulador!A203=\"\",Simulador!$C$8,Simulador!A203)","v":"2040-06-02"},{"$f":"IF(Simulador!Q203=\"\",0,Simulador!Q203*-1)","v":-10733.724100628549}]
["64EXCLUSIVE",1.7634E-3,null,{"$f":"Simulador!C205","v":172},"2040-08-02","1900-02-19",{"$f":"VLOOKUP(F174&'Simulador Bradesco'!$I$13,$A$2:$B$600,2,FALSE)","v":5.7510000000000005E-4},{"$f":"Simulador!A205","v":"2040-08-02"},null,null,null,{"$f":"IF(Simulador!A204=\"\",Simulador!$C$8,Simulador!A204)","v":"2040-07-02"},{"$f":"IF(Simulador!Q204=\"\",0,Simulador!Q204*-1)","v":-10733.204808243067}]
["65EXCLUSIVE",1.7634E-3,null,{"$f":"Simulador!C206","v":173},"2040-09-02","1900-02-20",{"$f":"VLOOKUP(F175&'Simulador Bradesco'!$I$13,$A$2:$B$600,2,FALSE)","v":7.3680000000000002E-4},{"$f":"Simulador!A206","v":"2040-09-02"},null,null,null,{"$f":"IF(Simulador!A205=\"\",Simulador!$C$8,Simulador!A205)","v":"2040-08-02"},{"$f":"IF(Simulador!Q205=\"\",0,Simulador!Q205*-1)","v":-10732.680471529717}]
["66EXCLUSIVE",2.1816000000000001E-3,null,{"$f":"Simulador!C207","v":174},"2040-10-02","1900-02-20",{"$f":"VLOOKUP(F176&'Simulador Bradesco'!$I$13,$A$2:$B$600,2,FALSE)","v":7.3680000000000002E-4},{"$f":"Simulador!A207","v":"2040-10-02"},null,null,null,{"$f":"IF(Simulador!A206=\"\",Simulador!$C$8,Simulador!A206)","v":"2040-09-02"},{"$f":"IF(Simulador!Q206=\"\",0,Simulador!Q206*-1)","v":-10885.164423966982}]
["67EXCLUSIVE",2.1816000000000001E-3,null,{"$f":"Simulador!C208","v":175},"2040-11-02","1900-02-20",{"$f":"VLOOKUP(F177&'Simulador Bradesco'!$I$13,$A$2:$B$600,2,FALSE)","v":7.3680000000000002E-4},{"$f":"Simulador!A208","v":"2040-11-02"},null,null,null,{"$f":"IF(Simulador!A207=\"\",Simulador!$C$8,Simulador!A207)","v":"2040-10-02"},{"$f":"IF(Simulador!Q207=\"\",0,Simulador!Q207*-1)","v":-10884.479546081595}]
["68EXCLUSIVE",2.1816000000000001E-3,null,{"$f":"Simulador!C209","v":176},"2040-12-02","1900-02-20",{"$f":"VLOOKUP(F178&'Simulador Bradesco'!$I$13,$A$2:$B$600,2,FALSE)","v":7.3680000000000002E-4},{"$f":"Simulador!A209","v":"2040-12-02"},null,null,null,{"$f":"IF(Simulador!A208=\"\",Simulador!$C$8,Simulador!A208)","v":"2040-11-02"},{"$f":"IF(Simulador!Q208=\"\",0,Simulador!Q208*-1)","v":-10883.788015395783}]
["69EXCLUSIVE",2.9524999999999998E-3,null,{"$f":"Simulador!C210","v":177},"2041-01-02","1900-02-20",{"$f":"VLOOKUP(F179&'Simulador Bradesco'!$I$13,$A$2:$B$600,2,FALSE)","v":7.3680000000000002E-4},{"$f":"Simulador!A210","v":"2041-01-02"},null,null,null,{"$f":"IF(Simulador!A209=\"\",Simulador!$C$8,Simulador!A209)","v":"2040-12-02"},{"$f":"IF(Simulador!Q209=\"\",0,Simulador!Q209*-1)","v":-10883.089767285248}]
["70EXCLUSIVE",2.9524999999999998E-3,null,{"$f":"Simulador!C211","v":178},"2041-02-02","1900-02-20",{"$f":"VLOOKUP(F180&'Simulador Bradesco'!$I$13,$A$2:$B$600,2,FALSE)","v":7.3680000000000002E-4},{"$f":"Simulador!A211","v":"2041-02-02"},null,null,null,{"$f":"IF(Simulador!A210=\"\",Simulador!$C$8,Simulador!A210)","v":"2041-01-02"},{"$f":"IF(Simulador!Q210=\"\",0,Simulador!Q210*-1)","v":-10882.384736497937}]
["71EXCLUSIVE",2.9524999999999998E-3,null,{"$f":"Simulador!C212","v":179},"2041-03-02","1900-02-20",{"$f":"VLOOKUP(F181&'Simulador Bradesco'!$I$13,$A$2:$B$600,2,FALSE)","v":7.3680000000000002E-4},{"$f":"Simulador!A212","v":"2041-03-02"},null,null,null,{"$f":"IF(Simulador!A211=\"\",Simulador!$C$8,Simulador!A211)","v":"2041-02-02"},{"$f":"IF(Simulador!Q211=\"\",0,Simulador!Q211*-1)","v":-10881.672857147956}]
["72EXCLUSIVE",3.9699999999999996E-3,null,{"$f":"Simulador!C213","v":180},"2041-04-02","1900-02-20",{"$f":"VLOOKUP(F182&'Simulador Bradesco'!$I$13,$A$2:$B$600,2,FALSE)","v":7.3680000000000002E-4},{"$f":"Simulador!A213","v":"2041-04-02"},null,null,null,{"$f":"IF(Simulador!A212=\"\",Simulador!$C$8,Simulador!A212)","v":"2041-03-02"},{"$f":"IF(Simulador!Q212=\"\",0,Simulador!Q212*-1)","v":-10880.954062709397}]
["73EXCLUSIVE",3.9699999999999996E-3,null,{"$f":"Simulador!C214","v":181},"2041-05-02","1900-02-20",{"$f":"VLOOKUP(F183&'Simulador Bradesco'!$I$13,$A$2:$B$600,2,FALSE)","v":7.3680000000000002E-4},{"$f":"Simulador!A214","v":"2041-05-02"},null,null,null,{"$f":"IF(Simulador!A213=\"\",Simulador!$C$8,Simulador!A213)","v":"2041-04-02"},{"$f":"IF(Simulador!Q213=\"\",0,Simulador!Q213*-1)","v":-10880.228286010133}]
["74EXCLUSIVE",3.9699999999999996E-3,null,{"$f":"Simulador!C215","v":182},"2041-06-02","1900-02-20",{"$f":"VLOOKUP(F184&'Simulador Bradesco'!$I$13,$A$2:$B$600,2,FALSE)","v":7.3680000000000002E-4},{"$f":"Simulador!A215","v":"2041-06-02"},null,null,null,{"$f":"IF(Simulador!A214=\"\",Simulador!$C$8,Simulador!A214)","v":"2041-05-02"},{"$f":"IF(Simulador!Q214=\"\",0,Simulador!Q214*-1)","v":-10879.49545922554}]
["75EXCLUSIVE",7.0521000000000004E-3,null,{"$f":"Simulador!C216","v":183},"2041-07-02","1900-02-20",{"$f":"VLOOKUP(F185&'Simulador Bradesco'!$I$13,$A$2:$B$600,2,FALSE)","v":7.3680000000000002E-4},{"$f":"Simulador!A216","v":"2041-07-02"},null,null,null,{"$f":"IF(Simulador!A215=\"\",Simulador!$C$8,Simulador!A215)","v":"2041-06-02"},{"$f":"IF(Simulador!Q215=\"\",0,Simulador!Q215*-1)","v":-10878.755513872151}]
["76EXCLUSIVE",7.0521000000000004E-3,null,{"$f":"Simulador!C217","v":184},"2041-08-02","1900-02-20",{"$f":"VLOOKUP(F186&'Simulador Bradesco'!$I$13,$A$2:$B$600,2,FALSE)","v":7.3680000000000002E-4},{"$f":"Simulador!A217","v":"2041-08-02"},null,null,null,{"$f":"IF(Simulador!A216=\"\",Simulador!$C$8,Simulador!A216)","v":"2041-07-02"},{"$f":"IF(Simulador!Q216=\"\",0,Simulador!Q216*-1)","v":-10878.008380801264}]
["77EXCLUSIVE",7.0521000000000004E-3,null,{"$f":"Simulador!C218","v":185},"2041-09-02","1900-02-21",{"$f":"VLOOKUP(F187&'Simulador Bradesco'!$I$13,$A$2:$B$600,2,FALSE)","v":7.3680000000000002E-4},{"$f":"Simulador!A218","v":"2041-09-02"},null,null,null,{"$f":"IF(Simulador!A217=\"\",Simulador!$C$8,Simulador!A217)","v":"2041-08-02"},{"$f":"IF(Simulador!Q217=\"\",0,Simulador!Q217*-1)","v":-10877.253990192474}]
["78EXCLUSIVE",9.4299999999999991E-3,null,{"$f":"Simulador!C219","v":186},"2041-10-02","1900-02-21",{"$f":"VLOOKUP(F188&'Simulador Bradesco'!$I$13,$A$2:$B$600,2,FALSE)","v":7.3680000000000002E-4},{"$f":"Simulador!A219","v":"2041-10-02"},null,null,null,{"$f":"IF(Simulador!A218=\"\",Simulador!$C$8,Simulador!A218)","v":"2041-09-02"},{"$f":"IF(Simulador!Q218=\"\",0,Simulador!Q218*-1)","v":-10876.492271547155}]
["79EXCLUSIVE",9.4299999999999991E-3,null,{"$f":"Simulador!C220","v":187},"2041-11-02","1900-02-21",{"$f":"VLOOKUP(F189&'Simulador Bradesco'!$I$13,$A$2:$B$600,2,FALSE)","v":7.3680000000000002E-4},{"$f":"Simulador!A220","v":"2041-11-02"},null,null,null,{"$f":"IF(Simulador!A219=\"\",Simulador!$C$8,Simulador!A219)","v":"2041-10-02"},{"$f":"IF(Simulador!Q219=\"\",0,Simulador!Q219*-1)","v":-10875.723153681865}]
["80EXCLUSIVE",9.4299999999999991E-3,null,{"$f":"Simulador!C221","v":188},"2041-12-02","1900-02-21",{"$f":"VLOOKUP(F190&'Simulador Bradesco'!$I$13,$A$2:$B$600,2,FALSE)","v":7.3680000000000002E-4},{"$f":"Simulador!A221","v":"2041-12-02"},null,null,null,{"$f":"IF(Simulador!A220=\"\",Simulador!$C$8,Simulador!A220)","v":"2041-11-02"},{"$f":"IF(Simulador!Q220=\"\",0,Simulador!Q220*-1)","v":-10874.946564721698}]
["18CLASSIC",1.049E-4,null,{"$f":"Simulador!C222","v":189},"2042-01-02","1900-02-21",{"$f":"VLOOKUP(F191&'Simulador Bradesco'!$I$13,$A$2:$B$600,2,FALSE)","v":7.3680000000000002E-4},{"$f":"Simulador!A222","v":"2042-01-02"},null,null,null,{"$f":"IF(Simulador!A221=\"\",Simulador!$C$8,Simulador!A221)","v":"2041-12-02"},{"$f":"IF(Simulador!Q221=\"\",0,Simulador!Q221*-1)","v":-10874.162432093566}]
["19CLASSIC",1.049E-4,null,{"$f":"Simulador!C223","v":190},"2042-02-02","1900-02-21",{"$f":"VLOOKUP(F192&'Simulador Bradesco'!$I$13,$A$2:$B$600,2,FALSE)","v":7.3680000000000002E-4},{"$f":"Simulador!A223","v":"2042-02-02"},null,null,null,{"$f":"IF(Simulador!A222=\"\",Simulador!$C$8,Simulador!A222)","v":"2042-01-02"},{"$f":"IF(Simulador!Q222=\"\",0,Simulador!Q222*-1)","v":-10873.370682519419}]
["20CLASSIC",1.049E-4,null,{"$f":"Simulador!C224","v":191},"2042-03-02","1900-02-21",{"$f":"VLOOKUP(F193&'Simulador Bradesco'!$I$13,$A$2:$B$600,2,FALSE)","v":7.3680000000000002E-4},{"$f":"Simulador!A224","v":"2042-03-02"},null,null,null,{"$f":"IF(Simulador!A223=\"\",Simulador!$C$8,Simulador!A223)","v":"2042-02-02"},{"$f":"IF(Simulador!Q223=\"\",0,Simulador!Q223*-1)","v":-10872.571242009388}]
["21CLASSIC",1.13E-4,null,{"$f":"Simulador!C225","v":192},"2042-04-02","1900-02-21",{"$f":"VLOOKUP(F194&'Simulador Bradesco'!$I$13,$A$2:$B$600,2,FALSE)","v":7.3680000000000002E-4},{"$f":"Simulador!A225","v":"2042-04-02"},null,null,null,{"$f":"IF(Simulador!A224=\"\",Simulador!$C$8,Simulador!A224)","v":"2042-03-02"},{"$f":"IF(Simulador!Q224=\"\",0,Simulador!Q224*-1)","v":-10871.764035854885}]
["22CLASSIC",1.13E-4,null,{"$f":"Simulador!C226","v":193},{"$f":"H195","v":"2042-05-02"},"1900-02-21",{"$f":"VLOOKUP(F195&'Simulador Bradesco'!$I$13,$A$2:$B$600,2,FALSE)","v":7.3680000000000002E-4},{"$f":"Simulador!A226","v":"2042-05-02"},null,null,null,{"$f":"IF(Simulador!A225=\"\",Simulador!$C$8,Simulador!A225)","v":"2042-04-02"},{"$f":"IF(Simulador!Q225=\"\",0,Simulador!Q225*-1)","v":-10870.948988621614}]
["23CLASSIC",1.13E-4,null,{"$f":"Simulador!C227","v":194},"2042-06-02",{"$f":"ROUNDDOWN(_xlfn.DAYS(E196,$B$1)/365,0)","v":"1900-02-21"},{"$f":"VLOOKUP(F196&'Simulador Bradesco'!$I$13,$A$2:$B$600,2,FALSE)","v":7.3680000000000002E-4},{"$f":"Simulador!A227","v":"2042-06-02"},null,null,null,{"$f":"IF(Simulador!A226=\"\",Simulador!$C$8,Simulador!A226)","v":"2042-05-02"},{"$f":"IF(Simulador!Q226=\"\",0,Simulador!Q226*-1)","v":-10870.126024142515}]
["24CLASSIC",1.193E-4,null,{"$f":"Simulador!C228","v":195},"2042-07-02","1900-02-21",{"$f":"VLOOKUP(F197&'Simulador Bradesco'!$I$13,$A$2:$B$600,2,FALSE)","v":7.3680000000000002E-4},{"$f":"Simulador!A228","v":"2042-07-02"},null,null,null,{"$f":"IF(Simulador!A227=\"\",Simulador!$C$8,Simulador!A227)","v":"2042-06-02"},{"$f":"IF(Simulador!Q227=\"\",0,Simulador!Q227*-1)","v":-10869.295065510658}]
["25CLASSIC",1.193E-4,null,{"$f":"Simulador!C229","v":196},"2042-08-02","1900-02-21",{"$f":"VLOOKUP(F198&'Simulador Bradesco'!$I$13,$A$2:$B$600,2,FALSE)","v":7.3680000000000002E-4},{"$f":"Simulador!A229","v":"2042-08-02"},null,null,null,{"$f":"IF(Simulador!A228=\"\",Simulador!$C$8,Simulador!A228)","v":"2042-07-02"},{"$f":"IF(Simulador!Q228=\"\",0,Simulador!Q228*-1)","v":-10868.456035072051}]
["26CLASSIC",1.193E-4,null,{"$f":"Simulador!C230","v":197},"2042-09-02","1900-02-22",{"$f":"VLOOKUP(F199&'Simulador Bradesco'!$I$13,$A$2:$B$600,2,FALSE)","v":7.3680000000000002E-4},{"$f":"Simulador!A230","v":"2042-09-02"},null,null,null,{"$f":"IF(Simulador!A229=\"\",Simulador!$C$8,Simulador!A229)","v":"2042-08-02"},{"$f":"IF(Simulador!Q229=\"\",0,Simulador!Q229*-1)","v":-10867.60885441838}]
["27CLASSIC",1.304E-4,null,{"$f":"Simulador!C231","v":198},"2042-10-02","1900-02-22",{"$f":"VLOOKUP(F200&'Simulador Bradesco'!$I$13,$A$2:$B$600,2,FALSE)","v":7.3680000000000002E-4},{"$f":"Simulador!A231","v":"2042-10-02"},null,null,null,{"$f":"IF(Simulador!A230=\"\",Simulador!$C$8,Simulador!A230)","v":"2042-09-02"},{"$f":"IF(Simulador!Q230=\"\",0,Simulador!Q230*-1)","v":-10866.753444379689}]
["28CLASSIC",1.304E-4,null,{"$f":"Simulador!C232","v":199},"2042-11-02","1900-02-22",{"$f":"VLOOKUP(F201&'Simulador Bradesco'!$I$13,$A$2:$B$600,2,FALSE)","v":7.3680000000000002E-4},{"$f":"Simulador!A232","v":"2042-11-02"},null,null,null,{"$f":"IF(Simulador!A231=\"\",Simulador!$C$8,Simulador!A231)","v":"2042-10-02"},{"$f":"IF(Simulador!Q231=\"\",0,Simulador!Q231*-1)","v":-10865.889725016967}]
["29CLASSIC",1.304E-4,null,{"$f":"Simulador!C233","v":200},"2042-12-02","1900-02-22",{"$f":"VLOOKUP(F202&'Simulador Bradesco'!$I$13,$A$2:$B$600,2,FALSE)","v":7.3680000000000002E-4},{"$f":"Simulador!A233","v":"2042-12-02"},null,null,null,{"$f":"IF(Simulador!A232=\"\",Simulador!$C$8,Simulador!A232)","v":"2042-11-02"},{"$f":"IF(Simulador!Q232=\"\",0,Simulador!Q232*-1)","v":-10865.017615614701}]
["30CLASSIC",1.438E-4,null,{"$f":"Simulador!C234","v":201},"2043-01-02","1900-02-22",{"$f":"VLOOKUP(F203&'Simulador Bradesco'!$I$13,$A$2:$B$600,2,FALSE)","v":7.3680000000000002E-4},{"$f":"Simulador!A234","v":"2043-01-02"},null,null,null,{"$f":"IF(Simulador!A233=\"\",Simulador!$C$8,Simulador!A233)","v":"2042-12-02"},{"$f":"IF(Simulador!Q233=\"\",0,Simulador!Q233*-1)","v":-10864.137034673309}]
["31CLASSIC",1.438E-4,null,{"$f":"Simulador!C235","v":202},"2043-02-02","1900-02-22",{"$f":"VLOOKUP(F204&'Simulador Bradesco'!$I$13,$A$2:$B$600,2,FALSE)","v":7.3680000000000002E-4},{"$f":"Simulador!A235","v":"2043-02-02"},null,null,null,{"$f":"IF(Simulador!A234=\"\",Simulador!$C$8,Simulador!A234)","v":"2043-01-02"},{"$f":"IF(Simulador!Q234=\"\",0,Simulador!Q234*-1)","v":-10863.24789990154}]
["32CLASSIC",1.438E-4,null,{"$f":"Simulador!C236","v":203},"2043-03-02","1900-02-22",{"$f":"VLOOKUP(F205&'Simulador Bradesco'!$I$13,$A$2:$B$600,2,FALSE)","v":7.3680000000000002E-4},{"$f":"Simulador!A236","v":"2043-03-02"},null,null,null,{"$f":"IF(Simulador!A235=\"\",Simulador!$C$8,Simulador!A235)","v":"2043-02-02"},{"$f":"IF(Simulador!Q235=\"\",0,Simulador!Q235*-1)","v":-10862.350128208776}]
["33CLASSIC",1.5679999999999999E-4,null,{"$f":"Simulador!C237","v":204},"2043-04-02","1900-02-22",{"$f":"VLOOKUP(F206&'Simulador Bradesco'!$I$13,$A$2:$B$600,2,FALSE)","v":7.3680000000000002E-4},{"$f":"Simulador!A237","v":"2043-04-02"},null,null,null,{"$f":"IF(Simulador!A236=\"\",Simulador!$C$8,Simulador!A236)","v":"2043-03-02"},{"$f":"IF(Simulador!Q236=\"\",0,Simulador!Q236*-1)","v":-10861.443635697269}]
["34CLASSIC",1.5679999999999999E-4,null,{"$f":"Simulador!C238","v":205},"2043-05-02","1900-02-22",{"$f":"VLOOKUP(F207&'Simulador Bradesco'!$I$13,$A$2:$B$600,2,FALSE)","v":7.3680000000000002E-4},{"$f":"Simulador!A238","v":"2043-05-02"},null,null,null,{"$f":"IF(Simulador!A237=\"\",Simulador!$C$8,Simulador!A237)","v":"2043-04-02"},{"$f":"IF(Simulador!Q237=\"\",0,Simulador!Q237*-1)","v":-10860.528337654305}]
["35CLASSIC",1.5679999999999999E-4,null,{"$f":"Simulador!C239","v":206},"2043-06-02","1900-02-22",{"$f":"VLOOKUP(F208&'Simulador Bradesco'!$I$13,$A$2:$B$600,2,FALSE)","v":7.3680000000000002E-4},{"$f":"Simulador!A239","v":"2043-06-02"},null,null,null,{"$f":"IF(Simulador!A238=\"\",Simulador!$C$8,Simulador!A238)","v":"2043-05-02"},{"$f":"IF(Simulador!Q238=\"\",0,Simulador!Q238*-1)","v":-10859.604148544277}]
["36CLASSIC",1.8139999999999999E-4,null,{"$f":"Simulador!C240","v":207},"2043-07-02","1900-02-22",{"$f":"VLOOKUP(F209&'Simulador Bradesco'!$I$13,$A$2:$B$600,2,FALSE)","v":7.3680000000000002E-4},{"$f":"Simulador!A240","v":"2043-07-02"},null,null,null,{"$f":"IF(Simulador!A239=\"\",Simulador!$C$8,Simulador!A239)","v":"2043-06-02"},{"$f":"IF(Simulador!Q239=\"\",0,Simulador!Q239*-1)","v":-10858.670982000702}]
["37CLASSIC",1.8139999999999999E-4,null,{"$f":"Simulador!C241","v":208},"2043-08-02","1900-02-22",{"$f":"VLOOKUP(F210&'Simulador Bradesco'!$I$13,$A$2:$B$600,2,FALSE)","v":7.3680000000000002E-4},{"$f":"Simulador!A241","v":"2043-08-02"},null,null,null,{"$f":"IF(Simulador!A240=\"\",Simulador!$C$8,Simulador!A240)","v":"2043-07-02"},{"$f":"IF(Simulador!Q240=\"\",0,Simulador!Q240*-1)","v":-10857.728750818147}]
["38CLASSIC",1.8139999999999999E-4,null,{"$f":"Simulador!C242","v":209},"2043-09-02","1900-02-23",{"$f":"VLOOKUP(F211&'Simulador Bradesco'!$I$13,$A$2:$B$600,2,FALSE)","v":9.0720000000000004E-4},{"$f":"Simulador!A242","v":"2043-09-02"},null,null,null,{"$f":"IF(Simulador!A241=\"\",Simulador!$C$8,Simulador!A241)","v":"2043-08-02"},{"$f":"IF(Simulador!Q241=\"\",0,Simulador!Q241*-1)","v":-10856.777366944076}]
["39CLASSIC",2.2369999999999999E-4,null,{"$f":"Simulador!C243","v":210},"2043-10-02","1900-02-23",{"$f":"VLOOKUP(F212&'Simulador Bradesco'!$I$13,$A$2:$B$600,2,FALSE)","v":9.0720000000000004E-4},{"$f":"Simulador!A243","v":"2043-10-02"},null,null,null,{"$f":"IF(Simulador!A242=\"\",Simulador!$C$8,Simulador!A242)","v":"2043-09-02"},{"$f":"IF(Simulador!Q242=\"\",0,Simulador!Q242*-1)","v":-11010.275505870777}]
["40CLASSIC",2.2369999999999999E-4,null,{"$f":"Simulador!C244","v":211},"2043-11-02","1900-02-23",{"$f":"VLOOKUP(F213&'Simulador Bradesco'!$I$13,$A$2:$B$600,2,FALSE)","v":9.0720000000000004E-4},{"$f":"Simulador!A244","v":"2043-11-02"},null,null,null,{"$f":"IF(Simulador!A243=\"\",Simulador!$C$8,Simulador!A243)","v":"2043-10-02"},{"$f":"IF(Simulador!Q243=\"\",0,Simulador!Q243*-1)","v":-11009.08122675951}]
["41CLASSIC",2.2369999999999999E-4,null,{"$f":"Simulador!C245","v":212},"2043-12-02","1900-02-23",{"$f":"VLOOKUP(F214&'Simulador Bradesco'!$I$13,$A$2:$B$600,2,FALSE)","v":9.0720000000000004E-4},{"$f":"Simulador!A245","v":"2043-12-02"},null,null,null,{"$f":"IF(Simulador!A244=\"\",Simulador!$C$8,Simulador!A244)","v":"2043-11-02"},{"$f":"IF(Simulador!Q244=\"\",0,Simulador!Q244*-1)","v":-11007.875346601184}]
["42CLASSIC",3.1690000000000001E-4,null,{"$f":"Simulador!C246","v":213},"2044-01-02","1900-02-23",{"$f":"VLOOKUP(F215&'Simulador Bradesco'!$I$13,$A$2:$B$600,2,FALSE)","v":9.0720000000000004E-4},{"$f":"Simulador!A246","v":"2044-01-02"},null,null,null,{"$f":"IF(Simulador!A245=\"\",Simulador!$C$8,Simulador!A245)","v":"2043-12-02"},{"$f":"IF(Simulador!Q245=\"\",0,Simulador!Q245*-1)","v":-11006.657752704979}]
["43CLASSIC",3.1690000000000001E-4,null,{"$f":"Simulador!C247","v":214},"2044-02-02","1900-02-23",{"$f":"VLOOKUP(F216&'Simulador Bradesco'!$I$13,$A$2:$B$600,2,FALSE)","v":9.0720000000000004E-4},{"$f":"Simulador!A247","v":"2044-02-02"},null,null,null,{"$f":"IF(Simulador!A246=\"\",Simulador!$C$8,Simulador!A246)","v":"2044-01-02"},{"$f":"IF(Simulador!Q246=\"\",0,Simulador!Q246*-1)","v":-11005.428331285411}]
["44CLASSIC",3.1690000000000001E-4,null,{"$f":"Simulador!C248","v":215},"2044-03-02","1900-02-23",{"$f":"VLOOKUP(F217&'Simulador Bradesco'!$I$13,$A$2:$B$600,2,FALSE)","v":9.0720000000000004E-4},{"$f":"Simulador!A248","v":"2044-03-02"},null,null,null,{"$f":"IF(Simulador!A247=\"\",Simulador!$C$8,Simulador!A247)","v":"2044-02-02"},{"$f":"IF(Simulador!Q247=\"\",0,Simulador!Q247*-1)","v":-11004.186967451704}]
["45CLASSIC",4.3520000000000001E-4,null,{"$f":"Simulador!C249","v":216},"2044-04-02","1900-02-23",{"$f":"VLOOKUP(F218&'Simulador Bradesco'!$I$13,$A$2:$B$600,2,FALSE)","v":9.0720000000000004E-4},{"$f":"Simulador!A249","v":"2044-04-02"},null,null,null,{"$f":"IF(Simulador!A248=\"\",Simulador!$C$8,Simulador!A248)","v":"2044-03-02"},{"$f":"IF(Simulador!Q248=\"\",0,Simulador!Q248*-1)","v":-11002.933545197049}]
["46CLASSIC",4.3520000000000001E-4,null,{"$f":"Simulador!C250","v":217},"2044-05-02","1900-02-23",{"$f":"VLOOKUP(F219&'Simulador Bradesco'!$I$13,$A$2:$B$600,2,FALSE)","v":9.0720000000000004E-4},{"$f":"Simulador!A250","v":"2044-05-02"},null,null,null,{"$f":"IF(Simulador!A249=\"\",Simulador!$C$8,Simulador!A249)","v":"2044-04-02"},{"$f":"IF(Simulador!Q249=\"\",0,Simulador!Q249*-1)","v":-11001.667947387765}]
["47CLASSIC",4.3520000000000001E-4,null,{"$f":"Simulador!C251","v":218},"2044-06-02","1900-02-23",{"$f":"VLOOKUP(F220&'Simulador Bradesco'!$I$13,$A$2:$B$600,2,FALSE)","v":9.0720000000000004E-4},{"$f":"Simulador!A251","v":"2044-06-02"},null,null,null,{"$f":"IF(Simulador!A250=\"\",Simulador!$C$8,Simulador!A250)","v":"2044-05-02"},{"$f":"IF(Simulador!Q250=\"\",0,Simulador!Q250*-1)","v":-11000.39005575235}]
["48CLASSIC",5.8719999999999996E-4,null,{"$f":"Simulador!C252","v":219},"2044-07-02","1900-02-23",{"$f":"VLOOKUP(F221&'Simulador Bradesco'!$I$13,$A$2:$B$600,2,FALSE)","v":9.0720000000000004E-4},{"$f":"Simulador!A252","v":"2044-07-02"},null,null,null,{"$f":"IF(Simulador!A251=\"\",Simulador!$C$8,Simulador!A251)","v":"2044-06-02"},{"$f":"IF(Simulador!Q251=\"\",0,Simulador!Q251*-1)","v":-10999.099750870435}]
["49CLASSIC",5.8719999999999996E-4,null,{"$f":"Simulador!C253","v":220},"2044-08-02","1900-02-23",{"$f":"VLOOKUP(F222&'Simulador Bradesco'!$I$13,$A$2:$B$600,2,FALSE)","v":9.0720000000000004E-4},{"$f":"Simulador!A253","v":"2044-08-02"},null,null,null,{"$f":"IF(Simulador!A252=\"\",Simulador!$C$8,Simulador!A252)","v":"2044-07-02"},{"$f":"IF(Simulador!Q252=\"\",0,Simulador!Q252*-1)","v":-10997.796912161615}]
["50CLASSIC",5.8719999999999996E-4,null,{"$f":"Simulador!C254","v":221},"2044-09-02","1900-02-24",{"$f":"VLOOKUP(F223&'Simulador Bradesco'!$I$13,$A$2:$B$600,2,FALSE)","v":9.0720000000000004E-4},{"$f":"Simulador!A254","v":"2044-09-02"},null,null,null,{"$f":"IF(Simulador!A253=\"\",Simulador!$C$8,Simulador!A253)","v":"2044-08-02"},{"$f":"IF(Simulador!Q253=\"\",0,Simulador!Q253*-1)","v":-10996.481417874187}]
["51CLASSIC",7.6000000000000004E-4,null,{"$f":"Simulador!C255","v":222},"2044-10-02","1900-02-24",{"$f":"VLOOKUP(F224&'Simulador Bradesco'!$I$13,$A$2:$B$600,2,FALSE)","v":9.0720000000000004E-4},{"$f":"Simulador!A255","v":"2044-10-02"},null,null,null,{"$f":"IF(Simulador!A254=\"\",Simulador!$C$8,Simulador!A254)","v":"2044-09-02"},{"$f":"IF(Simulador!Q254=\"\",0,Simulador!Q254*-1)","v":-10995.153145073771}]
["52CLASSIC",7.6000000000000004E-4,null,{"$f":"Simulador!C256","v":223},"2044-11-02","1900-02-24",{"$f":"VLOOKUP(F225&'Simulador Bradesco'!$I$13,$A$2:$B$600,2,FALSE)","v":9.0720000000000004E-4},{"$f":"Simulador!A256","v":"2044-11-02"},null,null,null,{"$f":"IF(Simulador!A255=\"\",Simulador!$C$8,Simulador!A255)","v":"2044-10-02"},{"$f":"IF(Simulador!Q255=\"\",0,Simulador!Q255*-1)","v":-10993.811969631819}]
["53CLASSIC",7.6000000000000004E-4,null,{"$f":"Simulador!C257","v":224},"2044-12-02","1900-02-24",{"$f":"VLOOKUP(F226&'Simulador Bradesco'!$I$13,$A$2:$B$600,2,FALSE)","v":9.0720000000000004E-4},{"$f":"Simulador!A257","v":"2044-12-02"},null,null,null,{"$f":"IF(Simulador!A256=\"\",Simulador!$C$8,Simulador!A256)","v":"2044-11-02"},{"$f":"IF(Simulador!Q256=\"\",0,Simulador!Q256*-1)","v":-10992.45776621402}]
["54CLASSIC",9.3590000000000003E-4,null,{"$f":"Simulador!C258","v":225},"2045-01-02","1900-02-24",{"$f":"VLOOKUP(F227&'Simulador Bradesco'!$I$13,$A$2:$B$600,2,FALSE)","v":9.0720000000000004E-4},{"$f":"Simulador!A258","v":"2045-01-02"},null,null,null,{"$f":"IF(Simulador!A257=\"\",Simulador!$C$8,Simulador!A257)","v":"2044-12-02"},{"$f":"IF(Simulador!Q257=\"\",0,Simulador!Q257*-1)","v":-10991.090408268581}]
["55CLASSIC",9.3590000000000003E-4,null,{"$f":"Simulador!C259","v":226},"2045-02-02","1900-02-24",{"$f":"VLOOKUP(F228&'Simulador Bradesco'!$I$13,$A$2:$B$600,2,FALSE)","v":9.0720000000000004E-4},{"$f":"Simulador!A259","v":"2045-02-02"},null,null,null,{"$f":"IF(Simulador!A258=\"\",Simulador!$C$8,Simulador!A258)","v":"2045-01-02"},{"$f":"IF(Simulador!Q258=\"\",0,Simulador!Q258*-1)","v":-10989.709768014405}]
["56CLASSIC",9.3590000000000003E-4,null,{"$f":"Simulador!C260","v":227},"2045-03-02","1900-02-24",{"$f":"VLOOKUP(F229&'Simulador Bradesco'!$I$13,$A$2:$B$600,2,FALSE)","v":9.0720000000000004E-4},{"$f":"Simulador!A260","v":"2045-03-02"},null,null,null,{"$f":"IF(Simulador!A259=\"\",Simulador!$C$8,Simulador!A259)","v":"2045-02-02"},{"$f":"IF(Simulador!Q259=\"\",0,Simulador!Q259*-1)","v":-10988.315716429153}]
["57CLASSIC",1.1306000000000001E-3,null,{"$f":"Simulador!C261","v":228},"2045-04-02","1900-02-24",{"$f":"VLOOKUP(F230&'Simulador Bradesco'!$I$13,$A$2:$B$600,2,FALSE)","v":9.0720000000000004E-4},{"$f":"Simulador!A261","v":"2045-04-02"},null,null,null,{"$f":"IF(Simulador!A260=\"\",Simulador!$C$8,Simulador!A260)","v":"2045-03-02"},{"$f":"IF(Simulador!Q260=\"\",0,Simulador!Q260*-1)","v":-10986.908123237175}]
["58CLASSIC",1.1306000000000001E-3,null,{"$f":"Simulador!C262","v":229},"2045-05-02","1900-02-24",{"$f":"VLOOKUP(F231&'Simulador Bradesco'!$I$13,$A$2:$B$600,2,FALSE)","v":9.0720000000000004E-4},{"$f":"Simulador!A262","v":"2045-05-02"},null,null,null,{"$f":"IF(Simulador!A261=\"\",Simulador!$C$8,Simulador!A261)","v":"2045-04-02"},{"$f":"IF(Simulador!Q261=\"\",0,Simulador!Q261*-1)","v":-10985.486856897349}]
["59CLASSIC",1.1306000000000001E-3,null,{"$f":"Simulador!C263","v":230},"2045-06-02","1900-02-24",{"$f":"VLOOKUP(F232&'Simulador Bradesco'!$I$13,$A$2:$B$600,2,FALSE)","v":9.0720000000000004E-4},{"$f":"Simulador!A263","v":"2045-06-02"},null,null,null,{"$f":"IF(Simulador!A262=\"\",Simulador!$C$8,Simulador!A262)","v":"2045-05-02"},{"$f":"IF(Simulador!Q262=\"\",0,Simulador!Q262*-1)","v":-10984.051784590778}]
["60CLASSIC",1.3822000000000001E-3,null,{"$f":"Simulador!C264","v":231},"2045-07-02","1900-02-24",{"$f":"VLOOKUP(F233&'Simulador Bradesco'!$I$13,$A$2:$B$600,2,FALSE)","v":9.0720000000000004E-4},{"$f":"Simulador!A264","v":"2045-07-02"},null,null,null,{"$f":"IF(Simulador!A263=\"\",Simulador!$C$8,Simulador!A263)","v":"2045-06-02"},{"$f":"IF(Simulador!Q263=\"\",0,Simulador!Q263*-1)","v":-10982.602772208387}]
["61CLASSIC",1.3822000000000001E-3,null,{"$f":"Simulador!C265","v":232},"2045-08-02","1900-02-24",{"$f":"VLOOKUP(F234&'Simulador Bradesco'!$I$13,$A$2:$B$600,2,FALSE)","v":9.0720000000000004E-4},{"$f":"Simulador!A265","v":"2045-08-02"},null,null,null,{"$f":"IF(Simulador!A264=\"\",Simulador!$C$8,Simulador!A264)","v":"2045-07-02"},{"$f":"IF(Simulador!Q264=\"\",0,Simulador!Q264*-1)","v":-10981.139684338383}]
["62CLASSIC",1.3822000000000001E-3,null,{"$f":"Simulador!C266","v":233},"2045-09-02","1900-02-25",{"$f":"VLOOKUP(F235&'Simulador Bradesco'!$I$13,$A$2:$B$600,2,FALSE)","v":9.0720000000000004E-4},{"$f":"Simulador!A266","v":"2045-09-02"},null,null,null,{"$f":"IF(Simulador!A265=\"\",Simulador!$C$8,Simulador!A265)","v":"2045-08-02"},{"$f":"IF(Simulador!Q265=\"\",0,Simulador!Q265*-1)","v":-10979.662384253601}]
["63CLASSIC",1.7815999999999999E-3,null,{"$f":"Simulador!C267","v":234},"2045-10-02","1900-02-25",{"$f":"VLOOKUP(F236&'Simulador Bradesco'!$I$13,$A$2:$B$600,2,FALSE)","v":9.0720000000000004E-4},{"$f":"Simulador!A267","v":"2045-10-02"},null,null,null,{"$f":"IF(Simulador!A266=\"\",Simulador!$C$8,Simulador!A266)","v":"2045-09-02"},{"$f":"IF(Simulador!Q266=\"\",0,Simulador!Q266*-1)","v":-10978.170733898733}]
["64CLASSIC",1.7815999999999999E-3,null,{"$f":"Simulador!C268","v":235},"2045-11-02","1900-02-25",{"$f":"VLOOKUP(F237&'Simulador Bradesco'!$I$13,$A$2:$B$600,2,FALSE)","v":9.0720000000000004E-4},{"$f":"Simulador!A268","v":"2045-11-02"},null,null,null,{"$f":"IF(Simulador!A267=\"\",Simulador!$C$8,Simulador!A267)","v":"2045-10-02"},{"$f":"IF(Simulador!Q267=\"\",0,Simulador!Q267*-1)","v":-10976.664593877422}]
["65CLASSIC",1.7815999999999999E-3,null,{"$f":"Simulador!C269","v":236},"2045-12-02","1900-02-25",{"$f":"VLOOKUP(F238&'Simulador Bradesco'!$I$13,$A$2:$B$600,2,FALSE)","v":9.0720000000000004E-4},{"$f":"Simulador!A269","v":"2045-12-02"},null,null,null,{"$f":"IF(Simulador!A268=\"\",Simulador!$C$8,Simulador!A268)","v":"2045-11-02"},{"$f":"IF(Simulador!Q268=\"\",0,Simulador!Q268*-1)","v":-10975.143823439234}]
["66CLASSIC",2.2041000000000001E-3,null,{"$f":"Simulador!C270","v":237},"2046-01-02","1900-02-25",{"$f":"VLOOKUP(F239&'Simulador Bradesco'!$I$13,$A$2:$B$600,2,FALSE)","v":9.0720000000000004E-4},{"$f":"Simulador!A270","v":"2046-01-02"},null,null,null,{"$f":"IF(Simulador!A269=\"\",Simulador!$C$8,Simulador!A269)","v":"2045-12-02"},{"$f":"IF(Simulador!Q269=\"\",0,Simulador!Q269*-1)","v":-10973.608280466504}]
["67CLASSIC",2.2041000000000001E-3,null,{"$f":"Simulador!C271","v":238},"2046-02-02","1900-02-25",{"$f":"VLOOKUP(F240&'Simulador Bradesco'!$I$13,$A$2:$B$600,2,FALSE)","v":9.0720000000000004E-4},{"$f":"Simulador!A271","v":"2046-02-02"},null,null,null,{"$f":"IF(Simulador!A270=\"\",Simulador!$C$8,Simulador!A270)","v":"2046-01-02"},{"$f":"IF(Simulador!Q270=\"\",0,Simulador!Q270*-1)","v":-10972.057821461067}]
["68CLASSIC",2.2041000000000001E-3,null,{"$f":"Simulador!C272","v":239},"2046-03-02","1900-02-25",{"$f":"VLOOKUP(F241&'Simulador Bradesco'!$I$13,$A$2:$B$600,2,FALSE)","v":9.0720000000000004E-4},{"$f":"Simulador!A272","v":"2046-03-02"},null,null,null,{"$f":"IF(Simulador!A271=\"\",Simulador!$C$8,Simulador!A271)","v":"2046-02-02"},{"$f":"IF(Simulador!Q271=\"\",0,Simulador!Q271*-1)","v":-10970.492301530827}]
["69CLASSIC",2.983E-3,null,{"$f":"Simulador!C273","v":240},"2046-04-02","1900-02-25",{"$f":"VLOOKUP(F242&'Simulador Bradesco'!$I$13,$A$2:$B$600,2,FALSE)","v":9.0720000000000004E-4},{"$f":"Simulador!A273","v":"2046-04-02"},null,null,null,{"$f":"IF(Simulador!A272=\"\",Simulador!$C$8,Simulador!A272)","v":"2046-03-02"},{"$f":"IF(Simulador!Q272=\"\",0,Simulador!Q272*-1)","v":-10968.911574376236}]
["70CLASSIC",2.983E-3,null,{"$f":"Simulador!C274","v":241},"2046-05-02","1900-02-25",{"$f":"VLOOKUP(F243&'Simulador Bradesco'!$I$13,$A$2:$B$600,2,FALSE)","v":9.0720000000000004E-4},{"$f":"Simulador!A274","v":"2046-05-02"},null,null,null,{"$f":"IF(Simulador!A273=\"\",Simulador!$C$8,Simulador!A273)","v":"2046-04-02"},{"$f":"IF(Simulador!Q273=\"\",0,Simulador!Q273*-1)","v":-10967.315492276612}]
["71CLASSIC",2.983E-3,null,{"$f":"Simulador!C275","v":242},"2046-06-02","1900-02-25",{"$f":"VLOOKUP(F244&'Simulador Bradesco'!$I$13,$A$2:$B$600,2,FALSE)","v":9.0720000000000004E-4},{"$f":"Simulador!A275","v":"2046-06-02"},null,null,null,{"$f":"IF(Simulador!A274=\"\",Simulador!$C$8,Simulador!A274)","v":"2046-05-02"},{"$f":"IF(Simulador!Q274=\"\",0,Simulador!Q274*-1)","v":-10965.703906076333}]
["72CLASSIC",4.0109000000000004E-3,null,{"$f":"Simulador!C276","v":243},"2046-07-02","1900-02-25",{"$f":"VLOOKUP(F245&'Simulador Bradesco'!$I$13,$A$2:$B$600,2,FALSE)","v":9.0720000000000004E-4},{"$f":"Simulador!A276","v":"2046-07-02"},null,null,null,{"$f":"IF(Simulador!A275=\"\",Simulador!$C$8,Simulador!A275)","v":"2046-06-02"},{"$f":"IF(Simulador!Q275=\"\",0,Simulador!Q275*-1)","v":-10964.076665170907}]
["73CLASSIC",4.0109000000000004E-3,null,{"$f":"Simulador!C277","v":244},"2046-08-02","1900-02-25",{"$f":"VLOOKUP(F246&'Simulador Bradesco'!$I$13,$A$2:$B$600,2,FALSE)","v":9.0720000000000004E-4},{"$f":"Simulador!A277","v":"2046-08-02"},null,null,null,{"$f":"IF(Simulador!A276=\"\",Simulador!$C$8,Simulador!A276)","v":"2046-07-02"},{"$f":"IF(Simulador!Q276=\"\",0,Simulador!Q276*-1)","v":-10962.433617492892}]
["74CLASSIC",4.0109000000000004E-3,null,{"$f":"Simulador!C278","v":245},"2046-09-02","1900-02-26",{"$f":"VLOOKUP(F247&'Simulador Bradesco'!$I$13,$A$2:$B$600,2,FALSE)","v":1.1075E-3},{"$f":"Simulador!A278","v":"2046-09-02"},null,null,null,{"$f":"IF(Simulador!A277=\"\",Simulador!$C$8,Simulador!A277)","v":"2046-08-02"},{"$f":"IF(Simulador!Q277=\"\",0,Simulador!Q277*-1)","v":-10960.774609497683}]
["75CLASSIC",7.1247999999999997E-3,null,{"$f":"Simulador!C279","v":246},"2046-10-02","1900-02-26",{"$f":"VLOOKUP(F248&'Simulador Bradesco'!$I$13,$A$2:$B$600,2,FALSE)","v":1.1075E-3},{"$f":"Simulador!A279","v":"2046-10-02"},null,null,null,{"$f":"IF(Simulador!A278=\"\",Simulador!$C$8,Simulador!A278)","v":"2046-09-02"},{"$f":"IF(Simulador!Q278=\"\",0,Simulador!Q278*-1)","v":-11129.361935587582}]
["76CLASSIC",7.1247999999999997E-3,null,{"$f":"Simulador!C280","v":247},"2046-11-02","1900-02-26",{"$f":"VLOOKUP(F249&'Simulador Bradesco'!$I$13,$A$2:$B$600,2,FALSE)","v":1.1075E-3},{"$f":"Simulador!A280","v":"2046-11-02"},null,null,null,{"$f":"IF(Simulador!A279=\"\",Simulador!$C$8,Simulador!A279)","v":"2046-10-02"},{"$f":"IF(Simulador!Q279=\"\",0,Simulador!Q279*-1)","v":-11127.297098470457}]
["77CLASSIC",7.1247999999999997E-3,null,{"$f":"Simulador!C281","v":248},"2046-12-02","1900-02-26",{"$f":"VLOOKUP(F250&'Simulador Bradesco'!$I$13,$A$2:$B$600,2,FALSE)","v":1.1075E-3},{"$f":"Simulador!A281","v":"2046-12-02"},null,null,null,{"$f":"IF(Simulador!A280=\"\",Simulador!$C$8,Simulador!A280)","v":"2046-11-02"},{"$f":"IF(Simulador!Q280=\"\",0,Simulador!Q280*-1)","v":-11125.212203837178}]
["78CLASSIC",9.5271999999999996E-3,null,{"$f":"Simulador!C282","v":249},"2047-01-02","1900-02-26",{"$f":"VLOOKUP(F251&'Simulador Bradesco'!$I$13,$A$2:$B$600,2,FALSE)","v":1.1075E-3},{"$f":"Simulador!A282","v":"2047-01-02"},null,null,null,{"$f":"IF(Simulador!A281=\"\",Simulador!$C$8,Simulador!A281)","v":"2046-12-02"},{"$f":"IF(Simulador!Q281=\"\",0,Simulador!Q281*-1)","v":-11123.107056852061}]
["79CLASSIC",9.5271999999999996E-3,null,{"$f":"Simulador!C283","v":250},"2047-02-02","1900-02-26",{"$f":"VLOOKUP(F252&'Simulador Bradesco'!$I$13,$A$2:$B$600,2,FALSE)","v":1.1075E-3},{"$f":"Simulador!A283","v":"2047-02-02"},null,null,null,{"$f":"IF(Simulador!A282=\"\",Simulador!$C$8,Simulador!A282)","v":"2047-01-02"},{"$f":"IF(Simulador!Q282=\"\",0,Simulador!Q282*-1)","v":-11120.981460786814}]
["80CLASSIC",9.5271999999999996E-3,null,{"$f":"Simulador!C284","v":251},"2047-03-02","1900-02-26",{"$f":"VLOOKUP(F253&'Simulador Bradesco'!$I$13,$A$2:$B$600,2,FALSE)","v":1.1075E-3},{"$f":"Simulador!A284","v":"2047-03-02"},null,null,null,{"$f":"IF(Simulador!A283=\"\",Simulador!$C$8,Simulador!A283)","v":"2047-02-02"},{"$f":"IF(Simulador!Q283=\"\",0,Simulador!Q283*-1)","v":-11118.835217002161}]
["CLASSIC",0,null,{"$f":"Simulador!C285","v":252},"2047-04-02","1900-02-26",{"$f":"VLOOKUP(F254&'Simulador Bradesco'!$I$13,$A$2:$B$600,2,FALSE)","v":1.1075E-3},{"$f":"Simulador!A285","v":"2047-04-02"},null,null,null,{"$f":"IF(Simulador!A284=\"\",Simulador!$C$8,Simulador!A284)","v":"2047-03-02"},{"$f":"IF(Simulador!Q284=\"\",0,Simulador!Q284*-1)","v":-11116.668124929272}]
["CLASSIC",0,null,{"$f":"Simulador!C286","v":253},"2047-05-02","1900-02-26",{"$f":"VLOOKUP(F255&'Simulador Bradesco'!$I$13,$A$2:$B$600,2,FALSE)","v":1.1075E-3},{"$f":"Simulador!A286","v":"2047-05-02"},null,null,null,{"$f":"IF(Simulador!A285=\"\",Simulador!$C$8,Simulador!A285)","v":"2047-04-02"},{"$f":"IF(Simulador!Q285=\"\",0,Simulador!Q285*-1)","v":-11114.47998205102}]
["CLASSIC",0,null,{"$f":"Simulador!C287","v":254},"2047-06-02","1900-02-26",{"$f":"VLOOKUP(F256&'Simulador Bradesco'!$I$13,$A$2:$B$600,2,FALSE)","v":1.1075E-3},{"$f":"Simulador!A287","v":"2047-06-02"},null,null,null,{"$f":"IF(Simulador!A286=\"\",Simulador!$C$8,Simulador!A286)","v":"2047-05-02"},{"$f":"IF(Simulador!Q286=\"\",0,Simulador!Q286*-1)","v":-11112.270583883057}]
["CLASSIC",0,null,{"$f":"Simulador!C288","v":255},"2047-07-02","1900-02-26",{"$f":"VLOOKUP(F257&'Simulador Bradesco'!$I$13,$A$2:$B$600,2,FALSE)","v":1.1075E-3},{"$f":"Simulador!A288","v":"2047-07-02"},null,null,null,{"$f":"IF(Simulador!A287=\"\",Simulador!$C$8,Simulador!A287)","v":"2047-06-02"},{"$f":"IF(Simulador!Q287=\"\",0,Simulador!Q287*-1)","v":-11110.039723954709}]
["CLASSIC",0,null,{"$f":"Simulador!C289","v":256},"2047-08-02","1900-02-26",{"$f":"VLOOKUP(F258&'Simulador Bradesco'!$I$13,$A$2:$B$600,2,FALSE)","v":1.1075E-3},{"$f":"Simulador!A289","v":"2047-08-02"},null,null,null,{"$f":"IF(Simulador!A288=\"\",Simulador!$C$8,Simulador!A288)","v":"2047-07-02"},{"$f":"IF(Simulador!Q288=\"\",0,Simulador!Q288*-1)","v":-11107.787193789673}]
["CLASSIC",0,null,{"$f":"Simulador!C290","v":257},{"$f":"H259","v":"2047-09-02"},"1900-02-27",{"$f":"VLOOKUP(F259&'Simulador Bradesco'!$I$13,$A$2:$B$600,2,FALSE)","v":1.1075E-3},{"$f":"Simulador!A290","v":"2047-09-02"},null,null,null,{"$f":"IF(Simulador!A289=\"\",Simulador!$C$8,Simulador!A289)","v":"2047-08-02"},{"$f":"IF(Simulador!Q289=\"\",0,Simulador!Q289*-1)","v":-11105.512782886539}]
["CLASSIC",0,null,{"$f":"Simulador!C291","v":258},"2047-10-02",{"$f":"ROUNDDOWN(_xlfn.DAYS(E260,$B$1)/365,0)","v":"1900-02-27"},{"$f":"VLOOKUP(F260&'Simulador Bradesco'!$I$13,$A$2:$B$600,2,FALSE)","v":1.1075E-3},{"$f":"Simulador!A291","v":"2047-10-02"},null,null,null,{"$f":"IF(Simulador!A290=\"\",Simulador!$C$8,Simulador!A290)","v":"2047-09-02"},{"$f":"IF(Simulador!Q290=\"\",0,Simulador!Q290*-1)","v":-11103.216278699121}]
["CLASSIC",0,null,{"$f":"Simulador!C292","v":259},"2047-11-02","1900-02-27",{"$f":"VLOOKUP(F261&'Simulador Bradesco'!$I$13,$A$2:$B$600,2,FALSE)","v":1.1075E-3},{"$f":"Simulador!A292","v":"2047-11-02"},null,null,null,{"$f":"IF(Simulador!A291=\"\",Simulador!$C$8,Simulador!A291)","v":"2047-10-02"},{"$f":"IF(Simulador!Q291=\"\",0,Simulador!Q291*-1)","v":-11100.89746661659}]
["CLASSIC",0,null,{"$f":"Simulador!C293","v":260},"2047-12-02","1900-02-27",{"$f":"VLOOKUP(F262&'Simulador Bradesco'!$I$13,$A$2:$B$600,2,FALSE)","v":1.1075E-3},{"$f":"Simulador!A293","v":"2047-12-02"},null,null,null,{"$f":"IF(Simulador!A292=\"\",Simulador!$C$8,Simulador!A292)","v":"2047-11-02"},{"$f":"IF(Simulador!Q292=\"\",0,Simulador!Q292*-1)","v":-11098.556129943419}]
["CLASSIC",0,null,{"$f":"Simulador!C294","v":261},"2048-01-02","1900-02-27",{"$f":"VLOOKUP(F263&'Simulador Bradesco'!$I$13,$A$2:$B$600,2,FALSE)","v":1.1075E-3},{"$f":"Simulador!A294","v":"2048-01-02"},null,null,null,{"$f":"IF(Simulador!A293=\"\",Simulador!$C$8,Simulador!A293)","v":"2047-12-02"},{"$f":"IF(Simulador!Q293=\"\",0,Simulador!Q293*-1)","v":-11096.192049879131}]
["CLASSIC",0,null,{"$f":"Simulador!C295","v":262},"2048-02-02","1900-02-27",{"$f":"VLOOKUP(F264&'Simulador Bradesco'!$I$13,$A$2:$B$600,2,FALSE)","v":1.1075E-3},{"$f":"Simulador!A295","v":"2048-02-02"},null,null,null,{"$f":"IF(Simulador!A294=\"\",Simulador!$C$8,Simulador!A294)","v":"2048-01-02"},{"$f":"IF(Simulador!Q294=\"\",0,Simulador!Q294*-1)","v":-11093.805005497859}]
["CLASSIC",0,null,{"$f":"Simulador!C296","v":263},"2048-03-02","1900-02-27",{"$f":"VLOOKUP(F265&'Simulador Bradesco'!$I$13,$A$2:$B$600,2,FALSE)","v":1.1075E-3},{"$f":"Simulador!A296","v":"2048-03-02"},null,null,null,{"$f":"IF(Simulador!A295=\"\",Simulador!$C$8,Simulador!A295)","v":"2048-02-02"},{"$f":"IF(Simulador!Q295=\"\",0,Simulador!Q295*-1)","v":-11091.394773727696}]
["CLASSIC",0,null,{"$f":"Simulador!C297","v":264},"2048-04-02","1900-02-27",{"$f":"VLOOKUP(F266&'Simulador Bradesco'!$I$13,$A$2:$B$600,2,FALSE)","v":1.1075E-3},{"$f":"Simulador!A297","v":"2048-04-02"},null,null,null,{"$f":"IF(Simulador!A296=\"\",Simulador!$C$8,Simulador!A296)","v":"2048-03-02"},{"$f":"IF(Simulador!Q296=\"\",0,Simulador!Q296*-1)","v":-11088.96112932984}]
["CLASSIC",0,null,{"$f":"Simulador!C298","v":265},"2048-05-02","1900-02-27",{"$f":"VLOOKUP(F267&'Simulador Bradesco'!$I$13,$A$2:$B$600,2,FALSE)","v":1.1075E-3},{"$f":"Simulador!A298","v":"2048-05-02"},null,null,null,{"$f":"IF(Simulador!A297=\"\",Simulador!$C$8,Simulador!A297)","v":"2048-04-02"},{"$f":"IF(Simulador!Q297=\"\",0,Simulador!Q297*-1)","v":-11086.503844877561}]
["CLASSIC",0,null,{"$f":"Simulador!C299","v":266},"2048-06-02","1900-02-27",{"$f":"VLOOKUP(F268&'Simulador Bradesco'!$I$13,$A$2:$B$600,2,FALSE)","v":1.1075E-3},{"$f":"Simulador!A299","v":"2048-06-02"},null,null,null,{"$f":"IF(Simulador!A298=\"\",Simulador!$C$8,Simulador!A298)","v":"2048-05-02"},{"$f":"IF(Simulador!Q298=\"\",0,Simulador!Q298*-1)","v":-11084.022690734941}]
["CLASSIC",0,null,{"$f":"Simulador!C300","v":267},"2048-07-02","1900-02-27",{"$f":"VLOOKUP(F269&'Simulador Bradesco'!$I$13,$A$2:$B$600,2,FALSE)","v":1.1075E-3},{"$f":"Simulador!A300","v":"2048-07-02"},null,null,null,{"$f":"IF(Simulador!A299=\"\",Simulador!$C$8,Simulador!A299)","v":"2048-06-02"},{"$f":"IF(Simulador!Q299=\"\",0,Simulador!Q299*-1)","v":-11081.517435035405}]
["CLASSIC",0,null,{"$f":"Simulador!C301","v":268},"2048-08-02","1900-02-27",{"$f":"VLOOKUP(F270&'Simulador Bradesco'!$I$13,$A$2:$B$600,2,FALSE)","v":1.1075E-3},{"$f":"Simulador!A301","v":"2048-08-02"},null,null,null,{"$f":"IF(Simulador!A300=\"\",Simulador!$C$8,Simulador!A300)","v":"2048-07-02"},{"$f":"IF(Simulador!Q300=\"\",0,Simulador!Q300*-1)","v":-11078.987843660068}]
["CLASSIC",1.049E-4,null,{"$f":"Simulador!C302","v":269},"2048-09-02","1900-02-28",{"$f":"VLOOKUP(F271&'Simulador Bradesco'!$I$13,$A$2:$B$600,2,FALSE)","v":1.1075E-3},{"$f":"Simulador!A302","v":"2048-09-02"},null,null,null,{"$f":"IF(Simulador!A301=\"\",Simulador!$C$8,Simulador!A301)","v":"2048-08-02"},{"$f":"IF(Simulador!Q301=\"\",0,Simulador!Q301*-1)","v":-11076.43368021585}]
["CLASSIC",1.049E-4,null,{"$f":"Simulador!C303","v":270},"2048-10-02","1900-02-28",{"$f":"VLOOKUP(F272&'Simulador Bradesco'!$I$13,$A$2:$B$600,2,FALSE)","v":1.1075E-3},{"$f":"Simulador!A303","v":"2048-10-02"},null,null,null,{"$f":"IF(Simulador!A302=\"\",Simulador!$C$8,Simulador!A302)","v":"2048-09-02"},{"$f":"IF(Simulador!Q302=\"\",0,Simulador!Q302*-1)","v":-11073.854706013381}]
["CLASSIC",1.049E-4,null,{"$f":"Simulador!C304","v":271},"2048-11-02","1900-02-28",{"$f":"VLOOKUP(F273&'Simulador Bradesco'!$I$13,$A$2:$B$600,2,FALSE)","v":1.1075E-3},{"$f":"Simulador!A304","v":"2048-11-02"},null,null,null,{"$f":"IF(Simulador!A303=\"\",Simulador!$C$8,Simulador!A303)","v":"2048-10-02"},{"$f":"IF(Simulador!Q303=\"\",0,Simulador!Q303*-1)","v":-11071.250680044699}]
["CLASSIC",1.13E-4,null,{"$f":"Simulador!C305","v":272},"2048-12-02","1900-02-28",{"$f":"VLOOKUP(F274&'Simulador Bradesco'!$I$13,$A$2:$B$600,2,FALSE)","v":1.1075E-3},{"$f":"Simulador!A305","v":"2048-12-02"},null,null,null,{"$f":"IF(Simulador!A304=\"\",Simulador!$C$8,Simulador!A304)","v":"2048-11-02"},{"$f":"IF(Simulador!Q304=\"\",0,Simulador!Q304*-1)","v":-11068.621358960727}]
["CLASSIC",1.13E-4,null,{"$f":"Simulador!C306","v":273},"2049-01-02","1900-02-28",{"$f":"VLOOKUP(F275&'Simulador Bradesco'!$I$13,$A$2:$B$600,2,FALSE)","v":1.1075E-3},{"$f":"Simulador!A306","v":"2049-01-02"},null,null,null,{"$f":"IF(Simulador!A305=\"\",Simulador!$C$8,Simulador!A305)","v":"2048-12-02"},{"$f":"IF(Simulador!Q305=\"\",0,Simulador!Q305*-1)","v":-11065.966497048532}]
["CLASSIC",1.13E-4,null,{"$f":"Simulador!C307","v":274},"2049-02-02","1900-02-28",{"$f":"VLOOKUP(F276&'Simulador Bradesco'!$I$13,$A$2:$B$600,2,FALSE)","v":1.1075E-3},{"$f":"Simulador!A307","v":"2049-02-02"},null,null,null,{"$f":"IF(Simulador!A306=\"\",Simulador!$C$8,Simulador!A306)","v":"2049-01-02"},{"$f":"IF(Simulador!Q306=\"\",0,Simulador!Q306*-1)","v":-11063.285846208364}]
["CLASSIC",1.193E-4,null,{"$f":"Simulador!C308","v":275},"2049-03-02","1900-02-28",{"$f":"VLOOKUP(F277&'Simulador Bradesco'!$I$13,$A$2:$B$600,2,FALSE)","v":1.1075E-3},{"$f":"Simulador!A308","v":"2049-03-02"},null,null,null,{"$f":"IF(Simulador!A307=\"\",Simulador!$C$8,Simulador!A307)","v":"2049-02-02"},{"$f":"IF(Simulador!Q307=\"\",0,Simulador!Q307*-1)","v":-11060.579155930469}]
["CLASSIC",1.193E-4,null,{"$f":"Simulador!C309","v":276},"2049-04-02","1900-02-28",{"$f":"VLOOKUP(F278&'Simulador Bradesco'!$I$13,$A$2:$B$600,2,FALSE)","v":1.1075E-3},{"$f":"Simulador!A309","v":"2049-04-02"},null,null,null,{"$f":"IF(Simulador!A308=\"\",Simulador!$C$8,Simulador!A308)","v":"2049-03-02"},{"$f":"IF(Simulador!Q308=\"\",0,Simulador!Q308*-1)","v":-11057.846173271677}]
["CLASSIC",1.193E-4,null,{"$f":"Simulador!C310","v":277},"2049-05-02","1900-02-28",{"$f":"VLOOKUP(F279&'Simulador Bradesco'!$I$13,$A$2:$B$600,2,FALSE)","v":1.1075E-3},{"$f":"Simulador!A310","v":"2049-05-02"},null,null,null,{"$f":"IF(Simulador!A309=\"\",Simulador!$C$8,Simulador!A309)","v":"2049-04-02"},{"$f":"IF(Simulador!Q309=\"\",0,Simulador!Q309*-1)","v":-11055.086642831769}]
["CLASSIC",1.304E-4,null,{"$f":"Simulador!C311","v":278},"2049-06-02","1900-02-28",{"$f":"VLOOKUP(F280&'Simulador Bradesco'!$I$13,$A$2:$B$600,2,FALSE)","v":1.1075E-3},{"$f":"Simulador!A311","v":"2049-06-02"},null,null,null,{"$f":"IF(Simulador!A310=\"\",Simulador!$C$8,Simulador!A310)","v":"2049-05-02"},{"$f":"IF(Simulador!Q310=\"\",0,Simulador!Q310*-1)","v":-11052.300306729605}]
["CLASSIC",1.304E-4,null,{"$f":"Simulador!C312","v":279},"2049-07-02","1900-02-28",{"$f":"VLOOKUP(F281&'Simulador Bradesco'!$I$13,$A$2:$B$600,2,FALSE)","v":1.1075E-3},{"$f":"Simulador!A312","v":"2049-07-02"},null,null,null,{"$f":"IF(Simulador!A311=\"\",Simulador!$C$8,Simulador!A311)","v":"2049-06-02"},{"$f":"IF(Simulador!Q311=\"\",0,Simulador!Q311*-1)","v":-11049.486904579027}]
["CLASSIC",1.304E-4,null,{"$f":"Simulador!C313","v":280},"2049-08-02","1900-02-28",{"$f":"VLOOKUP(F282&'Simulador Bradesco'!$I$13,$A$2:$B$600,2,FALSE)","v":1.1075E-3},{"$f":"Simulador!A313","v":"2049-08-02"},null,null,null,{"$f":"IF(Simulador!A312=\"\",Simulador!$C$8,Simulador!A312)","v":"2049-07-02"},{"$f":"IF(Simulador!Q312=\"\",0,Simulador!Q312*-1)","v":-11046.646173464525}]
["CLASSIC",1.438E-4,null,{"$f":"Simulador!C314","v":281},"2049-09-02",60,{"$f":"VLOOKUP(F283&'Simulador Bradesco'!$I$13,$A$2:$B$600,2,FALSE)","v":1.3538999999999999E-3},{"$f":"Simulador!A314","v":"2049-09-02"},null,null,null,{"$f":"IF(Simulador!A313=\"\",Simulador!$C$8,Simulador!A313)","v":"2049-08-02"},{"$f":"IF(Simulador!Q313=\"\",0,Simulador!Q313*-1)","v":-11043.777847916668}]
["CLASSIC",1.438E-4,null,{"$f":"Simulador!C315","v":282},"2049-10-02",60,{"$f":"VLOOKUP(F284&'Simulador Bradesco'!$I$13,$A$2:$B$600,2,FALSE)","v":1.3538999999999999E-3},{"$f":"Simulador!A315","v":"2049-10-02"},null,null,null,{"$f":"IF(Simulador!A314=\"\",Simulador!$C$8,Simulador!A314)","v":"2049-09-02"},{"$f":"IF(Simulador!Q314=\"\",0,Simulador!Q314*-1)","v":-11230.645460479231}]
["CLASSIC",1.438E-4,null,{"$f":"Simulador!C316","v":283},"2049-11-02",60,{"$f":"VLOOKUP(F285&'Simulador Bradesco'!$I$13,$A$2:$B$600,2,FALSE)","v":1.3538999999999999E-3},{"$f":"Simulador!A316","v":"2049-11-02"},null,null,null,{"$f":"IF(Simulador!A315=\"\",Simulador!$C$8,Simulador!A315)","v":"2049-10-02"},{"$f":"IF(Simulador!Q315=\"\",0,Simulador!Q315*-1)","v":-11227.070527366493}]
["CLASSIC",1.5679999999999999E-4,null,{"$f":"Simulador!C317","v":284},"2049-12-02",60,{"$f":"VLOOKUP(F286&'Simulador Bradesco'!$I$13,$A$2:$B$600,2,FALSE)","v":1.3538999999999999E-3},{"$f":"Simulador!A317","v":"2049-12-02"},null,null,null,{"$f":"IF(Simulador!A316=\"\",Simulador!$C$8,Simulador!A316)","v":"2049-11-02"},{"$f":"IF(Simulador!Q316=\"\",0,Simulador!Q316*-1)","v":-11223.460867892987}]
["CLASSIC",1.5679999999999999E-4,null,{"$f":"Simulador!C318","v":285},"2050-01-02",60,{"$f":"VLOOKUP(F287&'Simulador Bradesco'!$I$13,$A$2:$B$600,2,FALSE)","v":1.3538999999999999E-3},{"$f":"Simulador!A318","v":"2050-01-02"},null,null,null,{"$f":"IF(Simulador!A317=\"\",Simulador!$C$8,Simulador!A317)","v":"2049-12-02"},{"$f":"IF(Simulador!Q317=\"\",0,Simulador!Q317*-1)","v":-11219.816144732085}]
["CLASSIC",1.5679999999999999E-4,null,{"$f":"Simulador!C319","v":286},"2050-02-02",60,{"$f":"VLOOKUP(F288&'Simulador Bradesco'!$I$13,$A$2:$B$600,2,FALSE)","v":1.3538999999999999E-3},{"$f":"Simulador!A319","v":"2050-02-02"},null,null,null,{"$f":"IF(Simulador!A318=\"\",Simulador!$C$8,Simulador!A318)","v":"2050-01-02"},{"$f":"IF(Simulador!Q318=\"\",0,Simulador!Q318*-1)","v":-11216.13601728042}]
["CLASSIC",1.8139999999999999E-4,null,{"$f":"Simulador!C320","v":287},"2050-03-02",60,{"$f":"VLOOKUP(F289&'Simulador Bradesco'!$I$13,$A$2:$B$600,2,FALSE)","v":1.3538999999999999E-3},{"$f":"Simulador!A320","v":"2050-03-02"},null,null,null,{"$f":"IF(Simulador!A319=\"\",Simulador!$C$8,Simulador!A319)","v":"2050-02-02"},{"$f":"IF(Simulador!Q319=\"\",0,Simulador!Q319*-1)","v":-11212.420141626049}]
["CLASSIC",1.8139999999999999E-4,null,{"$f":"Simulador!C321","v":288},"2050-04-02",60,{"$f":"VLOOKUP(F290&'Simulador Bradesco'!$I$13,$A$2:$B$600,2,FALSE)","v":1.3538999999999999E-3},{"$f":"Simulador!A321","v":"2050-04-02"},null,null,null,{"$f":"IF(Simulador!A320=\"\",Simulador!$C$8,Simulador!A320)","v":"2050-03-02"},{"$f":"IF(Simulador!Q320=\"\",0,Simulador!Q320*-1)","v":-11208.668170516334}]
["CLASSIC",1.8139999999999999E-4,null,{"$f":"Simulador!C322","v":289},"2050-05-02",60,{"$f":"VLOOKUP(F291&'Simulador Bradesco'!$I$13,$A$2:$B$600,2,FALSE)","v":1.3538999999999999E-3},{"$f":"Simulador!A322","v":"2050-05-02"},null,null,null,{"$f":"IF(Simulador!A321=\"\",Simulador!$C$8,Simulador!A321)","v":"2050-04-02"},{"$f":"IF(Simulador!Q321=\"\",0,Simulador!Q321*-1)","v":-11204.879753325462}]
["CLASSIC",2.2369999999999999E-4,null,{"$f":"Simulador!C323","v":290},"2050-06-02",60,{"$f":"VLOOKUP(F292&'Simulador Bradesco'!$I$13,$A$2:$B$600,2,FALSE)","v":1.3538999999999999E-3},{"$f":"Simulador!A323","v":"2050-06-02"},null,null,null,{"$f":"IF(Simulador!A322=\"\",Simulador!$C$8,Simulador!A322)","v":"2050-05-02"},{"$f":"IF(Simulador!Q322=\"\",0,Simulador!Q322*-1)","v":-11201.054536021702}]
["CLASSIC",2.2369999999999999E-4,null,{"$f":"Simulador!C324","v":291},"2050-07-02",60,{"$f":"VLOOKUP(F293&'Simulador Bradesco'!$I$13,$A$2:$B$600,2,FALSE)","v":1.3538999999999999E-3},{"$f":"Simulador!A324","v":"2050-07-02"},null,null,null,{"$f":"IF(Simulador!A323=\"\",Simulador!$C$8,Simulador!A323)","v":"2050-06-02"},{"$f":"IF(Simulador!Q323=\"\",0,Simulador!Q323*-1)","v":-11197.192161134313}]
["CLASSIC",2.2369999999999999E-4,null,{"$f":"Simulador!C325","v":292},"2050-08-02",60,{"$f":"VLOOKUP(F294&'Simulador Bradesco'!$I$13,$A$2:$B$600,2,FALSE)","v":1.3538999999999999E-3},{"$f":"Simulador!A325","v":"2050-08-02"},null,null,null,{"$f":"IF(Simulador!A324=\"\",Simulador!$C$8,Simulador!A324)","v":"2050-07-02"},{"$f":"IF(Simulador!Q324=\"\",0,Simulador!Q324*-1)","v":-11193.292267720135}]
["CLASSIC",3.1690000000000001E-4,null,{"$f":"Simulador!C326","v":293},"2050-09-02","1900-03-01",{"$f":"VLOOKUP(F295&'Simulador Bradesco'!$I$13,$A$2:$B$600,2,FALSE)","v":1.3538999999999999E-3},{"$f":"Simulador!A326","v":"2050-09-02"},null,null,null,{"$f":"IF(Simulador!A325=\"\",Simulador!$C$8,Simulador!A325)","v":"2050-08-02"},{"$f":"IF(Simulador!Q325=\"\",0,Simulador!Q325*-1)","v":-11189.354491329859}]
["CLASSIC",3.1690000000000001E-4,null,{"$f":"Simulador!C327","v":294},"2050-10-02","1900-03-01",{"$f":"VLOOKUP(F296&'Simulador Bradesco'!$I$13,$A$2:$B$600,2,FALSE)","v":1.3538999999999999E-3},{"$f":"Simulador!A327","v":"2050-10-02"},null,null,null,{"$f":"IF(Simulador!A326=\"\",Simulador!$C$8,Simulador!A326)","v":"2050-09-02"},{"$f":"IF(Simulador!Q326=\"\",0,Simulador!Q326*-1)","v":-11185.378463973973}]
["CLASSIC",3.1690000000000001E-4,null,{"$f":"Simulador!C328","v":295},"2050-11-02","1900-03-01",{"$f":"VLOOKUP(F297&'Simulador Bradesco'!$I$13,$A$2:$B$600,2,FALSE)","v":1.3538999999999999E-3},{"$f":"Simulador!A328","v":"2050-11-02"},null,null,null,{"$f":"IF(Simulador!A327=\"\",Simulador!$C$8,Simulador!A327)","v":"2050-10-02"},{"$f":"IF(Simulador!Q327=\"\",0,Simulador!Q327*-1)","v":-11181.36381408837}]
["CLASSIC",4.3520000000000001E-4,null,{"$f":"Simulador!C329","v":296},"2050-12-02","1900-03-01",{"$f":"VLOOKUP(F298&'Simulador Bradesco'!$I$13,$A$2:$B$600,2,FALSE)","v":1.3538999999999999E-3},{"$f":"Simulador!A329","v":"2050-12-02"},null,null,null,{"$f":"IF(Simulador!A328=\"\",Simulador!$C$8,Simulador!A328)","v":"2050-11-02"},{"$f":"IF(Simulador!Q328=\"\",0,Simulador!Q328*-1)","v":-11177.310166499623}]
["CLASSIC",4.3520000000000001E-4,null,{"$f":"Simulador!C330","v":297},"2051-01-02","1900-03-01",{"$f":"VLOOKUP(F299&'Simulador Bradesco'!$I$13,$A$2:$B$600,2,FALSE)","v":1.3538999999999999E-3},{"$f":"Simulador!A330","v":"2051-01-02"},null,null,null,{"$f":"IF(Simulador!A329=\"\",Simulador!$C$8,Simulador!A329)","v":"2050-12-02"},{"$f":"IF(Simulador!Q329=\"\",0,Simulador!Q329*-1)","v":-11173.217142389929}]
["CLASSIC",4.3520000000000001E-4,null,{"$f":"Simulador!C331","v":298},"2051-02-02","1900-03-01",{"$f":"VLOOKUP(F300&'Simulador Bradesco'!$I$13,$A$2:$B$600,2,FALSE)","v":1.3538999999999999E-3},{"$f":"Simulador!A331","v":"2051-02-02"},null,null,null,{"$f":"IF(Simulador!A330=\"\",Simulador!$C$8,Simulador!A330)","v":"2051-01-02"},{"$f":"IF(Simulador!Q330=\"\",0,Simulador!Q330*-1)","v":-11169.084359261708}]
["CLASSIC",5.8719999999999996E-4,null,{"$f":"Simulador!C332","v":299},"2051-03-02","1900-03-01",{"$f":"VLOOKUP(F301&'Simulador Bradesco'!$I$13,$A$2:$B$600,2,FALSE)","v":1.3538999999999999E-3},{"$f":"Simulador!A332","v":"2051-03-02"},null,null,null,{"$f":"IF(Simulador!A331=\"\",Simulador!$C$8,Simulador!A331)","v":"2051-02-02"},{"$f":"IF(Simulador!Q331=\"\",0,Simulador!Q331*-1)","v":-11164.911430901851}]
["CLASSIC",5.8719999999999996E-4,null,{"$f":"Simulador!C333","v":300},"2051-04-02","1900-03-01",{"$f":"VLOOKUP(F302&'Simulador Bradesco'!$I$13,$A$2:$B$600,2,FALSE)","v":1.3538999999999999E-3},{"$f":"Simulador!A333","v":"2051-04-02"},null,null,null,{"$f":"IF(Simulador!A332=\"\",Simulador!$C$8,Simulador!A332)","v":"2051-03-02"},{"$f":"IF(Simulador!Q332=\"\",0,Simulador!Q332*-1)","v":-11160.697967345639}]
["CLASSIC",5.8719999999999996E-4,null,{"$f":"Simulador!C334","v":301},"2051-05-02","1900-03-01",{"$f":"VLOOKUP(F303&'Simulador Bradesco'!$I$13,$A$2:$B$600,2,FALSE)","v":1.3538999999999999E-3},{"$f":"Simulador!A334","v":"2051-05-02"},null,null,null,{"$f":"IF(Simulador!A333=\"\",Simulador!$C$8,Simulador!A333)","v":"2051-04-02"},{"$f":"IF(Simulador!Q333=\"\",0,Simulador!Q333*-1)","v":-11156.44357484029}]
["CLASSIC",7.6000000000000004E-4,null,{"$f":"Simulador!C335","v":302},"2051-06-02","1900-03-01",{"$f":"VLOOKUP(F304&'Simulador Bradesco'!$I$13,$A$2:$B$600,2,FALSE)","v":1.3538999999999999E-3},{"$f":"Simulador!A335","v":"2051-06-02"},null,null,null,{"$f":"IF(Simulador!A334=\"\",Simulador!$C$8,Simulador!A334)","v":"2051-05-02"},{"$f":"IF(Simulador!Q334=\"\",0,Simulador!Q334*-1)","v":-11152.147855808169}]
["CLASSIC",7.6000000000000004E-4,null,{"$f":"Simulador!C336","v":303},"2051-07-02","1900-03-01",{"$f":"VLOOKUP(F305&'Simulador Bradesco'!$I$13,$A$2:$B$600,2,FALSE)","v":1.3538999999999999E-3},{"$f":"Simulador!A336","v":"2051-07-02"},null,null,null,{"$f":"IF(Simulador!A335=\"\",Simulador!$C$8,Simulador!A335)","v":"2051-06-02"},{"$f":"IF(Simulador!Q335=\"\",0,Simulador!Q335*-1)","v":-11147.810408809632}]
["CLASSIC",7.6000000000000004E-4,null,{"$f":"Simulador!C337","v":304},"2051-08-02","1900-03-01",{"$f":"VLOOKUP(F306&'Simulador Bradesco'!$I$13,$A$2:$B$600,2,FALSE)","v":1.3538999999999999E-3},{"$f":"Simulador!A337","v":"2051-08-02"},null,null,null,{"$f":"IF(Simulador!A336=\"\",Simulador!$C$8,Simulador!A336)","v":"2051-07-02"},{"$f":"IF(Simulador!Q336=\"\",0,Simulador!Q336*-1)","v":-11143.43082850551}]
["CLASSIC",9.3590000000000003E-4,null,{"$f":"Simulador!C338","v":305},"2051-09-02","1900-03-02",{"$f":"VLOOKUP(F307&'Simulador Bradesco'!$I$13,$A$2:$B$600,2,FALSE)","v":1.3538999999999999E-3},{"$f":"Simulador!A338","v":"2051-09-02"},null,null,null,{"$f":"IF(Simulador!A337=\"\",Simulador!$C$8,Simulador!A337)","v":"2051-08-02"},{"$f":"IF(Simulador!Q337=\"\",0,Simulador!Q337*-1)","v":-11139.00870561923}]
["CLASSIC",9.3590000000000003E-4,null,{"$f":"Simulador!C339","v":306},"2051-10-02","1900-03-02",{"$f":"VLOOKUP(F308&'Simulador Bradesco'!$I$13,$A$2:$B$600,2,FALSE)","v":1.3538999999999999E-3},{"$f":"Simulador!A339","v":"2051-10-02"},null,null,null,{"$f":"IF(Simulador!A338=\"\",Simulador!$C$8,Simulador!A338)","v":"2051-09-02"},{"$f":"IF(Simulador!Q338=\"\",0,Simulador!Q338*-1)","v":-11134.54362689857}]
["CLASSIC",9.3590000000000003E-4,null,{"$f":"Simulador!C340","v":307},"2051-11-02","1900-03-02",{"$f":"VLOOKUP(F309&'Simulador Bradesco'!$I$13,$A$2:$B$600,2,FALSE)","v":1.3538999999999999E-3},{"$f":"Simulador!A340","v":"2051-11-02"},null,null,null,{"$f":"IF(Simulador!A339=\"\",Simulador!$C$8,Simulador!A339)","v":"2051-10-02"},{"$f":"IF(Simulador!Q339=\"\",0,Simulador!Q339*-1)","v":-11130.035175077037}]
["CLASSIC",1.1306000000000001E-3,null,{"$f":"Simulador!C341","v":308},"2051-12-02","1900-03-02",{"$f":"VLOOKUP(F310&'Simulador Bradesco'!$I$13,$A$2:$B$600,2,FALSE)","v":1.3538999999999999E-3},{"$f":"Simulador!A341","v":"2051-12-02"},null,null,null,{"$f":"IF(Simulador!A340=\"\",Simulador!$C$8,Simulador!A340)","v":"2051-11-02"},{"$f":"IF(Simulador!Q340=\"\",0,Simulador!Q340*-1)","v":-11125.482928834874}]
["CLASSIC",1.1306000000000001E-3,null,{"$f":"Simulador!C342","v":309},"2052-01-02","1900-03-02",{"$f":"VLOOKUP(F311&'Simulador Bradesco'!$I$13,$A$2:$B$600,2,FALSE)","v":1.3538999999999999E-3},{"$f":"Simulador!A342","v":"2052-01-02"},null,null,null,{"$f":"IF(Simulador!A341=\"\",Simulador!$C$8,Simulador!A341)","v":"2051-12-02"},{"$f":"IF(Simulador!Q341=\"\",0,Simulador!Q341*-1)","v":-11120.886462759689}]
["CLASSIC",1.1306000000000001E-3,null,{"$f":"Simulador!C343","v":310},"2052-02-02","1900-03-02",{"$f":"VLOOKUP(F312&'Simulador Bradesco'!$I$13,$A$2:$B$600,2,FALSE)","v":1.3538999999999999E-3},{"$f":"Simulador!A343","v":"2052-02-02"},null,null,null,{"$f":"IF(Simulador!A342=\"\",Simulador!$C$8,Simulador!A342)","v":"2052-01-02"},{"$f":"IF(Simulador!Q342=\"\",0,Simulador!Q342*-1)","v":-11116.245347306696}]
["CLASSIC",1.3822000000000001E-3,null,{"$f":"Simulador!C344","v":311},"2052-03-02","1900-03-02",{"$f":"VLOOKUP(F313&'Simulador Bradesco'!$I$13,$A$2:$B$600,2,FALSE)","v":1.3538999999999999E-3},{"$f":"Simulador!A344","v":"2052-03-02"},null,null,null,{"$f":"IF(Simulador!A343=\"\",Simulador!$C$8,Simulador!A343)","v":"2052-02-02"},{"$f":"IF(Simulador!Q343=\"\",0,Simulador!Q343*-1)","v":-11111.559148758577}]
["CLASSIC",1.3822000000000001E-3,null,{"$f":"Simulador!C345","v":312},"2052-04-02","1900-03-02",{"$f":"VLOOKUP(F314&'Simulador Bradesco'!$I$13,$A$2:$B$600,2,FALSE)","v":1.3538999999999999E-3},{"$f":"Simulador!A345","v":"2052-04-02"},null,null,null,{"$f":"IF(Simulador!A344=\"\",Simulador!$C$8,Simulador!A344)","v":"2052-03-02"},{"$f":"IF(Simulador!Q344=\"\",0,Simulador!Q344*-1)","v":-11106.82742918495}]
["CLASSIC",1.3822000000000001E-3,null,{"$f":"Simulador!C346","v":313},"2052-05-02","1900-03-02",{"$f":"VLOOKUP(F315&'Simulador Bradesco'!$I$13,$A$2:$B$600,2,FALSE)","v":1.3538999999999999E-3},{"$f":"Simulador!A346","v":"2052-05-02"},null,null,null,{"$f":"IF(Simulador!A345=\"\",Simulador!$C$8,Simulador!A345)","v":"2052-04-02"},{"$f":"IF(Simulador!Q345=\"\",0,Simulador!Q345*-1)","v":-11102.049746401444}]
["CLASSIC",1.7815999999999999E-3,null,{"$f":"Simulador!C347","v":314},"2052-06-02","1900-03-02",{"$f":"VLOOKUP(F316&'Simulador Bradesco'!$I$13,$A$2:$B$600,2,FALSE)","v":1.3538999999999999E-3},{"$f":"Simulador!A347","v":"2052-06-02"},null,null,null,{"$f":"IF(Simulador!A346=\"\",Simulador!$C$8,Simulador!A346)","v":"2052-05-02"},{"$f":"IF(Simulador!Q346=\"\",0,Simulador!Q346*-1)","v":-11097.225653928372}]
["CLASSIC",1.7815999999999999E-3,null,{"$f":"Simulador!C348","v":315},"2052-07-02","1900-03-02",{"$f":"VLOOKUP(F317&'Simulador Bradesco'!$I$13,$A$2:$B$600,2,FALSE)","v":1.3538999999999999E-3},{"$f":"Simulador!A348","v":"2052-07-02"},null,null,null,{"$f":"IF(Simulador!A347=\"\",Simulador!$C$8,Simulador!A347)","v":"2052-06-02"},{"$f":"IF(Simulador!Q347=\"\",0,Simulador!Q347*-1)","v":-11092.354700949014}]
["CLASSIC",1.7815999999999999E-3,null,{"$f":"Simulador!C349","v":316},"2052-08-02","1900-03-02",{"$f":"VLOOKUP(F318&'Simulador Bradesco'!$I$13,$A$2:$B$600,2,FALSE)","v":1.3538999999999999E-3},{"$f":"Simulador!A349","v":"2052-08-02"},null,null,null,{"$f":"IF(Simulador!A348=\"\",Simulador!$C$8,Simulador!A348)","v":"2052-07-02"},{"$f":"IF(Simulador!Q348=\"\",0,Simulador!Q348*-1)","v":-11087.436432267485}]
["CLASSIC",2.2041000000000001E-3,null,{"$f":"Simulador!C350","v":317},"2052-09-02","1900-03-03",{"$f":"VLOOKUP(F319&'Simulador Bradesco'!$I$13,$A$2:$B$600,2,FALSE)","v":1.7451999999999999E-3},{"$f":"Simulador!A350","v":"2052-09-02"},null,null,null,{"$f":"IF(Simulador!A349=\"\",Simulador!$C$8,Simulador!A349)","v":"2052-08-02"},{"$f":"IF(Simulador!Q349=\"\",0,Simulador!Q349*-1)","v":-11082.470388266192}]
["CLASSIC",2.2041000000000001E-3,null,{"$f":"Simulador!C351","v":318},"2052-10-02","1900-03-03",{"$f":"VLOOKUP(F320&'Simulador Bradesco'!$I$13,$A$2:$B$600,2,FALSE)","v":1.7451999999999999E-3},{"$f":"Simulador!A351","v":"2052-10-02"},null,null,null,{"$f":"IF(Simulador!A350=\"\",Simulador!$C$8,Simulador!A350)","v":"2052-09-02"},{"$f":"IF(Simulador!Q350=\"\",0,Simulador!Q350*-1)","v":-11334.539643810633}]
["CLASSIC",2.2041000000000001E-3,null,{"$f":"Simulador!C352","v":319},"2052-11-02","1900-03-03",{"$f":"VLOOKUP(F321&'Simulador Bradesco'!$I$13,$A$2:$B$600,2,FALSE)","v":1.7451999999999999E-3},{"$f":"Simulador!A352","v":"2052-11-02"},null,null,null,{"$f":"IF(Simulador!A351=\"\",Simulador!$C$8,Simulador!A351)","v":"2052-10-02"},{"$f":"IF(Simulador!Q351=\"\",0,Simulador!Q351*-1)","v":-11328.013362265785}]
["CLASSIC",2.983E-3,null,{"$f":"Simulador!C353","v":320},"2052-12-02","1900-03-03",{"$f":"VLOOKUP(F322&'Simulador Bradesco'!$I$13,$A$2:$B$600,2,FALSE)","v":1.7451999999999999E-3},{"$f":"Simulador!A353","v":"2052-12-02"},null,null,null,{"$f":"IF(Simulador!A352=\"\",Simulador!$C$8,Simulador!A352)","v":"2052-11-02"},{"$f":"IF(Simulador!Q352=\"\",0,Simulador!Q352*-1)","v":-11321.423685406882}]
["CLASSIC",2.983E-3,null,{"$f":"Simulador!C354","v":321},{"$f":"H323","v":"2053-01-02"},"1900-03-03",{"$f":"VLOOKUP(F323&'Simulador Bradesco'!$I$13,$A$2:$B$600,2,FALSE)","v":1.7451999999999999E-3},{"$f":"Simulador!A354","v":"2053-01-02"},null,null,null,{"$f":"IF(Simulador!A353=\"\",Simulador!$C$8,Simulador!A353)","v":"2052-12-02"},{"$f":"IF(Simulador!Q353=\"\",0,Simulador!Q353*-1)","v":-11314.769997421414}]
["CLASSIC",2.983E-3,null,{"$f":"Simulador!C355","v":322},"2053-02-02",{"$f":"ROUNDDOWN(_xlfn.DAYS(E324,$B$1)/365,0)","v":"1900-03-03"},{"$f":"VLOOKUP(F324&'Simulador Bradesco'!$I$13,$A$2:$B$600,2,FALSE)","v":1.7451999999999999E-3},{"$f":"Simulador!A355","v":"2053-02-02"},null,null,null,{"$f":"IF(Simulador!A354=\"\",Simulador!$C$8,Simulador!A354)","v":"2053-01-02"},{"$f":"IF(Simulador!Q354=\"\",0,Simulador!Q354*-1)","v":-11308.051676514953}]
["CLASSIC",4.0109000000000004E-3,null,{"$f":"Simulador!C356","v":323},"2053-03-02","1900-03-03",{"$f":"VLOOKUP(F325&'Simulador Bradesco'!$I$13,$A$2:$B$600,2,FALSE)","v":1.7451999999999999E-3},{"$f":"Simulador!A356","v":"2053-03-02"},null,null,null,{"$f":"IF(Simulador!A355=\"\",Simulador!$C$8,Simulador!A355)","v":"2053-02-02"},{"$f":"IF(Simulador!Q355=\"\",0,Simulador!Q355*-1)","v":-11301.268094853061}]
["CLASSIC",4.0109000000000004E-3,null,{"$f":"Simulador!C357","v":324},"2053-04-02","1900-03-03",{"$f":"VLOOKUP(F326&'Simulador Bradesco'!$I$13,$A$2:$B$600,2,FALSE)","v":1.7451999999999999E-3},{"$f":"Simulador!A357","v":"2053-04-02"},null,null,null,{"$f":"IF(Simulador!A356=\"\",Simulador!$C$8,Simulador!A356)","v":"2053-03-02"},{"$f":"IF(Simulador!Q356=\"\",0,Simulador!Q356*-1)","v":-11294.418618502608}]
["CLASSIC",4.0109000000000004E-3,null,{"$f":"Simulador!C358","v":325},"2053-05-02","1900-03-03",{"$f":"VLOOKUP(F327&'Simulador Bradesco'!$I$13,$A$2:$B$600,2,FALSE)","v":1.7451999999999999E-3},{"$f":"Simulador!A358","v":"2053-05-02"},null,null,null,{"$f":"IF(Simulador!A357=\"\",Simulador!$C$8,Simulador!A357)","v":"2053-04-02"},{"$f":"IF(Simulador!Q357=\"\",0,Simulador!Q357*-1)","v":-11287.502607372531}]
["CLASSIC",7.1247999999999997E-3,null,{"$f":"Simulador!C359","v":326},"2053-06-02","1900-03-03",{"$f":"VLOOKUP(F328&'Simulador Bradesco'!$I$13,$A$2:$B$600,2,FALSE)","v":1.7451999999999999E-3},{"$f":"Simulador!A359","v":"2053-06-02"},null,null,null,{"$f":"IF(Simulador!A358=\"\",Simulador!$C$8,Simulador!A358)","v":"2053-05-02"},{"$f":"IF(Simulador!Q358=\"\",0,Simulador!Q358*-1)","v":-11280.519415154024}]
["CLASSIC",7.1247999999999997E-3,null,{"$f":"Simulador!C360","v":327},"2053-07-02","1900-03-03",{"$f":"VLOOKUP(F329&'Simulador Bradesco'!$I$13,$A$2:$B$600,2,FALSE)","v":1.7451999999999999E-3},{"$f":"Simulador!A360","v":"2053-07-02"},null,null,null,{"$f":"IF(Simulador!A359=\"\",Simulador!$C$8,Simulador!A359)","v":"2053-06-02"},{"$f":"IF(Simulador!Q359=\"\",0,Simulador!Q359*-1)","v":-11273.46838926013}]
["CLASSIC",7.1247999999999997E-3,null,{"$f":"Simulador!C361","v":328},"2053-08-02","1900-03-03",{"$f":"VLOOKUP(F330&'Simulador Bradesco'!$I$13,$A$2:$B$600,2,FALSE)","v":1.7451999999999999E-3},{"$f":"Simulador!A361","v":"2053-08-02"},null,null,null,{"$f":"IF(Simulador!A360=\"\",Simulador!$C$8,Simulador!A360)","v":"2053-07-02"},{"$f":"IF(Simulador!Q360=\"\",0,Simulador!Q360*-1)","v":-11266.348870764765}]
["CLASSIC",9.5271999999999996E-3,null,{"$f":"Simulador!C362","v":329},"2053-09-02","1900-03-04",{"$f":"VLOOKUP(F331&'Simulador Bradesco'!$I$13,$A$2:$B$600,2,FALSE)","v":1.7451999999999999E-3},{"$f":"Simulador!A362","v":"2053-09-02"},null,null,null,{"$f":"IF(Simulador!A361=\"\",Simulador!$C$8,Simulador!A361)","v":"2053-08-02"},{"$f":"IF(Simulador!Q361=\"\",0,Simulador!Q361*-1)","v":-11259.160194341133}]
["CLASSIC",9.5271999999999996E-3,null,{"$f":"Simulador!C363","v":330},"2053-10-02","1900-03-04",{"$f":"VLOOKUP(F332&'Simulador Bradesco'!$I$13,$A$2:$B$600,2,FALSE)","v":1.7451999999999999E-3},{"$f":"Simulador!A363","v":"2053-10-02"},null,null,null,{"$f":"IF(Simulador!A362=\"\",Simulador!$C$8,Simulador!A362)","v":"2053-09-02"},{"$f":"IF(Simulador!Q362=\"\",0,Simulador!Q362*-1)","v":-11251.901688199556}]
["CLASSIC",9.5271999999999996E-3,null,{"$f":"Simulador!C364","v":331},"2053-11-02","1900-03-04",{"$f":"VLOOKUP(F333&'Simulador Bradesco'!$I$13,$A$2:$B$600,2,FALSE)","v":1.7451999999999999E-3},{"$f":"Simulador!A364","v":"2053-11-02"},null,null,null,{"$f":"IF(Simulador!A363=\"\",Simulador!$C$8,Simulador!A363)","v":"2053-10-02"},{"$f":"IF(Simulador!Q363=\"\",0,Simulador!Q363*-1)","v":-11244.572674024692}]
["CLASSIC",0,null,{"$f":"Simulador!C365","v":332},"2053-12-02","1900-03-04",{"$f":"VLOOKUP(F334&'Simulador Bradesco'!$I$13,$A$2:$B$600,2,FALSE)","v":1.7451999999999999E-3},{"$f":"Simulador!A365","v":"2053-12-02"},null,null,null,{"$f":"IF(Simulador!A364=\"\",Simulador!$C$8,Simulador!A364)","v":"2053-11-02"},{"$f":"IF(Simulador!Q364=\"\",0,Simulador!Q364*-1)","v":-11237.172466912147}]
["CLASSIC",0,null,{"$f":"Simulador!C366","v":333},"2054-01-02","1900-03-04",{"$f":"VLOOKUP(F335&'Simulador Bradesco'!$I$13,$A$2:$B$600,2,FALSE)","v":1.7451999999999999E-3},{"$f":"Simulador!A366","v":"2054-01-02"},null,null,null,{"$f":"IF(Simulador!A365=\"\",Simulador!$C$8,Simulador!A365)","v":"2053-12-02"},{"$f":"IF(Simulador!Q365=\"\",0,Simulador!Q365*-1)","v":-11229.700375304465}]
["CLASSIC",0,null,{"$f":"Simulador!C367","v":334},"2054-02-02","1900-03-04",{"$f":"VLOOKUP(F336&'Simulador Bradesco'!$I$13,$A$2:$B$600,2,FALSE)","v":1.7451999999999999E-3},{"$f":"Simulador!A367","v":"2054-02-02"},null,null,null,{"$f":"IF(Simulador!A366=\"\",Simulador!$C$8,Simulador!A366)","v":"2054-01-02"},{"$f":"IF(Simulador!Q366=\"\",0,Simulador!Q366*-1)","v":-11222.155700926509}]
["CLASSIC",0,null,{"$f":"Simulador!C368","v":335},"2054-03-02","1900-03-04",{"$f":"VLOOKUP(F337&'Simulador Bradesco'!$I$13,$A$2:$B$600,2,FALSE)","v":1.7451999999999999E-3},{"$f":"Simulador!A368","v":"2054-03-02"},null,null,null,{"$f":"IF(Simulador!A367=\"\",Simulador!$C$8,Simulador!A367)","v":"2054-02-02"},{"$f":"IF(Simulador!Q367=\"\",0,Simulador!Q367*-1)","v":-11214.537738720204}]
["CLASSIC",0,null,{"$f":"Simulador!C369","v":336},"2054-04-02","1900-03-04",{"$f":"VLOOKUP(F338&'Simulador Bradesco'!$I$13,$A$2:$B$600,2,FALSE)","v":1.7451999999999999E-3},{"$f":"Simulador!A369","v":"2054-04-02"},null,null,null,{"$f":"IF(Simulador!A368=\"\",Simulador!$C$8,Simulador!A368)","v":"2054-03-02"},{"$f":"IF(Simulador!Q368=\"\",0,Simulador!Q368*-1)","v":-11206.845776778644}]
["CLASSIC",0,null,{"$f":"Simulador!C370","v":337},"2054-05-02","1900-03-04",{"$f":"VLOOKUP(F339&'Simulador Bradesco'!$I$13,$A$2:$B$600,2,FALSE)","v":1.7451999999999999E-3},{"$f":"Simulador!A370","v":"2054-05-02"},null,null,null,{"$f":"IF(Simulador!A369=\"\",Simulador!$C$8,Simulador!A369)","v":"2054-04-02"},{"$f":"IF(Simulador!Q369=\"\",0,Simulador!Q369*-1)","v":-11199.079096279567}]
["CLASSIC",0,null,{"$f":"Simulador!C371","v":338},"2054-06-02","1900-03-04",{"$f":"VLOOKUP(F340&'Simulador Bradesco'!$I$13,$A$2:$B$600,2,FALSE)","v":1.7451999999999999E-3},{"$f":"Simulador!A371","v":"2054-06-02"},null,null,null,{"$f":"IF(Simulador!A370=\"\",Simulador!$C$8,Simulador!A370)","v":"2054-05-02"},{"$f":"IF(Simulador!Q370=\"\",0,Simulador!Q370*-1)","v":-11191.236971418184}]
["CLASSIC",0,null,{"$f":"Simulador!C372","v":339},"2054-07-02","1900-03-04",{"$f":"VLOOKUP(F341&'Simulador Bradesco'!$I$13,$A$2:$B$600,2,FALSE)","v":1.7451999999999999E-3},{"$f":"Simulador!A372","v":"2054-07-02"},null,null,null,{"$f":"IF(Simulador!A371=\"\",Simulador!$C$8,Simulador!A371)","v":"2054-06-02"},{"$f":"IF(Simulador!Q371=\"\",0,Simulador!Q371*-1)","v":-11183.318669339342}]
["CLASSIC",0,null,{"$f":"Simulador!C373","v":340},"2054-08-02","1900-03-04",{"$f":"VLOOKUP(F342&'Simulador Bradesco'!$I$13,$A$2:$B$600,2,FALSE)","v":1.7451999999999999E-3},{"$f":"Simulador!A373","v":"2054-08-02"},null,null,null,{"$f":"IF(Simulador!A372=\"\",Simulador!$C$8,Simulador!A372)","v":"2054-07-02"},{"$f":"IF(Simulador!Q372=\"\",0,Simulador!Q372*-1)","v":-11175.323450069047}]
["CLASSIC",0,null,{"$f":"Simulador!C374","v":341},"2054-09-02","1900-03-05",{"$f":"VLOOKUP(F343&'Simulador Bradesco'!$I$13,$A$2:$B$600,2,FALSE)","v":1.7451999999999999E-3},{"$f":"Simulador!A374","v":"2054-09-02"},null,null,null,{"$f":"IF(Simulador!A373=\"\",Simulador!$C$8,Simulador!A373)","v":"2054-08-02"},{"$f":"IF(Simulador!Q373=\"\",0,Simulador!Q373*-1)","v":-11167.250566445307}]
["CLASSIC",0,null,{"$f":"Simulador!C375","v":342},"2054-10-02","1900-03-05",{"$f":"VLOOKUP(F344&'Simulador Bradesco'!$I$13,$A$2:$B$600,2,FALSE)","v":1.7451999999999999E-3},{"$f":"Simulador!A375","v":"2054-10-02"},null,null,null,{"$f":"IF(Simulador!A374=\"\",Simulador!$C$8,Simulador!A374)","v":"2054-09-02"},{"$f":"IF(Simulador!Q374=\"\",0,Simulador!Q374*-1)","v":-11159.099264048316}]
["CLASSIC",0,null,{"$f":"Simulador!C376","v":343},"2054-11-02","1900-03-05",{"$f":"VLOOKUP(F345&'Simulador Bradesco'!$I$13,$A$2:$B$600,2,FALSE)","v":1.7451999999999999E-3},{"$f":"Simulador!A376","v":"2054-11-02"},null,null,null,{"$f":"IF(Simulador!A375=\"\",Simulador!$C$8,Simulador!A375)","v":"2054-10-02"},{"$f":"IF(Simulador!Q375=\"\",0,Simulador!Q375*-1)","v":-11150.868781129944}]
["CLASSIC",0,null,{"$f":"Simulador!C377","v":344},"2054-12-02","1900-03-05",{"$f":"VLOOKUP(F346&'Simulador Bradesco'!$I$13,$A$2:$B$600,2,FALSE)","v":1.7451999999999999E-3},{"$f":"Simulador!A377","v":"2054-12-02"},null,null,null,{"$f":"IF(Simulador!A376=\"\",Simulador!$C$8,Simulador!A376)","v":"2054-11-02"},{"$f":"IF(Simulador!Q376=\"\",0,Simulador!Q376*-1)","v":-11142.558348542556}]
["CLASSIC",0,null,{"$f":"Simulador!C378","v":345},"2055-01-02","1900-03-05",{"$f":"VLOOKUP(F347&'Simulador Bradesco'!$I$13,$A$2:$B$600,2,FALSE)","v":1.7451999999999999E-3},{"$f":"Simulador!A378","v":"2055-01-02"},null,null,null,{"$f":"IF(Simulador!A377=\"\",Simulador!$C$8,Simulador!A377)","v":"2054-12-02"},{"$f":"IF(Simulador!Q377=\"\",0,Simulador!Q377*-1)","v":-11134.167189667129}]
["CLASSIC",0,null,{"$f":"Simulador!C379","v":346},"2055-02-02","1900-03-05",{"$f":"VLOOKUP(F348&'Simulador Bradesco'!$I$13,$A$2:$B$600,2,FALSE)","v":1.7451999999999999E-3},{"$f":"Simulador!A379","v":"2055-02-02"},null,null,null,{"$f":"IF(Simulador!A378=\"\",Simulador!$C$8,Simulador!A378)","v":"2055-01-02"},{"$f":"IF(Simulador!Q378=\"\",0,Simulador!Q378*-1)","v":-11125.694520340685}]
["CLASSIC",0,null,{"$f":"Simulador!C380","v":347},"2055-03-02","1900-03-05",{"$f":"VLOOKUP(F349&'Simulador Bradesco'!$I$13,$A$2:$B$600,2,FALSE)","v":1.7451999999999999E-3},{"$f":"Simulador!A380","v":"2055-03-02"},null,null,null,{"$f":"IF(Simulador!A379=\"\",Simulador!$C$8,Simulador!A379)","v":"2055-02-02"},{"$f":"IF(Simulador!Q379=\"\",0,Simulador!Q379*-1)","v":-11117.139548783005}]
["CLASSIC",0,null,{"$f":"Simulador!C381","v":348},"2055-04-02","1900-03-05",{"$f":"VLOOKUP(F350&'Simulador Bradesco'!$I$13,$A$2:$B$600,2,FALSE)","v":1.7451999999999999E-3},{"$f":"Simulador!A381","v":"2055-04-02"},null,null,null,{"$f":"IF(Simulador!A380=\"\",Simulador!$C$8,Simulador!A380)","v":"2055-03-02"},{"$f":"IF(Simulador!Q380=\"\",0,Simulador!Q380*-1)","v":-11108.501475522633}]
["CLASSIC",1.0489999999999999E-4,null,{"$f":"Simulador!C382","v":349},"2055-05-02","1900-03-05",{"$f":"VLOOKUP(F351&'Simulador Bradesco'!$I$13,$A$2:$B$600,2,FALSE)","v":1.7451999999999999E-3},{"$f":"Simulador!A382","v":"2055-05-02"},null,null,null,{"$f":"IF(Simulador!A381=\"\",Simulador!$C$8,Simulador!A381)","v":"2055-04-02"},{"$f":"IF(Simulador!Q381=\"\",0,Simulador!Q381*-1)","v":-11099.77949332217}]
["CLASSIC",1.0489999999999999E-4,null,{"$f":"Simulador!C383","v":350},"2055-06-02","1900-03-05",{"$f":"VLOOKUP(F352&'Simulador Bradesco'!$I$13,$A$2:$B$600,2,FALSE)","v":1.7451999999999999E-3},{"$f":"Simulador!A383","v":"2055-06-02"},null,null,null,{"$f":"IF(Simulador!A382=\"\",Simulador!$C$8,Simulador!A382)","v":"2055-05-02"},{"$f":"IF(Simulador!Q382=\"\",0,Simulador!Q382*-1)","v":-11090.972787102837}]
["CLASSIC",1.0489999999999999E-4,null,{"$f":"Simulador!C384","v":351},"2055-07-02","1900-03-05",{"$f":"VLOOKUP(F353&'Simulador Bradesco'!$I$13,$A$2:$B$600,2,FALSE)","v":1.7451999999999999E-3},{"$f":"Simulador!A384","v":"2055-07-02"},null,null,null,{"$f":"IF(Simulador!A383=\"\",Simulador!$C$8,Simulador!A383)","v":"2055-06-02"},{"$f":"IF(Simulador!Q383=\"\",0,Simulador!Q383*-1)","v":-11082.080533868297}]
["CLASSIC",1.13E-4,null,{"$f":"Simulador!C385","v":352},"2055-08-02","1900-03-05",{"$f":"VLOOKUP(F354&'Simulador Bradesco'!$I$13,$A$2:$B$600,2,FALSE)","v":1.7451999999999999E-3},{"$f":"Simulador!A385","v":"2055-08-02"},null,null,null,{"$f":"IF(Simulador!A384=\"\",Simulador!$C$8,Simulador!A384)","v":"2055-07-02"},{"$f":"IF(Simulador!Q384=\"\",0,Simulador!Q384*-1)","v":-11073.101902627755}]
["CLASSIC",1.13E-4,null,{"$f":"Simulador!C386","v":353},"2055-09-02","1900-03-06",{"$f":"VLOOKUP(F355&'Simulador Bradesco'!$I$13,$A$2:$B$600,2,FALSE)","v":2.1591000000000002E-3},{"$f":"Simulador!A386","v":"2055-09-02"},null,null,null,{"$f":"IF(Simulador!A385=\"\",Simulador!$C$8,Simulador!A385)","v":"2055-08-02"},{"$f":"IF(Simulador!Q385=\"\",0,Simulador!Q385*-1)","v":-11064.036054318296}]
["CLASSIC",1.13E-4,null,{"$f":"Simulador!C387","v":354},"2055-10-02","1900-03-06",{"$f":"VLOOKUP(F356&'Simulador Bradesco'!$I$13,$A$2:$B$600,2,FALSE)","v":2.1591000000000002E-3},{"$f":"Simulador!A387","v":"2055-10-02"},null,null,null,{"$f":"IF(Simulador!A386=\"\",Simulador!$C$8,Simulador!A386)","v":"2055-09-02"},{"$f":"IF(Simulador!Q386=\"\",0,Simulador!Q386*-1)","v":-11260.488934155468}]
["CLASSIC",1.193E-4,null,{"$f":"Simulador!C388","v":355},"2055-11-02","1900-03-06",{"$f":"VLOOKUP(F357&'Simulador Bradesco'!$I$13,$A$2:$B$600,2,FALSE)","v":2.1591000000000002E-3},{"$f":"Simulador!A388","v":"2055-11-02"},null,null,null,{"$f":"IF(Simulador!A387=\"\",Simulador!$C$8,Simulador!A387)","v":"2055-10-02"},{"$f":"IF(Simulador!Q387=\"\",0,Simulador!Q387*-1)","v":-11249.054027407616}]
["CLASSIC",1.193E-4,null,{"$f":"Simulador!C389","v":356},"2055-12-02","1900-03-06",{"$f":"VLOOKUP(F358&'Simulador Bradesco'!$I$13,$A$2:$B$600,2,FALSE)","v":2.1591000000000002E-3},{"$f":"Simulador!A389","v":"2055-12-02"},null,null,null,{"$f":"IF(Simulador!A388=\"\",Simulador!$C$8,Simulador!A388)","v":"2055-11-02"},{"$f":"IF(Simulador!Q388=\"\",0,Simulador!Q388*-1)","v":-11237.508043701242}]
["CLASSIC",1.193E-4,null,{"$f":"Simulador!C390","v":357},"2056-01-02","1900-03-06",{"$f":"VLOOKUP(F359&'Simulador Bradesco'!$I$13,$A$2:$B$600,2,FALSE)","v":2.1591000000000002E-3},{"$f":"Simulador!A390","v":"2056-01-02"},null,null,null,{"$f":"IF(Simulador!A389=\"\",Simulador!$C$8,Simulador!A389)","v":"2055-12-02"},{"$f":"IF(Simulador!Q389=\"\",0,Simulador!Q389*-1)","v":-11225.849904051534}]
["CLASSIC",1.304E-4,null,{"$f":"Simulador!C391","v":358},"2056-02-02","1900-03-06",{"$f":"VLOOKUP(F360&'Simulador Bradesco'!$I$13,$A$2:$B$600,2,FALSE)","v":2.1591000000000002E-3},{"$f":"Simulador!A391","v":"2056-02-02"},null,null,null,{"$f":"IF(Simulador!A390=\"\",Simulador!$C$8,Simulador!A390)","v":"2056-01-02"},{"$f":"IF(Simulador!Q390=\"\",0,Simulador!Q390*-1)","v":-11214.078518992585}]
["CLASSIC",1.304E-4,null,{"$f":"Simulador!C392","v":359},"2056-03-02","1900-03-06",{"$f":"VLOOKUP(F361&'Simulador Bradesco'!$I$13,$A$2:$B$600,2,FALSE)","v":2.1591000000000002E-3},{"$f":"Simulador!A392","v":"2056-03-02"},null,null,null,{"$f":"IF(Simulador!A391=\"\",Simulador!$C$8,Simulador!A391)","v":"2056-02-02"},{"$f":"IF(Simulador!Q391=\"\",0,Simulador!Q391*-1)","v":-11202.192788475577}]
["CLASSIC",1.304E-4,null,{"$f":"Simulador!C393","v":360},"2056-04-02","1900-03-06",{"$f":"VLOOKUP(F362&'Simulador Bradesco'!$I$13,$A$2:$B$600,2,FALSE)","v":2.1591000000000002E-3},{"$f":"Simulador!A393","v":"2056-04-02"},null,null,null,{"$f":"IF(Simulador!A392=\"\",Simulador!$C$8,Simulador!A392)","v":"2056-03-02"},{"$f":"IF(Simulador!Q392=\"\",0,Simulador!Q392*-1)","v":-11190.191601765988}]
["CLASSIC",1.438E-4,null,{"$f":"Simulador!C394","v":361},{"$f":"H363","v":"2056-05-02"},"1900-03-06",{"$f":"VLOOKUP(F363&'Simulador Bradesco'!$I$13,$A$2:$B$600,2,FALSE)","v":2.1591000000000002E-3},{"$f":"Simulador!A394","v":"2056-05-02"},null,null,null,{"$f":"IF(Simulador!A393=\"\",Simulador!$C$8,Simulador!A393)","v":"2056-04-02"},{"$f":"IF(Simulador!Q393=\"\",0,Simulador!Q393*-1)","v":-11178.073837339787}]
["CLASSIC",1.438E-4,null,{"$f":"Simulador!C395","v":362},"2056-06-02","1900-03-06",{"$f":"VLOOKUP(F364&'Simulador Bradesco'!$I$13,$A$2:$B$600,2,FALSE)","v":2.1591000000000002E-3},{"$f":"Simulador!A395","v":"2056-06-02"},null,null,null,{"$f":"IF(Simulador!A394=\"\",Simulador!$C$8,Simulador!A394)","v":"2056-05-02"},{"$f":"IF(Simulador!Q394=\"\",0,Simulador!Q394*-1)","v":-11165.838362778624}]
["CLASSIC",1.438E-4,null,{"$f":"Simulador!C396","v":363},"2056-07-02","1900-03-06",{"$f":"VLOOKUP(F365&'Simulador Bradesco'!$I$13,$A$2:$B$600,2,FALSE)","v":2.1591000000000002E-3},{"$f":"Simulador!A396","v":"2056-07-02"},null,null,null,{"$f":"IF(Simulador!A395=\"\",Simulador!$C$8,Simulador!A395)","v":"2056-06-02"},{"$f":"IF(Simulador!Q395=\"\",0,Simulador!Q395*-1)","v":-11153.484034664016}]
["CLASSIC",1.5679999999999999E-4,null,{"$f":"Simulador!C397","v":364},"2056-08-02","1900-03-06",{"$f":"VLOOKUP(F366&'Simulador Bradesco'!$I$13,$A$2:$B$600,2,FALSE)","v":2.1591000000000002E-3},{"$f":"Simulador!A397","v":"2056-08-02"},null,null,null,{"$f":"IF(Simulador!A396=\"\",Simulador!$C$8,Simulador!A396)","v":"2056-07-02"},{"$f":"IF(Simulador!Q396=\"\",0,Simulador!Q396*-1)","v":-11141.009698470478}]
["CLASSIC",1.5679999999999999E-4,null,{"$f":"Simulador!C398","v":365},"2056-09-02","1900-03-07",{"$f":"VLOOKUP(F367&'Simulador Bradesco'!$I$13,$A$2:$B$600,2,FALSE)","v":2.1591000000000002E-3},{"$f":"Simulador!A398","v":"2056-09-02"},null,null,null,{"$f":"IF(Simulador!A397=\"\",Simulador!$C$8,Simulador!A397)","v":"2056-08-02"},{"$f":"IF(Simulador!Q397=\"\",0,Simulador!Q397*-1)","v":-11128.414188457642}]
["CLASSIC",1.5679999999999999E-4,null,{"$f":"Simulador!C399","v":366},"2056-10-02","1900-03-07",{"$f":"VLOOKUP(F368&'Simulador Bradesco'!$I$13,$A$2:$B$600,2,FALSE)","v":2.1591000000000002E-3},{"$f":"Simulador!A399","v":"2056-10-02"},null,null,null,{"$f":"IF(Simulador!A398=\"\",Simulador!$C$8,Simulador!A398)","v":"2056-09-02"},{"$f":"IF(Simulador!Q398=\"\",0,Simulador!Q398*-1)","v":-11115.696327561316}]
["CLASSIC",1.8139999999999999E-4,null,{"$f":"Simulador!C400","v":367},"2056-11-02","1900-03-07",{"$f":"VLOOKUP(F369&'Simulador Bradesco'!$I$13,$A$2:$B$600,2,FALSE)","v":2.1591000000000002E-3},{"$f":"Simulador!A400","v":"2056-11-02"},null,null,null,{"$f":"IF(Simulador!A399=\"\",Simulador!$C$8,Simulador!A399)","v":"2056-10-02"},{"$f":"IF(Simulador!Q399=\"\",0,Simulador!Q399*-1)","v":-11102.854927283477}]
["CLASSIC",1.8139999999999999E-4,null,{"$f":"Simulador!C401","v":368},"2056-12-02","1900-03-07",{"$f":"VLOOKUP(F370&'Simulador Bradesco'!$I$13,$A$2:$B$600,2,FALSE)","v":2.1591000000000002E-3},{"$f":"Simulador!A401","v":"2056-12-02"},null,null,null,{"$f":"IF(Simulador!A400=\"\",Simulador!$C$8,Simulador!A400)","v":"2056-11-02"},{"$f":"IF(Simulador!Q400=\"\",0,Simulador!Q400*-1)","v":-11089.88878758122}]
["CLASSIC",1.8139999999999999E-4,null,{"$f":"Simulador!C402","v":369},"2057-01-02","1900-03-07",{"$f":"VLOOKUP(F371&'Simulador Bradesco'!$I$13,$A$2:$B$600,2,FALSE)","v":2.1591000000000002E-3},{"$f":"Simulador!A402","v":"2057-01-02"},null,null,null,{"$f":"IF(Simulador!A401=\"\",Simulador!$C$8,Simulador!A401)","v":"2056-12-02"},{"$f":"IF(Simulador!Q401=\"\",0,Simulador!Q401*-1)","v":-11076.796696754598}]
["CLASSIC",2.2370000000000002E-4,null,{"$f":"Simulador!C403","v":370},"2057-02-02","1900-03-07",{"$f":"VLOOKUP(F372&'Simulador Bradesco'!$I$13,$A$2:$B$600,2,FALSE)","v":2.1591000000000002E-3},{"$f":"Simulador!A403","v":"2057-02-02"},null,null,null,{"$f":"IF(Simulador!A402=\"\",Simulador!$C$8,Simulador!A402)","v":"2057-01-02"},{"$f":"IF(Simulador!Q402=\"\",0,Simulador!Q402*-1)","v":-11063.577431333397}]
["CLASSIC",2.2370000000000002E-4,null,{"$f":"Simulador!C404","v":371},"2057-03-02","1900-03-07",{"$f":"VLOOKUP(F373&'Simulador Bradesco'!$I$13,$A$2:$B$600,2,FALSE)","v":2.1591000000000002E-3},{"$f":"Simulador!A404","v":"2057-03-02"},null,null,null,{"$f":"IF(Simulador!A403=\"\",Simulador!$C$8,Simulador!A403)","v":"2057-02-02"},{"$f":"IF(Simulador!Q403=\"\",0,Simulador!Q403*-1)","v":-11050.229755962799}]
["CLASSIC",2.2370000000000002E-4,null,{"$f":"Simulador!C405","v":372},"2057-04-02","1900-03-07",{"$f":"VLOOKUP(F374&'Simulador Bradesco'!$I$13,$A$2:$B$600,2,FALSE)","v":2.1591000000000002E-3},{"$f":"Simulador!A405","v":"2057-04-02"},null,null,null,{"$f":"IF(Simulador!A404=\"\",Simulador!$C$8,Simulador!A404)","v":"2057-03-02"},{"$f":"IF(Simulador!Q404=\"\",0,Simulador!Q404*-1)","v":-11036.75242328793}]
["CLASSIC",3.1690000000000001E-4,null,{"$f":"Simulador!C406","v":373},"2057-05-02","1900-03-07",{"$f":"VLOOKUP(F375&'Simulador Bradesco'!$I$13,$A$2:$B$600,2,FALSE)","v":2.1591000000000002E-3},{"$f":"Simulador!A406","v":"2057-05-02"},null,null,null,{"$f":"IF(Simulador!A405=\"\",Simulador!$C$8,Simulador!A405)","v":"2057-04-02"},{"$f":"IF(Simulador!Q405=\"\",0,Simulador!Q405*-1)","v":-11023.144173837305}]
["CLASSIC",3.1690000000000001E-4,null,{"$f":"Simulador!C407","v":374},"2057-06-02","1900-03-07",{"$f":"VLOOKUP(F376&'Simulador Bradesco'!$I$13,$A$2:$B$600,2,FALSE)","v":2.1591000000000002E-3},{"$f":"Simulador!A407","v":"2057-06-02"},null,null,null,{"$f":"IF(Simulador!A406=\"\",Simulador!$C$8,Simulador!A406)","v":"2057-05-02"},{"$f":"IF(Simulador!Q406=\"\",0,Simulador!Q406*-1)","v":-11009.40373590512}]
["CLASSIC",3.1690000000000001E-4,null,{"$f":"Simulador!C408","v":375},"2057-07-02","1900-03-07",{"$f":"VLOOKUP(F377&'Simulador Bradesco'!$I$13,$A$2:$B$600,2,FALSE)","v":2.1591000000000002E-3},{"$f":"Simulador!A408","v":"2057-07-02"},null,null,null,{"$f":"IF(Simulador!A407=\"\",Simulador!$C$8,Simulador!A407)","v":"2057-06-02"},{"$f":"IF(Simulador!Q407=\"\",0,Simulador!Q407*-1)","v":-10995.529825432415}]
["CLASSIC",4.3520000000000001E-4,null,{"$f":"Simulador!C409","v":376},"2057-08-02","1900-03-07",{"$f":"VLOOKUP(F378&'Simulador Bradesco'!$I$13,$A$2:$B$600,2,FALSE)","v":2.1591000000000002E-3},{"$f":"Simulador!A409","v":"2057-08-02"},null,null,null,{"$f":"IF(Simulador!A408=\"\",Simulador!$C$8,Simulador!A408)","v":"2057-07-02"},{"$f":"IF(Simulador!Q408=\"\",0,Simulador!Q408*-1)","v":-10981.521145887073}]
["CLASSIC",4.3520000000000001E-4,null,{"$f":"Simulador!C410","v":377},"2057-09-02","1900-03-08",{"$f":"VLOOKUP(F379&'Simulador Bradesco'!$I$13,$A$2:$B$600,2,FALSE)","v":2.1591000000000002E-3},{"$f":"Simulador!A410","v":"2057-09-02"},null,null,null,{"$f":"IF(Simulador!A409=\"\",Simulador!$C$8,Simulador!A409)","v":"2057-08-02"},{"$f":"IF(Simulador!Q409=\"\",0,Simulador!Q409*-1)","v":-10967.376388142658}]
["CLASSIC",4.3520000000000001E-4,null,{"$f":"Simulador!C411","v":378},"2057-10-02","1900-03-08",{"$f":"VLOOKUP(F380&'Simulador Bradesco'!$I$13,$A$2:$B$600,2,FALSE)","v":2.1591000000000002E-3},{"$f":"Simulador!A411","v":"2057-10-02"},null,null,null,{"$f":"IF(Simulador!A410=\"\",Simulador!$C$8,Simulador!A410)","v":"2057-09-02"},{"$f":"IF(Simulador!Q410=\"\",0,Simulador!Q410*-1)","v":-10953.094230356082}]
["CLASSIC",5.8719999999999996E-4,null,{"$f":"Simulador!C412","v":379},"2057-11-02","1900-03-08",{"$f":"VLOOKUP(F381&'Simulador Bradesco'!$I$13,$A$2:$B$600,2,FALSE)","v":2.1591000000000002E-3},{"$f":"Simulador!A412","v":"2057-11-02"},null,null,null,{"$f":"IF(Simulador!A411=\"\",Simulador!$C$8,Simulador!A411)","v":"2057-10-02"},{"$f":"IF(Simulador!Q411=\"\",0,Simulador!Q411*-1)","v":-10938.673337844069}]
["CLASSIC",5.8719999999999996E-4,null,{"$f":"Simulador!C413","v":380},"2057-12-02","1900-03-08",{"$f":"VLOOKUP(F382&'Simulador Bradesco'!$I$13,$A$2:$B$600,2,FALSE)","v":2.1591000000000002E-3},{"$f":"Simulador!A413","v":"2057-12-02"},null,null,null,{"$f":"IF(Simulador!A412=\"\",Simulador!$C$8,Simulador!A412)","v":"2057-11-02"},{"$f":"IF(Simulador!Q412=\"\",0,Simulador!Q412*-1)","v":-10924.112362958434}]
["CLASSIC",5.8719999999999996E-4,null,{"$f":"Simulador!C414","v":381},"2058-01-02","1900-03-08",{"$f":"VLOOKUP(F383&'Simulador Bradesco'!$I$13,$A$2:$B$600,2,FALSE)","v":2.1591000000000002E-3},{"$f":"Simulador!A414","v":"2058-01-02"},null,null,null,{"$f":"IF(Simulador!A413=\"\",Simulador!$C$8,Simulador!A413)","v":"2057-12-02"},{"$f":"IF(Simulador!Q413=\"\",0,Simulador!Q413*-1)","v":-10909.409944960138}]
["CLASSIC",7.5999999999999993E-4,null,{"$f":"Simulador!C415","v":382},"2058-02-02","1900-03-08",{"$f":"VLOOKUP(F384&'Simulador Bradesco'!$I$13,$A$2:$B$600,2,FALSE)","v":2.1591000000000002E-3},{"$f":"Simulador!A415","v":"2058-02-02"},null,null,null,{"$f":"IF(Simulador!A414=\"\",Simulador!$C$8,Simulador!A414)","v":"2058-01-02"},{"$f":"IF(Simulador!Q414=\"\",0,Simulador!Q414*-1)","v":-10894.564709892129}]
["CLASSIC",7.5999999999999993E-4,null,{"$f":"Simulador!C416","v":383},"2058-03-02","1900-03-08",{"$f":"VLOOKUP(F385&'Simulador Bradesco'!$I$13,$A$2:$B$600,2,FALSE)","v":2.1591000000000002E-3},{"$f":"Simulador!A416","v":"2058-03-02"},null,null,null,{"$f":"IF(Simulador!A415=\"\",Simulador!$C$8,Simulador!A415)","v":"2058-02-02"},{"$f":"IF(Simulador!Q415=\"\",0,Simulador!Q415*-1)","v":-10879.575270450947}]
["CLASSIC",7.5999999999999993E-4,null,{"$f":"Simulador!C417","v":384},"2058-04-02","1900-03-08",{"$f":"VLOOKUP(F386&'Simulador Bradesco'!$I$13,$A$2:$B$600,2,FALSE)","v":2.1591000000000002E-3},{"$f":"Simulador!A417","v":"2058-04-02"},null,null,null,{"$f":"IF(Simulador!A416=\"\",Simulador!$C$8,Simulador!A416)","v":"2058-03-02"},{"$f":"IF(Simulador!Q416=\"\",0,Simulador!Q416*-1)","v":-10864.44022585707}]
["CLASSIC",9.3590000000000003E-4,null,{"$f":"Simulador!C418","v":385},"2058-05-02","1900-03-08",{"$f":"VLOOKUP(F387&'Simulador Bradesco'!$I$13,$A$2:$B$600,2,FALSE)","v":2.1591000000000002E-3},{"$f":"Simulador!A418","v":"2058-05-02"},null,null,null,{"$f":"IF(Simulador!A417=\"\",Simulador!$C$8,Simulador!A417)","v":"2058-04-02"},{"$f":"IF(Simulador!Q417=\"\",0,Simulador!Q417*-1)","v":-10849.158161724017}]
["CLASSIC",9.3590000000000003E-4,null,{"$f":"Simulador!C419","v":386},"2058-06-02",{"$f":"ROUNDDOWN(_xlfn.DAYS(E388,$B$1)/365,0)","v":"1900-03-08"},{"$f":"VLOOKUP(F388&'Simulador Bradesco'!$I$13,$A$2:$B$600,2,FALSE)","v":2.1591000000000002E-3},{"$f":"Simulador!A419","v":"2058-06-02"},null,null,null,{"$f":"IF(Simulador!A418=\"\",Simulador!$C$8,Simulador!A418)","v":"2058-05-02"},{"$f":"IF(Simulador!Q418=\"\",0,Simulador!Q418*-1)","v":-10833.727649926175}]
["CLASSIC",9.3590000000000003E-4,null,{"$f":"Simulador!C420","v":387},"2058-07-02","1900-03-08",{"$f":"VLOOKUP(F389&'Simulador Bradesco'!$I$13,$A$2:$B$600,2,FALSE)","v":2.1591000000000002E-3},{"$f":"Simulador!A420","v":"2058-07-02"},null,null,null,{"$f":"IF(Simulador!A419=\"\",Simulador!$C$8,Simulador!A419)","v":"2058-06-02"},{"$f":"IF(Simulador!Q419=\"\",0,Simulador!Q419*-1)","v":-10818.147248465326}]
["CLASSIC",1.1305999999999998E-3,null,{"$f":"Simulador!C421","v":388},"2058-08-02","1900-03-08",{"$f":"VLOOKUP(F390&'Simulador Bradesco'!$I$13,$A$2:$B$600,2,FALSE)","v":2.1591000000000002E-3},{"$f":"Simulador!A421","v":"2058-08-02"},null,null,null,{"$f":"IF(Simulador!A420=\"\",Simulador!$C$8,Simulador!A420)","v":"2058-07-02"},{"$f":"IF(Simulador!Q420=\"\",0,Simulador!Q420*-1)","v":-10802.415501335907}]
["CLASSIC",1.1305999999999998E-3,null,{"$f":"Simulador!C422","v":389},"2058-09-02","1900-03-09",{"$f":"VLOOKUP(F391&'Simulador Bradesco'!$I$13,$A$2:$B$600,2,FALSE)","v":2.9221E-3},{"$f":"Simulador!A422","v":"2058-09-02"},null,null,null,{"$f":"IF(Simulador!A421=\"\",Simulador!$C$8,Simulador!A421)","v":"2058-08-02"},{"$f":"IF(Simulador!Q421=\"\",0,Simulador!Q421*-1)","v":-10786.530938388929}]
["CLASSIC",1.1305999999999998E-3,null,{"$f":"Simulador!C423","v":390},"2058-10-02","1900-03-09",{"$f":"VLOOKUP(F392&'Simulador Bradesco'!$I$13,$A$2:$B$600,2,FALSE)","v":2.9221E-3},{"$f":"Simulador!A423","v":"2058-10-02"},null,null,null,{"$f":"IF(Simulador!A422=\"\",Simulador!$C$8,Simulador!A422)","v":"2058-09-02"},{"$f":"IF(Simulador!Q422=\"\",0,Simulador!Q422*-1)","v":-10976.356949028223}]
["CLASSIC",1.3822000000000001E-3,null,{"$f":"Simulador!C424","v":391},"2058-11-02","1900-03-09",{"$f":"VLOOKUP(F393&'Simulador Bradesco'!$I$13,$A$2:$B$600,2,FALSE)","v":2.9221E-3},{"$f":"Simulador!A424","v":"2058-11-02"},null,null,null,{"$f":"IF(Simulador!A423=\"\",Simulador!$C$8,Simulador!A423)","v":"2058-10-02"},{"$f":"IF(Simulador!Q423=\"\",0,Simulador!Q423*-1)","v":-10954.439287650564}]
["CLASSIC",1.3822000000000001E-3,null,{"$f":"Simulador!C425","v":392},"2058-12-02","1900-03-09",{"$f":"VLOOKUP(F394&'Simulador Bradesco'!$I$13,$A$2:$B$600,2,FALSE)","v":2.9221E-3},{"$f":"Simulador!A425","v":"2058-12-02"},null,null,null,{"$f":"IF(Simulador!A424=\"\",Simulador!$C$8,Simulador!A424)","v":"2058-11-02"},{"$f":"IF(Simulador!Q424=\"\",0,Simulador!Q424*-1)","v":-10932.30872141785}]
["CLASSIC",1.3822000000000001E-3,null,{"$f":"Simulador!C426","v":393},"2059-01-02","1900-03-09",{"$f":"VLOOKUP(F395&'Simulador Bradesco'!$I$13,$A$2:$B$600,2,FALSE)","v":2.9221E-3},{"$f":"Simulador!A426","v":"2059-01-02"},null,null,null,{"$f":"IF(Simulador!A425=\"\",Simulador!$C$8,Simulador!A425)","v":"2058-12-02"},{"$f":"IF(Simulador!Q425=\"\",0,Simulador!Q425*-1)","v":-10909.963182204448}]
["CLASSIC",1.7816000000000002E-3,null,{"$f":"Simulador!C427","v":394},"2059-02-02","1900-03-09",{"$f":"VLOOKUP(F396&'Simulador Bradesco'!$I$13,$A$2:$B$600,2,FALSE)","v":2.9221E-3},{"$f":"Simulador!A427","v":"2059-02-02"},null,null,null,{"$f":"IF(Simulador!A426=\"\",Simulador!$C$8,Simulador!A426)","v":"2059-01-02"},{"$f":"IF(Simulador!Q426=\"\",0,Simulador!Q426*-1)","v":-10887.400581795264}]
["CLASSIC",1.7816000000000002E-3,null,{"$f":"Simulador!C428","v":395},"2059-03-02","1900-03-09",{"$f":"VLOOKUP(F397&'Simulador Bradesco'!$I$13,$A$2:$B$600,2,FALSE)","v":2.9221E-3},{"$f":"Simulador!A428","v":"2059-03-02"},null,null,null,{"$f":"IF(Simulador!A427=\"\",Simulador!$C$8,Simulador!A427)","v":"2059-02-02"},{"$f":"IF(Simulador!Q427=\"\",0,Simulador!Q427*-1)","v":-10864.618811690598}]
["CLASSIC",1.7816000000000002E-3,null,{"$f":"Simulador!C429","v":396},"2059-04-02","1900-03-09",{"$f":"VLOOKUP(F398&'Simulador Bradesco'!$I$13,$A$2:$B$600,2,FALSE)","v":2.9221E-3},{"$f":"Simulador!A429","v":"2059-04-02"},null,null,null,{"$f":"IF(Simulador!A428=\"\",Simulador!$C$8,Simulador!A428)","v":"2059-03-02"},{"$f":"IF(Simulador!Q428=\"\",0,Simulador!Q428*-1)","v":-10841.615742909104}]
["CLASSIC",2.2041000000000001E-3,null,{"$f":"Simulador!C430","v":397},"2059-05-02","1900-03-09",{"$f":"VLOOKUP(F399&'Simulador Bradesco'!$I$13,$A$2:$B$600,2,FALSE)","v":2.9221E-3},{"$f":"Simulador!A430","v":"2059-05-02"},null,null,null,{"$f":"IF(Simulador!A429=\"\",Simulador!$C$8,Simulador!A429)","v":"2059-04-02"},{"$f":"IF(Simulador!Q429=\"\",0,Simulador!Q429*-1)","v":-10818.389225788831}]
["CLASSIC",2.2041000000000001E-3,null,{"$f":"Simulador!C431","v":398},"2059-06-02","1900-03-09",{"$f":"VLOOKUP(F400&'Simulador Bradesco'!$I$13,$A$2:$B$600,2,FALSE)","v":2.9221E-3},{"$f":"Simulador!A431","v":"2059-06-02"},null,null,null,{"$f":"IF(Simulador!A430=\"\",Simulador!$C$8,Simulador!A430)","v":"2059-05-02"},{"$f":"IF(Simulador!Q430=\"\",0,Simulador!Q430*-1)","v":-10794.937089786335}]
["CLASSIC",2.2041000000000001E-3,null,{"$f":"Simulador!C432","v":399},"2059-07-02","1900-03-09",{"$f":"VLOOKUP(F401&'Simulador Bradesco'!$I$13,$A$2:$B$600,2,FALSE)","v":2.9221E-3},{"$f":"Simulador!A432","v":"2059-07-02"},null,null,null,{"$f":"IF(Simulador!A431=\"\",Simulador!$C$8,Simulador!A431)","v":"2059-06-02"},{"$f":"IF(Simulador!Q431=\"\",0,Simulador!Q431*-1)","v":-10771.257143273844}]
["CLASSIC",2.983E-3,null,{"$f":"Simulador!C433","v":400},"2059-08-02","1900-03-09",{"$f":"VLOOKUP(F402&'Simulador Bradesco'!$I$13,$A$2:$B$600,2,FALSE)","v":2.9221E-3},{"$f":"Simulador!A433","v":"2059-08-02"},null,null,null,{"$f":"IF(Simulador!A432=\"\",Simulador!$C$8,Simulador!A432)","v":"2059-07-02"},{"$f":"IF(Simulador!Q432=\"\",0,Simulador!Q432*-1)","v":-10747.347173334441}]
["CLASSIC",2.983E-3,null,{"$f":"Simulador!C434","v":401},"2059-09-02","1900-03-10",{"$f":"VLOOKUP(F403&'Simulador Bradesco'!$I$13,$A$2:$B$600,2,FALSE)","v":2.9221E-3},{"$f":"Simulador!A434","v":"2059-09-02"},null,null,null,{"$f":"IF(Simulador!A433=\"\",Simulador!$C$8,Simulador!A433)","v":"2059-08-02"},{"$f":"IF(Simulador!Q433=\"\",0,Simulador!Q433*-1)","v":-10723.20494555527}]
["CLASSIC",2.983E-3,null,{"$f":"Simulador!C435","v":402},"2059-10-02","1900-03-10",{"$f":"VLOOKUP(F404&'Simulador Bradesco'!$I$13,$A$2:$B$600,2,FALSE)","v":2.9221E-3},{"$f":"Simulador!A435","v":"2059-10-02"},null,null,null,{"$f":"IF(Simulador!A434=\"\",Simulador!$C$8,Simulador!A434)","v":"2059-09-02"},{"$f":"IF(Simulador!Q434=\"\",0,Simulador!Q434*-1)","v":-10698.828203818724}]
["CLASSIC",4.0109000000000004E-3,null,{"$f":"Simulador!C436","v":403},"2059-11-02","1900-03-10",{"$f":"VLOOKUP(F405&'Simulador Bradesco'!$I$13,$A$2:$B$600,2,FALSE)","v":2.9221E-3},{"$f":"Simulador!A436","v":"2059-11-02"},null,null,null,{"$f":"IF(Simulador!A435=\"\",Simulador!$C$8,Simulador!A435)","v":"2059-10-02"},{"$f":"IF(Simulador!Q435=\"\",0,Simulador!Q435*-1)","v":-10674.214670091615}]
["CLASSIC",4.0109000000000004E-3,null,{"$f":"Simulador!C437","v":404},"2059-12-02","1900-03-10",{"$f":"VLOOKUP(F406&'Simulador Bradesco'!$I$13,$A$2:$B$600,2,FALSE)","v":2.9221E-3},{"$f":"Simulador!A437","v":"2059-12-02"},null,null,null,{"$f":"IF(Simulador!A436=\"\",Simulador!$C$8,Simulador!A436)","v":"2059-11-02"},{"$f":"IF(Simulador!Q436=\"\",0,Simulador!Q436*-1)","v":-10649.362044212277}]
["CLASSIC",4.0109000000000004E-3,null,{"$f":"Simulador!C438","v":405},{"$f":"H407","v":"2060-01-02"},"1900-03-10",{"$f":"VLOOKUP(F407&'Simulador Bradesco'!$I$13,$A$2:$B$600,2,FALSE)","v":2.9221E-3},{"$f":"Simulador!A438","v":"2060-01-02"},null,null,null,{"$f":"IF(Simulador!A437=\"\",Simulador!$C$8,Simulador!A437)","v":"2059-12-02"},{"$f":"IF(Simulador!Q437=\"\",0,Simulador!Q437*-1)","v":-10624.268003675626}]
["CLASSIC",7.1247999999999997E-3,null,{"$f":"Simulador!C439","v":406},{"$f":"H408","v":"2060-02-02"},"1900-03-10",{"$f":"VLOOKUP(F408&'Simulador Bradesco'!$I$13,$A$2:$B$600,2,FALSE)","v":2.9221E-3},{"$f":"Simulador!A439","v":"2060-02-02"},null,null,null,{"$f":"IF(Simulador!A438=\"\",Simulador!$C$8,Simulador!A438)","v":"2060-01-02"},{"$f":"IF(Simulador!Q438=\"\",0,Simulador!Q438*-1)","v":-10598.930203416112}]
["CLASSIC",7.1247999999999997E-3,null,{"$f":"Simulador!C440","v":407},"2060-03-02","1900-03-10",{"$f":"VLOOKUP(F409&'Simulador Bradesco'!$I$13,$A$2:$B$600,2,FALSE)","v":2.9221E-3},{"$f":"Simulador!A440","v":"2060-03-02"},null,null,null,{"$f":"IF(Simulador!A439=\"\",Simulador!$C$8,Simulador!A439)","v":"2060-02-02"},{"$f":"IF(Simulador!Q439=\"\",0,Simulador!Q439*-1)","v":-10573.346275588572}]
["CLASSIC",7.1247999999999997E-3,null,{"$f":"Simulador!C441","v":408},"2060-04-02","1900-03-10",{"$f":"VLOOKUP(F410&'Simulador Bradesco'!$I$13,$A$2:$B$600,2,FALSE)","v":2.9221E-3},{"$f":"Simulador!A441","v":"2060-04-02"},null,null,null,{"$f":"IF(Simulador!A440=\"\",Simulador!$C$8,Simulador!A440)","v":"2060-03-02"},{"$f":"IF(Simulador!Q440=\"\",0,Simulador!Q440*-1)","v":-10547.513829346955}]
["CLASSIC",9.5271999999999996E-3,null,{"$f":"Simulador!C442","v":409},"2060-05-02","1900-03-10",{"$f":"VLOOKUP(F411&'Simulador Bradesco'!$I$13,$A$2:$B$600,2,FALSE)","v":2.9221E-3},{"$f":"Simulador!A442","v":"2060-05-02"},null,null,null,{"$f":"IF(Simulador!A441=\"\",Simulador!$C$8,Simulador!A441)","v":"2060-04-02"},{"$f":"IF(Simulador!Q441=\"\",0,Simulador!Q441*-1)","v":-10521.430450620888}]
["CLASSIC",9.5271999999999996E-3,null,{"$f":"Simulador!C443","v":410},"2060-06-02","1900-03-10",{"$f":"VLOOKUP(F412&'Simulador Bradesco'!$I$13,$A$2:$B$600,2,FALSE)","v":2.9221E-3},{"$f":"Simulador!A443","v":"2060-06-02"},null,null,null,{"$f":"IF(Simulador!A442=\"\",Simulador!$C$8,Simulador!A442)","v":"2060-05-02"},{"$f":"IF(Simulador!Q442=\"\",0,Simulador!Q442*-1)","v":-10495.093701890086}]
["CLASSIC",9.5271999999999996E-3,null,{"$f":"Simulador!C444","v":411},"2060-07-02","1900-03-10",{"$f":"VLOOKUP(F413&'Simulador Bradesco'!$I$13,$A$2:$B$600,2,FALSE)","v":2.9221E-3},{"$f":"Simulador!A444","v":"2060-07-02"},null,null,null,{"$f":"IF(Simulador!A443=\"\",Simulador!$C$8,Simulador!A443)","v":"2060-06-02"},{"$f":"IF(Simulador!Q443=\"\",0,Simulador!Q443*-1)","v":-10468.501121956557}]
["CLASSIC",null,null,{"$f":"Simulador!C445","v":412},"2060-08-02","1900-03-10",{"$f":"VLOOKUP(F414&'Simulador Bradesco'!$I$13,$A$2:$B$600,2,FALSE)","v":2.9221E-3},{"$f":"Simulador!A445","v":"2060-08-02"},null,null,null,{"$f":"IF(Simulador!A444=\"\",Simulador!$C$8,Simulador!A444)","v":"2060-07-02"},{"$f":"IF(Simulador!Q444=\"\",0,Simulador!Q444*-1)","v":-10441.650225714608}]
["CLASSIC",null,null,{"$f":"Simulador!C446","v":413},"2060-09-02","1900-03-11",{"$f":"VLOOKUP(F415&'Simulador Bradesco'!$I$13,$A$2:$B$600,2,FALSE)","v":2.9221E-3},{"$f":"Simulador!A446","v":"2060-09-02"},null,null,null,{"$f":"IF(Simulador!A445=\"\",Simulador!$C$8,Simulador!A445)","v":"2060-08-02"},{"$f":"IF(Simulador!Q445=\"\",0,Simulador!Q445*-1)","v":-10414.538503918599}]
["CLASSIC",null,null,{"$f":"Simulador!C447","v":414},"2060-10-02","1900-03-11",{"$f":"VLOOKUP(F416&'Simulador Bradesco'!$I$13,$A$2:$B$600,2,FALSE)","v":2.9221E-3},{"$f":"Simulador!A447","v":"2060-10-02"},null,null,null,{"$f":"IF(Simulador!A446=\"\",Simulador!$C$8,Simulador!A446)","v":"2060-09-02"},{"$f":"IF(Simulador!Q446=\"\",0,Simulador!Q446*-1)","v":-10387.163422948459}]
["CLASSIC",null,null,{"$f":"Simulador!C448","v":415},"2060-11-02","1900-03-11",{"$f":"VLOOKUP(F417&'Simulador Bradesco'!$I$13,$A$2:$B$600,2,FALSE)","v":2.9221E-3},{"$f":"Simulador!A448","v":"2060-11-02"},null,null,null,{"$f":"IF(Simulador!A447=\"\",Simulador!$C$8,Simulador!A447)","v":"2060-10-02"},{"$f":"IF(Simulador!Q447=\"\",0,Simulador!Q447*-1)","v":-10359.522424572915}]
["CLASSIC",null,null,{"$f":"Simulador!C449","v":416},"2060-12-02","1900-03-11",{"$f":"VLOOKUP(F418&'Simulador Bradesco'!$I$13,$A$2:$B$600,2,FALSE)","v":2.9221E-3},{"$f":"Simulador!A449","v":"2060-12-02"},null,null,null,{"$f":"IF(Simulador!A448=\"\",Simulador!$C$8,Simulador!A448)","v":"2060-11-02"},{"$f":"IF(Simulador!Q448=\"\",0,Simulador!Q448*-1)","v":-10331.612925710418}]
["CLASSIC",null,null,{"$f":"Simulador!C450","v":417},"2061-01-02","1900-03-11",{"$f":"VLOOKUP(F419&'Simulador Bradesco'!$I$13,$A$2:$B$600,2,FALSE)","v":2.9221E-3},{"$f":"Simulador!A450","v":"2061-01-02"},null,null,null,{"$f":"IF(Simulador!A449=\"\",Simulador!$C$8,Simulador!A449)","v":"2060-12-02"},{"$f":"IF(Simulador!Q449=\"\",0,Simulador!Q449*-1)","v":-10303.432318187759}]
["CLASSIC",null,null,{"$f":"Simulador!C451","v":418},"2061-02-02","1900-03-11",{"$f":"VLOOKUP(F420&'Simulador Bradesco'!$I$13,$A$2:$B$600,2,FALSE)","v":2.9221E-3},{"$f":"Simulador!A451","v":"2061-02-02"},null,null,null,{"$f":"IF(Simulador!A450=\"\",Simulador!$C$8,Simulador!A450)","v":"2061-01-02"},{"$f":"IF(Simulador!Q450=\"\",0,Simulador!Q450*-1)","v":-10274.977968496325}]
["CLASSIC",null,null,{"$f":"Simulador!C452","v":419},"2061-03-02","1900-03-11",{"$f":"VLOOKUP(F421&'Simulador Bradesco'!$I$13,$A$2:$B$600,2,FALSE)","v":2.9221E-3},{"$f":"Simulador!A452","v":"2061-03-02"},null,null,null,{"$f":"IF(Simulador!A451=\"\",Simulador!$C$8,Simulador!A451)","v":"2061-02-02"},{"$f":"IF(Simulador!Q451=\"\",0,Simulador!Q451*-1)","v":-10246.247217545999}]
["CLASSIC",null,null,{"$f":"Simulador!C453","v":420},"2061-04-02","1900-03-11",{"$f":"VLOOKUP(F422&'Simulador Bradesco'!$I$13,$A$2:$B$600,2,FALSE)","v":2.9221E-3},{"$f":"Simulador!A453","v":"2061-04-02"},null,null,null,{"$f":"IF(Simulador!A452=\"\",Simulador!$C$8,Simulador!A452)","v":"2061-03-02"},{"$f":"IF(Simulador!Q452=\"\",0,Simulador!Q452*-1)","v":-10217.237380416662}]
["18PRINCIPAL",1.026E-4]
["19PRINCIPAL",1.026E-4]
["20PRINCIPAL",1.026E-4]
["21PRINCIPAL",1.105E-4]
["22PRINCIPAL",1.105E-4]
["23PRINCIPAL",1.105E-4]
["24PRINCIPAL",1.167E-4]
["25PRINCIPAL",1.167E-4]
["26PRINCIPAL",1.167E-4]
["27PRINCIPAL",1.2760000000000001E-4]
["28PRINCIPAL",1.2760000000000001E-4]
["29PRINCIPAL",1.2760000000000001E-4]
["30PRINCIPAL",1.4080000000000001E-4]
["31PRINCIPAL",1.4080000000000001E-4]
["32PRINCIPAL",1.4080000000000001E-4]
["33PRINCIPAL",1.5349999999999999E-4]
["34PRINCIPAL",1.5349999999999999E-4]
["35PRINCIPAL",1.5349999999999999E-4]
["36PRINCIPAL",1.7760000000000001E-4]
["37PRINCIPAL",1.7760000000000001E-4]
["38PRINCIPAL",1.7760000000000001E-4]
["39PRINCIPAL",2.1890000000000001E-4]
["40PRINCIPAL",2.1890000000000001E-4]
["41PRINCIPAL",2.1890000000000001E-4]
["42PRINCIPAL",3.1040000000000001E-4]
["43PRINCIPAL",3.1040000000000001E-4]
["44PRINCIPAL",3.1040000000000001E-4]
["45PRINCIPAL",4.2620000000000001E-4]
["46PRINCIPAL",4.2620000000000001E-4]
["47PRINCIPAL",4.2620000000000001E-4]
["48PRINCIPAL",5.7510000000000005E-4]
["49PRINCIPAL",5.7510000000000005E-4]
["50PRINCIPAL",5.7510000000000005E-4]
["51PRINCIPAL",7.3680000000000002E-4]
["52PRINCIPAL",7.3680000000000002E-4]
["53PRINCIPAL",7.3680000000000002E-4]
["54PRINCIPAL",9.0720000000000004E-4]
["55PRINCIPAL",9.0720000000000004E-4]
["56PRINCIPAL",9.0720000000000004E-4]
["57PRINCIPAL",1.1075E-3]
["58PRINCIPAL",1.1075E-3]
["59PRINCIPAL",1.1075E-3]
["60PRINCIPAL",1.3538999999999999E-3]
["61PRINCIPAL",1.3538999999999999E-3]
["62PRINCIPAL",1.3538999999999999E-3]
["63PRINCIPAL",1.7451999999999999E-3]
["64PRINCIPAL",1.7451999999999999E-3]
["65PRINCIPAL",1.7451999999999999E-3]
["66PRINCIPAL",2.1591000000000002E-3]
["67PRINCIPAL",2.1591000000000002E-3]
["68PRINCIPAL",2.1591000000000002E-3]
["69PRINCIPAL",2.9221E-3]
["70PRINCIPAL",2.9221E-3]
["71PRINCIPAL",2.9221E-3]
["72PRINCIPAL",3.9290000000000002E-3]
["73PRINCIPAL",3.9290000000000002E-3]
["74PRINCIPAL",3.9290000000000002E-3]
["75PRINCIPAL",6.9794000000000002E-3]
["76PRINCIPAL",6.9794000000000002E-3]
["77PRINCIPAL",6.9794000000000002E-3]
["78PRINCIPAL",9.3326999999999993E-3]
["79PRINCIPAL",9.3326999999999993E-3]
["80PRINCIPAL",9.3326999999999993E-3]